{"text_format":"1","workbook":"xlsx","n_sheets":8,"sheets":["Instruções de Uso","Calculadora","Cálculo","Base Gráfico","Dados Gráfico","Base","Planilha2","Inputs"],"not_rendered":{"charts":1,"images":11,"macros":1,"external_links":0,"defined_names":9,"comments":0,"pivot_tables":0},"unopened":[],"bounds":{"document_bytes":16777216,"sheet_cells":100000,"rows_first":2000,"rows_last":500,"rows_between":2000,"halvings":0,"cell_chars":16384,"cell_head_chars":4096},"cells_cut":0,"cells_raw":0,"read":"whole","date_system":"1900"}

{"sheet":"Instruções de Uso","index":0,"n_rows":0,"n_cols":0,"rows_kept":0,"cut":false,"hidden":false,"merged":[]}

{"sheet":"Calculadora","index":1,"n_rows":36,"n_cols":26,"rows_kept":36,"cut":false,"hidden":false,"merged":[[32,10,32,11],[28,10,28,11],[27,10,27,11],[26,10,26,11],[25,10,25,11],[15,10,15,11],[16,10,16,11],[17,10,17,11],[30,10,30,11],[31,10,31,11],[24,10,24,11],[23,10,23,11],[22,10,22,11],[21,10,21,11],[20,10,20,11],[19,10,19,11],[18,10,18,11],[14,5,14,6],[1,5,1,11],[10,10,10,11],[3,5,3,11],[4,5,4,11],[2,5,2,11],[14,10,14,11]]}
[null,null,null,null,null,null,null,null,null,null,null,null," "]
[null,null,null,null,null,"A calculadora elaborada pela Gerência de Petróleo, Gás e Naval da Firjan SENAI tem o intuito de simular a tarifa de gás natural e o valor total da fatura do consumidor, de acordo com a última deliberação vigente do respectivo estado selecionado.                                                                                                                                                                                                     "]
[null,null,null,null,null,"Observações:"]
[null,null,null,null,null,"• O campo volume deve ser preenchido em m³ diários (m³/dia) de gás natural.                                                                                                                                                         • O campo município só deverá ser preenchido para os estados do Rio de Janeiro e São Paulo.                                                                                                                             • A tarifa para os segmentos apresentados contempla os tributos incidentes, exceto para o estado do Rio Grande do Sul nos segmentos industrial e de GNV.                                                                                                                                                                              • Para o estado de Santa Catarina, no segmento industrial foi considerado a tarifa Amarela TG1, mais comum do segmento.                                                                       • Para o segmento residencial foi considerado a tabela tarifária de medição individual para consumo de gás natural."]
[null,null,null,null,null,"Insira os dados abaixo para simulação do valor da sua tarifa."]
[]
[null,null,null,null,null,"Segmento",null,null,"Distribuidora",{"$f":"IF($Q$10=\"\",\"\",$Q$10)","v":""}]
[null,null,null,null,null,"UF",null,null,"Agência Reguladora",{"$f":"IF($P$10=\"\",\"\",$P$10)","v":""},null,null,null,"Faixa por volume x município x segmento",null,null,null,null,null,null,null,null,null,null,{"$f":"_xlfn._xlws.FILTER(Tabela1[CONSUMO],($J$9>=Tabela1[FAIXA INICIAL])*($J$9<=Tabela1[FAIXA FINAL])*($G$7=Tabela1[SEGMENTO])*($G$8=Tabela1[UF])*($G$9=Tabela1[MUNICÍPIO]),\"\")","v":""},{"$f":"_xlfn._xlws.FILTER(Tabela1[CONSUMO],($J$9>=Tabela1[FAIXA INICIAL])*($G$7=Tabela1[SEGMENTO])*($G$8=Tabela1[UF])*($G$9=Tabela1[MUNICÍPIO]),\"\")","v":""}]
[null,null,null,null,null,"Município",null,null,"Volume",null,"m³/dia",null,null,"Estado","Município","Agência Regularizadora","Distribuidora","Segmento","Consumo","Faixa Inicial","Faixa Final","Variável","Fixo"]
[null,null,null,null,null,null,null,null,null,null,null,null,null,{"$f":"_xlfn._xlws.FILTER(Tabela1[[ESTADO]:[FIXO]],($H$14>=Tabela1[FAIXA INICIAL])*($G$7=Tabela1[SEGMENTO])*($G$8=Tabela1[UF])*($G$9=Tabela1[MUNICÍPIO]),\"Não foi encontrado valor para esse município e segmento com esse volume\")","v":"Não foi encontrado valor para esse município e segmento com esse volume"}]
[null,null,null,null,null,"Tarifa Média",{"$f":"IFERROR(K33/J31,\"\")","v":""},"R$/m³"]
[null,null,null,null,null,{"$f":"I14","v":""}]
[null,null,null,null,null,null,"m³/dia","m³/dia"]
[null,null,null,null,null,null,{"$f":"J9","v":0},{"$f":"IF($I$14=\"Mensal\",$J$9*30,IF($I$14=\"Semanal\",$J$9*7,IF($I$14=\"Faixa Única\",$J$9*30,$J$9)))","v":0},{"$f":"IF(_xlfn._xlws.FILTER(Tabela1[CONSUMO],($J$9>=Tabela1[FAIXA INICIAL])*($J$9<=Tabela1[FAIXA FINAL])*($G$7=Tabela1[SEGMENTO])*($G$8=Tabela1[UF])*($G$9=Tabela1[MUNICÍPIO]),\"\")=\"\", Z8,Y8)","v":""}]
[null,null,null,null,null,"Faixa de Consumo (m³)",null,"Fixo                (R$/m³)","Variável (R$/m³)","Consumo      (m³)","Valor na Faixa (R$)"]
[null,null,null,null,null,{"$f":"T10","v":0},{"$f":"U10","v":0},{"$f":"$W10","v":0},{"$f":"$V10","v":0},{"$f":"IF(OR(AND($G$8=\"PB\",$F$17<>0,OR($G$7=\"Residencial\",$G$7=\"Comercial\")),AND($G$8=\"CE\",$F$17<>0,OR($G$7=\"Residencial\",$G$7=\"Comercial\"))),0,IF(AND($G$8=\"SP\",OR(AND($J$7=\"COMGÁS\",OR($G$7=\"Industrial\",$G$7=\"Comercial\")),AND($J$7=\"GÁS BRASILIANO\",$G$7=\"Comercial\"),AND($J$7=\"Naturgy SPS\",$G$7<>\"GNV\"))),IF(AND(F16<>0,G16=0),$H$14,IF(G16>=$H$14,$H$14,0)),IF($I$14=\"Faixa Única\",$H$14,IF($G16>=$H$14,$H$14,$G16-$F16))))","v":0},{"$f":"($J16*$I16)","v":0}]
[null,null,null,null,null,0,0,{"$f":"$W11","v":0},{"$f":"$V11","v":0},{"$f":"IF(AND($G$8=\"SP\",OR(AND($J$7=\"COMGÁS\",OR($G$7=\"Industrial\",$G$7=\"Comercial\")),AND($J$7=\"GÁS BRASILIANO\",$G$7=\"Comercial\"),AND($J$7=\"Naturgy SPS\",$G$7<>\"GNV\"))),IF(AND(F17<>0,G17=0),$H$14,IF(G17>=$H$14,$H$14,0)),IF($I$14<>\"Faixa Única\",IF($I$14<>\"\",IF(SUM($J$16:$J16,$G17)>=$H$14,$H$14-SUM($J$16:$J16),IF($G17=0,$H$14-SUM($J$16:$J16),$G17-$F17)),\"0\"),\"0\"))","v":"0"},{"$f":"($J17*$I17)","v":0}]
[null,null,null,null,null,0,0,0,0,{"$f":"IF(AND($G$8=\"SP\",OR(AND($J$7=\"COMGÁS\",OR($G$7=\"Industrial\",$G$7=\"Comercial\")),AND($J$7=\"GÁS BRASILIANO\",$G$7=\"Comercial\"),AND($J$7=\"Naturgy SPS\",$G$7<>\"GNV\"))),IF(AND(F18<>0,G18=0),$H$14,IF(G18>=$H$14,$H$14,0)),IF($I$14<>\"Faixa Única\",IF($I$14<>\"\",IF(SUM($J$16:$J17,$G18)>=$H$14,$H$14-SUM($J$16:$J17),IF($G18=0,$H$14-SUM($J$16:$J17),$G18-$F18)),\"0\"),\"0\"))","v":"0"},{"$f":"($J18*$I18)","v":0}]
[null,null,null,null,null,0,0,0,0,{"$f":"IF(AND($G$8=\"SP\",OR(AND($J$7=\"COMGÁS\",OR($G$7=\"Industrial\",$G$7=\"Comercial\")),AND($J$7=\"GÁS BRASILIANO\",$G$7=\"Comercial\"),AND($J$7=\"Naturgy SPS\",$G$7<>\"GNV\"))),IF(AND(F19<>0,G19=0),$H$14,IF(G19>=$H$14,$H$14,0)),IF($I$14<>\"Faixa Única\",IF($I$14<>\"\",IF(SUM($J$16:$J18,$G19)>=$H$14,$H$14-SUM($J$16:$J18),IF($G19=0,$H$14-SUM($J$16:$J18),$G19-$F19)),\"0\"),\"0\"))","v":"0"},0]
[null,null,null,null,null,0,0,0,0,{"$f":"IF(AND($G$8=\"SP\",OR(AND($J$7=\"COMGÁS\",OR($G$7=\"Industrial\",$G$7=\"Comercial\")),AND($J$7=\"GÁS BRASILIANO\",$G$7=\"Comercial\"),AND($J$7=\"Naturgy SPS\",$G$7<>\"GNV\"))),IF(AND(F20<>0,G20=0),$H$14,IF(G20>=$H$14,$H$14,0)),IF($I$14<>\"Faixa Única\",IF($I$14<>\"\",IF(SUM($J$16:$J19,$G20)>=$H$14,$H$14-SUM($J$16:$J19),IF($G20=0,$H$14-SUM($J$16:$J19),$G20-$F20)),\"0\"),\"0\"))","v":"0"},0]
[null,null,null,null,null,0,0,0,0,{"$f":"IF(AND($G$8=\"SP\",OR(AND($J$7=\"COMGÁS\",OR($G$7=\"Industrial\",$G$7=\"Comercial\")),AND($J$7=\"GÁS BRASILIANO\",$G$7=\"Comercial\"),AND($J$7=\"Naturgy SPS\",$G$7<>\"GNV\"))),IF(AND(F21<>0,G21=0),$H$14,IF(G21>=$H$14,$H$14,0)),IF($I$14<>\"Faixa Única\",IF($I$14<>\"\",IF(SUM($J$16:$J20,$G21)>=$H$14,$H$14-SUM($J$16:$J20),IF($G21=0,$H$14-SUM($J$16:$J20),$G21-$F21)),\"0\"),\"0\"))","v":"0"},0]
[null,null,null,null,null,0,0,0,0,{"$f":"IF(AND($G$8=\"SP\",OR(AND($J$7=\"COMGÁS\",OR($G$7=\"Industrial\",$G$7=\"Comercial\")),AND($J$7=\"GÁS BRASILIANO\",$G$7=\"Comercial\"),AND($J$7=\"Naturgy SPS\",$G$7<>\"GNV\"))),IF(AND(F22<>0,G22=0),$H$14,IF(G22>=$H$14,$H$14,0)),IF($I$14<>\"Faixa Única\",IF($I$14<>\"\",IF(SUM($J$16:$J21,$G22)>=$H$14,$H$14-SUM($J$16:$J21),IF($G22=0,$H$14-SUM($J$16:$J21),$G22-$F22)),\"0\"),\"0\"))","v":"0"},0]
[null,null,null,null,null,0,0,0,0,{"$f":"IF(AND($G$8=\"SP\",OR(AND($J$7=\"COMGÁS\",OR($G$7=\"Industrial\",$G$7=\"Comercial\")),AND($J$7=\"GÁS BRASILIANO\",$G$7=\"Comercial\"),AND($J$7=\"Naturgy SPS\",$G$7<>\"GNV\"))),IF(AND(F23<>0,G23=0),$H$14,IF(G23>=$H$14,$H$14,0)),IF($I$14<>\"Faixa Única\",IF($I$14<>\"\",IF(SUM($J$16:$J22,$G23)>=$H$14,$H$14-SUM($J$16:$J22),IF($G23=0,$H$14-SUM($J$16:$J22),$G23-$F23)),\"0\"),\"0\"))","v":"0"},0]
[null,null,null,null,null,0,0,0,0,{"$f":"IF(AND($G$8=\"SP\",OR(AND($J$7=\"COMGÁS\",OR($G$7=\"Industrial\",$G$7=\"Comercial\")),AND($J$7=\"GÁS BRASILIANO\",$G$7=\"Comercial\"),AND($J$7=\"Naturgy SPS\",$G$7<>\"GNV\"))),IF(AND(F24<>0,G24=0),$H$14,IF(G24>=$H$14,$H$14,0)),IF($I$14<>\"Faixa Única\",IF($I$14<>\"\",IF(SUM($J$16:$J23,$G24)>=$H$14,$H$14-SUM($J$16:$J23),IF($G24=0,$H$14-SUM($J$16:$J23),$G24-$F24)),\"0\"),\"0\"))","v":"0"},0]
[null,null,null,null,null,0,0,0,0,{"$f":"IF(AND($G$8=\"SP\",OR(AND($J$7=\"COMGÁS\",OR($G$7=\"Industrial\",$G$7=\"Comercial\")),AND($J$7=\"GÁS BRASILIANO\",$G$7=\"Comercial\"),AND($J$7=\"Naturgy SPS\",$G$7<>\"GNV\"))),IF(AND(F25<>0,G25=0),$H$14,IF(G25>=$H$14,$H$14,0)),IF($I$14<>\"Faixa Única\",IF($I$14<>\"\",IF(SUM($J$16:$J24,$G25)>=$H$14,$H$14-SUM($J$16:$J24),IF($G25=0,$H$14-SUM($J$16:$J24),$G25-$F25)),\"0\"),\"0\"))","v":"0"},0]
[null,null,null,null,null,0,0,0,0,{"$f":"IF(AND($G$8=\"SP\",OR(AND($J$7=\"COMGÁS\",OR($G$7=\"Industrial\",$G$7=\"Comercial\")),AND($J$7=\"GÁS BRASILIANO\",$G$7=\"Comercial\"),AND($J$7=\"Naturgy SPS\",$G$7<>\"GNV\"))),IF(AND(F26<>0,G26=0),$H$14,IF(G26>=$H$14,$H$14,0)),IF($I$14<>\"Faixa Única\",IF($I$14<>\"\",IF(SUM($J$16:$J25,$G26)>=$H$14,$H$14-SUM($J$16:$J25),IF($G26=0,$H$14-SUM($J$16:$J25),$G26-$F26)),\"0\"),\"0\"))","v":"0"},0]
[null,null,null,null,null,0,0,0,0,{"$f":"IF(AND($G$8=\"SP\",OR(AND($J$7=\"COMGÁS\",OR($G$7=\"Industrial\",$G$7=\"Comercial\")),AND($J$7=\"GÁS BRASILIANO\",$G$7=\"Comercial\"),AND($J$7=\"Naturgy SPS\",$G$7<>\"GNV\"))),IF(AND(F27<>0,G27=0),$H$14,IF(G27>=$H$14,$H$14,0)),IF($I$14<>\"Faixa Única\",IF($I$14<>\"\",IF(SUM($J$16:$J26,$G27)>=$H$14,$H$14-SUM($J$16:$J26),IF($G27=0,$H$14-SUM($J$16:$J26),$G27-$F27)),\"0\"),\"0\"))","v":"0"},0]
[null,null,null,null,null,0,0,0,0,{"$f":"IF(AND($G$8=\"SP\",OR(AND($J$7=\"COMGÁS\",OR($G$7=\"Industrial\",$G$7=\"Comercial\")),AND($J$7=\"GÁS BRASILIANO\",$G$7=\"Comercial\"),AND($J$7=\"Naturgy SPS\",$G$7<>\"GNV\"))),IF(AND(F28<>0,G28=0),$H$14,IF(G28>=$H$14,$H$14,0)),IF($I$14<>\"Faixa Única\",IF($I$14<>\"\",IF(SUM($J$16:$J27,$G28)>=$H$14,$H$14-SUM($J$16:$J27),IF($G28=0,$H$14-SUM($J$16:$J27),$G28-$F28)),\"0\"),\"0\"))","v":"0"},0]
[null,null,null,null,null,0,0,0,0,{"$f":"IF(AND($G$8=\"SP\",OR(AND($J$7=\"COMGÁS\",OR($G$7=\"Industrial\",$G$7=\"Comercial\")),AND($J$7=\"GÁS BRASILIANO\",$G$7=\"Comercial\"),AND($J$7=\"Naturgy SPS\",$G$7<>\"GNV\"))),IF(AND(F29<>0,G29=0),$H$14,IF(G29>=$H$14,$H$14,0)),IF($I$14<>\"Faixa Única\",IF($I$14<>\"\",IF(SUM($J$16:$J28,$G29)>=$H$14,$H$14-SUM($J$16:$J28),IF($G29=0,$H$14-SUM($J$16:$J28),$G29-$F29)),\"0\"),\"0\"))","v":"0"},0]
[]
[null,null,null,null,null,null,null,null,"Subtotal",{"$f":"SUM(J16:J29)","v":0},{"$f":"SUM(K16:K29)","v":0}]
[null,null,null,null,null,null,null,null,"Termo Fixo",null,{"$f":"LARGE($H$16:$H$29,1)","v":0}]
[null,null,null,null,null,null,null,null,"Total c/ impostos",null,{"$f":"K31+K32","v":0}]
[null,null,null,null,null,null,null,null,null,null,null,null,null,"Município X Segmento (todas as faixas)"]
[null,null,null,null,null,"Comparativo da Tarifa de Gás Natural por Distribuidora (R$/m³)",null,null,null,null,null,null,null,"Estado","Município","Agência Regularizadora","Distribuidora","Segmento","Consumo","Faixa Inicial","Faixa Final","Variável","Fixo"]
[null,null,null,null,null,null,null,null,null,null,null,null,null,{"$f":"_xlfn._xlws.FILTER(Tabela1[[ESTADO]:[FIXO]],($G$7=Tabela1[SEGMENTO])*($G$8=Tabela1[UF])*($G$9=Tabela1[MUNICÍPIO]),\"Não foi encontrado valor para esse município e segmento com esse volume\")","v":"Não foi encontrado valor para esse município e segmento com esse volume"}]

{"sheet":"Cálculo","index":2,"n_rows":965,"n_cols":33,"rows_kept":965,"cut":false,"hidden":true,"merged":[[613,1,613,2],[683,1,683,3],[613,6,613,7],[581,1,581,2],[508,1,508,2],[508,4,508,5],[713,4,713,5],[684,4,684,5],[681,1,681,2],[651,1,651,3],[585,1,585,3],[617,1,617,3],[548,1,548,2],[548,4,548,5],[512,1,512,3],[546,1,546,3],[542,1,542,2],[681,4,681,5],[547,4,547,5],[613,11,613,12],[498,6,498,7],[498,11,498,12],[503,6,503,7],[503,11,503,12],[542,6,542,7],[542,11,542,12],[548,6,548,7],[548,11,548,12],[581,6,581,7],[581,11,581,12],[508,11,508,12],[416,1,416,2],[416,4,416,5],[416,6,416,7],[313,1,313,2],[313,4,313,5],[313,6,313,7],[217,6,217,7],[244,1,244,2],[244,4,244,5],[223,4,223,5],[224,4,224,5],[222,4,222,5],[217,1,217,2],[217,4,217,5],[249,4,249,5],[309,4,309,5],[310,4,310,5],[349,4,349,5],[392,4,392,5],[393,4,393,5],[393,6,393,7],[250,11,250,12],[250,6,250,7],[244,6,244,7],[93,11,93,12],[313,11,313,12],[250,4,250,5],[98,4,98,5],[151,1,151,2],[151,4,151,5],[151,6,151,7],[128,4,128,5],[180,4,180,5],[205,4,205,5],[313,9,313,10],[309,9,309,10],[250,9,250,10],[249,9,249,10],[244,9,244,10],[0,1,0,3],[31,1,31,3],[63,1,63,3],[97,1,97,3],[127,1,127,3],[155,1,155,3],[498,4,498,5],[498,1,498,2],[184,1,184,3],[221,1,221,3],[1,4,1,5],[32,4,32,5],[64,4,64,5],[124,1,124,2],[124,4,124,5],[93,1,93,2],[180,1,180,2],[317,1,317,3],[348,1,348,3],[391,1,391,3],[420,1,420,3],[453,1,453,3],[449,1,449,2],[449,4,449,5],[28,11,28,12],[59,6,59,7],[59,11,59,12],[1,9,1,10],[28,1,28,2],[28,4,28,5],[248,1,248,3],[151,11,151,12],[124,11,124,12],[224,9,224,10],[223,9,223,10],[222,9,222,10],[217,9,217,10],[217,11,217,12],[244,11,244,12],[93,6,93,7],[93,9,93,10],[180,9,180,10],[223,6,223,7],[224,6,224,7],[223,11,223,12],[224,11,224,12],[216,9,216,10],[151,9,151,10],[32,9,32,10],[28,9,28,10],[59,1,59,2],[59,4,59,5],[59,9,59,10],[310,9,310,10],[344,6,344,7],[344,9,344,10],[124,6,124,7],[124,9,124,10],[344,1,344,2],[344,4,344,5],[93,4,93,5],[185,4,185,5],[156,4,156,5],[318,4,318,5],[28,6,28,7],[421,4,421,5],[613,4,613,5],[652,4,652,5],[449,6,449,7],[508,6,508,7],[586,4,586,5],[618,4,618,5],[647,4,647,5],[454,4,454,5],[513,4,513,5],[542,4,542,5],[581,4,581,5],[929,1,929,3],[930,4,930,5],[963,1,963,2],[963,4,963,5],[963,6,963,7],[387,1,387,2],[387,4,387,5],[387,6,387,7],[745,1,745,2],[745,4,745,5],[898,4,898,5],[867,1,867,3],[897,1,897,3],[715,1,715,3],[747,1,747,3],[780,1,780,3],[809,1,809,3],[781,4,781,5],[810,4,810,5],[713,1,713,2],[748,4,748,5],[647,1,647,2],[503,4,503,5],[503,1,503,2],[963,11,963,12],[963,9,963,10],[930,9,930,10],[810,9,810,10],[748,9,748,10],[745,9,745,10],[713,9,713,10],[681,9,681,10],[652,9,652,10],[868,9,868,10],[749,11,749,12],[925,9,925,10],[898,9,898,10],[777,9,777,10],[647,9,647,10],[925,6,925,7],[925,11,925,12],[750,1,750,2],[749,4,749,5],[750,4,750,5],[750,9,750,10],[749,9,749,10],[777,6,777,7],[777,11,777,12],[749,6,749,7],[750,6,750,7],[750,11,750,12],[925,1,925,2],[925,4,925,5],[868,4,868,5],[838,1,838,3],[777,1,777,2],[777,4,777,5],[839,4,839,5],[749,1,749,2],[716,4,716,5],[618,9,618,10],[613,9,613,10],[548,9,548,10],[542,9,542,10],[508,9,508,10],[503,9,503,10],[498,9,498,10],[454,9,454,10],[581,9,581,10],[278,18,278,20],[293,18,293,20],[307,18,307,20],[308,18,308,20],[309,18,309,20],[449,9,449,10],[421,9,421,10],[416,11,416,12],[416,9,416,10],[393,9,393,10],[392,9,392,10],[387,11,387,12],[387,9,387,10],[318,9,318,10],[393,11,393,12],[449,11,449,12],[349,9,349,10],[344,11,344,12]]}
["R$/m³","CEG RIO",null,null,"C/ ICMS 12% E PIS/COFINS 9,25%",null,null,"Tarifas em Vigor | Agenersa",null,null,null,null,null,"s/ tributos",null,null,null,null,null,null,null,null,"CEG Rio",null,null,null,null,null,"Salineiro"]
["Faixas consumo mensal",null,null,"Preço Gás","2024-02-01",null,"Variável","Fixo mensal",null,null,null,"Variável","Fixo mensal",null,null,"Margem","Tributos",9.4000000000000004E-3,null,null,null,null,"2024-01-01","2024-02-01",null,null,null,null,"2024-01-01",null,"2024-02-01"]
["Residencial",0,7,null,0,7,7.2915999999999999,null,null,0,7,{"$f":"G3-G3*0.2125","v":5.7421350000000002},null,null,null,{"$f":"G3-D3-Q3","v":5.8230717599999995},{"$f":"T3+U3","v":1.4685282399999999},0.79459999999999997,null,{"$f":"(G3*0.12)","v":0.87499199999999999},{"$f":"(G3-T3)*0.0925","v":0.59353624000000005},"Residencial",7.4173999999999998,7.2915999999999999,{"$f":"X3/W3-1","v":-1.6960120797044786E-2},null,null,200,7.3049999999999997,{"$f":"AC3*AB3","v":1461},7.1765999999999996,{"$f":"AE3*AD3","v":10485.0126},{"$f":"AE3/AC3-1","v":-1.757700205338808E-2}]
[null,8.01,23,null,8.01,23,9.15,null,null,7.01,23,{"$f":"G4-G4*0.2125","v":7.2056250000000004},null,null,null,{"$f":"G4-D4-Q4","v":7.3071900000000003},{"$f":"T4+U4","v":1.8428100000000001},null,null,{"$f":"(G4*0.12)","v":1.0980000000000001},{"$f":"(G4-T4)*0.0925","v":0.74480999999999997},null,9.2764000000000006,9.15,{"$f":"X4/W4-1","v":-1.3625975593980488E-2},null,null,1800,5.0377000000000001,{"$f":"AC4*AB4","v":9067.86},4.9093,44516.845098000005,{"$f":"AE4/AC4-1","v":-2.5487821823451218E-2}]
[null,24.01,83,null,24.01,83,10.852499999999999,null,null,23.01,83,{"$f":"G5-G5*0.2125","v":8.5463437499999984},null,null,null,{"$f":"G5-D5-Q5","v":8.6668064999999999},{"$f":"T5+U5","v":2.1856934999999997},null,null,{"$f":"(G5*0.12)","v":1.3022999999999998},{"$f":"(G5-T5)*0.0925","v":0.88339350000000005},null,10.978300000000001,10.852499999999999,-1.1458969057140167E-2,null,null,8000,4.6801000000000004,37440.800000000003,4.5517000000000003,170419.28936000002,-2.7435311211298941E-2]
["Acima de",83.01,null,null,83.01,null,12.052199999999999,null,null,83.01,null,{"$f":"G6-G6*0.2125","v":9.4911075},null,null,null,{"$f":"G6-D6-Q6","v":9.6248869199999998},{"$f":"T6+U6","v":2.4273130799999998},null,null,{"$f":"(G6*0.12)","v":1.4462639999999998},{"$f":"(G6-T6)*0.0925","v":0.98104908000000002},null,12.178000000000001,12.052199999999999,-1.0330103465265417E-2,null,null,{"$f":"AE14-10000","v":-10000},4.1878000000000002,-41878,4.0594000000000001,-169999.55319999999,-3.0660489994746687E-2]
[null,null,null,null,null,null,null,null,null,null,null,null,null,null,null,null,null,null,null,null,null,null,null,null,null,null,null,null,3.9961000000000002,null,3.8677000000000001,null,-3.2131328044843754E-2]
[null,null,null,null,null,null,"Variável","Fixo mensal",null,null,null,"Variável","Fixo mensal",null,null,"Margem","Tributos",null,null,null,null,null,null,"Variável",null,null,null,null,3.7902999999999998,null,3.6619000000000002,null,-3.3875946495000253E-2]
["Comercial",0,200,null,0,200,6.2965999999999998,null,null,0,200,{"$f":"G9-G9*0.2125","v":4.9585724999999998},null,null,null,{"$f":"G9-D9-Q9","v":5.0284647600000003},{"$f":"T9+U9","v":1.2681352399999999},null,null,{"$f":"(G9*0.12)","v":0.75559199999999993},{"$f":"(G9-T9)*0.0925","v":0.51254323999999996},"Comercial",6.4223999999999997,6.2965999999999998,-1.9587693074240131E-2,null,null,null,3.5468999999999999,null,3.4184999999999999,null,-3.6200625898672123E-2]
[null,201.01,500,null,201.01,500,6.2278000000000002,null,null,200.01,500,{"$f":"G10-G10*0.2125","v":4.9043925000000002},null,null,null,4.9735210800000003,1.25427892,null,null,0.747336,0.50694292000000007,null,6.3536000000000001,6.2278000000000002,-1.9799798539410718E-2,null,null,null,3.5402999999999998,null,3.4119000000000002,null,-3.6268112871790437E-2]
[null,501.01,2000,null,501.01,2000,5.1668000000000003,null,null,500.01,2000,4.0688550000000001,null,null,null,4.1262064800000005,1.04059352,null,null,0.62001600000000001,0.42057752000000004,null,5.2926000000000002,5.1668000000000003,-2.3769036012545763E-2,null,null,null,3.5230000000000001,null,3.3946000000000001,null,-3.6446210615952324E-2]
[null,2001.01,20000,null,2001.01,20000,5.0536000000000003,null,null,2000.01,20000,3.9797100000000003,null,null,null,4.0358049600000001,1.01779504,null,null,0.60643199999999997,0.41136304000000001,null,5.1794000000000002,5.0536000000000003,-2.4288527628682832E-2,null,null,null,3.4630000000000001,null,3.3346,null,-3.7077678313600981E-2]
[null,20001.009999999998,50000,null,20001.009999999998,50000,4.9550999999999998,null,null,20000.009999999998,50000,3.9021412499999997,null,null,null,3.9571428599999998,0.99795713999999991,null,null,0.59461199999999992,0.40334513999999999,null,5.0808999999999997,4.9550999999999998,-2.475939302092145E-2]
["Acima de",50000.01,null,null,50000.01,null,4.8567,null,null,50000.01,null,3.8246512500000001,null,null,null,3.87856062,0.97813938,null,null,0.58280399999999999,0.39533537999999996,null,4.9824999999999999,4.8567,-2.5248369292523831E-2,null,null,null,null,null,null,{"$f":"SUM(AF3:AF6)","v":55421.593858000037}]
[null,null,null,null,null,null,null,null,null,null,null,null,null,null,null,null,null,null,null,null,null,null,null,null,null,null,null,null,null,{"$f":"AD14/AC14-1","v":{"$error":"#DIV/0!"}},null,{"$f":"AF14/AD14-1","v":{"$error":"#DIV/0!"}},{"$f":"AF15/AD15-1","v":{"$error":"#DIV/0!"}}]
[null,null,null,null,null,null,"Variável","Fixo mensal",null,null,null,"Variável","Fixo mensal",null,null,"Margem","Tributos",null,null,null,null,null,null,"Variável"]
["Industrial",0,200,null,0,200,5.1243999999999996,null,null,0,200,{"$f":"G17-G17*0.2125","v":4.0354649999999994},null,null,null,{"$f":"G17-D17-Q17","v":4.0354650000000003},{"$f":"(G17*0.12)+(G17*0.0925)","v":1.0889349999999998},null,null,{"$f":"(G17*0.12)","v":0.61492799999999992},{"$f":"(G17-T17)*0.0925","v":0.41712615999999997},"Industrial",5.2544000000000004,5.1243999999999996,-2.4741169305724897E-2]
[null,201.01,2000,null,201.01,2000,2.9883999999999999,null,null,200.01,2000,2.3533650000000002,null,null,null,{"$f":"G18-D18-Q18","v":2.3533650000000002},{"$f":"(G18*0.12)+(G18*0.0925)","v":0.63503500000000002},null,null,0.35860799999999998,0.24325576000000002,null,5.1184000000000003,4.9884000000000004,-2.5398562050640838E-2]
[null,2001.01,10000,null,2001.01,10000,4.9067999999999996,null,null,2000.01,10000,3.8641049999999995,null,null,null,3.8641049999999995,1.0426949999999999,null,null,0.5888159999999999,0.39941352000000002,null,5.0368000000000004,4.9067999999999996,-2.5810038119441048E-2]
[null,10001.01,50000,null,10001.01,50000,4.3433999999999999,null,null,10000.01,50000,3.4204274999999997,null,null,null,3.4204274999999997,0.92297249999999997,null,null,0.521208,0.35355275999999997,null,4.4733999999999998,4.3433999999999999,-2.9060669736665545E-2]
[null,50001.01,100000,null,5000.01,100000,4.1002000000000001,null,null,50000.01,100000,3.2289075,null,null,null,3.2289075,0.87129250000000003,null,null,0.49202400000000002,0.33375628000000002,null,4.2302,4.1002000000000001,-3.073140749846337E-2]
[null,100001.01,300000,null,100001.01,300000,3.8393999999999999,null,null,100000.01,300000,3.0235275000000001,null,null,null,3.0235275000000001,0.8158725,null,null,0.46072799999999997,0.31252715999999997,null,3.9693999999999998,3.8393999999999999,-3.2750541643573272E-2]
[null,300001.01,600000,null,300001.01,600000,3.5312000000000001,null,null,300000.01,600000,2.7808200000000003,null,null,null,2.7808200000000003,0.75038000000000005,null,null,0.42374400000000001,0.28743967999999998,null,3.6612,3.5312000000000001,-3.5507483885064972E-2]
[null,600001.01,1500000,null,600001.01,1500000,3.5226999999999999,null,null,600000.01,1500000,2.7741262500000001,null,null,null,2.7741262500000001,0.74857375000000004,null,null,0.42272399999999999,0.28674778000000001,null,3.6526999999999998,3.5226999999999999,-3.5590111424425697E-2]
[null,1500001.01,3000000,null,1500001.01,3000000,3.4998999999999998,null,null,1500000.01,3000000,2.75617125,null,null,null,2.75617125,0.74372874999999994,null,null,0.41998799999999997,0.28489186,null,3.6299000000000001,3.4998999999999998,-3.5813658778478863E-2]
["Acima de",3000000.01,null,null,300000.01,null,3.4243000000000001,null,null,3000000.01,null,2.6966362500000001,null,null,null,2.6966362500000001,0.72766375000000005,null,null,0.410916,0.27873802000000003,null,3.5543,3.4243000000000001,-3.6575415693666846E-2]
[]
[null,null,null,null,null,null,null,null,null,null,null,null,null,null,null,"Margem","Tributos"]
["GNV","Faixa única",null,null,"Faixa única",null,3.4365999999999999,null,null,"Faixa única",null,{"$f":"G29-G29*0.2125","v":2.7063224999999997},null,null,null,{"$f":"G29-D29-Q29","v":3.0242079999999998},{"$f":"G29*0.12","v":0.41239199999999998},0.87560000000000004,null,null,null,"GNV",3.5649999999999999,3.4365999999999999,{"$f":"X29/W29-1","v":-3.6016830294530178E-2}]
["No período de 23/06/2022 a 31/12/2022, ficará reduzida a alíquota de PIS/COFINS de 9,25% para 0% para o segmento veicular, conforme a Lei Complementar Federal nº 194 de 23/06/2022."]
[]
["R$/m³","CEG",null,null,"C/ ICMS 12% E PIS/COFINS 9,25%",null,null,"Tarifas em Vigor | Agenersa",null,null,null,null,null,"s/ tributos"]
["Faixas consumo mensal",null,null,"Preço Gás","2024-02-01",null,"Variável","Fixo mensal",null,null,null,"Variável","Fixo mensal",null,null,"Margem","Tributos",0.79459999999999997,null,null,null,null,"CEG","0101/2024","0102/2024"]
["Residencial",0,7,null,0,7,9.5297000000000001,null,null,0,7,{"$f":"G34-G34*0.2125","v":7.5046387499999998},null,null,null,{"$f":"G34-D34-Q34","v":7.6104184200000002},{"$f":"T34+U34","v":1.91928158},8.0000000000000002E-3,null,{"$f":"(G34*0.12)","v":1.143564},{"$f":"(G34-T34)*0.0925","v":0.77571758000000002},null,"Residencial",9.6684000000000001,9.5297000000000001,{"$f":"Y34/X34-1","v":-1.4345703529022424E-2}]
[null,8.01,23,null,8.01,23,12.308999999999999,null,null,7.01,23,{"$f":"G35-G35*0.2125","v":9.6933375000000002},null,null,null,{"$f":"G35-D35-Q35","v":9.8299673999999992},{"$f":"T35+U35","v":2.4790326},null,null,{"$f":"(G35*0.12)","v":1.4770799999999999},{"$f":"(G35-T35)*0.0925","v":1.0019526000000001},null,null,12.447699999999999,12.308999999999999,{"$f":"Y35/X35-1","v":-1.114262072511385E-2}]
[null,24.01,83,null,24.01,83,14.8233,null,null,23.01,83,{"$f":"G36-G36*0.2125","v":11.673348749999999},null,null,null,{"$f":"G36-D36-Q36","v":11.83788738},{"$f":"T36+U36","v":2.98541262},null,null,{"$f":"(G36*0.12)","v":1.7787959999999998},{"$f":"(G36-T36)*0.0925","v":1.2066166199999999},null,null,14.962,14.8233,{"$f":"Y36/X36-1","v":-9.2701510493249373E-3}]
["Acima de",83.01,null,null,83.01,null,15.6203,null,null,83.01,null,{"$f":"G37-G37*0.2125","v":12.300986250000001},null,null,null,{"$f":"G37-D37-Q37","v":12.47437158},{"$f":"T37+U37","v":3.1459284200000002},null,null,{"$f":"(G37*0.12)","v":1.874436},{"$f":"(G37-T37)*0.0925","v":1.2714924200000002},null,null,15.759,15.6203,{"$f":"Y37/X37-1","v":-8.8013198807030957E-3}]
[]
[null,null,null,null,null,null,"Variável","Fixo mensal",null,null,null,"Variável","Fixo mensal",null,null,"Margem","Tributos",null,null,null,null,null,null,"Variável","Variável"]
["Comercial",0,200,null,0,200,9.3140000000000001,null,null,0,200,{"$f":"G40-G40*0.2125","v":7.3347750000000005},null,null,null,{"$f":"G40-D40-Q40","v":7.4381604000000001},{"$f":"T40+U40","v":1.8758395999999999},null,null,{"$f":"(G40*0.12)","v":1.11768},{"$f":"(G40-T40)*0.0925","v":0.75815960000000004},null,"Comercial",9.4527000000000001,9.3140000000000001,{"$f":"Y40/X40-1","v":-1.4673056375427151E-2}]
[null,201.01,500,null,201.01,500,9.0565999999999995,null,null,200.01,500,7.1320724999999996,null,null,null,7.2326007599999995,1.82399924,null,null,1.086792,0.73720723999999993,null,null,9.1952999999999996,9.0565999999999995,{"$f":"Y41/X41-1","v":-1.5083792807194962E-2}]
[null,501.01,2000,null,501.01,2000,8.7997999999999994,null,null,500.01,2000,6.9298424999999995,null,null,null,7.0275202799999992,1.7722797199999998,null,null,1.0559759999999998,0.71630371999999998,null,null,8.9384999999999994,8.7997999999999994,{"$f":"Y42/X42-1","v":-1.5517144934832472E-2}]
[null,2001.01,20000,null,2001.01,20000,8.5432000000000006,null,null,2000.01,20000,6.7277700000000005,null,null,null,6.8225995200000007,1.7206004800000001,null,null,1.0251840000000001,0.69541648,null,null,8.6819000000000006,8.5432000000000006,-1.4345703529022424E-2]
[null,20001.009999999998,50000,null,20001.009999999998,50000,8.2860999999999994,null,null,20000.009999999998,50000,6.5253037499999991,null,null,null,6.6172794599999998,1.6688205399999998,null,null,0.99433199999999988,0.67448853999999991,null,null,8.4247999999999994,8.2860999999999994,{"$f":"Y44/X44-1","v":-1.6463298832019801E-2}]
["Acima de",50000.01,null,null,50000.01,null,8.0290999999999997,null,null,50000.01,null,6.3229162499999996,null,null,null,6.4120392600000002,1.6170607399999999,null,null,0.9634919999999999,0.65356873999999998,null,null,8.1677999999999997,8.0290999999999997,{"$f":"Y45/X45-1","v":-1.698131687847404E-2}]
[]
[null,null,null,null,null,null,"Variável","Fixo mensal",null,null,null,"Variável","Fixo mensal",null,null,"Margem","Tributos",null,null,null,null,null,null,"Variável","Variável"]
["Industrial",0,200,null,0,200,5.5377999999999998,null,null,0,200,{"$f":"G48-G48*0.2125","v":4.3610175},null,null,null,{"$f":"G48-D48-Q48","v":4.4224870799999998},{"$f":"T48+U48","v":1.1153129199999998},null,null,{"$f":"(G48*0.12)","v":0.6645359999999999},{"$f":"(G48-T48)*0.0925","v":0.45077691999999997},null,"Industrial",5.5796999999999999,5.5377999999999998,{"$f":"Y48/X48-1","v":-7.5093643027402956E-3}]
[null,201.01,2000,null,201.01,2000,5.3860999999999999,null,null,200.01,2000,4.2415537499999996,null,null,null,{"$f":"G49-D49-Q49","v":4.3013394599999994},{"$f":"T49+U49","v":1.08476054},null,null,0.64633200000000002,0.43842853999999998,null,null,5.4279999999999999,5.3860999999999999,-7.7192336035372122E-3]
[null,2001.01,10000,null,2001.01,10000,5.2949000000000002,null,null,2000.01,10000,4.1697337500000007,null,null,null,4.2285071399999996,1.0663928600000001,null,null,0.63538799999999995,0.43100486000000005,null,null,5.3368000000000002,5.2949000000000002,-7.8511467546095171E-3]
[null,10001.01,50000,null,10001.01,50000,4.7983000000000002,null,null,10000.01,50000,3.7786612500000003,null,null,null,3.83192238,0.96637762000000005,null,null,0.57579599999999997,0.39058162000000007,null,null,4.8402000000000003,4.7983000000000002,-8.6566670798727818E-3]
[null,50001.01,100000,null,50001.01,100000,4.5003000000000002,null,null,50000.01,100000,3.5439862500000001,null,null,null,3.5939395800000002,0.90636041999999994,null,null,0.54003599999999996,0.36632442000000004,null,null,4.5422000000000002,4.5003000000000002,-9.2246048170490091E-3]
[null,100001.01,300000,null,100001.01,300000,4.1826999999999996,null,null,100000.01,300000,3.2938762499999998,null,null,null,3.3403042199999997,0.84239577999999993,null,null,0.50192399999999993,0.34047178,null,null,4.2245999999999997,4.1826999999999996,-9.918098754911675E-3]
[null,300001.01,600000,null,300001.01,600000,3.8064,null,null,300000.01,600000,2.9975399999999999,null,null,null,3.0397910399999999,0.76660896000000001,null,null,0.45676800000000001,0.30984096,null,null,3.8483000000000001,3.8064,-1.0887924538107718E-2]
[null,600001.01,1500000,null,600001.01,1500000,3.7966000000000002,null,null,600000.01,1500000,2.9898225000000003,null,null,null,3.0319647600000001,0.76463524000000005,null,null,0.455592,0.30904324000000005,null,null,3.8384999999999998,3.7966000000000002,-1.0915722287351715E-2]
[null,1500001.01,3000000,null,1500001.01,3000000,3.7690999999999999,null,null,1500000.01,3000000,2.9681662499999999,null,null,null,3.01000326,0.75909673999999994,null,null,0.45229199999999997,0.30680474000000002,null,null,3.8109999999999999,3.7690999999999999,-1.0994489635266391E-2]
["Acima de",3000000.01,null,null,3000000.01,null,3.6758999999999999,null,null,3000000.01,null,2.8947712499999998,null,null,null,2.9355737399999997,0.74032626000000001,null,null,0.441108,0.29921826000000001,null,null,3.7178,3.6758999999999999,-1.12701059766529E-2]
[]
[null,null,null,null,null,null,null,null,null,null,null,null,null,null,null,"Margem","Tributos"]
["GNV","Faixa única",null,null,"Faixa única",null,3.5691999999999999,null,null,"Faixa única",null,{"$f":"G60-G60*0.2125","v":2.8107449999999998},null,null,null,{"$f":"G60-D60-Q60","v":3.1408960000000001},{"$f":"G60*0.12","v":0.42830399999999996},0.87560000000000004,null,null,null,null,"GNV",3.7515000000000001,3.5691999999999999,{"$f":"Y60/X60-1","v":-4.8593895775023377E-2}]
["No período de 23/06/2022 a 31/12/2022, ficará reduzida a alíquota de PIS/COFINS de 9,25% para 0% para o segmento veicular, conforme a Lei Complementar Federal nº 194 de 23/06/2022."]
[]
[]
["R$/m³","COMGÁS",null,null,"C/ ICMS 15,0%",null,null,"COMGÁS - Tarifas (comgas.com.br)",null,null,null,"Arsesp - Tarifas",null,"S/ ICMS"]
["Faixas consumo mensal",null,null,"Preço Gás","2023-12-07",null,"Variável","Fixo mensal",null,null,null,"Variável","Fixo mensal",null,null,"Margem","Tributos",null,"RESIDENCIAIS E COMERCIAIS",null,null,"PIS/COFINS 8,9%"]
["Residencial",0,1,null,0,1,3.2869999999999999,11.39,null,0,1,2.7941099999999999,9.68,{"$f":"G66/L66-1","v":0.17640321962986438},{"$f":"H66/M66-1","v":0.17665289256198347},{"$f":"G66-D66-Q66","v":2.5359342360000001},{"$f":"(G66-L66)+L66*0.0924","v":0.75106576400000002},null,1.7702329999999999,"CUSTO GÁS"]
[null,1.01,3,null,1.01,3,10.834,14.87,null,1.01,3,9.2092150000000004,12.64,{"$f":"G67/L67-1","v":0.17643034721200435},0.17642405063291133,{"$f":"G67-D67-Q67","v":8.3582835339999999},{"$f":"(G67-L67)+L67*0.0924","v":2.4757164659999993},null,0.3957,"TRANSPORTE"]
[null,3.01,7,null,3.01,7,5.6470000000000002,14.87,null,3.01,7,4.8001329999999998,12.64,0.17642573653688354,0.17642405063291133,4.3566007107999996,1.2903992892000005,null,{"$f":"S66+S67","v":2.1659329999999999},null,2.5953689999999998,"C/ PIS COFINS PASEP"]
[null,7.01,14,null,7.01,14,9.3699999999999992,16.739999999999998,null,7.01,14,7.9643870000000003,14.23,0.17648728018866966,0.17638791286015443,7.2284776412000005,2.1415223587999987,null,"DEMAIS USUÁRIOS",null,{"$f":"U68-S68","v":0.42943599999999993}]
[null,14.01,34,null,14.01,34,11.132,18.600000000000001,null,14.01,34,9.4621670000000009,15.81,0.17647469126258275,0.17647058823529416,8.5878627692000009,2.5441372307999988,null,2.4285999999999999,"CUSTO GÁS"]
[null,34.01,600,null,34.01,600,11.92,18.600000000000001,null,34.01,600,10.131845999999999,15.81,0.17648847011689672,0.17647058823529416,9.1956634295999997,2.7243365704000002,null,0.3957,"TRANSPORTE"]
[null,600.01,1000,null,600.01,1000,10.324,18.600000000000001,null,600.01,1000,8.7757880000000004,15.81,0.17641857346599532,0.17647058823529416,7.9649051888000004,2.3590948111999994,null,{"$f":"S70+S71","v":2.8243},null,3.4144610000000002,"C/ PIS COFINS PASEP"]
["Acima de ",1000.01,null,null,1000.01,null,7.2949999999999999,18.600000000000001,null,1000.01,null,6.2011599999999998,15.81,0.17639280392700729,0.17647058823529416,5.6281728159999993,1.6668271840000002,null,null,null,{"$f":"U72-S72","v":0.59016100000000016}]
[]
[null,null,null,null,null,null,"Variável","Fixo mensal",null,null,null,"Variável","Fixo mensal",null,null,"Margem","Tributos"]
["Comercial",0,0,null,0,0,null,null,null,0,0,null,null,null,null,{"$f":"G76-D76-Q76","v":0},{"$f":"(G76-L76)+L76*0.0924","v":0},{"$f":"AVERAGE(Q77:Q83/P77:P83)","v":0.29626462757447281}]
[null,0.01,50,null,0.01,50,9.2490000000000006,60.76,null,0.01,50,7.8616299999999999,51.65,{"$f":"G77/L77-1","v":0.17647358117845791},0.17637947725072611,{"$f":"G77-D77-Q77","v":7.1352153879999998},{"$f":"(G77-L77)+L77*0.0924","v":2.1137846120000008}]
[null,50.01,150,null,50.01,150,8.49,98.73,null,50.01,150,7.2160859999999998,83.92,0.17653808449622144,0.17647759771210669,6.5493196535999996,1.9406803464000004]
[null,150.01,500,null,150.01,500,7.9859999999999998,174.66,null,150.01,500,6.7884219999999997,148.46,0.17641478387760801,0.17647851273070181,6.1611718071999997,1.8248281928000001]
[null,500.01,2000,null,500.01,2000,7.5380000000000003,398.71,null,500.01,2000,6.4074489999999997,338.9,0.17644323037140053,0.17648273827087646,5.8154007123999998,1.7225992876000005]
[null,2000.01,3500,null,2000.01,3500,6.819,1837.86,null,2000.01,3500,5.79589,1562.18,0.17652336396998569,0.17647134133070441,5.2603497639999999,1.5586502360000001]
[null,3500.01,50000,null,3500.01,50000,5.3760000000000003,6892.16,null,3500.01,50000,4.56935,5858.34,0.17653495573768696,{"$f":"H82/M82-1","v":0.17646978495614785},4.1471420600000002,1.2288579400000004]
["Acima de",50000.01,null,null,50000.01,null,5.1479999999999997,18284.09,null,50000.01,null,4.3756890000000004,15541.48,0.17650043227477985,0.17647032328967382,3.9713753364000004,1.1766246635999993]
[]
[null,null,null,null,null,null,"Variável","Fixo mensal",null,null,null,"Variável","Fixo mensal",null,null,"Margem","Tributos"]
["Industrial",0,50000,null,0,50000,4.726,387.36,null,0,50000,4.0171799999999998,329.26,{"$f":"G86/L86-1","v":0.17644715945016154},0.17645629593634227,{"$f":"G86-D86-Q86","v":3.6459925679999996},{"$f":"(G86-L86)+L86*0.0924","v":1.0800074320000002}]
[null,50000.01,300000,null,50000.01,300000,3.5019999999999998,61597.41,null,50000.01,300000,2.9767640000000002,52357.8,0.17644529428600975,0.17647055453055716,2.7017110064000001,0.80028899359999961]
[null,300000.01,500000,null,300000.01,500000,3.36,110975.06,null,300000.01,500000,2.856017,94328.8,0.17646358547585672,0.17647060070731313,2.5921210292000003,0.76787897079999978]
[null,500000.01,1000000,null,500000.01,1000000,3.3340000000000001,124035.06,null,500000.01,1000000,2.8338160000000001,105429.8,0.1765054611873178,0.17647059939409915,2.5719714015999999,0.76202859839999992]
[null,1000000.01,2000000,null,1000000.01,2000000,3.2810000000000001,177422.21,null,1000000.01,2000000,2.788443,150808.88,0.17664230540125803,0.17647057653368936,2.5307908668000003,0.75020913320000004]
["Acima de",2000000.01,null,null,2000000.01,null,3.2330000000000001,316707.87,null,2000000.01,null,2.7483939999999998,269201.69,0.17632333646485931,0.17647058605018406,2.4944423944,0.73855760560000028]
[]
[null,null,null,null,null,null,null,null,null,null,null,null,null,null,null,"Margem","Tributos"]
["GNV","Faixa única",null,null,"Faixa única",null,3.2148460000000001,null,null,"Faixa única",null,2.7326190000000001,null,null,null,{"$f":"G94-D94-Q94","v":2.7133300240000002},{"$f":"G94*0.156","v":0.50151597599999997},null,"é postos? Ou frota"]
["No período de 23/06/2022 a 31/12/2022, ficará reduzida a alíquota de PIS/COFINS de 9,25% para 0% para o segmento veicular, conforme a Lei Complementar Federal nº 194 de 23/06/2022."]
[]
[null,null,null,null,"Arsesp - Tarifas"]
["R$/m³","NECTA",null,null,"C/ ICMS 15,0% e PIS/COFINS 9,24%",null,null,null,null,null,null,null,null,"S/ ICMS"]
["Faixas consumo mensal",null,null,"Preço Gás","2023-08-31",null,"Variável","Fixo mensal",null,null,null,"Variável","Fixo mensal",null,null,"Margem","Tributos",null,"RESIDENCIAIS E COMERCIAIS",null,null,"PIS/COFINS 9,24%"]
["Residencial",0,1,null,0,1,{"$f":"L100*(1+17.646448445628%)","v":2.9154684032646592},{"$f":"M100*(1+17.646448445628%)","v":35.317463823377523},null,0,1,2.4781610000000001,30.02,null,null,{"$f":"G100-D100-Q100","v":2.2491789236000002},{"$f":"(G100-L100)+L100*0.0924","v":0.66628947966465912},null,2.6837010000000001,"CUSTO GÁS"]
[null,1.01,6,null,1.01,6,3.2626760136332722,35.317463823377523,null,1.01,6,2.7732890000000001,30.02,null,null,{"$f":"G101-D101-Q101","v":2.5170370964000002},{"$f":"(G101-L101)+L101*0.0924","v":0.74563891723327202},null,0.3957,"TRANSPORTE"]
[null,6.01,12,null,6.01,12,8.8728622007636986,35.317463823377523,null,6.01,12,7.5419720000000003,30.02,null,null,{"$f":"G102-D102-Q102","v":6.8450937872000006},{"$f":"(G102-L102)+L102*0.0924","v":2.027768413563698},null,{"$f":"S100+S101","v":3.0794010000000003},null,4.075215,"C/ PIS COFINS PASEP"]
[null,12.01,40,null,12.01,40,8.9498159191564675,35.317463823377523,null,12.01,40,7.6073829999999996,30.02,null,null,{"$f":"G103-D103-Q103","v":6.9044608107999998},{"$f":"(G103-L103)+L103*0.0924","v":2.0453551083564676},null,"DEMAIS USUÁRIOS",null,{"$f":"U102-S102","v":0.99581399999999975}]
["Acima de ",40.01,null,null,40.01,null,9.0543130240593293,35.317463823377523,null,40.01,null,7.6962060000000001,30.02,null,null,{"$f":"G104-D104-Q104","v":6.9850765656},{"$f":"(G104-L104)+L104*0.0924","v":2.0692364584593292},null,2.8922690000000002,"CUSTO GÁS"]
[null,null,null,null,null,null,null,null,null,null,null,null,null,null,null,null,null,null,0.3957,"TRANSPORTE"]
[null,null,null,null,null,null,"Variável","Fixo mensal",null,null,null,"Variável","Fixo mensal",null,null,"Margem","Tributos",null,{"$f":"S104+S105","v":3.2879690000000004},null,3.8235489999999999,"C/ PIS COFINS PASEP"]
["Comercial",0,50,null,0,50,{"$f":"L107*(1+17.646448445628%)","v":7.1316241758993373},{"$f":"M107*(1+17.646448445628%)","v":59.376162530508445},null,0,50,6.0619120000000004,50.47,null,null,{"$f":"G107-D107-Q107","v":5.5017913312000006},{"$f":"(G107-L107)+L107*0.0924","v":1.6298328446993369},null,null,null,{"$f":"U106-S106","v":0.5355799999999995}]
[null,50.01,150,null,50.01,150,6.9355251933077424,96.458323080570381,null,50.01,150,5.8952270000000002,81.99,null,null,5.3505080251999999,1.5850171681077421]
[null,150.01,500,null,150.01,500,6.7430273685030668,151.55215488765796,null,150.01,500,5.7316029999999998,128.82,null,null,5.2020028827999996,1.541024485703067]
[null,500.01,2000,null,500.01,2000,6.4025738407397181,351.37464757255714,null,500.01,2000,5.4422160000000002,298.67,null,null,4.9393552416000004,1.463218599139718]
[null,2000.01,5000,null,2000.01,5000,5.7815217687887008,1795.9200941018896,null,2000.01,5000,4.9143189999999999,1526.54,null,null,4.4602359244000001,1.321285844388701]
["Acima de",5000.01,null,null,5000.01,null,5.0011175824180816,6161.4974444428753,null,5000.01,null,4.250972,5237.3,null,null,3.8581821871999997,1.1429353952180816]
[]
[null,null,null,null,null,null,"Variável","Fixo mensal",null,null,null,"Variável","Fixo mensal",null,null,"Margem","Tributos"]
["Industrial",0,3000,null,0,3000,{"$f":"L115*(1+17.646448445628%)","v":5.5322183563520557},{"$f":"M115*(1+17.646448445628%)","v":403.53908281334856},null,0,3000,4.7024100000000004,343.01,null,null,{"$f":"G115-D115-Q115","v":4.2679073160000005},{"$f":"(G115-L115)+L115*0.0924","v":1.2643110403520552}]
[null,3000.01,7000,null,3000.01,7000,5.2029577116938235,403.53908281334856,null,3000.01,7000,4.4225370000000002,343.01,null,null,{"$f":"G116-D116-Q116","v":4.0138945812000006},{"$f":"(G116-L116)+L116*0.0924","v":1.1890631304938233}]
[null,7000.01,15000,null,7000.01,15000,4.9005039867784115,403.53908281334856,null,7000.01,15000,4.1654499999999999,343.01,null,null,3.7805624199999999,1.1199415667784116]
[null,15000.01,45000,null,15000.01,45000,4.7805763736974223,403.53908281334856,null,15000.01,45000,4.0635110000000001,343.01,null,null,3.6880425836000001,1.0925337900974221]
[null,45000.01,250000,null,45000.01,250000,4.1274644680804879,2322.3408923166967,null,45000.01,250000,3.5083630000000001,1974,null,null,3.1841902588000002,0.94327420928048777]
[null,250000.01,500000,null,250000.01,500000,3.9329807712260512,10556.086408970552,null,250000.01,500000,3.343051,8972.7199999999993,null,null,3.0341530876,0.89882768362605114]
[null,500000.01,1000000,null,500000.01,1000000,3.7125277973417266,14778.511560842897,null,500000.01,1000000,3.1556649999999999,12561.8,null,null,2.8640815540000002,0.84844624334172658]
["Acima de",1000000.01,null,null,1000000.01,null,3.6790856179065723,19284.876416038765,null,1000000.01,null,3.1272389999999999,16392.23,null,null,2.8382821163999998,0.84080350150657246]
[]
[null,null,null,null,null,null,null,null,null,null,null,null,null,null,null,"Margem","Tributos"]
["GNV","Faixa única",null,null,"Faixa única",null,{"$f":"L125*(1+17.646448445628%)","v":3.5752873329074797},null,null,"Faixa única",null,3.0390100000000002,null,null,null,{"$f":"G125-D125-Q125","v":3.017542508973913},{"$f":"G125*0.156","v":0.55774482393356684}]
["No período de 23/06/2022 a 31/12/2022, ficará reduzida a alíquota de PIS/COFINS de 9,25% para 0% para o segmento veicular, conforme a Lei Complementar Federal nº 194 de 23/06/2022."]
[null,null,null,null,"Arsesp - Tarifas"]
["R$/m³","NATURGY SP",null,null,"C/ ICMS 15,6% E PIS/COFINS",null,null,null,null,null,null,null,null,"S/ ICMS"]
["Faixas consumo mensal",null,null,"Preço Gás","2023-08-25",null,"Variável","Fixo mensal",null,null,null,"Variável","Fixo mensal",null,null,"Margem","Tributos",null,"RESIDENCIAIS E COMERCIAIS",null,null,"PIS/COFINS 9,0%"]
["Residencial",0,1,null,0,1,{"$f":"L130*(1+17.646448445628%)","v":0},{"$f":"M130*(1+17.646448445628%)","v":26.458686255421735},null,0,1,0,22.49,null,null,"-",{"$f":"(G130-L130)+L130*0.0924","v":0},null,2.3164500000000001,"CUSTO GÁS"]
[null,1.01,7,null,1.01,7,7.4210203215017687,20.682245636741399,null,1.01,7,6.3079000000000001,17.579999999999998,{"$f":"G131*(1-15.6%)","v":6.2633411513474924},null,{"$f":"G131-D131-Q131","v":5.7250500400000002},{"$f":"(G131-L131)+L131*0.0924","v":1.6959702815017685},null,0.3957,"TRANSPORTE"]
[null,7.01,16,null,7.01,16,7.1755851242900146,22.294001980446502,null,7.01,16,6.0992790000000001,18.95,null,null,{"$f":"G132-D132-Q132","v":5.5357056203999999},{"$f":"(G132-L132)+L132*0.0924","v":1.6398795038900145},null,{"$f":"S130+S131","v":2.7121500000000003},null,3.762165,"C/ PIS COFINS PASEP"]
[null,16.010000000000002,41,null,16.010000000000002,41,7.0090471647993526,24.835165266872067,null,16.010000000000002,41,5.9577210000000003,21.11,null,null,{"$f":"G133-D133-Q133","v":5.4072275796000007},{"$f":"(G133-L133)+L133*0.0924","v":1.6018195851993524},null,"DEMAIS USUÁRIOS",null,{"$f":"U132-S132","v":1.0500149999999997}]
["Acima de ",41.01,null,null,41.01,null,6.9861566953252874,25.646925761146903,null,41.01,null,5.9382640000000002,21.8,null,null,{"$f":"G134-D134-Q134","v":5.3895684064000005},{"$f":"(G134-L134)+L134*0.0924","v":1.5965882889252871},null,2.4285999999999999,"CUSTO GÁS"]
[null,null,null,null,null,null,null,null,null,null,null,null,null,null,null,null,null,null,0.3957,"TRANSPORTE"]
[null,null,null,null,null,null,"Variável","Fixo mensal",null,null,null,"Variável","Fixo mensal",null,null,"Margem","Tributos",null,{"$f":"S134+S135","v":2.8243},null,3.1688679999999998,"C/ PIS COFINS PASEP"]
["Comercial",0,50,null,0,50,{"$f":"L137*(1+17.646448445628%)","v":7.6988165272874607},{"$f":"M137*(1+17.646448445628%)","v":66.105539381598362},null,0,50,6.544028,56.19,null,null,{"$f":"G137-D137-Q137","v":5.9393598128000002},{"$f":"(G137-L137)+L137*0.0924","v":1.7594567144874607},null,null,null,{"$f":"U136-S136","v":0.34456799999999976}]
[null,50.01,500,null,50.01,500,6.8314704390510368,103.29358173526137,null,50.01,500,5.8067799999999998,87.8,null,null,{"$f":"G138-D138-Q138","v":5.2702335280000003},{"$f":"(G138-L138)+L138*0.0924","v":1.5612369110510369}]
[null,500.01,5000,null,500.01,5000,6.2429205514120945,396.04500404736206,null,500.01,5000,5.3065100000000003,336.64,null,null,{"$f":"G139-D139-Q139","v":4.8161884760000007},{"$f":"(G139-L139)+L139*0.0924","v":1.4267320754120942}]
["Acima de",5000.01,null,null,5000.01,null,4.584700919357874,8609.3670972510572,null,5000.01,null,3.8970159999999998,7318,null,null,{"$f":"G140-D140-Q140","v":3.5369317215999998},{"$f":"(G140-L140)+L140*0.0924","v":1.0477691977578742}]
[]
[null,null,null,null,null,null,"Variável","Fixo mensal",null,null,null,"Variável","Fixo mensal",null,null,"Margem","Tributos"]
["Industrial",0,5000,null,0,5000,{"$f":"L143*(1+17.646448445628%)","v":7.3237384732820781},{"$f":"M143*(1+17.646448445628%)","v":589.06753201210392},null,0,5000,6.2252099999999997,500.71,{"$f":"G143*(1-15.6%)","v":6.181235271450074},null,{"$f":"G143-D143-Q143","v":5.6500005959999999},{"$f":"(G143-L143)+L143*0.0924","v":1.6737378772820783}]
[null,5000.01,50000,null,5000.01,50000,5.1592285268065821,11780.938877672519,null,5000.01,50000,4.3853669999999996,10013.85,null,null,{"$f":"G144-D144-Q144","v":3.9801590891999998},{"$f":"(G144-L144)+L144*0.0924","v":1.1790694376065824}]
[null,50000.01,300000,null,50000.01,300000,4.2336945051689518,54599.034374214963,null,50000.01,300000,3.5986590000000001,46409.42,null,null,3.2661429084,0.96755159676895186]
[null,300000.01,500000,null,300000.01,500000,3.9231667044967171,141957.4987846748,null,300000.01,500000,3.3347090000000001,120664.5,null,null,3.0265818884,0.89658481609671692]
[null,500000.01,1000000,null,500000.01,1000000,3.7671663373933297,156922.00938051022,null,500000.01,1000000,3.202108,133384.4,null,null,2.9062332207999999,0.86093311659332983]
[null,1000000.01,3000000,null,1000000.01,3000000,3.6735915287641614,168937.48821780394,null,1000000.01,3000000,3.1225689999999999,143597.60999999999,null,null,2.8340436244,0.83954790436416138]
["Acima de",3000000.01,null,null,3000000.01,null,3.6313552773076965,{"$f":"M149*(1+17.646448445628%)","v":216355.6774950189},null,3000000.01,null,3.086668,183903.28,null,null,2.8014598768000001,0.8298954005076965]
[]
[null,null,null,null,null,null,null,null,null,null,null,null,null,null,null,"Margem","Tributos"]
["GNV","Faixa única",null,null,"Faixa única",null,{"$f":"L152*(1+17.646448445628%)","v":3.6369964245106647},null,null,"Faixa única",null,3.0914630000000001,null,null,null,{"$f":"G152-D152-Q152","v":3.0696249822870012},{"$f":"G152*0.156","v":0.56737144222366365}]
["No período de 23/06/2022 a 31/12/2022, ficará reduzida a alíquota de PIS/COFINS de 9,25% para 0% para o segmento veicular, conforme a Lei Complementar Federal nº 194 de 23/06/2022."]
[]
[null,null,null,null,"https://esgas.com.br/informacoes-importantes/"]
["R$/m³","ESGÁS",null,null,"C/ ICMS 17% e PIS/COFINS 9,25%",null,null,null,24.7,null,null,null,null,"S/ TRIBUTOS"]
["Faixas consumo mensal",null,null,"Preço Gás","2023-11-01",null,"Variável","Fixo mensal",null,null,null,"Variável","Fixo mensal",null,null,"Margem","Tributos"]
["Residencial",0,8,null,0,8,0,52.81,null,0,8,null,37.83,null,null,"-",{"$f":"G158-L158","v":0},0.30105999999999999,"MARGEM MÉDIA DISTRIVUIÇÃO"]
[null,8.01,16,null,8.01,16,4.6502999999999997,10.44,null,8.01,16,3.3418000000000001,7.86,{"$f":"M159/H159","v":0.75287356321839083},null,{"$f":"G159-D159-Q159","v":3.3418000000000001},{"$f":"G159-L159","v":1.3084999999999996}]
[null,16.010000000000002,55,null,16.010000000000002,55,4.9850000000000003,5.08,null,16.010000000000002,55,3.5937999999999999,3.83,null,null,{"$f":"G160-D160-Q160","v":3.5937999999999999},{"$f":"G160-L160","v":1.3912000000000004}]
["Acima de ",55.01,null,null,55.01,null,5.0834999999999999,0,null,55.01,null,3.6680000000000001,null,null,null,{"$f":"G161-D161-Q161","v":3.6680000000000001},{"$f":"G161-L161","v":1.4154999999999998}]
[]
[null,null,null,null,null,null,"Variável","Fixo mensal",null,null,null,"Variável","Fixo mensal",null,null,"Margem","Tributos"]
["Comercial",0,200,null,0,200,5.3343999999999996,92.89,null,0,200,3.8570000000000002,69.97,null,null,{"$f":"G164-D164-Q164","v":3.8570000000000002},{"$f":"G164-L164","v":1.4773999999999994}]
[null,200.01,1000,null,200.01,1000,5.7314999999999996,13.48,null,200.01,1000,4.1562000000000001,10.15,null,null,{"$f":"G165-D165-Q165","v":4.1562000000000001},{"$f":"G165-L165","v":1.5752999999999995}]
[null,1000.01,5000,null,1000.01,5000,5.4599000000000002,285.11,null,1000.01,5000,3.9516,214.75,null,null,{"$f":"G166-D166-Q166","v":3.9516},{"$f":"G166-L166","v":1.5083000000000002}]
[null,5000.01,15000,null,5000.01,15000,5.3761999999999999,703.36,null,5000.01,15000,3.8885999999999998,529.79,null,null,{"$f":"G167-D167-Q167","v":3.8885999999999998},{"$f":"G167-L167","v":1.4876}]
["Acima de",15000.01,null,null,15000.01,null,5.1045999999999996,4777.88,null,15000.01,null,3.6840000000000002,3598.82,null,null,{"$f":"G168-D168-Q168","v":3.6840000000000002},{"$f":"G168-L168","v":1.4205999999999994}]
[]
[null,null,null,null,null,null,"Variável","Fixo mensal",null,null,null,"Variável","Fixo mensal",null,null,"Margem","Tributos"]
["Industrial",0,1000,null,0,1000,5.9446000000000003,112.99,null,0,1000,4.3167,85.11,null,null,{"$f":"G171-D171-Q171","v":4.3167},{"$f":"G171-L171","v":1.6279000000000003}]
[null,1000.01,5000,null,1000.01,5000,4.9076000000000004,1150.04,null,1000.01,5000,3.5333000000000001,866.24,null,null,{"$f":"G172-D172-Q172","v":3.5333000000000001},{"$f":"G172-L172","v":1.3743000000000003}]
[null,5000.01,50000,null,5000.01,50000,3.9834000000000001,5770.61,null,5000.01,50000,2.8395000000000001,4346.57,null,null,2.8395000000000001,1.1438999999999999]
[null,50000.01,300000,null,50000.01,300000,3.9161999999999999,9128.2900000000009,null,50000.01,300000,2.7888999999999999,6875.66,null,null,2.7888999999999999,1.1273]
[null,300000.01,500000,null,300000.01,500000,3.871,22721.63,null,300000.01,500000,2.7547999999999999,17114.5,null,null,2.7547999999999999,1.1162000000000001]
[null,500000.01,1000000,null,500000.01,1000000,3.8258999999999999,45261.02,null,500000.01,1000000,2.7208000000000001,34091.730000000003,null,null,2.7208000000000001,1.1050999999999997]
[null,"1.000.000.01",10000000,null,1000000.01,10000000,3.8033999999999999,67800.399999999994,null,"1.000.000.01",10000000,2.7038000000000002,51068.959999999999,null,null,2.7038000000000002,1.0995999999999997]
["Acima de",10000000.01,null,null,10000000.01,null,3.742,681243.52,null,10000000.01,null,2.6576,513129.65,null,null,2.6576,1.0844]
[]
[null,null,null,null,null,null,null,null,null,null,null,null,null,null,null,"Margem","Tributos"]
["GNV","Faixa única",null,null,"Faixa única",null,3.677,null,null,"Faixa única",null,0.187,6101.86,null,null,{"$f":"G181-D181-Q181","v":0.18699999999999983},{"$f":"G181-L181","v":3.49}]
["No período de 23/06/2022 a 31/12/2022, ficará reduzida a alíquota de PIS/COFINS de 9,25% para 0% para o segmento veicular, conforme a Lei Complementar Federal nº 194 de 23/06/2022."]
[]
[null,null,null,null,"http://www.gasmig.com.br/NossosServicos/Residencial/Paginas/Tarifas.aspx"]
["R$/m³","GASMIG",null,null,"C/ ICMS 12% e PIS 1,65% E COFINS 7,6%",null,null,null,null,null,null,null,null,"S/ IMPOSTOS",null,null,null,"01/08/2022 (ponderação contratos Gasmig com Petrobras e Galp)"]
["Faixas consumo mensal",null,null,"Preço Gás","2023-11-01",null,"Variável","Fixo mensal",null,null,null,"Variável","Fixo mensal",null,null,"Margem","Tributos","molécula Gás"]
["Residencial",0,1,null,0,1,0,30.493822000000002,null,0,1,{"$f":"I187","v":0},24.3522,null,null,0,{"$f":"G187-L187","v":0},2.6758000000000002]
[null,1.01,7,null,1.01,7,9.1941520000000008,17.91009,null,1.01,7,7.3423999999999996,14.302899999999999,null,null,{"$f":"G188-D188-Q188","v":7.3423999999999996},1.8517520000000012,"transporte"]
[null,7.01,16,null,7.01,16,8.1456850000000003,28.189523999999999,null,7.01,16,6.5050999999999997,22.512,null,null,{"$f":"G189-D189-Q189","v":6.5050999999999997},1.6405850000000006,0.38979999999999998]
[null,16.010000000000002,41,null,16.010000000000002,41,7.9629890000000003,31.975173999999999,null,16.010000000000002,41,6.3592000000000004,25.5352,null,null,{"$f":"G190-D190-Q190","v":6.3592000000000004},1.6037889999999999]
[null,41.01,200,null,41.01,200,7.4902839999999999,49.193924000000003,null,41.01,200,5.9817,39.286000000000001,null,null,{"$f":"G191-D191-Q191","v":5.9817},1.5085839999999999]
["Acima de ",200.01,null,null,200.01,null,7.2553710000000002,96.203385999999995,null,200.01,null,5.7941000000000003,76.827500000000001,null,null,{"$f":"G192-D192-Q192","v":5.7941000000000003},1.461271]
[]
[null,null,null,null,null,null,"Variável","Fixo mensal",null,null,null,"Variável","Fixo mensal",null,null,"Margem","Tributos"]
["Comercial",0,50,null,0,50,7.5857020000000004,102.477784,null,0,50,6.0579000000000001,81.838200000000001,null,null,{"$f":"G195-D195-Q195","v":6.0579000000000001},{"$f":"G195-L195","v":1.5278020000000003}]
[null,50.01,150,null,50.01,150,7.5262219999999997,105.39065100000001,null,50.01,150,6.0103999999999997,84.164400000000001,null,null,{"$f":"G196-D196-Q196","v":6.0103999999999997},{"$f":"G196-L196","v":1.515822}]
[null,150.01,300,null,150.01,300,7.2283239999999997,149.08328499999999,null,150.01,300,5.7725,119.05710000000001,null,null,5.7725,{"$f":"G197-L197","v":1.4558239999999998}]
[null,300.01,600,null,300.01,600,6.673724,316.14315199999999,null,300.01,600,5.3296000000000001,252.47020000000001,null,null,{"$f":"G198-D198-Q198","v":5.3296000000000001},1.3441239999999999]
[null,600.01,1000,null,600.01,1000,6.6136189999999999,350.26484699999997,null,600.01,1000,5.2816000000000001,279.71960000000001,null,null,5.2816000000000001,1.3320189999999998]
[null,1000.01,2000,null,1000.01,2000,5.8859659999999998,1076.2854500000001,null,1000.01,2000,4.7004999999999999,859.51570000000004,null,null,4.7004999999999999,1.1854659999999999]
[null,2000.01,5000,null,2000.01,5000,4.5765399999999996,1455.460462,null,2000.01,5000,3.6547999999999998,1162.3227999999999,null,null,3.6547999999999998,0.92173999999999978]
[null,5000.01,15000,null,5000.01,15000,4.4647189999999997,2014.1740130000001,null,5000.01,15000,3.5655000000000001,1608.5083999999999,null,null,3.5655000000000001,0.89921899999999955]
[null,15000.01,25000,null,15000.01,25000,4.3743100000000004,3373.0496699999999,null,15000.01,25000,3.4933000000000001,2693.6990999999998,null,null,3.4933000000000001,0.88101000000000029]
["Acima de",25000.01,null,null,25000.01,null,4.1909879999999999,7954.2205240000003,null,25000.01,null,3.3469000000000002,6352.1971999999996,null,null,{"$f":"G204-D204-Q204","v":3.3469000000000002},{"$f":"G204-L204","v":0.84408799999999973}]
[]
[null,null,null,null,null,null,"Variável","Fixo mensal",null,null,null,"Variável","Fixo mensal",null,null,"Margem","Tributos"]
["Industrial",0,12500,null,0,12500,5.0757919999999999,null,null,0,12500,4.0534999999999997,null,null,null,{"$f":"G207-D207-Q207","v":4.0534999999999997},{"$f":"G207-L207","v":1.0222920000000002}]
[null,12500.01,50000,null,12500.01,50000,3.5558719999999999,null,null,12500.01,50000,2.8397000000000001,null,null,null,{"$f":"G208-D208-Q208","v":2.8397000000000001},{"$f":"G208-L208","v":0.71617199999999981}]
[null,50000.01,250000,null,50000.01,250000,3.4334069999999999,null,null,50000.01,250000,2.7418999999999998,null,null,null,{"$f":"G209-D209-Q209","v":2.7418999999999998},0.69150700000000009]
[null,250000.01,750000,null,250000.01,750000,3.4544568999999998,null,null,250000.01,750000,2.7587999999999999,null,null,null,2.7587999999999999,0.69565689999999991]
[null,750000.01,1500000,null,750000.01,1500000,3.424661,null,null,750000.01,1500000,2.7349000000000001,null,null,null,2.7349000000000001,0.68976099999999985]
[null,1500000.01,3000000,null,1500000.01,3000000,3.4144990000000002,null,null,1500000.01,3000000,2.7267999999999999,null,null,null,2.7267999999999999,0.68769900000000028]
[null,3000000.01,4500000,null,3000000.01,4500000,3.338114,null,null,3000000.01,4500000,2.6657999999999999,null,null,null,2.6657999999999999,0.67231400000000008]
[null,4500000.01,7000000,null,4500000.01,7000000,3.2333050000000001,null,null,4500000.01,7000000,2.5821000000000001,null,null,null,2.5821000000000001,0.65120500000000003]
["Acima de",7000000.0099999998,null,null,7000000.0099999998,null,3.1728239999999999,null,null,7000000.0099999998,null,2.5337999999999998,null,null,null,2.5337999999999998,0.63902400000000004]
[]
[null,null,null,null,null,null,null,null,null,"http://www.desenvolvimento.mg.gov.br/application/projetos/projeto/1085",null,null,null,null,null,"Margem","Tributos"]
["GNV","Faixa única",null,null,"Faixa única",null,3.8084500000000001,null,null,"Faixa única",null,3.2090692600399682,null,null,null,{"$f":"G218-D218-Q218","v":3.2090692600399682},{"$f":"G218-L218","v":0.59938073996003194}]
["No período de 23/06/2022 a 31/12/2022, ficará reduzida a alíquota de PIS/COFINS de 9,25% para 0% para o segmento veicular, conforme a Lei Complementar Federal nº 194 de 23/06/2022."]
[]
[]
[]
[null,null,null,null,null,null,null,null,null,null,null,null,null,null,null,"Margem","Tributos"]
[null,null,null,null,null,null,null,null,null,null,null,null,null,null,null,2.8029999999999999,{"$f":"G224-L224","v":0}]
[null,null,null,null,null,null,null,null,null,null,null,null,null,null,null,3.0619000000000001,{"$f":"G225-L225","v":0}]
[]
[null,null,null,null,null,null,null,null,null,null,null,null,null,null,null,"Margem","Tributos"]
[null,null,null,null,null,null,null,null,null,null,null,null,null,null,null,2.4533999999999998,{"$f":"G228-L228","v":0}]
[null,null,null,null,null,null,null,null,null,null,null,null,null,null,null,1.7798,{"$f":"G229-L229","v":0}]
[null,null,null,null,null,null,null,null,null,null,null,null,null,null,null,1.5515000000000001,{"$f":"G230-L230","v":0}]
[null,null,null,null,null,null,null,null,null,null,null,null,null,null,null,0.83150000000000002,{"$f":"G231-L231","v":0}]
[]
[null,null,null,null,null,null,null,null,null,null,null,null,null,null,null,"Margem","Tributos"]
[null,null,null,null,null,null,null,null,null,null,null,null,null,null,null,1.5458000000000001,{"$f":"G234-L234","v":0}]
[null,null,null,null,null,null,null,null,null,null,null,null,null,null,null,1.0984,{"$f":"G235-L235","v":0}]
[null,null,null,null,null,null,null,null,null,null,null,null,null,null,null,0.98240000000000005,0]
[null,null,null,null,null,null,null,null,null,null,null,null,null,null,null,0.93049999999999999,0]
[null,null,null,null,null,null,null,null,null,null,null,null,null,null,null,0.89949999999999997,0]
[null,null,null,null,null,null,null,null,null,null,null,null,null,null,null,0.88880000000000003,0]
[null,null,null,null,null,null,null,null,null,null,null,null,null,null,null,0.872,0]
[null,null,null,null,null,null,null,null,null,null,null,null,null,null,null,0.85980000000000001,0]
[null,null,null,null,null,null,null,null,null,null,null,null,null,null,null,0.84030000000000005,0]
[]
[null,null,null,null,null,null,null,null,null,null,null,null,null,null,null,"Margem","Tributos"]
[null,null,null,null,null,null,null,null,null,null,null,null,null,null,null,0.64459999999999995,{"$f":"G245-L245","v":0}]
["No período de 23/06/2022 a 31/12/2022, ficará reduzida a alíquota de PIS/COFINS de 9,25% para 0% para o segmento veicular, conforme a Lei Complementar Federal nº 194 de 23/06/2022."]
[]
[null,null,null,null,"https://www.scgas.com.br/scgas/app/Content.aspx?c=27"]
["R$/m³","SCGÁS",null,null,"C/ ICMS 17% e PIS/COFINS 9,25%",null,null,null,null,null,null,null,null,"S/ TRIBUTOS"]
[null,"c/transporte e PR",null,"Preço Gás","2024-01-01",null,null,null,null,null,null,null,null,null,null,"Margem","Tributos"]
["Residencial","Faixa única",null,null,"Faixa única",null,7.1505000000000001,null,null,"Faixa única",null,5.6445942528735635,null,null,null,2.5800999999999998,2.0331000000000001]
[]
["Faixas consumo mensal",null,null,null,null,null,"Variável","Fixo mensal",null,null,null,"Variável","Fixo mensal",null,null,"Margem","Tributos"]
["Comercial",0,150,null,0,150,8.6441999999999997,null,null,0,150,6.7691614942528737,null,null,null,3.6454,2.3801999999999999]
[null,150.01,300,null,150.01,300,6.4223999999999997,null,null,150.01,300,5.0964270114942529,null,null,null,2.1949000000000001,1.9049]
[null,300.01,2100,null,300.01,2100,6.2445000000000004,null,null,300.01,2100,4.9624908045977012,null,null,null,2.0787,1.8669]
["Acima de",2100.0100000000002,null,null,2100.0100000000002,null,4.3943000000000003,null,null,2100.0100000000002,null,3.5695241379310345,null,null,null,0.87080000000000002,1.4711000000000001]
[]
[null,null,null,null,"c/ icms 12%",null,"Variável","Fixo mensal",null,null,null,"Variável","Fixo mensal",null,null,"Margem","Tributos"]
["Comercial",0,150,null,0,150,8.1530000000000005,null,null,0,150,6.3845183908045984,null,{"$f":"L260/G260","v":0.7830882363307492},null,3.6454,1.8321000000000001]
[null,150.01,300,null,150.01,300,6.0575000000000001,null,null,150.01,300,4.8068718390804595,null,null,null,2.1949000000000001,1.4662999999999999]
[null,300.01,2100,null,300.01,2100,5.8897000000000004,null,null,300.01,2100,4.6805396551724137,null,null,null,2.0787,1.4370000000000001]
["Acima de",2100.0100000000002,null,null,2100.0100000000002,null,4.1445999999999996,null,null,2100.0100000000002,null,3.3666999999999998,null,null,null,0.87080000000000002,1.1324000000000001]
["Observação: a alíquota de 12 % de ICMS ocorre quando há saída de mercadorias para contribuintes, desde que sejam destinadas a insumo. A saída de mercadorias para contribuintes destinadas a uso e consumo permanece com sua alíquota de 17 % de ICMS."]
[]
["Amarela TG1: qtd mínima contratada 70% a 80% do contratado anual",null,null,null,"C/ ICMS 12% e PIS/COFINS 9,25%",null,null,null,null,null,null,null,null,"S/ TRIBUTOS"]
["qtd mínima 10 m³/dia","parada programada 20 dias",null,null,"Faixas consumo diário",null,"Variável","Fixo mensal",null,"Faixas consumo diário",null,"Variável","Fixo mensal",null,null,"Margem","Tributos"]
["Industrial",0,5,null,0,5,8.2403999999999993,null,null,0,5,6.4503195402298896,null,null,null,3.3742999999999999,1.7638,null,null,null,null,8.2403999999999993]
[null,5.01,10,null,5.01,10,6.0881999999999996,null,null,5.01,10,4.8299850574712648,null,null,null,2.0177999999999998,1.4217,null,6,"a",10,6.0881999999999996]
[null,10.01,70,null,10.01,70,5.9142000000000001,null,null,10.01,70,4.6989850574712646,null,null,null,1.9081999999999999,1.3939999999999999,null,11,"a",70,5.9142000000000001]
[null,70.010000000000005,1000,null,70.010000000000005,1000,3.9308999999999998,null,null,70.010000000000005,1000,3.2058109195402302,null,null,null,0.65820000000000001,1.0788,null,71,"a",1000,3.9308999999999998]
[null,1000.01,5000,null,1000.01,5000,3.8090000000000002,null,null,1000.01,5000,3.1140356321839082,null,null,null,0.58140000000000003,1.0593999999999999,null,1001,"a",5000,3.8090000000000002]
[null,5000.01,10000,null,5000.01,10000,3.6758999999999999,null,null,5000.01,10000,3.0138281609195405,null,null,null,0.4975,1.0383,null,5001,"a",10000,3.6758999999999999]
[null,10000.01,25000,null,10000.01,25000,3.5867,null,null,10000.01,25000,2.9465965517241384,null,null,null,0.44119999999999998,1.0241,null,10001,"a",25000,3.5867]
[null,25000.01,50000,null,25000.01,50000,3.524,null,null,25000.01,50000,2.8994666666666671,null,null,null,0.40179999999999999,1.0141,null,25001,"a",50000,3.524]
[null,50000.01,100000,null,50000.01,100000,3.4573,null,null,50000.01,100000,2.8492500000000005,null,null,null,0.35970000000000002,1.0035000000000001,null,50001,"a",100000,3.4573]
[null,100000.01,150000,null,100000.01,150000,3.2703000000000002,null,null,100000.01,150000,2.7084626436781614,null,null,null,0.2419,0.9738,null,100001,"a",150000,3.2703000000000002]
[null,150000.01,200000,null,150000.01,200000,3.2471999999999999,null,null,150000.01,200000,2.6910712643678165,null,null,null,0.2273,0.97009999999999996,null,150001,"a",200000,3.2471999999999999]
["Acima de",200000.01,null,null,200000.01,null,3.2282999999999999,null,null,200000.01,null,2.6768419540229891,null,null,null,0.21540000000000001,0.96709999999999996,null,"Maior que 200.000",null,null,3.2282999999999999]
[]
["Azul TG2: qtd mínima contratada 70% do contratado anual"]
["qtd mínima 10 m³/dia","parada programada 20 dias",null,null,"Faixas consumo diário",null,"Variável","Fixo mensal",null,"Faixas consumo diário",null,"Variável","Fixo mensal",null,null,"Margem","Tributos"]
["Industrial",0,5,null,0,5,8.2403999999999993,null,null,0,5,6.450319540229887,null,null,null,3.3742999999999999,1.7638,null,0,"a",5,8.2403999999999993]
[null,5.01,10,null,5.01,10,6.0881999999999996,null,null,5.01,10,4.8299850574712648,null,null,null,2.0177999999999998,1.4217,null,6,"a",10,6.0881999999999996]
[null,10.01,70,null,10.01,70,5.9142000000000001,null,null,10.01,70,4.6989850574712646,null,null,null,1.9081999999999999,1.3939999999999999,null,11,"a",70,5.9142000000000001]
[null,70.010000000000005,1000,null,70.010000000000005,1000,3.9308999999999998,null,null,70.010000000000005,1000,3.2058109195402302,null,null,null,0.65820000000000001,1.0788,null,71,"a",1000,3.9308999999999998]
[null,1000.01,5000,null,1000.01,5000,4.2272999999999996,null,null,1000.01,5000,3.4289626436781617,null,null,null,0.84499999999999997,1.1258999999999999,null,1001,"a",5000,4.2272999999999996]
[null,5000.01,10000,null,5000.01,10000,4.1054000000000004,null,null,5000.01,10000,3.3371873563218397,null,null,null,0.76819999999999999,1.1065,null,5001,"a",10000,4.1054000000000004]
[null,10000.01,25000,null,10000.01,25000,4.0075000000000003,null,null,10000.01,25000,3.2634810344827589,null,null,null,0.70650000000000002,1.091,null,10001,"a",25000,4.0075000000000003]
[null,25000.01,50000,null,25000.01,50000,3.9483999999999999,null,null,25000.01,50000,3.218986206896552,null,null,null,0.66920000000000002,1.0815999999999999,null,25001,"a",50000,3.9483999999999999]
[null,50000.01,100000,null,50000.01,100000,3.8898999999999999,null,null,50000.01,100000,3.1749431034482765,null,null,null,0.63239999999999996,1.0723,null,50001,"a",100000,3.8898999999999999]
[null,100000.01,150000,null,100000.01,150000,3.6897000000000002,null,null,100000.01,150000,3.0242178160919542,null,null,null,0.50619999999999998,1.0405,null,100001,"a",150000,3.6897000000000002]
[null,150000.01,200000,null,150000.01,200000,3.6793999999999998,null,null,150000.01,200000,3.0164632183908049,null,null,null,0.49969999999999998,1.0387999999999999,null,150001,"a",200000,3.6793999999999998]
["Acima de",200000.01,null,null,200000.01,null,3.6686999999999999,null,null,200000.01,null,3.008407471264368,null,null,null,0.4929,1.0370999999999999,null,"Maior que 200.000",null,null,3.6686999999999999]
[]
["Verde TG3: qtd mínima contratada demanda fixa\n"]
["qtd mínima 10 m³/dia","parada programada não tem",null,null,"Faixas consumo diário",null,"Variável","Fixo mensal",null,"Faixas consumo diário",null,"Variável","Fixo mensal",null,null,"Margem","Tributos",null,0,"a",5,7.3719000000000001]
["Industrial",0,5,null,0,5,7.3719000000000001,null,null,0,5,5.7964488505747136,null,{"$f":"G298-(G298*0.12)","v":6.4872719999999999},null,2.8269000000000002,1.6256999999999999,null,6,"a",10,"  5,2203 "]
[null,5.01,10,null,5.01,10,5.2202999999999999,null,null,5.01,10,4.1765660919540242,null,{"$f":"N298-(N298*0.0925)","v":5.8871993399999996},null,1.4708000000000001,1.2837000000000001,null,11,"a",70," 5,0450"]
[null,10.01,70,null,10.01,70,5.0449999999999999,null,null,10.01,70,4.0445873563218404,null,{"$f":"G298-N299","v":1.4847006600000006},null,1.3603000000000001,1.2559,null,71,"a",1000,3.0630000000000002]
[null,70.010000000000005,1000,null,70.010000000000005,1000,3.0630000000000002,null,null,70.010000000000005,1000,2.5523919540229891,null,null,null,0.11119999999999999,0.94089999999999996,null,1001,"a",5000,3.3893]
[null,1000.01,5000,null,1000.01,5000,3.3893,null,null,1000.01,5000,2.7980545977011499,null,null,null,0.31690000000000002,0.99270000000000003,null,5001,"a",10000,3.3408000000000002]
[null,5000.01,10000,null,5000.01,10000,3.3408000000000002,null,null,5000.01,10000,2.7615402298850582,null,null,null,0.2863,0.98499999999999999,null,10001,"a",25000,3.2902999999999998]
[null,10000.01,25000,null,10000.01,25000,3.2902999999999998,null,null,10000.01,25000,2.7235201149425294,null,null,null,0.25440000000000002,0.97699999999999998,null,25001,"a",50000,3.2435999999999998]
[null,25000.01,50000,null,25000.01,50000,3.2435999999999998,null,null,25000.01,50000,2.6882856321839084,null,null,null,0.22500000000000001,0.96950000000000003,null,50001,"a",100000,3.1915]
[null,50000.01,100000,null,50000.01,100000,3.1915,null,null,50000.01,100000,2.6491362068965523,null,null,null,0.19220000000000001,0.96130000000000004,null,100001,"a",150000,3.0255000000000001]
[null,100000.01,150000,null,100000.01,150000,3.0255000000000001,null,null,100000.01,150000,2.5241591954022993,null,null,null,8.7599999999999997E-2,0.93489999999999995,null,150001,"a",200000,3.0154000000000001]
[null,150000.01,200000,null,150000.01,200000,3.0154000000000001,null,null,150000.01,200000,2.5165551724137938,null,null,null,8.1199999999999994E-2,0.93330000000000002,null,"Maior que 200.000",null,null,3.0154000000000001]
["Acima de",200000.01,null,null,200000.01,null,3.0154000000000001,null,null,200000.01,null,2.5165551724137938,null,null,null,8.1199999999999994E-2,0.93330000000000002,null,"Demanda Fixa",null,null,0.7278]
[null,"Demanda Fixa",null,null,"Demanda Fixa",null,0.7278,null,null,"Demanda Fixa",null,0.54794137931034492,null,null,null,0.4587,0.1157,null,"Sobredemanda",null,null,1.7193000000000001]
[null,"Sobredemanda",null,null,"Sobredemanda",null,1.7193000000000001,null,null,"Sobredemanda",null,1.2944155172413796,null,null,null,1.0835999999999999,0.27329999999999999]
[]
[null,null,null,null,null,null,null,null,null,null,null,null,null,null,null,"Margem","Tributos"]
["GNV","Faixa única",null,null,"Faixa única",null,3.4813999999999998,null,null,"Faixa única",null,2.8673189655172417,null,null,null,0.37680000000000002,1.0078]
[]
[]
[null,null,null,null,"https://www.sulgas.com.vc/residencial/tabela-tarifaria"]
["R$/m³","SULGÁS",null,null,"C/ ICMS 12% e PIS/COFINS 9,25%",null,null,null,null,null,null,null,null,"s/ tributos"]
["Faixas consumo mensal",null,null,"Preços Gás","2023-08-09",null,"Variável","Fixo mensal",null,null,null,"Variável","Fixo mensal",null,null,"Margem","Tributos"]
["Residencial",0,300,null,0,300,7.1623000000000001,0,null,0,300,7.1623000000000001,null,{"$f":"G320-(G320*0.12)","v":6.3028240000000002},null,{"$f":"G320-D320-Q320","v":7.1623000000000001},{"$f":"G320-L320","v":0},null,3.3376999999999999,"PV Gás 01/04/22"]
[null,300.01,1500,null,300.01,1500,6.0361000000000002,337.85,null,300.01,1500,6.0361000000000002,null,{"$f":"G321-(G321*0.12)","v":5.3117680000000007},null,{"$f":"G321-D321-Q321","v":6.0361000000000002},{"$f":"G321-L321","v":0},null,3.2658,"custos projetados 2022"]
["Acima de ",1500.01,null,null,1500.01,null,5.4263000000000003,1252.57,null,1500.01,null,5.4263000000000003,null,4.7751440000000001,null,{"$f":"G322-D322-Q322","v":5.4263000000000003},{"$f":"G322-L322","v":0},null,7.1900000000000006E-2,"recuperação conta gráfica 2021"]
["Independente"]
[null,null,null,null,null,null,"Variável","Fixo mensal",null,null,null,"Variável","Fixo mensal",null,null,"Margem","Tributos"]
["Comercial",0,200,null,0,200,5.9737999999999998,106.72,null,0,200,5.9737999999999998,null,{"$f":"G325-(G325*0.12)","v":5.2569439999999998},null,{"$f":"G325-D325-Q325","v":5.9737999999999998},{"$f":"G325-L325","v":0}]
[null,200.01,1500,null,200.01,1500,5.8258000000000001,136.33000000000001,null,200.01,1500,5.8258000000000001,null,5.1267040000000001,null,{"$f":"G326-D326-Q326","v":5.8258000000000001},{"$f":"G326-L326","v":0}]
[null,1500.01,10000,null,1500.01,10000,5.7348999999999997,272.58999999999997,null,1500.01,10000,5.7348999999999997,null,{"$f":"G327-(G327*0.12)","v":5.0467119999999994},null,{"$f":"G327-D327-Q327","v":5.7348999999999997},{"$f":"G327-L327","v":0}]
["Acima de",10000.01,null,null,10000.01,null,4.6234000000000002,11387.89,null,10000.01,null,4.6234000000000002,null,4.0685920000000007,null,{"$f":"G328-D328-Q328","v":4.6234000000000002},{"$f":"G328-L328","v":0}]
["Independente"]
["Faixas consumo diário","industrial firme",null,null,null,null,"Variável","Fixo mensal",null,null,null,"Variável","Fixo mensal",null,null,"Margem","Tributos"]
["Industrial",0,500,null,0,500,3.8010999999999999,0,null,0,500,3.8010999999999999]
[null,500.01,1000,null,500.01,1000,3.2932000000000001,0,null,500.01,1000,3.2932000000000001]
[null,1000.01,5000,null,1000.01,5000,3.2229999999999999,0,null,1000.01,5000,3.2229999999999999]
[null,5000.01,10000,null,5000.01,10000,3.1080999999999999,0,null,5000.01,10000,3.1080999999999999]
[null,10000.01,15000,null,10000.01,15000,3.097,0,null,10000.01,15000,3.097]
[null,15000.01,25000,null,15000.01,25000,3.0207999999999999,0,null,15000.01,25000,3.0207999999999999]
[null,25000.01,50000,null,25000.01,50000,2.9657,0,null,25000.01,50000,2.9657]
[null,50000.01,100000,null,50000.01,100000,2.8875000000000002,0,null,50000.01,100000,2.8875000000000002]
[null,100000.01,200000,null,100000.01,200000,2.7683,0,null,100000.01,200000,2.7683]
[null,200000.01,300000,null,200000.01,300000,2.7515000000000001,0,null,200000.01,300000,2.7515000000000001]
[null,300000.01,400000,null,300000.01,400000,2.7286999999999999,0,null,300000.01,400000,2.7286999999999999]
[null,400000.01,500000,null,400000.01,500000,2.7181999999999999,0,null,400000.01,500000,2.7181999999999999]
[]
[null,null,null,null,null,null,null,null,null,null,null,null,null,null,null,"Margem","Tributos"]
["GNV","Faixa única",null,null,"Faixa única",null,2.8277999999999999,null,null,"Faixa única"]
["No período de 23/06/2022 a 31/12/2022, ficará reduzida a alíquota de PIS/COFINS de 9,25% para 0% para o segmento veicular, conforme a Lei Complementar Federal nº 194 de 23/06/2022."]
[]
[null,null,null,null,"https://www.bahiagas.com.br/gas-natural/tabela-tarifaria"]
["R$/m³","BAHIAGÁS",null,null,"ICMS de 12%, PIS de 1,65% e COFINS de 7,6%"]
["Faixas consumo mensal",null,null,"Preço Gás","2023-11-01",null,"Variável","Fixo mensal",null,null,null,"Variável","Fixo mensal","s/ tributos",null,"Margem","Tributos"]
["Residencial",1,20,null,1,20,5.6555,8.5299999999999994,null,1,20,4.5164999999999997,6.81,null,null,null,{"$f":"G351-L351","v":1.1390000000000002}]
[null,20.010000000000002,100,null,20.010000000000002,100,5.0648999999999997,8.5299999999999994,null,20.010000000000002,100,4.0448000000000004,6.81,null,null,null,{"$f":"G352-L352","v":1.0200999999999993}]
[null,100.01,850,null,100.01,850,4.8048999999999999,8.5299999999999994,null,100.01,850,3.8372000000000002,6.81,null,null,null,{"$f":"G353-L353","v":0.96769999999999978}]
[null,850.01,2500,null,850.01,2500,4.6914999999999996,8.5299999999999994,null,850.01,2500,3.7465999999999999,6.81,null,null,null,{"$f":"G354-L354","v":0.94489999999999963}]
["Acima de ",2500.0100000000002,null,null,2500.0100000000002,null,4.6083999999999996,8.5299999999999994,null,2500.0100000000002,null,3.6802999999999999,6.81,null,null,null,{"$f":"G355-L355","v":0.9280999999999997}]
[]
[null,null,null,null,null,null,"Variável","Fixo mensal",null,null,null,"Variável","Fixo mensal",null,null,"Margem","Tributos"]
["Comercial",1,450,null,1,450,5.8578000000000001,null,null,1,450,4.6779999999999999,null,null,null,null,{"$f":"G358-L358","v":1.1798000000000002}]
[null,450.01,1500,null,450.01,1500,3.6758000000000002,null,null,450.01,1500,2.9355000000000002,null,null,null,null,{"$f":"G359-L359","v":0.74029999999999996}]
[null,1500.01,4500,null,1500.01,4500,3.4912000000000001,null,null,1500.01,4500,2.7881,null,null,null,null,0.70310000000000006]
[null,4500.01,15000,null,4500.01,15000,3.3395999999999999,null,null,4500.01,15000,2.6669999999999998,null,null,null,null,0.67260000000000009]
[null,15000.01,30000,null,15000.01,30000,3.3353000000000002,null,null,15000.01,30000,2.6636000000000002,null,null,null,null,0.67169999999999996]
[null,30000.01,180000,null,30000.01,180000,3.2616999999999998,null,null,30000.01,180000,2.6048,null,null,null,null,0.65689999999999982]
[null,180000.01,360000,null,180000.01,360000,3.2124999999999999,null,null,180000.01,360000,2.5655000000000001,null,null,null,null,0.6469999999999998]
[null,360000.01,600000,null,360000.01,600000,3.1404000000000001,null,null,360000.01,600000,2.5078999999999998,null,null,null,null,0.63250000000000028]
[null,600000.01,1050000,null,600000.01,1050000,3.0912000000000002,null,null,600000.01,1050000,2.4685999999999999,null,null,null,null,0.62260000000000026]
[null,1050000.01,1800000,null,1050000.01,1800000,3.0476000000000001,null,null,1050000.01,1800000,2.4338000000000002,null,null,null,null,0.6137999999999999]
[null,1800000.01,30000000,null,1800000.01,30000000,3.0148999999999999,null,null,1800000.01,30000000,2.4077000000000002,null,null,null,null,0.60719999999999974]
["Acima de",30000000.010000002,null,null,30000000.010000002,null,2.9310999999999998,null,null,30000000.010000002,null,2.3408000000000002,null,null,null,null,0.5902999999999996]
[]
["Faixas consumo diário",null,null,null,null,null,"Variável","Fixo mensal",null,null,null,"Variável","Fixo mensal",null,null,"Margem","Tributos"]
["Industrial",1,15,null,1,15,5.3129,null,null,1,15,4.2428999999999997,null,null,null,null,{"$f":"G372-L372","v":1.0700000000000003}]
[null,15.01,50,null,15.01,50,3.4853000000000001,null,null,15.01,50,2.7833999999999999,null,null,null,null,{"$f":"G373-L373","v":0.70190000000000019}]
[null,50.01,150,null,50.01,150,3.3308,null,null,50.01,150,2.66,null,null,null,null,0.67079999999999984]
[null,150.01,500,null,150.01,500,3.2538999999999998,null,null,150.01,500,2.5985999999999998,null,null,null,null,0.65529999999999999]
[null,500.01,1000,null,500.01,1000,3.2008999999999999,null,null,500.01,1000,2.5562,null,null,null,null,0.64469999999999983]
[null,1000.01,6000,null,1000.01,6000,3.1391,null,null,1000.01,6000,2.5068999999999999,null,null,null,null,0.6322000000000001]
[null,6000.01,12000,null,6000.01,12000,3.1074000000000002,null,null,6000.01,12000,2.4815999999999998,null,null,null,null,0.62580000000000036]
[null,12000.01,20000,null,12000.01,20000,3.0491000000000001,null,null,12000.01,20000,2.4350000000000001,null,null,null,null,0.61410000000000009]
[null,20000.009999999998,35000,null,20000.009999999998,35000,3.0188999999999999,null,null,20000.009999999998,35000,2.4108999999999998,null,null,null,null,0.6080000000000001]
[null,35000.01,60000,null,35000.01,60000,2.9847999999999999,null,null,35000.01,60000,2.3837000000000002,null,null,null,null,0.60109999999999975]
[null,60000.01,400000,null,60000.01,400000,2.9329999999999998,null,null,60000.01,400000,2.3422999999999998,null,null,null,null,0.5907]
[null,400000.01,700000,null,400000.01,700000,2.9037999999999999,null,null,400000.01,700000,2.319,null,null,null,null,0.58479999999999999]
[null,700000.01,1000000,null,700000.01,1000000,2.8801999999999999,null,null,700000.01,1000000,2.3001,null,null,null,null,0.58009999999999984]
["Acima de",1000000.01,null,null,1000000.01,null,2.8620999999999999,null,null,1000000.01,null,2.2856999999999998,null,null,null,null,0.57640000000000002]
[]
[null,null,null,null,null,null,null,null,null,null,null,null,null,null,null,"Margem","Tributos"]
["GNV","Faixa única",null,null,"Faixa única",null,2.9310999999999998,null,null,"Faixa única",null,2.3408000000000002,null,null,null,null,{"$f":"G388-L388","v":0.5902999999999996}]
["No período de 23/06/2022 a 31/12/2022, ficará reduzida a alíquota de PIS/COFINS de 9,25% para 0% para o segmento veicular, conforme a Lei Complementar Federal nº 194 de 23/06/2022."]
[]
[null,null,null,null,"https://www.sergipegas.com.br/wp/tarifas-praticadas/"]
["R$/m³","SERGÁS",null,null,"C/ICMS 18% E PIS/COFINS 9,25%"]
["Faixas consumo mensal",null,null,"Preço Gás","2024-01-01",null,null,null,null,null,null,null,null,"s/ impostos",null,"Margem","Tributos"]
["Residencial","Faixa única",null,null,"Faixa única",null,6.3323,null,null,"Faixa única",null,4.4428000000000001,null,null,null,{"$f":"G394-D394-Q394","v":4.4428000000000001},{"$f":"G394-L394","v":1.8895},null,"Galp"]
[null,null,null,null,null,null,null,null,null,null,null,null,null,null,null,null,null,null,"3,0716/m³"]
["Faixas consumo semanal",null,null,null,null,null,"Variável","Fixo mensal",null,null,null,"Variável","Fixo mensal",null,null,"Margem","Tributos",null,"Proquigel",null,1,600,3.6863000000000001,5.0839999999999996]
["Comercial",1,140,null,1,600,5.0839999999999996,null,null,1,600,3.5377999999999998,null,null,null,{"$f":"G397-Q397-D397","v":3.5377999999999998},{"$f":"G397-L397","v":1.5461999999999998},null,"4,3123/m³",null,601,1500,3.6741000000000001,5.0671999999999997]
[null,140.01,350,null,601,1500,5.0671999999999997,null,null,601,1500,3.5255999999999998,null,null,null,{"$f":"G398-Q398-D398","v":3.5255999999999998},{"$f":"G398-L398","v":1.5415999999999999},null,null,null,1501,3000,3.6053999999999999,4.9725000000000001]
[null,350.01,700,null,1501,3000,4.9725000000000001,null,null,1501,3000,3.4569000000000001,null,null,null,{"$f":"G399-Q399-D399","v":3.4569000000000001},{"$f":"G399-L399","v":1.5156000000000001},null,null,null,3001,9000,3.5636999999999999,4.9149000000000003]
[null,750.01,2100,null,3001,9000,4.9149000000000003,null,null,3001,9000,3.4152,null,null,null,{"$f":"G400-Q400-D400","v":3.4152},{"$f":"G400-L400","v":1.4997000000000003},null,null,null,9001,999999,3.3851,4.6685999999999996]
[null,2100.0100000000002,999999,null,9001,999999,4.6685999999999996,null,null,9001,999999,3.2366000000000001,null,null,null,{"$f":"G401-Q401-D401","v":3.2366000000000001},{"$f":"G401-L401","v":1.4319999999999995}]
[]
["Faixas consumo semanal",null,null,null,null,null,"Variável","Fixo mensal",null,null,null,"Variável","Fixo mensal",null,null,"Margem","Tributos"]
["Industrial",0,70,null,0,70,4.8905000000000003,null,null,0,70,3.609,null,null,null,{"$f":"G404-Q404-D404","v":3.609},{"$f":"G404-L404","v":1.2815000000000003},null,null,null,1,70,3.5949,4.8905000000000003]
[null,70.010000000000005,4500,null,70.010000000000005,4500,4.3144,null,null,70.010000000000005,4500,3.1284999999999998,null,null,null,{"$f":"G405-Q405-D405","v":3.1284999999999998},{"$f":"G405-L405","v":1.1859000000000002},null,null,null,71,4500,3.1714000000000002,4.3144]
[null,4500.01,9000,null,4500.01,9000,4.2283999999999997,null,null,4500.01,9000,3.0568,null,null,null,3.0568,1.1715999999999998,null,null,null,4501,9000,3.1082000000000001,4.2283999999999997]
[null,9000.01,18000,null,9000.01,18000,4.1223000000000001,null,null,9000.01,18000,2.9683000000000002,null,null,null,2.9683000000000002,1.1539999999999999,null,null,null,9001,18000,3.0301999999999998,4.1223000000000001]
[null,18000.009999999998,36000,null,18000.009999999998,36000,4.0404999999999998,null,null,18000.009999999998,36000,2.9001000000000001,null,null,null,2.9001000000000001,1.1403999999999996,null,null,null,18001,36000,2.9701,4.0404999999999998]
[null,36000.01,72000,null,36000.01,72000,3.9980000000000002,null,null,36000.01,72000,2.8645999999999998,null,null,null,2.8645999999999998,1.1334000000000004,null,null,null,36001,72000,2.9388000000000001,3.9980000000000002]
[null,72000.009999999995,144000,null,72000.009999999995,144000,3.9523999999999999,null,null,72000.009999999995,144000,2.8264999999999998,null,null,null,2.8264999999999998,1.1259000000000001,null,null,null,72001,144000,2.9053,3.9523999999999999]
[null,144000.01,288000,null,144000.01,288000,3.8313000000000001,null,null,144000.01,288000,2.7256,null,null,null,2.7256,1.1057000000000001,null,null,null,144001,288000,2.8163,3.8313000000000001]
[null,288000.01,576000,null,288000.01,576000,3.7168999999999999,null,null,288000.01,576000,2.6301000000000001,null,null,null,2.6301000000000001,1.0867999999999998,null,null,null,288001,576000,2.7322000000000002,3.7168999999999999]
[null,576000.01,1152000,null,576000.01,1152000,3.5516999999999999,null,null,576000.01,1152000,2.4923999999999999,null,null,null,2.4923999999999999,1.0592999999999999,null,null,null,576001,1152000,2.6107999999999998,3.5516999999999999]
[null,1000000.01,999999999,null,1000000.01,999999999,3.5070999999999999,null,null,1000000.01,999999999,2.4552,null,null,null,2.4552,1.0518999999999998,null,null,null,1152001,999999999,2.5779999999999998,3.5070999999999999]
[]
[null,null,null,null,null,null,null,null,null,null,null,null,null,null,null,"Margem","Tributos"]
["GNV","Faixa única",null,null,"Faixa única",null,3.6337000000000002,null,null,"Faixa única",null,3.2517,null,null,null,{"$f":"G417-Q417-D417","v":3.2517},{"$f":"G417-L417","v":0.38200000000000012}]
["No período de 23/06/2022 a 31/12/2022, ficará reduzida a alíquota de PIS/COFINS de 9,25% para 0% para o segmento veicular, conforme a Lei Complementar Federal nº 194 de 23/06/2022."]
[]
[null,null,null,null,"https://algas.com.br/gas-natural/gas-residencial/"]
["R$/m³","ALGÁS",null,null,"C/ ICMS 20%, PIS 7,6% E COFINS 1,65%",null,null,null,null,null,null,null,null,"S/ TRIBUTOS"]
["Faixas consumo mensal",null,null,"Preço Gás","2024-01-01",null,"Variável","Fixo mensal",null,null,null,"Variável","Fixo mensal",null,null,"Margem","Tributos","Origem 18/02"]
["Residencial",0,50,null,0,50,7.6803999999999997,null,null,0,50,6.4263000000000003,null,null,null,null,{"$f":"G423-L423","v":1.2540999999999993},1.8636999999999999]
[null,50.01,100,null,50.01,100,6.7537000000000003,null,null,50.01,100,5.5853000000000002,null,null,null,null,{"$f":"G424-L424","v":1.1684000000000001},"Petrobras 01/02"]
[null,100.01,300,null,100.01,300,6.3825000000000003,null,null,100.01,300,5.2484000000000002,null,null,null,null,{"$f":"G425-L425","v":1.1341000000000001},2.339]
["Acima de ",300.01,null,null,300.01,null,6.1264000000000003,null,null,300.01,null,5.016,null,null,null,null,{"$f":"G426-L426","v":1.1104000000000003}]
[]
[null,null,null,null,null,null,"Variável","Fixo mensal",null,null,null,"Variável","Fixo mensal",null,null,"Margem","Tributos"]
["Comercial",0,100,null,0,100,6.0979000000000001,null,null,0,100,4.9901999999999997,null,null,null,null,{"$f":"G429-L429","v":1.1077000000000004}]
[null,100.01,500,null,100.01,500,5.79,null,null,100.01,500,4.7107000000000001,null,null,null,null,1.0792999999999999]
[null,500.01,1000,null,500.01,1000,5.1871999999999998,null,null,500.01,1000,4.1637000000000004,null,null,null,null,1.0234999999999994]
[null,1000.01,1500,null,1000.01,1500,5.0205000000000002,null,null,1000.01,1500,4.0124000000000004,null,null,null,null,1.0080999999999998]
[null,1500.01,3000,null,1500.01,3000,4.5925000000000002,null,null,1500.01,3000,3.6248,null,null,null,null,0.96770000000000023]
["Acima de",3000.01,null,null,3000.01,null,4.3354999999999997,null,null,3000.01,null,3.3908,null,null,null,null,0.94469999999999965]
[]
["Faixas consumo diário",null,null,null,null,null,"Variável","Fixo mensal",null,null,null,"Variável","Fixo mensal",null,null,"Margem","Tributos"]
["Industrial",0,100,null,0,100,3.7542,null,null,0,100,2.8633000000000002,null,null,null,null,{"$f":"G437-L437","v":0.8908999999999998}]
[null,100.01,500,null,100.01,500,3.3490000000000002,null,null,100.01,500,2.4954999999999998,null,null,null,null,{"$f":"G438-L438","v":0.85350000000000037}]
[null,500.01,1000,null,500.01,1000,3.3022999999999998,null,null,500.01,1000,2.4531999999999998,null,null,null,null,0.84909999999999997]
[null,1000.01,5000,null,1000.01,5000,3.2206999999999999,null,null,1000.01,5000,2.3791000000000002,null,null,null,null,0.84159999999999968]
[null,5000.01,10000,null,5000.01,10000,3.0198,null,null,5000.01,10000,2.1968000000000001,null,null,null,null,0.82299999999999995]
[null,10000.01,20000,null,10000.01,20000,2.9807999999999999,null,null,10000.01,20000,2.1614,null,null,null,null,0.81939999999999991]
[null,20000.009999999998,50000,null,20000.009999999998,50000,2.9621,null,null,20000.009999999998,50000,2.1444000000000001,null,null,null,null,0.81769999999999987]
[null,50000.01,100000,null,50000.01,100000,2.9432,null,null,50000.01,100000,2.1273,null,null,null,null,0.81590000000000007]
[null,100000.01,150000,null,100000.01,150000,2.9253,null,null,100000.01,150000,2.1110000000000002,null,null,null,null,0.8142999999999998]
[null,150000.01,200000,null,150000.01,200000,2.9093,null,null,150000.01,200000,2.0964999999999998,null,null,null,null,0.81280000000000019]
["Acima de",200000.01,null,null,200000.01,null,2.8938000000000001,null,null,200000.01,null,2.0823999999999998,null,null,null,null,0.81140000000000034]
[]
[null,null,null,null,null,null,null,null,null,null,null,null,null,null,null,"Margem","Tributos"]
["GNV","Faixa única",null,null,"Faixa única",null,3.4001000000000001,null,null,"Faixa única",null,2.2486999999999999,null,null,null,null,{"$f":"G450-L450","v":1.1514000000000002}]
["No período de 23/06/2022 a 31/12/2022, ficará reduzida a alíquota de PIS/COFINS de 9,25% para 0% para o segmento veicular, conforme a Lei Complementar Federal nº 194 de 23/06/2022."]
[]
[null,null,null,null,"https://novo.copergas.com.br/informacoes/tarifas/",null,null,null,null,"Rever no site as faixas de consumo mensal/diário na agencia reguladora"]
["R$/m³","COPERGÁS",null,null,"ICMS 18% E PIS/COFINS 9,25%",null,null,null,null,null,null,null,null,"S/ tributos"]
["Faixas consumo mensal",null,null,"Preço Gás","2024-01-01",null,"Variável","Fixo mensal",null,"2022-11-01",null,"Variável","Fixo mensal",null,null,"Margem","Tributos","ago a out/22","PG","PM","PT",null,"FAIXA DE USO","TARIFA (R$/M³)","TARIFA (R$/M³)"]
["Residencial",0,30,null,0,30,6.3635999999999999,null,null,0,30,4.5911,null,null,null,2.7765,{"$f":"G456-L456","v":1.7725},"Petrobras",2.8243,2.4285999999999999,0.3957,null,"(m³ / dia)","S/Tributos","C/Tributos"]
[null,30.01,150,null,30.01,150,5.7405999999999997,null,null,30.01,150,4.1416000000000004,null,null,null,1.5952,{"$f":"G457-L457","v":1.5989999999999993},"Shell",2.2949999999999999,1.8948,0.4002,null,"0 a 1.000",2.4988999999999999,3.4636999999999998]
[null,150.01,750,null,150.01,750,5.5736999999999997,null,null,150.01,750,4.0212000000000003,null,null,null,1.2108000000000001,{"$f":"G458-L458","v":1.5524999999999993},"NFE Petrolina",3.8969999999999998,2.5099,1.3871,null,"1.001 a 5.000",2.4754999999999998,3.4312]
[null,750.01,3000,null,750.01,3000,5.3788,null,null,750.01,3000,3.8805999999999998,null,null,null,1.1012999999999999,{"$f":"G459-L459","v":1.4982000000000002},"NFE Garanhus",3.8043,2.5099,1.2944,null,"5.001 a 10.000",2.4634999999999998,3.4146000000000001]
["Acima de ",3000.01,null,null,3000.01,null,5.1426999999999996,null,null,3000.01,null,3.7103000000000002,null,null,null,0.99199999999999999,{"$f":"G460-L460","v":1.4323999999999995},null,"Margem média vigente",null,null,null,"10.001 a 25.000",2.4586000000000001,3.4077999999999999]
[null,null,null,null,null,null,null,null,null,null,null,null,null,null,null,null,null,null,"R$ 0,2472/m³",null,null,null,"25.001 a 50.000",2.4445000000000001,3.3883000000000001]
["Faixas consumo diário",null,null,null,null,null,"Variável","Fixo mensal",null,null,null,"Variável","Fixo mensal",null,null,"Margem","Tributos",null,null,null,null,null,"50.001 a 100.000",2.3969,3.3222999999999998]
["Industrial e Comercial",0,1000,null,0,1000,3.4636999999999998,null,null,0,1000,2.4889999999999999,null,null,null,0.29430000000000001,{"$f":"G463-L463","v":0.9746999999999999},null,null,null,null,null,"100.001 a 125.000",2.3773,3.2951000000000001]
["Grande Usuário ",1000.01,5000,null,1000.01,5000,3.4312,null,null,1000.01,5000,2.4754999999999998,null,null,null,0.27650000000000002,{"$f":"G464-L464","v":0.95570000000000022},null,null,null,null,null,"125.001 a 150.000",2.3290999999999999,3.2282999999999999]
["acima de 500 m³/dia",5000.01,10000,null,5000.01,10000,3.4146000000000001,null,null,5000.01,10000,2.4634999999999998,null,null,null,0.26290000000000002,0.95110000000000028,null,null,null,null,null,"150.001 a 175.000",2.2841999999999998,3.1661000000000001]
[null,10000.01,25000,null,10000.01,25000,3.4077999999999999,null,null,10000.01,25000,2.4586000000000001,null,null,null,0.25629999999999997,0.94919999999999982,null,null,null,null,null,"175.001 a 200.000",2.2722000000000002,3.1494]
[null,25000.01,50000,null,25000.01,50000,3.3883000000000001,null,null,25000.01,50000,2.4445000000000001,null,null,null,0.24349999999999999,0.94379999999999997,null,null,null,null,null,"200.001 a 225.000",2.2703000000000002,3.1467999999999998]
[null,50000.01,100000,null,50000.01,100000,3.3222999999999998,null,null,50000.01,100000,2.3969,null,null,null,0.21310000000000001,0.92539999999999978,null,null,null,null,null,"acima de 225.000",2.2688999999999999,3.1448999999999998]
[null,100000.01,125000,null,100000.01,125000,3.2951000000000001,null,null,100000.01,125000,2.3773,null,null,null,0.1973,0.91780000000000017]
[null,125000.01,150000,null,125000.01,150000,3.2282999999999999,null,null,125000.01,150000,2.3290999999999999,null,null,null,0.1547,0.8992,null,null,null,null,null,"(m³ / mês)","S/Tributos","C/Tributos"]
[null,150000.01,175000,null,150000.01,175000,3.1661000000000001,null,null,150000.01,175000,2.2841999999999998,null,null,null,9.9400000000000002E-2,0.88190000000000035,null,null,null,null,null,"0 a 30",4.5911,6.3635999999999999]
[null,175000.01,200000,null,175000.01,200000,3.1494,null,null,175000.01,200000,2.2722000000000002,null,null,null,9.5600000000000004E-2,0.87719999999999976,null,null,null,null,null,"31 a 150",4.1416000000000004,5.7405999999999997]
[null,200000.01,225000,null,200000.01,225000,3.1467999999999998,null,null,200000.01,225000,2.2703000000000002,null,null,null,9.4200000000000006E-2,0.87649999999999961,null,null,null,null,null,"151 a 750",4.0212000000000003,5.5736999999999997]
["Acima de",225000.01,null,null,225000.01,null,3.1448999999999998,null,null,225000.01,null,2.2688999999999999,null,null,null,9.3100000000000002E-2,{"$f":"G474-L474","v":0.87599999999999989},null,null,null,null,null,"751 a 3.000",3.8805999999999998,5.3788]
[null,null,null,null,null,null,null,null,null,null,null,null,null,null,null,null,null,null,null,null,null,null,"acima de 3.000",3.7103000000000002,5.1426999999999996]
["Faixas consumo diário",null,null,null,null,null,"Variável","Fixo mensal",null,null,null,"Variável","Fixo mensal",null,null,"Margem","Tributos"]
["Industrial",0,1000,null,0,1000,null,null,null,0,1000,null,null,null,null,0.19750000000000001,{"$f":"G477-L477","v":0},null,null,null,null,null,"(m³ / mês)","S/Tributos","C/Tributos"]
["PGN Norte",1000.01,5000,null,1000.01,5000,null,null,null,1000.01,5000,null,null,null,null,0.19370000000000001,{"$f":"G478-L478","v":0},null,null,null,null,null,"0 a 30",5.8383000000000003,8.0922999999999998]
[null,5000.01,10000,null,5000.01,10000,null,null,null,5000.01,10000,null,null,null,null,0.1867,0,null,null,null,null,null,"31 a 150",3.9622000000000002,5.4919000000000002]
[null,10000.01,25000,null,10000.01,25000,null,null,null,10000.01,25000,null,null,null,null,0.18329999999999999,0,null,null,null,null,null,"151 a 3.000",3.4228999999999998,4.7443999999999997]
[null,25000.01,50000,null,25000.01,50000,null,null,null,25000.01,50000,null,null,null,null,0.17660000000000001,0,null,null,null,null,null,"3.001 a 9.000",3.3976999999999999,4.7095000000000002]
[null,50000.01,100000,null,50000.01,100000,null,null,null,50000.01,100000,null,null,null,null,0.1389,0,null,null,null,null,null,"9.001 a 9.999.999",3.3731,4.6753999999999998]
[null,100000.01,125000,null,100000.01,125000,null,null,null,100000.01,125000,null,null,null,null,0.12529999999999999,0]
[null,125000.01,150000,null,125000.01,150000,null,null,null,125000.01,150000,null,null,null,null,0.1196,0]
[null,150000.01,175000,null,150000.01,175000,null,null,null,150000.01,175000,null,null,null,null,8.5400000000000004E-2,0]
[null,175000.01,200000,null,175000.01,200000,null,null,null,175000.01,200000,null,null,null,null,8.3400000000000002E-2,0]
[null,200000.01,225000,null,200000.01,225000,null,null,null,200000.01,225000,null,null,null,null,8.2699999999999996E-2,0]
["Acima de",225000.01,null,null,225000.01,null,null,null,null,225000.01,null,null,null,null,null,8.2100000000000006E-2,0]
[]
["Faixas consumo mensal",null,null,null,null,null,"Variável","Fixo mensal",null,null,null,"Variável","Fixo mensal",null,null,"Margem","Tributos"]
["Industrial e Comercial",0,30,null,0,30,8.0922999999999998,null,null,0,30,5.8383000000000003,null,null,null,3.5529000000000002,{"$f":"G491-L491","v":2.2539999999999996}]
["Consumo Convencional",30.01,150,null,30.01,150,5.4919000000000002,null,null,30.01,150,3.9622000000000002,null,null,null,1.83,{"$f":"G492-L492","v":1.5297000000000001}]
["abaixo de 500 m³/dia",150.01,3000,null,150.01,3000,4.7443999999999997,null,null,150.01,3000,3.4228999999999998,null,null,null,0.91900000000000004,{"$f":"G493-L493","v":1.3214999999999999}]
[null,3000.01,9000,null,3000.01,9000,4.7095000000000002,null,null,3000.01,9000,3.3976999999999999,null,null,null,0.91310000000000002,{"$f":"G494-L494","v":1.3118000000000003}]
["Acima de",9000.01,null,null,9000.01,null,4.6753999999999998,null,null,9000.01,null,3.3731,null,null,null,0.80400000000000005,{"$f":"G495-L495","v":1.3022999999999998}]
[]
[]
[null,null,null,null,null,null,null,null,null,null,null,null,null,null,null,"Margem","Tributos"]
["Industrial","Faixa única",null,null,"Faixa única",null,3.2938999999999998,null,null,"Faixa única",null,2.3763999999999998,null,null,null,{"$f":"L499-D499","v":2.3763999999999998},{"$f":"G499-L499","v":0.91749999999999998}]
["Para fins GNC"]
[]
[]
[null,null,null,null,null,null,null,null,null,null,null,null,null,null,null,"Margem","Tributos"]
["Industrial","Faixa única",null,null,"Faixa única",null,3.0859999999999999,null,null,"Faixa única",null,2.2263999999999999,null,null,null,{"$f":"L504-D504","v":2.2263999999999999},{"$f":"G504-L504","v":0.85959999999999992}]
["(POLO GESSEIRO DO ARARIPE)"]
["Para fins GNC"]
[]
[null,null,null,null,null,null,null,null,null,null,null,null,null,null,null,"Margem","Tributos"]
["GNV","Faixa única",null,null,"Faixa única",null,3.15,null,null,"Faixa única",null,2.3763999999999998,null,null,null,0.20499999999999999,{"$f":"G509-L509","v":0.77360000000000007}]
["As tarifas de fornecimento para o segmento de uso Veicular (GNV/GNC) incidem impostos de 12% de ICMS conforme Lei 14.956/2013 e 9,25% de PIS/COFINS."]
[]
[null,null,null,null,"https://pbgas.com.br/tarifas/"]
["R$/m³","PBGÁS",null,null,"C/ IMPOSTOS"]
["Faixas consumo mensal",null,null,"Preço Gás","2024-01-01",null,"Variável","Fixo mensal",null,null,null,"Variável","Fixo mensal","S/ IMPOSTOS",null,"Margem","Tributos"]
["Residencial",0,20,null,0,20,126.98,null,null,0,20,105.86,null,null,null,null,{"$f":"G515-L515","v":21.120000000000005}]
["(Faixa única) Acima de ",20.010000000000002,null,null,20.010000000000002,null,6.3487,null,null,20.010000000000002,null,5.2927999999999997,null,null,null,null,{"$f":"G516-L516","v":1.0559000000000003}]
[]
["Faixas consumo mensal",null,null,null,null,null,"Variável","Fixo mensal",null,null,null,"Variável","Fixo mensal",null,null,"Margem","Tributos"]
["Comercial",0,20,null,0,20,128.71,null,null,0,20,104.74,null,null,null,null,{"$f":"G519-L519","v":23.970000000000013},null,null,"Consumo Mínimo",0,20,128.71,108.19]
[null,20.010000000000002,100,null,20.010000000000002,100,6.4352999999999998,null,null,20.010000000000002,100,5.2370000000000001,null,null,null,null,{"$f":"G520-L520","v":1.1982999999999997},null,null,1,20,100,6.4352999999999998,5.4092000000000002]
[null,100.01,400,null,100.01,400,5.8922999999999996,null,null,100.01,400,4.7443,null,null,null,null,1.1479999999999997,null,null,2,100,400,5.8922999999999996,4.9165000000000001]
[null,400.01,800,null,400.01,800,5.1512000000000002,null,null,400.01,800,4.0716999999999999,null,null,null,null,1.0795000000000003,null,null,3,400,800,5.1512000000000002,4.2439]
[null,800.01,1600,null,800.01,1600,4.6420000000000003,null,null,800.01,1600,3.6095999999999999,null,null,null,null,1.0324000000000004,null,null,4,800,1600,4.6420000000000003,3.7818000000000001]
[null,1600.01,6000,null,1600.01,6000,4.4385000000000003,null,null,1600.01,6000,3.4249000000000001,null,null,null,null,1.0136000000000003,null,null,5,1600,6000,4.4385000000000003,3.5971000000000002]
[null,6000.01,12000,null,6000.01,12000,4.2469000000000001,null,null,6000.01,12000,3.2511000000000001,null,null,null,null,0.99580000000000002,null,null,6,6000,12000,4.2469000000000001,3.4232999999999998]
["Acima de",12000.01,null,null,12000.01,null,3.9855999999999998,null,null,12000.01,null,3.0139,null,null,null,null,0.97169999999999979,null,null,7,12000,"-",3.9855999999999998,3.1861000000000002]
[]
["Faixas consumo semanal",null,null,null,null,null,"Variável","Fixo mensal",null,null,null,"Variável","Fixo mensal",null,null,"Margem","Tributos"]
["Industrial",0,700,null,0,700,4.9383999999999997,null,null,0,700,3.7696000000000001,null,null,null,null,{"$f":"G529-L529","v":1.1687999999999996},null,null,1,0,700,4.9383999999999997,4.0507999999999997]
[null,700.01,3500,null,700.01,3500,4.3674999999999997,null,null,700.01,3500,3.2982,null,null,null,null,{"$f":"G530-L530","v":1.0692999999999997},null,null,2,700,3500,4.3674999999999997,3.5327000000000002]
[null,3500.01,7000,null,3500.01,7000,4.0137,null,null,3500.01,7000,3.0394000000000001,null,null,null,null,0.97429999999999994,null,null,3,3500,7000,4.0137,3.2115999999999998]
[null,7000.01,21000,null,7000.01,21000,3.9110999999999998,null,null,7000.01,21000,2.9462999999999999,null,null,null,null,0.96479999999999988,null,null,4,7000,21000,3.9110999999999998,3.1185]
[null,21000.01,70000,null,21000.01,70000,3.8464,null,null,21000.01,70000,2.8875999999999999,null,null,null,null,0.9588000000000001,null,null,5,21000,70000,3.8464,3.0598000000000001]
[null,70000.009999999995,105000,null,70000.009999999995,105000,3.7913000000000001,null,null,70000.009999999995,105000,2.8376000000000001,null,null,null,null,0.95369999999999999,null,null,6,70000,105000,3.7913000000000001,3.0097999999999998]
[null,105000.01,210000,null,105000.01,210000,3.7233000000000001,null,null,105000.01,210000,2.7759,null,null,null,null,0.94740000000000002,null,null,7,105000,210000,3.7233000000000001,2.9481000000000002]
[null,210000.01,350000,null,210000.01,350000,3.6779999999999999,null,null,210000.01,350000,2.7347999999999999,null,null,null,null,0.94320000000000004,null,null,8,210000,350000,3.6779999999999999,2.907]
[null,350000.01,700000,null,350000.01,700000,3.5758999999999999,null,null,350000.01,700000,2.6421000000000001,null,null,null,null,0.93379999999999974,null,null,9,350000,700000,3.5758999999999999,2.8142999999999998]
[null,700000.01,840000,null,700000.01,840000,3.4769999999999999,null,null,700000.01,840000,2.5524,null,null,null,null,0.92459999999999987,null,null,10,700000,840000,3.4769999999999999,2.7246000000000001]
[null,840000.01,1400000,null,840000.01,1400000,3.4039999999999999,null,null,840000.01,1400000,2.4861,null,null,null,null,0.91789999999999994,null,null,11,840000,1400000,3.4039999999999999,2.6583000000000001]
["Acima de",1400000.01,null,null,1400000.01,null,3.3816000000000002,null,null,1400000.01,null,2.4658000000000002,null,null,null,null,0.91579999999999995,null,null,12,1400000,"-",3.3816000000000002,2.6379999999999999]
[]
[null,null,null,null,null,null,null,null,null,null,null,null,null,null,null,"Margem","Tributos"]
["GNV","Faixa única",null,null,"Faixa única",null,3.6133999999999999,null,null,"Faixa única",null,2.4996,null,null,null,null,{"$f":"G543-L543","v":1.1137999999999999}]
["No período de 23/06/2022 a 31/12/2022, ficará reduzida a alíquota de PIS/COFINS de 9,25% para 0% para o segmento veicular, conforme a Lei Complementar Federal nº 194 de 23/06/2022."]
[null,null,null,null,"https://www.arsep.rn.gov.br/2022/website2/legislacao/resolucoes-ordinarias"]
[null,null,null,null,"Potigás – Companhia Potiguar de Gás (potigas.com.br)"]
["R$/m³","POTIGÁS",null,null,"C/ ICMS 20% E PIS/COFINS 9,25%",null,null,null,null,null,null,null,null,"S/ IMPOSTOS"]
["Faixas consumo mensal",null,null,"Preço Gás","2023-10-01",null,null,null,null,null,null,null,null,null,null,"Margem","Tributos"]
["Residencial","Faixa única",null,null,"Faixa única",null,5.7933000000000003,null,null,"Faixa única",null,3.8007,null,null,null,null,{"$f":"G549-L549","v":1.9926000000000004}]
[]
[null,null,null,null,null,null,"Variável","Fixo mensal",null,null,null,"Variável","Fixo mensal",null,null,"Margem","Tributos",null,"Níveis de Consumo (m³/mês)","Tarifa sem imposto em R$/m³","Tarifa com imposto em R$/m³"]
["Comercial",0,16,null,0,16,null,99.296099999999996,null,0,16,null,65.724800000000002,null,null,null,{"$f":"G552-L552","v":0},null,"De 17 a 150 m³/mês",4.6181999999999999,6.2060000000000004]
[null,16.010000000000002,150,null,16.010000000000002,150,6.2060000000000004,null,null,16.010000000000002,150,4.1078000000000001,null,null,null,null,2.0982000000000003,null,"De 151 a 450 m³/mês",3.9235000000000002,5.2724000000000002]
[null,150.01,450,null,150.01,450,5.2724000000000002,null,null,150.01,450,3.4131,null,null,null,null,1.8593000000000002,null,"De 451 a 3.000 m³/mês",3.4903,4.6904000000000003]
[null,450.01,3000,null,450.01,3000,4.6904000000000003,null,null,450.01,3000,2.9799000000000002,null,null,null,null,1.7105000000000001,null,"De 3.001 a 15.000 m³/mês",3.2801,4.4077999999999999]
[null,3000.01,15000,null,3000.01,15000,4.4077999999999999,null,null,3000.01,15000,2.7696999999999998,null,null,null,null,1.6381000000000001,null,"Acima de 15.000 m³/mês",3.2141999999999999,4.3193000000000001]
["Acima de",15000.01,null,null,15000.01,null,4.3193000000000001,null,null,15000.01,null,2.7038000000000002,null,null,null,null,1.6154999999999999]
[]
["Faixas consumo diário",null,null,null,null,null,"Variável","Fixo mensal",null,null,null,"Variável","Fixo mensal",null,null,"Margem","Tributos",null,null,"Níveis de Consumo (m³/mês)","Tarifa sem imposto em R$/m³","Tarifa com imposto em R$/m³"]
["Industrial",0,1000,null,0,1000,4.2329999999999997,null,null,0,1000,2.6396000000000002,null,null,null,null,{"$f":"G560-L560","v":1.5933999999999995},null,null,"ATÉ 1.000 M³/DIA",3.15,4.2329999999999997]
[null,1000.01,5000,null,1000.01,5000,4.1276999999999999,null,null,1000.01,5000,2.5611999999999999,null,null,null,null,{"$f":"G561-L561","v":1.5665},null,null,"DE 1.001 A 5.000 M³/DIA",3.0716000000000001,4.1276999999999999]
[null,5000.01,10000,null,5000.01,10000,4.0129000000000001,null,null,5000.01,10000,2.4758,null,null,null,null,1.5371000000000001,null,null,"DE 5.001 A 10.000 M³/DIA",2.9862000000000002,4.0129000000000001]
[null,10000.01,25000,null,10000.01,25000,3.9066000000000001,null,null,10000.01,25000,2.3967000000000001,null,null,null,null,1.5099,null,null,"DE 10.001 A 25.000 M³/DIA",2.9070999999999998,3.9066000000000001]
[null,25000.01,50000,null,25000.01,50000,3.7709000000000001,null,null,25000.01,50000,2.2957000000000001,null,null,null,null,1.4752000000000001,null,null,"DE 25.001 A 50.000 M³/DIA",2.8060999999999998,3.7709000000000001]
[null,50000.01,100000,null,50000.01,100000,3.6297999999999999,null,null,50000.01,100000,2.1907000000000001,null,null,null,null,1.4390999999999998,null,null,"DE 50.001 A 100.000 M³/DIA",2.7010999999999998,3.6297999999999999]
[null,100000.01,200000,null,100000.01,200000,3.4333,null,null,100000.01,200000,2.0445000000000002,null,null,null,null,1.3887999999999998,null,null,"DE 100.001 A 200.000 M³/DIA",2.5548999999999999,3.4333]
[null,200000.01,400000,null,200000.01,400000,3.2364999999999999,null,null,200000.01,400000,1.8979999999999999,null,null,null,null,1.3385,null,null,"DE 200.001 A 400.000 M³/DIA",2.4083999999999999,3.2364999999999999]
["Acima de",400000.01,null,null,400000.01,null,3.1494,null,null,400000.01,null,1.8331999999999999,null,null,null,null,1.3162,null,null,"ACIMA DE 400.000 M³/DIA",2.3435999999999999,3.1494]
[null,null,null,null,"C/ ICMS 12% E PIS/COFINS 9,25%"]
["Faixas consumo diário",null,null,null,null,null,"Variável","Fixo mensal",null,null,null,"Variável","Fixo mensal",null,null,"Margem","Tributos",null,"Níveis de Consumo (m³/mês)","Tarifa sem imposto em R$/m³","Tarifa com imposto em R$/m³"]
["Industrial",0,1000,null,0,1000,3.9443999999999999,null,null,0,1000,2.6396000000000002,null,null,null,null,{"$f":"G571-L571","v":1.3047999999999997},null,"Até 1.000 m³/dia",3.15,3.9443999999999999]
[null,1000.01,5000,null,1000.01,5000,3.8462000000000001,null,null,1000.01,5000,2.5611999999999999,null,null,null,null,{"$f":"G572-L572","v":1.2850000000000001},null,"De 1.001 a 5.000 m³/dia",3.0716000000000001,3.8462000000000001]
[null,5000.01,10000,null,5000.01,10000,3.7393000000000001,null,null,5000.01,10000,2.4758,null,null,null,null,1.2635000000000001,null,"De 5.001 a 10.000 m³/dia",2.9862000000000002,3.7393000000000001]
[null,10000.01,25000,null,10000.01,25000,3.6402000000000001,null,null,10000.01,25000,2.3967000000000001,null,null,null,null,1.2435,null,"De 10.001 a 25.000 m³/dia",2.9070999999999998,3.6402000000000001]
[null,25000.01,50000,null,25000.01,50000,3.5137999999999998,null,null,25000.01,50000,2.2957000000000001,null,null,null,null,1.2180999999999997,null,"De 25.001 a 50.000 m³/dia",2.8060999999999998,3.5137999999999998]
[null,50000.01,100000,null,50000.01,100000,3.3822999999999999,null,null,50000.01,100000,2.1907000000000001,null,null,null,null,1.1915999999999998,null,"De 50.001 a 100.000 m³/dia",2.7010999999999998,3.3822999999999999]
[null,100000.01,200000,null,100000.01,200000,3.1991999999999998,null,null,100000.01,200000,2.0445000000000002,null,null,null,null,1.1546999999999996,null,"De 100.001 a 200.000 m³/dia",2.5548999999999999,3.1991999999999998]
[null,200000.01,400000,null,200000.01,400000,3.0158,null,null,200000.01,400000,1.8979999999999999,null,null,null,null,1.1178000000000001,null,"De 200.001 a 400.000 m³/dia",2.4083999999999999,3.0158]
["Acima de",400000.01,null,null,400000.01,null,2.9346999999999999,null,null,400000.01,null,1.8331999999999999,null,null,null,null,1.1014999999999999,null,"Acima de 400.000 m³/dia",2.3435999999999999,2.9346999999999999]
["Gás com ICMS Incentivado para as empresas detentoras do regime especial, conforme o Decreto nº 31.280 de 16/02/2022."]
[null,null,null,null,null,null,null,null,null,null,null,null,null,null,null,"Margem","Tributos"]
["GNV","Faixa única",null,null,"Faixa única",null,3.6932,null,null,"Faixa única",null,3.0825,null,null,null,null,{"$f":"G582-L582","v":0.61070000000000002}]
["No período de 23/06/2022 a 31/12/2022, ficará reduzida a alíquota de PIS/COFINS de 9,25% para 0% para o segmento veicular, conforme a Lei Complementar Federal nº 194 de 23/06/2022."]
[]
[null,null,null,null,"https://www.cegas.com.br/tabela-de-tarifas-atual-3/"]
["R$/m³","CEGÁS",null,null,"C/ TRIBUTOS",null,null,null,null,null,null,null,null,"S/ TRIBUTOS"]
["Faixas consumo mensal",null,null,"Preço Gás","2024-01-01",null,"Variável","Fixo mensal",null,null,null,"Variável","Fixo mensal",null,null,"Margem","Tributos"]
["Residencial",0,20,null,0,20,null,89.62,null,0,20,null,null,null,null,null,null,"0,5866/m³",2,"21 a 5.000",3.2534000000000001,null,4.4812000000000003]
[null,20.010000000000002,5000,null,20.010000000000002,5000,4.4812000000000003,89.62,null,20.010000000000002,5000,3.3347000000000002,null,null,null,null,{"$f":"G589-L589","v":1.1465000000000001},"margem bruta distribuição",3,"5.001 a 10.000",2.9649999999999999,null,4.0839999999999996]
[null,5000.01,10000,null,5000.01,10000,4.0839999999999996,89.62,null,5000.01,10000,3.0424000000000002,null,null,null,null,1.0415999999999994,"2022-01-18",4,"10.001 a 12.000",2.9596,null,4.0766]
[null,10000.01,12000,null,10000.01,12000,4.0766,89.62,null,10000.01,12000,3.0369000000000002,null,null,null,null,1.0396999999999998,null,5,"12.001 a 14.000",2.9540999999999999,null,4.069]
[null,12000.01,14000,null,12000.01,14000,4.069,89.62,null,12000.01,14000,3.0314000000000001,null,null,null,null,1.0375999999999999,null,6,"14.001 a 16.000",2.9485000000000001,null,4.0613000000000001]
[null,14000.01,16000,null,14000.01,16000,4.0613000000000001,89.62,null,14000.01,16000,3.0257000000000001,null,null,null,null,1.0356000000000001,null,7,"acima de 16.001",2.9432,null,4.0540000000000003]
["Acima de ",16000.01,null,null,16000.01,null,4.0540000000000003,89.62,null,16000.01,null,3.0203000000000002,null,null,null,null,1.0337000000000001]
[]
[null,null,null,null,null,null,"Variável","Fixo mensal",null,null,null,"Variável","Fixo mensal",null,null,"Margem","Tributos"]
["Comercial",0,20,null,0,20,null,89.48,null,0,20,null,null,null,null,null,null,null,2,"21 a 5.000",3.2482000000000002,null,4.4741]
[null,20.010000000000002,5000,null,20.010000000000002,5000,4.4741,89.48,null,20.010000000000002,5000,3.3294000000000001,null,null,null,null,{"$f":"G598-L598","v":1.1446999999999998},null,3,"5.001 a 10.000",2.9599000000000002,null,4.077]
[null,5000.01,10000,null,5000.01,10000,4.077,89.48,null,5000.01,10000,3.0371000000000001,null,null,null,null,1.0398999999999998,null,4,"10.001 a 12.000",2.9544999999999999,null,4.0694999999999997]
[null,10000.01,12000,null,10000.01,12000,4.0694999999999997,89.48,null,10000.01,12000,3.0316000000000001,null,null,null,null,1.0378999999999996,null,5,"12.001 a 14.000",2.9489999999999998,null,4.0620000000000003]
[null,12000.01,14000,null,12000.01,14000,4.0620000000000003,89.48,null,12000.01,14000,3.0261,null,null,null,null,1.0359000000000003,null,6,"14.001 a 16.000",2.9434999999999998,null,4.0542999999999996]
[null,14000.01,16000,null,14000.01,16000,4.0542999999999996,89.48,null,14000.01,16000,3.0205000000000002,null,null,null,null,1.0337999999999994,null,7,"acima de 16.001",2.9380000000000002,null,4.0468999999999999]
["Acima de",16000.01,null,null,16000.01,null,4.0468999999999999,89.48,null,16000.01,null,3.0148999999999999,null,null,null,null,1.032]
[]
["Faixas consumo diário",null,null,null,null,null,"Variável","Fixo mensal",null,null,null,"Variável","Fixo mensal",null,null,"Margem","Tributos"]
["Industrial",0,200,null,0,200,4.7664999999999997,null,null,0,200,3.4904999999999999,null,null,null,null,{"$f":"G606-L606","v":1.2759999999999998},null,1,"1 a 200",3.4605000000000001,4.7664999999999997]
[null,200.01,1000,null,200.01,1000,4.6833,null,null,200.01,1000,3.43,null,null,null,null,1.2532999999999999,null,2,"201 a 1.000",3.4,4.6833]
[null,1000.01,10000,null,1000.01,10000,4.5538999999999996,null,null,1000.01,10000,3.3361000000000001,null,null,null,null,1.2177999999999995,null,3,"1.001 a 10.000",3.3060999999999998,4.5538999999999996]
[null,10000.01,30000,null,10000.01,30000,4.2523,null,null,10000.01,30000,3.1172,null,null,null,null,1.1351,null,4,"10.001 a 30.000",3.0872000000000002,4.2523]
[null,30000.01,60000,null,30000.01,60000,4.2153999999999998,null,null,30000.01,60000,3.0903,null,null,null,null,1.1250999999999998,null,5,"30.001 a 60.000",3.0604,4.2153999999999998]
["Acima de",60000.01,null,null,60000.01,null,4.1802999999999999,null,null,60000.01,null,3.0649000000000002,null,null,null,null,1.1153999999999997,null,6,"acima de 60.001",3.0348999999999999,4.1802999999999999]
[]
[null,null,null,null,null,null,null,null,null,null,null,"Variável","Fixo mensal",null,null,"Margem","Tributos"]
["GNV","Faixa única",null,null,"Faixa única",null,4.1022999999999996,null,null,"Faixa única",null,2.6008]
["No período de 23/06/2022 a 31/12/2022, ficará reduzida a alíquota de PIS/COFINS de 9,25% para 0% para o segmento veicular, conforme a Lei Complementar Federal nº 194 de 23/06/2022."]
[]
[null,null,null,null,"http://www.agrespi.pi.gov.br/"]
["R$/m³","GASPISA"]
["Faixas consumo mensal","PIAIUÍ",null,"Preço Gás","NÃO TEM PREÇO",null,"Variável","Fixo mensal",null,null,null,"Variável","Fixo mensal",null,null,"Margem","Tributos"]
["Residencial",0,1,null,0,1,null,null,null,0,1]
[null,1.01,3,null,1.01,3,null,null,null,1.01,3]
[null,3.01,7,null,3.01,7,null,null,null,3.01,7]
[null,7.01,14,null,7.01,14,null,null,null,7.01,14]
[null,14.01,34,null,14.01,34,null,null,null,14.01,34]
[null,34.01,600,null,34.01,600,null,null,null,34.01,600]
[null,600.01,1000,null,600.01,1000,null,null,null,600.01,1000]
["Acima de ",1000.01,null,null,1000.01,null,null,null,null,1000.01]
[]
[null,null,null,null,null,null,"Variável","Fixo mensal",null,null,null,"Variável","Fixo mensal",null,null,"Margem","Tributos"]
["Comercial",0,0,null,0,0,null,null,null,0,0]
[null,0.01,50,null,0.01,50,null,null,null,0.01,50]
[null,50.01,150,null,50.01,150,null,null,null,50.01,150]
[null,150.01,500,null,150.01,500,null,null,null,150.01,500]
[null,500.01,2000,null,500.01,2000,null,null,null,500.01,2000]
[null,2000.01,3500,null,2000.01,3500,null,null,null,2000.01,3500]
[null,3500.01,50000,null,3500.01,50000,null,null,null,3500.01,50000]
["Acima de",50000.01,null,null,50000.01,null,null,null,null,50000.01]
[]
[null,null,null,null,null,null,"Variável","Fixo mensal",null,null,null,"Variável","Fixo mensal",null,null,"Margem","Tributos"]
["Industrial",0,50000,null,0,50000,null,null,null,0,50000]
[null,50000.01,300000,null,50000.01,300000,null,null,null,50000.01,300000]
[null,300000.01,500000,null,300000.01,500000,null,null,null,300000.01,500000]
[null,500000.01,1000000,null,500000.01,1000000,null,null,null,500000.01,1000000]
[null,1000000.01,2000000,null,1000000.01,2000000,null,null,null,1000000.01,2000000]
["Acima de",2000000.01,null,null,2000000.01,null,null,null,null,2000000.01]
[]
[null,null,null,null,null,null,null,null,null,null,null,"Variável","Fixo mensal",null,null,"Margem","Tributos"]
["GNV","Faixa única",null,null,"Faixa única",null,null,null,null,"Faixa única"]
["No período de 23/06/2022 a 31/12/2022, ficará reduzida a alíquota de PIS/COFINS de 9,25% para 0% para o segmento veicular, conforme a Lei Complementar Federal nº 194 de 23/06/2022."]
[]
[null,null,null,null,"https://mob.ma.gov.br/programas-ou-campanhas/gas-e-saneamento"]
["R$/m³","GASMAR"]
["Faixas consumo mensal","MARANHÃO",null,"Preço Gás","NÃO TEM PREÇO",null,"Variável","Fixo mensal",null,null,null,"Variável","Fixo mensal",null,null,"Margem","Tributos"]
["Residencial",0,1,null,0,1,null,null,null,0,1]
[null,1.01,3,null,1.01,3,null,null,null,1.01,3]
[null,3.01,7,null,3.01,7,null,null,null,3.01,7]
[null,7.01,14,null,7.01,14,null,null,null,7.01,14]
[null,14.01,34,null,14.01,34,null,null,null,14.01,34]
[null,34.01,600,null,34.01,600,null,null,null,34.01,600]
[null,600.01,1000,null,600.01,1000,null,null,null,600.01,1000]
["Acima de ",1000.01,null,null,1000.01,null,null,null,null,1000.01]
[]
[null,null,null,null,null,null,"Variável","Fixo mensal",null,null,null,"Variável","Fixo mensal",null,null,"Margem","Tributos"]
["Comercial",0,0,null,0,0,null,null,null,0,0]
[null,0.01,50,null,0.01,50,null,null,null,0.01,50]
[null,50.01,150,null,50.01,150,null,null,null,50.01,150]
[null,150.01,500,null,150.01,500,null,null,null,150.01,500]
[null,500.01,2000,null,500.01,2000,null,null,null,500.01,2000]
[null,2000.01,3500,null,2000.01,3500,null,null,null,2000.01,3500]
[null,3500.01,50000,null,3500.01,50000,null,null,null,3500.01,50000]
["Acima de",50000.01,null,null,50000.01,null,null,null,null,50000.01]
[]
[null,null,null,null,null,null,"Variável","Fixo mensal",null,null,null,"Variável","Fixo mensal",null,null,"Margem","Tributos"]
["Industrial",0,50000,null,0,50000,null,null,null,0,50000]
[null,50000.01,300000,null,50000.01,300000,null,null,null,50000.01,300000]
[null,300000.01,500000,null,300000.01,500000,null,null,null,300000.01,500000]
[null,500000.01,1000000,null,500000.01,1000000,null,null,null,500000.01,1000000]
[null,1000000.01,2000000,null,1000000.01,2000000,null,null,null,1000000.01,2000000]
["Acima de",2000000.01,null,null,2000000.01,null,null,null,null,2000000.01]
[]
[null,null,null,null,null,null,null,null,null,null,null,"Variável","Fixo mensal",null,null,"Margem","Tributos"]
["GNV","Faixa única",null,null,"Faixa única",null,null,null,null,"Faixa única"]
[]
["R$/m³","GASAP"]
["Faixas consumo mensal","AMAPÁ",null,"Preço Gás","NÃO TEM PREÇO",null,"Variável","Fixo mensal",null,null,null,"Variável","Fixo mensal",null,null,"Margem","Tributos"]
["Residencial",0,1,null,0,1,null,null,null,0,1]
[null,1.01,3,null,1.01,3,null,null,null,1.01,3]
[null,3.01,7,null,3.01,7,null,null,null,3.01,7]
[null,7.01,14,null,7.01,14,null,null,null,7.01,14]
[null,14.01,34,null,14.01,34,null,null,null,14.01,34]
[null,34.01,600,null,34.01,600,null,null,null,34.01,600]
[null,600.01,1000,null,600.01,1000,null,null,null,600.01,1000]
["Acima de ",1000.01,null,null,1000.01,null,null,null,null,1000.01]
[]
[null,null,null,null,null,null,"Variável","Fixo mensal",null,null,null,"Variável","Fixo mensal",null,null,"Margem","Tributos"]
["Comercial",0,0,null,0,0,null,null,null,0,0]
[null,0.01,50,null,0.01,50,null,null,null,0.01,50]
[null,50.01,150,null,50.01,150,null,null,null,50.01,150]
[null,150.01,500,null,150.01,500,null,null,null,150.01,500]
[null,500.01,2000,null,500.01,2000,null,null,null,500.01,2000]
[null,2000.01,3500,null,2000.01,3500,null,null,null,2000.01,3500]
[null,3500.01,50000,null,3500.01,50000,null,null,null,3500.01,50000]
["Acima de",50000.01,null,null,50000.01,null,null,null,null,50000.01]
[]
[null,null,null,null,null,null,"Variável","Fixo mensal",null,null,null,"Variável","Fixo mensal",null,null,"Margem","Tributos"]
["Industrial",0,50000,null,0,50000,null,null,null,0,50000]
[null,50000.01,300000,null,50000.01,300000,null,null,null,50000.01,300000]
[null,300000.01,500000,null,300000.01,500000,null,null,null,300000.01,500000]
[null,500000.01,1000000,null,500000.01,1000000,null,null,null,500000.01,1000000]
[null,1000000.01,2000000,null,1000000.01,2000000,null,null,null,1000000.01,2000000]
["Acima de",2000000.01,null,null,2000000.01,null,null,null,null,2000000.01]
[]
[null,null,null,null,null,null,null,null,null,null,null,"Variável","Fixo mensal",null,null,"Margem","Tributos"]
["GNV","Faixa única",null,null,"Faixa única",null,null,null,null,"Faixa única"]
[]
["R$/m³","GÁS DO PARÁ"]
["Faixas consumo mensal",null,null,null,"NÃO TEM PREÇO",null,"Variável","Fixo mensal",null,null,null,"Variável","Fixo mensal",null,null,"Margem","Tributos"]
["Residencial",0,1,null,0,1,null,null,null,0,1]
[null,1.01,3,null,1.01,3,null,null,null,1.01,3]
[null,3.01,7,null,3.01,7,null,null,null,3.01,7]
[null,7.01,14,null,7.01,14,null,null,null,7.01,14]
[null,14.01,34,null,14.01,34,null,null,null,14.01,34]
[null,34.01,600,null,34.01,600,null,null,null,34.01,600]
[null,600.01,1000,null,600.01,1000,null,null,null,600.01,1000]
["Acima de ",1000.01,null,null,1000.01,null,null,null,null,1000.01]
[]
[null,null,null,null,null,null,"Variável","Fixo mensal",null,null,null,"Variável","Fixo mensal",null,null,"Margem","Tributos"]
["Comercial",0,0,null,0,0,null,null,null,0,0]
[null,0.01,50,null,0.01,50,null,null,null,0.01,50]
[null,50.01,150,null,50.01,150,null,null,null,50.01,150]
[null,150.01,500,null,150.01,500,null,null,null,150.01,500]
[null,500.01,2000,null,500.01,2000,null,null,null,500.01,2000]
[null,2000.01,3500,null,2000.01,3500,null,null,null,2000.01,3500]
[null,3500.01,50000,null,3500.01,50000,null,null,null,3500.01,50000]
["Acima de",50000.01,null,null,50000.01,null,null,null,null,50000.01]
[]
[null,null,null,null,null,null,"Variável","Fixo mensal",null,null,null,"Variável","Fixo mensal",null,null,"Margem","Tributos"]
["Industrial",0,50000,null,0,50000,null,null,null,0,50000]
[null,50000.01,300000,null,50000.01,300000,null,null,null,50000.01,300000]
[null,300000.01,500000,null,300000.01,500000,null,null,null,300000.01,500000]
[null,500000.01,1000000,null,500000.01,1000000,null,null,null,500000.01,1000000]
[null,1000000.01,2000000,null,1000000.01,2000000,null,null,null,1000000.01,2000000]
["Acima de",2000000.01,null,null,2000000.01,null,null,null,null,2000000.01]
[]
[null,null,null,null,null,null,null,null,null,null,null,"Variável","Fixo mensal",null,null,"Margem","Tributos"]
["GNV","Faixa única",null,null,"Faixa única",null,null,null,null,"Faixa única"]
[null,null,null,null,"https://www.cigas-am.com.br/tabela-tarifaria"]
["R$/m³","CIGÁS",null,null,"C/ ICMS 20% E PIS/COFINS 9,25%",null,null,null,null,null,null,null,null,"S/ IMPOSTOS"]
["Faixas consumo mensal",null,null,"Preço Gás","2024-01-01",null,null,null,null,null,null,null,null,null,null,"Margem","Tributos"]
["Residencial","Individual",null,null,"Individual",null,6.7069999999999999,null,null,"Individual",null,5.9833999999999996,null,null,null,null,{"$f":"G750-L750","v":0.72360000000000024}]
["Acima de ","Coletivo",null,null,"Coletivo",null,3.5255999999999998,null,null,"Coletivo",null,2.9419,null,null,null,null,{"$f":"G751-L751","v":0.58369999999999989}]
[]
["Faixas consumo mensal",null,null,null,null,null,"Variável","Fixo mensal",null,null,null,"Variável","Fixo mensal",null,null,"Margem","Tributos"]
["Comercial",0,6000,null,0,6000,3.4396,null,null,0,6000,2.8755000000000002,null,null,null,null,{"$f":"G754-L754","v":0.56409999999999982}]
[null,6000.01,15000,null,6000.01,15000,3.3266,null,null,6000.01,15000,2.7681,null,null,null,null,{"$f":"G755-L755","v":0.5585}]
[null,15000.01,30000,null,15000.01,30000,3.2149999999999999,null,null,15000.01,30000,2.6619000000000002,null,null,null,null,0.5530999999999997]
[null,30000.01,60000,null,30000.01,60000,3.1069,null,null,30000.01,60000,2.5590999999999999,null,null,null,null,0.54780000000000006]
[null,60000.01,150000,null,60000.01,150000,2.9872999999999998,null,null,60000.01,150000,2.4453999999999998,null,null,null,null,0.54190000000000005]
[null,150000.01,300000,null,150000.01,300000,2.8654999999999999,null,null,150000.01,300000,2.3294000000000001,null,null,null,null,0.5360999999999998]
[null,300000.01,600000,null,300000.01,600000,2.7545000000000002,null,null,300000.01,600000,2.2239,null,null,null,null,0.53060000000000018]
[null,600000.01,1500000,null,600000.01,1500000,2.6659999999999999,null,null,600000.01,1500000,2.1396999999999999,null,null,null,null,0.52629999999999999]
[null,1500000.01,3000000,null,1500000.01,3000000,2.5773000000000001,null,null,1500000.01,3000000,2.0554000000000001,null,null,null,null,0.52190000000000003]
["Acima de",3000000.01,null,null,3000000.01,null,2.4883999999999999,null,null,3000000.01,null,1.9708000000000001,null,null,null,null,0.51759999999999984]
[]
["Faixas consumo diário",null,null,null,null,null,"Variável","Fixo mensal",null,null,null,"Variável","Fixo mensal",null,null,"Margem","Tributos"]
["Industrial",0,200,null,0,200,3.4396,null,null,0,200,2.8755000000000002,null,null,null,null,{"$f":"G766-L766","v":0.56409999999999982}]
[null,200.01,500,null,200.01,500,3.3266,null,null,200.01,500,2.7681,null,null,null,null,{"$f":"G767-L767","v":0.5585}]
[null,500.01,1000,null,500.01,1000,3.2149999999999999,null,null,500.01,1000,2.6619000000000002,null,null,null,null,0.5530999999999997]
[null,1000.01,2000,null,1000.01,2000,3.1069,null,null,1000.01,2000,2.5590999999999999,null,null,null,null,0.54780000000000006]
[null,2000.01,5000,null,2000.01,5000,2.9872999999999998,null,null,2000.01,5000,2.4453999999999998,null,null,null,null,0.54190000000000005]
[null,5000.01,10000,null,5000.01,10000,2.8654999999999999,null,null,5000.01,10000,2.3294000000000001,null,null,null,null,0.5360999999999998]
[null,10000.01,20000,null,10000.01,20000,2.7545000000000002,null,null,10000.01,20000,2.2239,null,null,null,null,0.53060000000000018]
[null,20000.009999999998,50000,null,20000.009999999998,50000,2.6659999999999999,null,null,20000.009999999998,50000,2.1396999999999999,null,null,null,null,0.52629999999999999]
[null,50000.01,100000,null,50000.01,100000,2.5773000000000001,null,null,50000.01,100000,2.0554000000000001,null,null,null,null,0.52190000000000003]
["Acima de",100000.01,null,null,100000.01,null,2.4883999999999999,null,null,100000.01,null,1.9708000000000001,null,null,null,null,0.51759999999999984]
[]
[null,null,null,null,null,null,null,null,null,null,null,null,null,null,null,"Margem","Tributos"]
["GNV","Faixa única",null,null,"Faixa única",null,2.9514999999999998,null,null,"Faixa única",null,2.1941999999999999,null,null,null,null,{"$f":"G778-L778","v":0.75729999999999986}]
["No período de 23/06/2022 a 31/12/2022, ficará reduzida a alíquota de PIS/COFINS de 9,25% para 0% para o segmento veicular, conforme a Lei Complementar Federal nº 194 de 23/06/2022."]
[]
["R$/m³","RONGÁS"]
["Faixas consumo mensal","Rond",null,"Preço Gas","NÃO TEM PREÇO",null,"Variável","Fixo mensal",null,null,null,"Variável","Fixo mensal",null,null,"Margem","Tributos"]
["Residencial",0,1,null,0,1,null,null,null,0,1]
[null,1.01,3,null,1.01,3,null,null,null,1.01,3]
[null,3.01,7,null,3.01,7,null,null,null,3.01,7]
[null,7.01,14,null,7.01,14,null,null,null,7.01,14]
[null,14.01,34,null,14.01,34,null,null,null,14.01,34]
[null,34.01,600,null,34.01,600,null,null,null,34.01,600]
[null,600.01,1000,null,600.01,1000,null,null,null,600.01,1000]
["Acima de ",1000.01,null,null,1000.01,null,null,null,null,1000.01]
[]
[null,null,null,null,null,null,"Variável","Fixo mensal",null,null,null,"Variável","Fixo mensal",null,null,"Margem","Tributos"]
["Comercial",0,0,null,0,0,null,null,null,0,0]
[null,0.01,50,null,0.01,50,null,null,null,0.01,50]
[null,50.01,150,null,50.01,150,null,null,null,50.01,150]
[null,150.01,500,null,150.01,500,null,null,null,150.01,500]
[null,500.01,2000,null,500.01,2000,null,null,null,500.01,2000]
[null,2000.01,3500,null,2000.01,3500,null,null,null,2000.01,3500]
[null,3500.01,50000,null,3500.01,50000,null,null,null,3500.01,50000]
["Acima de",50000.01,null,null,50000.01,null,null,null,null,50000.01]
[]
[null,null,null,null,null,null,"Variável","Fixo mensal",null,null,null,"Variável","Fixo mensal",null,null,"Margem","Tributos"]
["Industrial",0,50000,null,0,50000,null,null,null,0,50000]
[null,50000.01,300000,null,50000.01,300000,null,null,null,50000.01,300000]
[null,300000.01,500000,null,300000.01,500000,null,null,null,300000.01,500000]
[null,500000.01,1000000,null,500000.01,1000000,null,null,null,500000.01,1000000]
[null,1000000.01,2000000,null,1000000.01,2000000,null,null,null,1000000.01,2000000]
["Acima de",2000000.01,null,null,2000000.01,null,null,null,null,2000000.01]
[]
["R$/m³","MTGÁS"]
["Faixas consumo mensal",null,null,"Preço Gás","NÃO TEM PREÇO",null,"Variável","Fixo mensal",null,null,null,"Variável","Fixo mensal",null,null,"Margem","Tributos"]
["Residencial",0,1,null,0,1,null,null,null,0,1]
[null,1.01,3,null,1.01,3,null,null,null,1.01,3]
[null,3.01,7,null,3.01,7,null,null,null,3.01,7]
[null,7.01,14,null,7.01,14,null,null,null,7.01,14]
[null,14.01,34,null,14.01,34,null,null,null,14.01,34]
[null,34.01,600,null,34.01,600,null,null,null,34.01,600]
[null,600.01,1000,null,600.01,1000,null,null,null,600.01,1000]
["Acima de ",1000.01,null,null,1000.01,null,null,null,null,1000.01]
[]
[null,null,null,null,null,null,"Variável","Fixo mensal",null,null,null,"Variável","Fixo mensal",null,null,"Margem","Tributos"]
["Comercial",0,0,null,0,0,null,null,null,0,0]
[null,0.01,50,null,0.01,50,null,null,null,0.01,50]
[null,50.01,150,null,50.01,150,null,null,null,50.01,150]
[null,150.01,500,null,150.01,500,null,null,null,150.01,500]
[null,500.01,2000,null,500.01,2000,null,null,null,500.01,2000]
[null,2000.01,3500,null,2000.01,3500,null,null,null,2000.01,3500]
[null,3500.01,50000,null,3500.01,50000,null,null,null,3500.01,50000]
["Acima de",50000.01,null,null,50000.01,null,null,null,null,50000.01]
[]
[null,null,null,null,null,null,"Variável","Fixo mensal",null,null,null,"Variável","Fixo mensal",null,null,"Margem","Tributos"]
["Industrial",0,50000,null,0,50000,null,null,null,0,50000]
[null,50000.01,300000,null,50000.01,300000,null,null,null,50000.01,300000]
[null,300000.01,500000,null,300000.01,500000,null,null,null,300000.01,500000]
[null,500000.01,1000000,null,500000.01,1000000,null,null,null,500000.01,1000000]
[null,1000000.01,2000000,null,1000000.01,2000000,null,null,null,1000000.01,2000000]
["Acima de",2000000.01,null,null,2000000.01,null,null,null,null,2000000.01]
[]
["R$/m³","GOIASGÁS"]
["Faixas consumo mensal",null,null,"Preço Gás","NÃO TEM PREÇO",null,"Variável","Fixo mensal",null,null,null,"Variável","Fixo mensal",null,null,"Margem","Tributos"]
["Residencial",0,1,null,0,1,null,null,null,0,1]
[null,1.01,3,null,1.01,3,null,null,null,1.01,3]
[null,3.01,7,null,3.01,7,null,null,null,3.01,7]
[null,7.01,14,null,7.01,14,null,null,null,7.01,14]
[null,14.01,34,null,14.01,34,null,null,null,14.01,34]
[null,34.01,600,null,34.01,600,null,null,null,34.01,600]
[null,600.01,1000,null,600.01,1000,null,null,null,600.01,1000]
["Acima de ",1000.01,null,null,1000.01,null,null,null,null,1000.01]
[]
[null,null,null,null,null,null,"Variável","Fixo mensal",null,null,null,"Variável","Fixo mensal",null,null,"Margem","Tributos"]
["Comercial",0,0,null,0,0,null,null,null,0,0]
[null,0.01,50,null,0.01,50,null,null,null,0.01,50]
[null,50.01,150,null,50.01,150,null,null,null,50.01,150]
[null,150.01,500,null,150.01,500,null,null,null,150.01,500]
[null,500.01,2000,null,500.01,2000,null,null,null,500.01,2000]
[null,2000.01,3500,null,2000.01,3500,null,null,null,2000.01,3500]
[null,3500.01,50000,null,3500.01,50000,null,null,null,3500.01,50000]
["Acima de",50000.01,null,null,50000.01,null,null,null,null,50000.01]
[]
[null,null,null,null,null,null,"Variável","Fixo mensal",null,null,null,"Variável","Fixo mensal",null,null,"Margem","Tributos"]
["Industrial",0,50000,null,0,50000,null,null,null,0,50000]
[null,50000.01,300000,null,50000.01,300000,null,null,null,50000.01,300000]
[null,300000.01,500000,null,300000.01,500000,null,null,null,300000.01,500000]
[null,500000.01,1000000,null,500000.01,1000000,null,null,null,500000.01,1000000]
[null,1000000.01,2000000,null,1000000.01,2000000,null,null,null,1000000.01,2000000]
["Acima de",2000000.01,null,null,2000000.01,null,null,null,null,2000000.01]
[]
["R$/m³","CEBGÁS"]
["Faixas consumo mensal","DF",null,"Preço Gás","NÃO TEM PREÇO",null,"Variável","Fixo mensal",null,null,null,"Variável","Fixo mensal",null,null,"Margem","Tributos"]
["Residencial",0,1,null,0,1,null,null,null,0,1]
[null,1.01,3,null,1.01,3,null,null,null,1.01,3]
[null,3.01,7,null,3.01,7,null,null,null,3.01,7]
[null,7.01,14,null,7.01,14,null,null,null,7.01,14]
[null,14.01,34,null,14.01,34,null,null,null,14.01,34]
[null,34.01,600,null,34.01,600,null,null,null,34.01,600]
[null,600.01,1000,null,600.01,1000,null,null,null,600.01,1000]
["Acima de ",1000.01,null,null,1000.01,null,null,null,null,1000.01]
[]
[null,null,null,null,null,null,"Variável","Fixo mensal",null,null,null,"Variável","Fixo mensal",null,null,"Margem","Tributos"]
["Comercial",0,0,null,0,0,null,null,null,0,0]
[null,0.01,50,null,0.01,50,null,null,null,0.01,50]
[null,50.01,150,null,50.01,150,null,null,null,50.01,150]
[null,150.01,500,null,150.01,500,null,null,null,150.01,500]
[null,500.01,2000,null,500.01,2000,null,null,null,500.01,2000]
[null,2000.01,3500,null,2000.01,3500,null,null,null,2000.01,3500]
[null,3500.01,50000,null,3500.01,50000,null,null,null,3500.01,50000]
["Acima de",50000.01,null,null,50000.01,null,null,null,null,50000.01]
[]
[null,null,null,null,null,null,"Variável","Fixo mensal",null,null,null,"Variável","Fixo mensal",null,null,"Margem","Tributos"]
["Industrial",0,50000,null,0,50000,null,null,null,0,50000]
[null,50000.01,300000,null,50000.01,300000,null,null,null,50000.01,300000]
[null,300000.01,500000,null,300000.01,500000,null,null,null,300000.01,500000]
[null,500000.01,1000000,null,500000.01,1000000,null,null,null,500000.01,1000000]
[null,1000000.01,2000000,null,1000000.01,2000000,null,null,null,1000000.01,2000000]
["Acima de",2000000.01,null,null,2000000.01,null,null,null,null,2000000.01]
[]
[null,null,null,null,"https://www.msgas.com.br/segmentos/residencial/tarifas"]
["R$/m³","MSGÁS",null,null,"ICMS 17% E PIS 1,65% E COFINS 7,6%",null,null,null,null,null,null,null,null,"S/ IMPOSTOS"]
["Faixas consumo diário",null,null,"Preço Gás","2023-01-18",null,"Variável","Fixo mensal",null,null,null,"Variável","Fixo mensal",null,null,"Margem","Tributos"]
["Residencial",0,0.59989999999999999,null,0,0.59989999999999999,7.6142000000000003,null,null,0,0.59989999999999999,5.7350000000000003,null,null,null,{"$f":"G900-Q900-D900","v":5.7350000000000003},{"$f":"G900-L900","v":1.8792}]
[null,0.6,15.9999,null,0.6,15.9999,7.3387000000000002,null,null,0.6,15.9999,5.5274999999999999,null,null,null,5.5274999999999999,1.8112000000000004]
[null,16,150.9999,null,16,150.9999,6.9554999999999998,null,null,16,150.9999,5.2389000000000001,null,null,null,5.2389000000000001,1.7165999999999997]
[null,151,300.99990000000003,null,151,300.99990000000003,6.8757999999999999,null,null,151,300.99990000000003,5.1787999999999998,null,null,null,5.1787999999999998,1.6970000000000001]
[null,301,1000.9999,null,301,1000.9999,6.2653999999999996,null,null,301,1000.9999,4.7191000000000001,null,null,null,4.7191000000000001,1.5462999999999996]
["Acima de ",1001,null,null,1001,null,5.5381,null,null,1001,null,4.1712999999999996,null,null,null,4.1712999999999996,1.3668000000000005]
[]
[null,null,null,null,null,null,"Variável","Fixo mensal",null,null,null,"Variável","Fixo mensal",null,null,"Margem","Tributos"]
["Comercial",0,0.59989999999999999,null,0,0.59989999999999999,6.9512999999999998,null,null,0,0.59989999999999999,5.2356999999999996,null,null,null,{"$f":"G908-Q908-D908","v":5.2356999999999996},{"$f":"G908-L908","v":1.7156000000000002}]
[null,0.6,15.9999,null,0.6,15.9999,6.6776,null,null,0.6,15.9999,5.0294999999999996,null,null,null,5.0294999999999996,1.6481000000000003]
[null,16,150.9999,null,16,150.9999,6.4823000000000004,null,null,16,150.9999,4.8823999999999996,null,null,null,4.8823999999999996,1.5999000000000008]
[null,151,300.99990000000003,null,151,300.99990000000003,6.3708,null,null,151,300.99990000000003,4.7984999999999998,null,null,null,4.7984999999999998,1.5723000000000003]
[null,301,1000.9999,null,301,1000.9999,5.7207999999999997,null,null,301,1000.9999,4.3089000000000004,null,null,null,4.3089000000000004,1.4118999999999993]
["Acima de",1001,null,null,1001,null,4.9767000000000001,null,null,1001,null,3.7484000000000002,null,null,null,3.7484000000000002,1.2282999999999999]
[]
[null,null,null,null,null,null,"Variável","Fixo mensal",null,null,null,"Variável","Fixo mensal",null,null,"Margem","Tributos"]
["Industrial",0,0.59989999999999999,null,0,0.59989999999999999,5.9326999999999996,null,null,0,0.59989999999999999,4.4684999999999997,null,null,null,{"$f":"G916-Q916-D916","v":4.4684999999999997},{"$f":"G916-L916","v":1.4641999999999999},null,0,0.6,4.4684999999999997,5.9326999999999996]
[null,0.6,15.9999,null,0.6,15.9999,5.6833,null,null,0.6,15.9999,4.2807000000000004,null,null,null,{"$f":"G917-Q917-D917","v":4.2807000000000004},{"$f":"G917-L917","v":1.4025999999999996},null,0.6,16,4.2807000000000004,5.6833]
[null,16,150.9999,null,16,150.9999,5.5502000000000002,null,null,16,150.9999,4.1803999999999997,null,null,null,4.1803999999999997,1.3698000000000006,null,16,151,4.1803999999999997,5.5502000000000002]
[null,151,300.99990000000003,null,151,300.99990000000003,5.1048,null,null,151,300.99990000000003,3.8450000000000002,null,null,null,3.8450000000000002,1.2597999999999998,null,151,301,3.8450000000000002,5.1048]
[null,301,1000.9999,null,301,1000.9999,4.6707999999999998,null,null,301,1000.9999,3.5181,null,null,null,3.5181,1.1526999999999998,null,301,1001,3.5181,4.6707999999999998]
[null,1001,50000.999900000003,null,1001,50000.999900000003,3.9977,null,null,1001,50000.999900000003,3.0110999999999999,null,null,null,3.0110999999999999,0.98660000000000014,null,1001,50001,3.0110999999999999,3.9977]
[null,50001,150000.9999,null,50001,150000.9999,3.9497,null,null,50001,150000.9999,2.9748999999999999,null,null,null,2.9748999999999999,0.97480000000000011,null,50001,150001,2.9748999999999999,3.9497]
["Acima de",150001,null,null,150001,null,3.8912,null,null,150001,null,2.9308999999999998,null,null,null,2.9308999999999998,0.96030000000000015,null,150001,"Acima",2.9308999999999998,3.8912]
[]
[null,null,null,null,null,null,null,null,null,null,null,null,null,null,null,"Margem","Tributos"]
["GNV","Faixa única",null,null,"Faixa única",null,3.31,null,null,"Faixa única",null,{"$f":"G926-(G926*0.17)","v":2.7473000000000001},null,null,null,{"$f":"G926-Q926-D926","v":2.7473000000000001},{"$f":"G926-L926","v":0.56269999999999998}]
["No período de 23/06/2022 a 31/12/2022, ficará reduzida a alíquota de PIS/COFINS de 9,25% para 0% para o segmento veicular, conforme a Lei Complementar Federal nº 194 de 23/06/2022."]
[]
[null,null,null,null,"https://www.compagas.com.br/portal-de-tarifas/"]
["R$/m³","COMPAGAS",null,null,"C/ ICMS 18% e PIS 1,65% E COFINS 7,6%",null,null,null,"SITE COM PROBLEMA ATUALIZEI APENAS RESIDENCIAL",null,null,null,null,"S/ IMPOSTOS"]
["Faixas consumo mensal",null,null,"Preço Gás","2023-08-04",null,"Variável","Fixo mensal",null,null,null,"Variável","Fixo mensal"]
["Residencial",0,0.1,null,0,0.1,8.2523," 19,5699 ",null,0,0.1,null,null,null,null,null,null,null,"De","Até"," Com Imposto "," Com Imposto ","R$","m3/dia","R$/dia"]
["Individual",0.11,0.7,null,0.11,0.7,7.7248000000000001," 19,5699 ",null,0.11,0.7,null,null,null,null,null,null,null," 0,00 "," 0,10 "," 19,5699 "," 8,2523 ","  "," 0,00 "," 0,00 "]
[null,0.71,1.5,null,0.71,1.5,7.6295999999999999," 19,5699 ",null,0.71,1.5,null,null,null,null,null,null,null," 0,10 "," 0,70 "," 19,5699 "," 7,7248 ","  "," 0,00 "," 0,00 "]
[null,1.51,2,null,1.51,2,7.3968999999999996," 19,5699 ",null,1.51,2,null,null,null,null,null,null,null," 0,70 "," 1,50 "," 19,5699 "," 7,6296 ","  "," 0,00 "," 0,00 "]
[null,2.0099999999999998,3,null,2.0099999999999998,3,7.1757999999999997," 19,5699 ",null,2.0099999999999998,3,null,null,null,null,null,null,null," 1,50 "," 2,00 "," 19,5699 "," 7,3969 ","  "," 0,00 "," 0,00 "]
[null,3.01,6,null,3.01,6,6.8396999999999997," 19,5699 ",null,3.01,6,null,null,null,null,null,null,null," 2,00 "," 3,00 "," 19,5699 "," 7,1758 ","  "," 0,00 "," 0,00 "]
[null,6.01,13,null,6.01,13,6.4531999999999998," 19,5699 ",null,6.01,13,null,null,null,null,null,null,null," 3,00 "," 6,00 "," 19,5699 "," 6,8397 ","  "," 0,00 "," 0,00 "]
["Acima de ",13.01,null,null,13.01,null,5.7576000000000001," 19,5699 ",null,13.01,null,null,null,null,null,null,null,null," 6,00 "," 13,00 "," 19,5699 "," 6,4532 ","  "," 0,00 "," 0,00 "]
[null,null,null,null,null,null,null,null,null,null,null,null,null,null,null,null,null,null," 13,00 "," 9.999.999,00 "," 19,5699 "," 5,7576 ","  "," 0,00 "," 0,00 "]
["Faixas consumo diário",null,null,null,null,null,"Variável","Fixo mensal",null,null,null,"Variável","Fixo mensal"]
["Comercial",0,10,null,0,10,7.4680999999999997,70.372900000000001,null,0,10]
[null,10.01,20,null,10.01,20,7.4176000000000002,70.372900000000001,null,10.01,20]
[null,20.010000000000002,40,null,20.010000000000002,40,7.2906000000000004,70.372900000000001,null,20.010000000000002,40]
[null,40.01,80,null,40.01,80,7.0857999999999999,70.372900000000001,null,40.01,80]
[null,80.010000000000005,160,null,80.010000000000005,160,6.5991999999999997,211.1045,null,80.010000000000005,160]
[null,160.01,320,null,160.01,320,5.9070999999999998,211.1045,null,160.01,320]
[null,320.01,640,null,320.01,640,5.2965,211.1045,null,320.01,640]
[null,640.01,1280,null,640.01,1280,4.7705000000000002,211.1045,null,640.01,1280]
["Acima de",1280.01,null,null,1280.01,null,4.4757999999999996,211.1045,null,1280.01]
[]
[null,null,null,null,null,null,"Variável","Fixo mensal",null,null,null,"Variável","Fixo mensal"]
["Industrial",0,500,null,0,500,4.9271000000000003,null,null,0,500]
[null,500.01,1000,null,500.01,1000,4.5879000000000003,null,null,500.01,1000]
[null,1000.01,2000,null,1000.01,2000,4.5209000000000001,null,null,1000.01,2000]
[null,2000.01,4000,null,2000.01,4000,4.5058999999999996,null,null,2000.01,4000]
[null,4000.01,8000,null,4000.01,8000,4.4621000000000004,null,null,4000.01,8000]
[null,8000.01,16000,null,8000.01,16000,4.4470999999999998,null,null,8000.01,16000]
[null,16000.01,32000,null,16000.01,32000,4.4233000000000002,null,null,16000.01,32000]
[null,32000.01,64000,null,32000.01,64000,4.4061000000000003,null,null,32000.01,64000]
["Acima de",64000.01,null,null,64000.01,null,3.5485000000000002,null,null,64000.01]
[]
[]
["GNV","Faixa única",null,null,"Faixa única",null,4.1024000000000003,null,null,"Faixa única"]
["No período de 23/06/2022 a 31/12/2022, ficará reduzida a alíquota de PIS/COFINS de 9,25% para 0% para o segmento veicular, conforme a Lei Complementar Federal nº 194 de 23/06/2022."]

{"sheet":"Base Gráfico","index":3,"n_rows":554,"n_cols":21,"rows_kept":554,"cut":false,"hidden":true,"merged":[]}
[]
[]
[]
[]
["Distribuidora","CEG"]
[]
["Volume",{"$f":"Calculadora!$J$9","v":0},"m³/dia"]
[]
["Tarifa Média",{"$f":"IFERROR(F31/E29,\"\")","v":""},null,null,null,null,{"$f":"_xlfn._xlws.FILTER(Tabela1[CONSUMO],(Calculadora!$J$9>=Tabela1[FAIXA INICIAL])*(Calculadora!$J$9<=Tabela1[FAIXA FINAL])*(Calculadora!$G$7=Tabela1[SEGMENTO])*($B$5=Tabela1[DISTRIBUIDORA])*(\"Rio de Janeiro\"=Tabela1[MUNICÍPIO]),\"\")","v":""},{"$f":"_xlfn._xlws.FILTER(Tabela1[CONSUMO],(Calculadora!$J$9>=Tabela1[FAIXA INICIAL])*(Calculadora!$G$7=Tabela1[SEGMENTO])*($B$5=Tabela1[DISTRIBUIDORA])*(\"Rio de Janeiro\"=Tabela1[MUNICÍPIO]),\"\")","v":""},"Faixa por volume x município x segmento",null,null,null,null,null,null,null,null,null,null,{"$f":"_xlfn._xlws.FILTER(Tabela1[CONSUMO],($J$9>=Tabela1[FAIXA INICIAL])*($J$9<=Tabela1[FAIXA FINAL])*($G$7=Tabela1[SEGMENTO])*($G$8=Tabela1[UF])*($G$9=Tabela1[MUNICÍPIO]),\"\")","v":""},{"$f":"_xlfn._xlws.FILTER(Tabela1[CONSUMO],($J$9>=Tabela1[FAIXA INICIAL])*($G$7=Tabela1[SEGMENTO])*($G$8=Tabela1[UF])*($G$9=Tabela1[MUNICÍPIO]),\"\")","v":""}]
[null,null,null,null,null,null,null,null,"Estado","Município","Agência Regularizadora","Distribuidora","Segmento","Consumo","Faixa Inicial","Faixa Final","Variável","Fixo"]
[null,"m³/dia","m³/dia",null,null,null,null,null,{"$f":"_xlfn._xlws.FILTER(Tabela1[[ESTADO]:[FIXO]],($C12>=Tabela1[FAIXA INICIAL])*(Calculadora!$G$7=Tabela1[SEGMENTO])*($B$5=Tabela1[DISTRIBUIDORA])*(\"Rio de Janeiro\"=Tabela1[MUNICÍPIO]),\"Não foi encontrado valor para esse município e segmento com esse volume\")","v":"Não foi encontrado valor para esse município e segmento com esse volume"}]
[null,{"$f":"B7","v":0},{"$f":"IF($D12=\"Mensal\",Calculadora!$J$9*30,IF($D12=\"Semanal\",Calculadora!$J$9*7,IF($D12=\"Faixa Única\",Calculadora!$J$9*30,Calculadora!$J$9)))","v":0},{"$f":"IF(_xlfn._xlws.FILTER(Tabela1[CONSUMO],(Calculadora!$J$9>=Tabela1[FAIXA INICIAL])*(Calculadora!$J$9<=Tabela1[FAIXA FINAL])*(Calculadora!$G$7=Tabela1[SEGMENTO])*($B5=Tabela1[DISTRIBUIDORA])*(\"Rio de Janeiro\" = Tabela1[MUNICÍPIO]),\"\")=\"\", H9,G9)","v":""}]
["Faixa de Consumo",null,"Fixo                (R$/m³)","Variável (R$/m³)","Consumo      (m³)","Tarifa Aplicada (R$)"]
[{"$f":"O11","v":0},0,{"$f":"R11","v":0},{"$f":"Q11","v":0},{"$f":"IF($D$12=\"Faixa Única\",$C$12,IF(B14>C12,C12,B14-A14))","v":0},{"$f":"(D14*E14)","v":0}]
[0,0,{"$f":"R12","v":0},{"$f":"Q12","v":0},{"$f":"IF($D$12<>\"Faixa Única\",IF($C$12<>\"\",IF(SUM(E14,B15)>=$C$12,$C$12-(E14),IF(B15=0,$C$12-SUM(E14),B15-A15)),\"0\"),\"0\")","v":0},{"$f":"(D15*E15)","v":0}]
[0,0,{"$f":"R13","v":0},{"$f":"Q13","v":0},{"$f":"IF($D$12<>\"Faixa Única\",IF($C$12<>\"\",IF(SUM(E15,B16)>=$C$12,$C$12-SUM($E$14:E15),IF(B16=0,$C$12-SUM($E$14:E15),B16-A16)),\"0\"),\"0\")","v":0},{"$f":"(D16*E16)","v":0}]
[{"$f":"O14","v":0},{"$f":"P14","v":0},{"$f":"R14","v":0},{"$f":"Q14","v":0},{"$f":"IF($D$12<>\"Faixa Única\",IF($C$12<>\"\",IF(SUM(E16,B17)>=$C$12,$C$12-SUM($E$14:E16),IF(B17=0,$C$12-SUM($E$14:E16),B17-A17)),\"0\"),\"0\")","v":0},{"$f":"(D17*E17)","v":0}]
[0,0,0,{"$f":"Q15","v":0},{"$f":"IF($D$12<>\"Faixa Única\",IF($C$12<>\"\",IF(SUM(E17,B18)>=$C$12,$C$12-SUM($E$14:E17),IF(B18=0,$C$12-SUM($E$14:E17),B18-A18)),\"0\"),\"0\")","v":0},0]
[0,0,0,{"$f":"Q16","v":0},{"$f":"IF($D$12<>\"Faixa Única\",IF($C$12<>\"\",IF(SUM(E18,B19)>=$C$12,$C$12-SUM($E$14:E18),IF(B19=0,$C$12-SUM($E$14:E18),B19-A19)),\"0\"),\"0\")","v":0},0]
[0,0,0,0,{"$f":"IF($D$12<>\"Faixa Única\",IF($C$12<>\"\",IF(SUM(E19,B20)>=$C$12,$C$12-SUM($E$14:E19),IF(B20=0,$C$12-SUM($E$14:E19),B20-A20)),\"0\"),\"0\")","v":0},0]
[0,0,0,0,{"$f":"IF($D$12<>\"Faixa Única\",IF($C$12<>\"\",IF(SUM(E20,B21)>=$C$12,$C$12-SUM($E$14:E20),IF(B21=0,$C$12-SUM($E$14:E20),B21-A21)),\"0\"),\"0\")","v":0},0]
[0,0,0,0,{"$f":"IF($D$12<>\"Faixa Única\",IF($C$12<>\"\",IF(SUM(E21,B22)>=$C$12,$C$12-SUM($E$14:E21),IF(B22=0,$C$12-SUM($E$14:E21),B22-A22)),\"0\"),\"0\")","v":0},0]
[0,0,0,0,{"$f":"IF($D$12<>\"Faixa Única\",IF($C$12<>\"\",IF(SUM(E22,B23)>=$C$12,$C$12-SUM($E$14:E22),IF(B23=0,$C$12-SUM($E$14:E22),B23-A23)),\"0\"),\"0\")","v":0},0]
[0,0,0,0,{"$f":"IF($D$12<>\"Faixa Única\",IF($C$12<>\"\",IF(SUM(E23,B24)>=$C$12,$C$12-SUM($E$14:E23),IF(B24=0,$C$12-SUM($E$14:E23),B24-A24)),\"0\"),\"0\")","v":0},0]
[0,0,0,0,{"$f":"IF($D$12<>\"Faixa Única\",IF($C$12<>\"\",IF(SUM(E24,B25)>=$C$12,$C$12-SUM($E$14:E24),IF(B25=0,$C$12-SUM($E$14:E24),B25-A25)),\"0\"),\"0\")","v":0},0]
[0,0,0,0,{"$f":"IF($D$12<>\"Faixa Única\",IF($C$12<>\"\",IF(SUM(E25,B26)>=$C$12,$C$12-SUM($E$14:E25),IF(B26=0,$C$12-SUM($E$14:E25),B26-A26)),\"0\"),\"0\")","v":0},0]
[0,0,0,0,{"$f":"IF($D$12<>\"Faixa Única\",IF($C$12<>\"\",IF(SUM(E26,B27)>=$C$12,$C$12-SUM($E$14:E26),IF(B27=0,$C$12-SUM($E$14:E26),B27-A27)),\"0\"),\"0\")","v":0},0]
[]
[null,null,null,"Subtotal",{"$f":"SUM(E14:E27)","v":0},{"$f":"SUM(F14:F27)","v":0}]
[null,null,null,"Termo Fixo",null,{"$f":"LARGE(C14:C27,1)","v":0}]
[null,null,null,"Total c/ impostos",null,{"$f":"F29+F30","v":0}]
[]
[]
[]
["Distribuidora","GASMIG"]
[]
["Volume",{"$f":"Calculadora!$J$9","v":0},"m³/dia"]
[]
["Tarifa Média",{"$f":"IFERROR(F61/E59,\"\")","v":""},null,null,null,null,{"$f":"_xlfn._xlws.FILTER(Tabela1[CONSUMO],(Calculadora!$J$9>=Tabela1[FAIXA INICIAL])*(Calculadora!$J$9<=Tabela1[FAIXA FINAL])*(Calculadora!$G$7=Tabela1[SEGMENTO])*($B$35=Tabela1[DISTRIBUIDORA]),\"\")","v":""},{"$f":"_xlfn._xlws.FILTER(Tabela1[CONSUMO],(Calculadora!$J$9>=Tabela1[FAIXA INICIAL])*(Calculadora!$G$7=Tabela1[SEGMENTO])*($B$35=Tabela1[DISTRIBUIDORA]),\"\")","v":""},"Faixa por volume x município x segmento"]
[null,null,null,null,null,null,null,null,"Estado","Município","Agência Regularizadora","Distribuidora","Segmento","Consumo","Faixa Inicial","Faixa Final","Variável","Fixo"]
[null,"m³/dia","m³/dia",null,null,null,null,null,{"$f":"_xlfn._xlws.FILTER(Tabela1[[ESTADO]:[FIXO]],($C42>=Tabela1[FAIXA INICIAL])*(Calculadora!$G$7=Tabela1[SEGMENTO])*($B35=Tabela1[DISTRIBUIDORA]),\"Não foi encontrado valor para esse município e segmento com esse volume\")","v":"Não foi encontrado valor para esse município e segmento com esse volume"}]
[null,{"$f":"B37","v":0},{"$f":"IF($D42=\"Mensal\",Calculadora!$J$9*30,IF($D42=\"Semanal\",Calculadora!$J$9*7,IF($D42=\"Faixa Única\",Calculadora!$J$9*30,Calculadora!$J$9)))","v":0},{"$f":"IF(_xlfn._xlws.FILTER(Tabela1[CONSUMO],(Calculadora!$J$9>=Tabela1[FAIXA INICIAL])*(Calculadora!$J$9<=Tabela1[FAIXA FINAL])*(Calculadora!$G$7=Tabela1[SEGMENTO])*($B35=Tabela1[DISTRIBUIDORA]),\"\")=\"\", H39,G39)","v":""}]
["Faixa de Consumo",null,"Fixo                (R$/m³)","Variável (R$/m³)","Consumo      (m³)","Tarifa Aplicada (R$)"]
[{"$f":"O41","v":0},0,{"$f":"R41","v":0},{"$f":"Q41","v":0},{"$f":"IF($D$42=\"Faixa Única\",$C$42,IF(B44>C42,C42,B44-A44))","v":0},{"$f":"(D44*E44)","v":0}]
[0,0,{"$f":"R42","v":0},{"$f":"Q42","v":0},{"$f":"IF($D$42<>\"Faixa Única\",IF($C$42<>\"\",IF(SUM(E44,B45)>=$C$42,$C$42-(E44),IF(B45=0,$C$42-SUM(E44),B45-A45)),\"0\"),\"0\")","v":0},{"$f":"(D45*E45)","v":0}]
[0,0,{"$f":"R43","v":0},{"$f":"Q43","v":0},{"$f":"IF($D$42<>\"Faixa Única\",IF($C$42<>\"\",IF(SUM(E45,B46)>=$C$42,$C$42-SUM($E$44:E45),IF(B46=0,$C$42-SUM($E$44:E45),B46-A46)),\"0\"),\"0\")","v":0},{"$f":"(D46*E46)","v":0}]
[{"$f":"O44","v":0},{"$f":"P44","v":0},{"$f":"R44","v":0},{"$f":"Q44","v":0},{"$f":"IF($D$42<>\"Faixa Única\",IF($C$42<>\"\",IF(SUM(E46,B47)>=$C$42,$C$42-SUM($E$44:E46),IF(B47=0,$C$42-SUM($E$44:E46),B47-A47)),\"0\"),\"0\")","v":0},{"$f":"(D47*E47)","v":0}]
[0,0,{"$f":"R45","v":0},0,{"$f":"IF($D$42<>\"Faixa Única\",IF($C$42<>\"\",IF(SUM(E47,B48)>=$C$42,$C$42-SUM($E$44:E47),IF(B48=0,$C$42-SUM($E$44:E47),B48-A48)),\"0\"),\"0\")","v":0},{"$f":"(D48*E48)","v":0}]
[0,0,0,0,{"$f":"IF($D$42<>\"Faixa Única\",IF($C$42<>\"\",IF(SUM(E48,B49)>=$C$42,$C$42-SUM($E$44:E48),IF(B49=0,$C$42-SUM($E$44:E48),B49-A49)),\"0\"),\"0\")","v":0},0]
[0,0,0,0,{"$f":"IF($D$42<>\"Faixa Única\",IF($C$42<>\"\",IF(SUM(E49,B50)>=$C$42,$C$42-SUM($E$44:E49),IF(B50=0,$C$42-SUM($E$44:E49),B50-A50)),\"0\"),\"0\")","v":0},0]
[0,0,0,0,{"$f":"IF($D$42<>\"Faixa Única\",IF($C$42<>\"\",IF(SUM(E50,B51)>=$C$42,$C$42-SUM($E$44:E50),IF(B51=0,$C$42-SUM($E$44:E50),B51-A51)),\"0\"),\"0\")","v":0},0]
[0,0,0,0,{"$f":"IF($D$42<>\"Faixa Única\",IF($C$42<>\"\",IF(SUM(E51,B52)>=$C$42,$C$42-SUM($E$44:E51),IF(B52=0,$C$42-SUM($E$44:E51),B52-A52)),\"0\"),\"0\")","v":0},0]
[0,0,0,0,{"$f":"IF($D$42<>\"Faixa Única\",IF($C$42<>\"\",IF(SUM(E52,B53)>=$C$42,$C$42-SUM($E$44:E52),IF(B53=0,$C$42-SUM($E$44:E52),B53-A53)),\"0\"),\"0\")","v":0},0]
[0,0,0,0,{"$f":"IF($D$42<>\"Faixa Única\",IF($C$42<>\"\",IF(SUM(E53,B54)>=$C$42,$C$42-SUM($E$44:E53),IF(B54=0,$C$42-SUM($E$44:E53),B54-A54)),\"0\"),\"0\")","v":0},0]
[0,0,0,0,{"$f":"IF($D$42<>\"Faixa Única\",IF($C$42<>\"\",IF(SUM(E54,B55)>=$C$42,$C$42-SUM($E$44:E54),IF(B55=0,$C$42-SUM($E$44:E54),B55-A55)),\"0\"),\"0\")","v":0},0]
[0,0,0,0,{"$f":"IF($D$42<>\"Faixa Única\",IF($C$42<>\"\",IF(SUM(E55,B56)>=$C$42,$C$42-SUM($E$44:E55),IF(B56=0,$C$42-SUM($E$44:E55),B56-A56)),\"0\"),\"0\")","v":0},0]
[0,0,0,0,{"$f":"IF($D$42<>\"Faixa Única\",IF($C$42<>\"\",IF(SUM(E56,B57)>=$C$42,$C$42-SUM($E$44:E56),IF(B57=0,$C$42-SUM($E$44:E56),B57-A57)),\"0\"),\"0\")","v":0},0]
[]
[null,null,null,"Subtotal",{"$f":"SUM(E44:E57)","v":0},{"$f":"SUM(F44:F57)","v":0}]
[null,null,null,"Termo Fixo",null,{"$f":"LARGE(C44:C57,1)","v":0}]
[null,null,null,"Total c/ impostos",null,{"$f":"F59+F60","v":0}]
[]
[]
["Distribuidora","COMGÁS",null,"Independente: Comercial e Industrial"]
[null,"SP"]
["Volume",{"$f":"Calculadora!$J$9","v":0},"m³/dia"]
[]
["Tarifa Média",{"$f":"IFERROR(F90/E88,\"\")","v":""},null,null,null,null,{"$f":"_xlfn._xlws.FILTER(Tabela1[CONSUMO],(Calculadora!$J$9>=Tabela1[FAIXA INICIAL])*(Calculadora!$J$9<=Tabela1[FAIXA FINAL])*(Calculadora!$G$7=Tabela1[SEGMENTO])*($B64=Tabela1[DISTRIBUIDORA])*(\"São Paulo\" = Tabela1[MUNICÍPIO]),\"\")","v":""},{"$f":"_xlfn._xlws.FILTER(Tabela1[CONSUMO],(Calculadora!$J$9>=Tabela1[FAIXA INICIAL])*(Calculadora!$G$7=Tabela1[SEGMENTO])*($B$64=Tabela1[DISTRIBUIDORA])*(\"São Paulo\"=Tabela1[MUNICÍPIO]),\"\")","v":""},"Faixa por volume x município x segmento"]
[null,null,null,null,null,null,null,null,"Estado","Município","Agência Regularizadora","Distribuidora","Segmento","Consumo","Faixa Inicial","Faixa Final","Variável","Fixo"]
[null,"m³/dia","m³/dia",null,null,null,null,null,{"$f":"_xlfn._xlws.FILTER(Tabela1[[ESTADO]:[FIXO]],($C71>=Tabela1[FAIXA INICIAL])*(Calculadora!$G$7=Tabela1[SEGMENTO])*($B64=Tabela1[DISTRIBUIDORA])*(\"São Paulo\" = Tabela1[MUNICÍPIO]),\"Não foi encontrado valor para esse município e segmento com esse volume\")","v":"Não foi encontrado valor para esse município e segmento com esse volume"}]
[null,{"$f":"B66","v":0},{"$f":"IF($D71=\"Mensal\",Calculadora!$J$9*30,IF($D71=\"Semanal\",Calculadora!$J$9*7,IF($D71=\"Faixa Única\",Calculadora!$J$9*30,Calculadora!$J$9)))","v":0},{"$f":"IF(_xlfn._xlws.FILTER(Tabela1[CONSUMO],(Calculadora!$J$9>=Tabela1[FAIXA INICIAL])*(Calculadora!$J$9<=Tabela1[FAIXA FINAL])*(Calculadora!$G$7=Tabela1[SEGMENTO])*($B64=Tabela1[DISTRIBUIDORA])*(\"São Paulo\" = Tabela1[MUNICÍPIO]),\"\")=\"\", H68,G68)","v":""}]
["Faixa de Consumo",null,"Fixo                (R$/m³)","Variável (R$/m³)","Consumo      (m³)","Tarifa Aplicada (R$)"]
[{"$f":"O70","v":0},{"$f":"P70","v":0},{"$f":"R70","v":0},{"$f":"Q70","v":0},{"$f":"IF(AND($B$65=\"SP\",OR(AND($B$64=\"COMGÁS\",OR(Calculadora!$G$7=\"Industrial\",Calculadora!$G$7=\"Comercial\")))),IF(AND(A73<>0,B73=0),$C$71,IF(B73>=$C$71,$C$71,0)),IF($D$71=\"Faixa Única\",$C$71,IF($B73>=$C$71,$C$71,$B73-$A73)))","v":0},{"$f":"(D73*E73)","v":0}]
[0,0,{"$f":"R71","v":0},{"$f":"Q71","v":0},{"$f":"IF(AND($B$65=\"SP\",OR(AND($B$64=\"COMGÁS\",OR(Calculadora!$G$7=\"Industrial\",Calculadora!$G$7=\"Comercial\")))),IF(AND(A74<>0,B74=0),$C$71,IF(B74>=$C$71,$C$71,0)),IF($D$71<>\"Faixa Única\",IF($D$71<>\"\",IF(SUM($E$73:$E73,$B74)>=$C$71,$C$71-SUM($E$73:$E73),IF($B74=0,$C$71-SUM($E$73:$E73),$B74-$A74)),\"0\"),\"0\"))","v":"0"},{"$f":"(D74*E74)","v":0}]
[0,0,{"$f":"R72","v":0},{"$f":"Q72","v":0},{"$f":"IF(AND($B$65=\"SP\",OR(AND($B$64=\"COMGÁS\",OR(Calculadora!$G$7=\"Industrial\",Calculadora!$G$7=\"Comercial\")))),IF(AND(A75<>0,B75=0),$C$71,IF(B75>=$C$71,$C$71,0)),IF($D$71<>\"Faixa Única\",IF($D$71<>\"\",IF(SUM($E$73:$E74,$B75)>=$C$71,$C$71-SUM($E$73:$E74),IF($B75=0,$C$71-SUM($E$73:$E74),$B75-$A75)),\"0\"),\"0\"))","v":"0"},{"$f":"(D75*E75)","v":0}]
[0,0,{"$f":"R73","v":0},{"$f":"Q73","v":0},{"$f":"IF(AND($B$65=\"SP\",OR(AND($B$64=\"COMGÁS\",OR(Calculadora!$G$7=\"Industrial\",Calculadora!$G$7=\"Comercial\")))),IF(AND(A76<>0,B76=0),$C$71,IF(B76>=$C$71,$C$71,0)),IF($D$71<>\"Faixa Única\",IF($D$71<>\"\",IF(SUM($E$73:$E75,$B76)>=$C$71,$C$71-SUM($E$73:$E75),IF($B76=0,$C$71-SUM($E$73:$E75),$B76-$A76)),\"0\"),\"0\"))","v":"0"},{"$f":"(D76*E76)","v":0}]
[0,0,0,0,{"$f":"IF(AND($B$65=\"SP\",OR(AND($B$64=\"COMGÁS\",OR(Calculadora!$G$7=\"Industrial\",Calculadora!$G$7=\"Comercial\")))),IF(AND(A77<>0,B77=0),$C$71,IF(B77>=$C$71,$C$71,0)),IF($D$71<>\"Faixa Única\",IF($D$71<>\"\",IF(SUM($E$73:$E76,$B77)>=$C$71,$C$71-SUM($E$73:$E76),IF($B77=0,$C$71-SUM($E$73:$E76),$B77-$A77)),\"0\"),\"0\"))","v":"0"},0]
[0,0,0,0,{"$f":"IF(AND($B$65=\"SP\",OR(AND($B$64=\"COMGÁS\",OR(Calculadora!$G$7=\"Industrial\",Calculadora!$G$7=\"Comercial\")))),IF(AND(A78<>0,B78=0),$C$71,IF(B78>=$C$71,$C$71,0)),IF($D$71<>\"Faixa Única\",IF($D$71<>\"\",IF(SUM($E$73:$E77,$B78)>=$C$71,$C$71-SUM($E$73:$E77),IF($B78=0,$C$71-SUM($E$73:$E77),$B78-$A78)),\"0\"),\"0\"))","v":"0"},0]
[0,0,0,0,{"$f":"IF(AND($B$65=\"SP\",OR(AND($B$64=\"COMGÁS\",OR(Calculadora!$G$7=\"Industrial\",Calculadora!$G$7=\"Comercial\")))),IF(AND(A79<>0,B79=0),$C$71,IF(B79>=$C$71,$C$71,0)),IF($D$71<>\"Faixa Única\",IF($D$71<>\"\",IF(SUM($E$73:$E78,$B79)>=$C$71,$C$71-SUM($E$73:$E78),IF($B79=0,$C$71-SUM($E$73:$E78),$B79-$A79)),\"0\"),\"0\"))","v":"0"},0]
[0,0,0,0,{"$f":"IF(AND($B$65=\"SP\",OR(AND($B$64=\"COMGÁS\",OR(Calculadora!$G$7=\"Industrial\",Calculadora!$G$7=\"Comercial\")))),IF(AND(A80<>0,B80=0),$C$71,IF(B80>=$C$71,$C$71,0)),IF($D$71<>\"Faixa Única\",IF($D$71<>\"\",IF(SUM($E$73:$E79,$B80)>=$C$71,$C$71-SUM($E$73:$E79),IF($B80=0,$C$71-SUM($E$73:$E79),$B80-$A80)),\"0\"),\"0\"))","v":"0"},0]
[0,0,0,0,{"$f":"IF(AND($B$65=\"SP\",OR(AND($B$64=\"COMGÁS\",OR(Calculadora!$G$7=\"Industrial\",Calculadora!$G$7=\"Comercial\")))),IF(AND(A81<>0,B81=0),$C$71,IF(B81>=$C$71,$C$71,0)),IF($D$71<>\"Faixa Única\",IF($D$71<>\"\",IF(SUM($E$73:$E80,$B81)>=$C$71,$C$71-SUM($E$73:$E80),IF($B81=0,$C$71-SUM($E$73:$E80),$B81-$A81)),\"0\"),\"0\"))","v":"0"},0]
[0,0,0,0,{"$f":"IF(AND($B$65=\"SP\",OR(AND($B$64=\"COMGÁS\",OR(Calculadora!$G$7=\"Industrial\",Calculadora!$G$7=\"Comercial\")))),IF(AND(A82<>0,B82=0),$C$71,IF(B82>=$C$71,$C$71,0)),IF($D$71<>\"Faixa Única\",IF($D$71<>\"\",IF(SUM($E$73:$E81,$B82)>=$C$71,$C$71-SUM($E$73:$E81),IF($B82=0,$C$71-SUM($E$73:$E81),$B82-$A82)),\"0\"),\"0\"))","v":"0"},0]
[0,0,0,0,{"$f":"IF(AND($B$65=\"SP\",OR(AND($B$64=\"COMGÁS\",OR(Calculadora!$G$7=\"Industrial\",Calculadora!$G$7=\"Comercial\")))),IF(AND(A83<>0,B83=0),$C$71,IF(B83>=$C$71,$C$71,0)),IF($D$71<>\"Faixa Única\",IF($D$71<>\"\",IF(SUM($E$73:$E82,$B83)>=$C$71,$C$71-SUM($E$73:$E82),IF($B83=0,$C$71-SUM($E$73:$E82),$B83-$A83)),\"0\"),\"0\"))","v":"0"},0]
[0,0,0,0,{"$f":"IF(AND($B$65=\"SP\",OR(AND($B$64=\"COMGÁS\",OR(Calculadora!$G$7=\"Industrial\",Calculadora!$G$7=\"Comercial\")))),IF(AND(A84<>0,B84=0),$C$71,IF(B84>=$C$71,$C$71,0)),IF($D$71<>\"Faixa Única\",IF($D$71<>\"\",IF(SUM($E$73:$E83,$B84)>=$C$71,$C$71-SUM($E$73:$E83),IF($B84=0,$C$71-SUM($E$73:$E83),$B84-$A84)),\"0\"),\"0\"))","v":"0"},0]
[0,0,0,0,{"$f":"IF(AND($B$65=\"SP\",OR(AND($B$64=\"COMGÁS\",OR(Calculadora!$G$7=\"Industrial\",Calculadora!$G$7=\"Comercial\")))),IF(AND(A85<>0,B85=0),$C$71,IF(B85>=$C$71,$C$71,0)),IF($D$71<>\"Faixa Única\",IF($D$71<>\"\",IF(SUM($E$73:$E84,$B85)>=$C$71,$C$71-SUM($E$73:$E84),IF($B85=0,$C$71-SUM($E$73:$E84),$B85-$A85)),\"0\"),\"0\"))","v":"0"},0]
[0,0,0,0,{"$f":"IF(AND($B$65=\"SP\",OR(AND($B$64=\"COMGÁS\",OR(Calculadora!$G$7=\"Industrial\",Calculadora!$G$7=\"Comercial\")))),IF(AND(A86<>0,B86=0),$C$71,IF(B86>=$C$71,$C$71,0)),IF($D$71<>\"Faixa Única\",IF($D$71<>\"\",IF(SUM($E$73:$E85,$B86)>=$C$71,$C$71-SUM($E$73:$E85),IF($B86=0,$C$71-SUM($E$73:$E85),$B86-$A86)),\"0\"),\"0\"))","v":"0"},0]
[]
[null,null,null,"Subtotal",{"$f":"SUM(E73:E86)","v":0},{"$f":"SUM(F73:F86)","v":0}]
[null,null,null,"Termo Fixo",null,{"$f":"LARGE(C73:C86,1)","v":0}]
[null,null,null,"Total c/ impostos",null,{"$f":"F88+F89","v":0},null,null,"SE(FILTRO(Tabela1[CONSUMO];(Calculadora!$J$9>=Tabela1[FAIXA INICIAL])*(Calculadora!$J$9<=Tabela1[FAIXA FINAL])*(Calculadora!$G$7=Tabela1[SEGMENTO])*($B$499=Tabela1[DISTRIBUIDORA]);\"\")=\"\"; H503;G503)"]
[]
[]
["Distribuidora","GÁS BRASILIANO",null,"Independente: Comercial"]
[null,"SP"]
["Volume",{"$f":"Calculadora!$J$9","v":0},"m³/dia"]
[]
["Tarifa Média",{"$f":"IFERROR(F119/E117,\"\")","v":""},null,null,null,null,{"$f":"_xlfn._xlws.FILTER(Tabela1[CONSUMO],(Calculadora!$J$9>=Tabela1[FAIXA INICIAL])*(Calculadora!$J$9<=Tabela1[FAIXA FINAL])*(Calculadora!$G$7=Tabela1[SEGMENTO])*($B$93=Tabela1[DISTRIBUIDORA])*(\"Bauru\"=Tabela1[MUNICÍPIO]),\"\")","v":""},{"$f":"_xlfn._xlws.FILTER(Tabela1[CONSUMO],(Calculadora!$J$9>=Tabela1[FAIXA INICIAL])*(Calculadora!$G$7=Tabela1[SEGMENTO])*($B$93=Tabela1[DISTRIBUIDORA])*(\"Bauru\"=Tabela1[MUNICÍPIO]),\"\")","v":""},"Faixa por volume x município x segmento"]
[null,null,null,null,null,null,null,null,"Estado","Município","Agência Regularizadora","Distribuidora","Segmento","Consumo","Faixa Inicial","Faixa Final","Variável","Fixo"]
[null,"m³/dia","m³/dia",null,null,null,null,null,{"$f":"_xlfn._xlws.FILTER(Tabela1[[ESTADO]:[FIXO]],($C100>=Tabela1[FAIXA INICIAL])*(Calculadora!$G$7=Tabela1[SEGMENTO])*($B$93=Tabela1[DISTRIBUIDORA])*(\"Bauru\"=Tabela1[MUNICÍPIO]),\"Não foi encontrado valor para esse município e segmento com esse volume\")","v":"Não foi encontrado valor para esse município e segmento com esse volume"}]
[null,{"$f":"B95","v":0},{"$f":"IF($D100=\"Mensal\",Calculadora!$J$9*30,IF($D100=\"Semanal\",Calculadora!$J$9*7,IF($D100=\"Faixa Única\",Calculadora!$J$9*30,Calculadora!$J$9)))","v":0},{"$f":"IF(_xlfn._xlws.FILTER(Tabela1[CONSUMO],(Calculadora!$J$9>=Tabela1[FAIXA INICIAL])*(Calculadora!$J$9<=Tabela1[FAIXA FINAL])*(Calculadora!$G$7=Tabela1[SEGMENTO])*($B93=Tabela1[DISTRIBUIDORA])*(\"Bauru\" = Tabela1[MUNICÍPIO]),\"\")=\"\", H97,G97)","v":""}]
["Faixa de Consumo",null,"Fixo                (R$/m³)","Variável (R$/m³)","Consumo      (m³)","Tarifa Aplicada (R$)"]
[{"$f":"O99","v":0},{"$f":"P99","v":0},{"$f":"R99","v":0},{"$f":"Q99","v":0},{"$f":"IF(AND($B$94=\"SP\",OR(AND($B$93=\"GÁS BRASILIANO\",OR(Calculadora!$G$7=\"Comercial\")))),IF(AND(A102<>0,B102=0),$C$100,IF(B102>=$C$100,$C$100,0)),IF($D$100=\"Faixa Única\",$C$100,IF($B102>=$C$100,$C$100,$B102-$A102)))","v":0},{"$f":"(D102*E102)","v":0}]
[0,0,{"$f":"R100","v":0},{"$f":"Q100","v":0},{"$f":"IF(AND($B$94=\"SP\",OR(AND($B$93=\"GÁS BRASILIANO\",OR(Calculadora!$G$7=\"Comercial\")))),IF(AND(A103<>0,B103=0),$C$100,IF(B103>=$C$100,$C$100,0)),IF($D$100<>\"Faixa Única\",IF($D$100<>\"\",IF(SUM($E$102:$E102,$B103)>=$C$100,$C$100-SUM($E$102:$E102),IF($B103=0,$C$100-SUM($E$102:$E102),$B103-$A103)),\"0\"),\"0\"))","v":"0"},{"$f":"(D103*E103)","v":0}]
[0,0,{"$f":"R101","v":0},{"$f":"Q101","v":0},{"$f":"IF(AND($B$94=\"SP\",OR(AND($B$93=\"GÁS BRASILIANO\",OR(Calculadora!$G$7=\"Comercial\")))),IF(AND(A104<>0,B104=0),$C$100,IF(B104>=$C$100,$C$100,0)),IF($D$100<>\"Faixa Única\",IF($D$100<>\"\",IF(SUM($E$102:$E103,$B104)>=$C$100,$C$100-SUM($E$102:$E103),IF($B104=0,$C$100-SUM($E$102:$E103),$B104-$A104)),\"0\"),\"0\"))","v":"0"},{"$f":"(D104*E104)","v":0}]
[0,0,{"$f":"R102","v":0},{"$f":"Q102","v":0},{"$f":"IF(AND($B$94=\"SP\",OR(AND($B$93=\"GÁS BRASILIANO\",OR(Calculadora!$G$7=\"Comercial\")))),IF(AND(A105<>0,B105=0),$C$100,IF(B105>=$C$100,$C$100,0)),IF($D$100<>\"Faixa Única\",IF($D$100<>\"\",IF(SUM($E$102:$E104,$B105)>=$C$100,$C$100-SUM($E$102:$E104),IF($B105=0,$C$100-SUM($E$102:$E104),$B105-$A105)),\"0\"),\"0\"))","v":"0"},{"$f":"(D105*E105)","v":0}]
[0,0,0,{"$f":"Q103","v":0},{"$f":"IF(AND($B$94=\"SP\",OR(AND($B$93=\"GÁS BRASILIANO\",OR(Calculadora!$G$7=\"Comercial\")))),IF(AND(A106<>0,B106=0),$C$100,IF(B106>=$C$100,$C$100,0)),IF($D$100<>\"Faixa Única\",IF($D$100<>\"\",IF(SUM($E$102:$E105,$B106)>=$C$100,$C$100-SUM($E$102:$E105),IF($B106=0,$C$100-SUM($E$102:$E105),$B106-$A106)),\"0\"),\"0\"))","v":"0"},0]
[0,0,0,0,{"$f":"IF(AND($B$94=\"SP\",OR(AND($B$93=\"GÁS BRASILIANO\",OR(Calculadora!$G$7=\"Comercial\")))),IF(AND(A107<>0,B107=0),$C$100,IF(B107>=$C$100,$C$100,0)),IF($D$100<>\"Faixa Única\",IF($D$100<>\"\",IF(SUM($E$102:$E106,$B107)>=$C$100,$C$100-SUM($E$102:$E106),IF($B107=0,$C$100-SUM($E$102:$E106),$B107-$A107)),\"0\"),\"0\"))","v":"0"},0]
[0,0,0,0,{"$f":"IF(AND($B$94=\"SP\",OR(AND($B$93=\"GÁS BRASILIANO\",OR(Calculadora!$G$7=\"Comercial\")))),IF(AND(A108<>0,B108=0),$C$100,IF(B108>=$C$100,$C$100,0)),IF($D$100<>\"Faixa Única\",IF($D$100<>\"\",IF(SUM($E$102:$E107,$B108)>=$C$100,$C$100-SUM($E$102:$E107),IF($B108=0,$C$100-SUM($E$102:$E107),$B108-$A108)),\"0\"),\"0\"))","v":"0"},0]
[0,0,0,0,{"$f":"IF(AND($B$94=\"SP\",OR(AND($B$93=\"GÁS BRASILIANO\",OR(Calculadora!$G$7=\"Comercial\")))),IF(AND(A109<>0,B109=0),$C$100,IF(B109>=$C$100,$C$100,0)),IF($D$100<>\"Faixa Única\",IF($D$100<>\"\",IF(SUM($E$102:$E108,$B109)>=$C$100,$C$100-SUM($E$102:$E108),IF($B109=0,$C$100-SUM($E$102:$E108),$B109-$A109)),\"0\"),\"0\"))","v":"0"},0]
[0,0,0,0,{"$f":"IF(AND($B$94=\"SP\",OR(AND($B$93=\"GÁS BRASILIANO\",OR(Calculadora!$G$7=\"Comercial\")))),IF(AND(A110<>0,B110=0),$C$100,IF(B110>=$C$100,$C$100,0)),IF($D$100<>\"Faixa Única\",IF($D$100<>\"\",IF(SUM($E$102:$E109,$B110)>=$C$100,$C$100-SUM($E$102:$E109),IF($B110=0,$C$100-SUM($E$102:$E109),$B110-$A110)),\"0\"),\"0\"))","v":"0"},0]
[0,0,0,0,{"$f":"IF(AND($B$94=\"SP\",OR(AND($B$93=\"GÁS BRASILIANO\",OR(Calculadora!$G$7=\"Comercial\")))),IF(AND(A111<>0,B111=0),$C$100,IF(B111>=$C$100,$C$100,0)),IF($D$100<>\"Faixa Única\",IF($D$100<>\"\",IF(SUM($E$102:$E110,$B111)>=$C$100,$C$100-SUM($E$102:$E110),IF($B111=0,$C$100-SUM($E$102:$E110),$B111-$A111)),\"0\"),\"0\"))","v":"0"},0]
[0,0,0,0,{"$f":"IF(AND($B$94=\"SP\",OR(AND($B$93=\"GÁS BRASILIANO\",OR(Calculadora!$G$7=\"Comercial\")))),IF(AND(A112<>0,B112=0),$C$100,IF(B112>=$C$100,$C$100,0)),IF($D$100<>\"Faixa Única\",IF($D$100<>\"\",IF(SUM($E$102:$E111,$B112)>=$C$100,$C$100-SUM($E$102:$E111),IF($B112=0,$C$100-SUM($E$102:$E111),$B112-$A112)),\"0\"),\"0\"))","v":"0"},0]
[0,0,0,0,{"$f":"IF(AND($B$94=\"SP\",OR(AND($B$93=\"GÁS BRASILIANO\",OR(Calculadora!$G$7=\"Comercial\")))),IF(AND(A113<>0,B113=0),$C$100,IF(B113>=$C$100,$C$100,0)),IF($D$100<>\"Faixa Única\",IF($D$100<>\"\",IF(SUM($E$102:$E112,$B113)>=$C$100,$C$100-SUM($E$102:$E112),IF($B113=0,$C$100-SUM($E$102:$E112),$B113-$A113)),\"0\"),\"0\"))","v":"0"},0]
[0,0,0,0,{"$f":"IF(AND($B$94=\"SP\",OR(AND($B$93=\"GÁS BRASILIANO\",OR(Calculadora!$G$7=\"Comercial\")))),IF(AND(A114<>0,B114=0),$C$100,IF(B114>=$C$100,$C$100,0)),IF($D$100<>\"Faixa Única\",IF($D$100<>\"\",IF(SUM($E$102:$E113,$B114)>=$C$100,$C$100-SUM($E$102:$E113),IF($B114=0,$C$100-SUM($E$102:$E113),$B114-$A114)),\"0\"),\"0\"))","v":"0"},0]
[0,0,0,0,{"$f":"IF(AND($B$94=\"SP\",OR(AND($B$93=\"GÁS BRASILIANO\",OR(Calculadora!$G$7=\"Comercial\")))),IF(AND(A115<>0,B115=0),$C$100,IF(B115>=$C$100,$C$100,0)),IF($D$100<>\"Faixa Única\",IF($D$100<>\"\",IF(SUM($E$102:$E114,$B115)>=$C$100,$C$100-SUM($E$102:$E114),IF($B115=0,$C$100-SUM($E$102:$E114),$B115-$A115)),\"0\"),\"0\"))","v":"0"},0]
[]
[null,null,null,"Subtotal",{"$f":"SUM(E102:E115)","v":0},{"$f":"SUM(F102:F115)","v":0}]
[null,null,null,"Termo Fixo",null,{"$f":"LARGE(C102:C115,1)","v":0}]
[null,null,null,"Total c/ impostos",null,{"$f":"F117+F118","v":0}]
[]
[]
["Distribuidora","Naturgy SPS"]
[null,"SP",null,"Independente: Residencial, Comercial e Industrial"]
["Volume",{"$f":"Calculadora!$J$9","v":0},"m³/dia"]
[]
["Tarifa Média",{"$f":"IFERROR(F148/E146,\"\")","v":""},null,null,null,null,{"$f":"_xlfn._xlws.FILTER(Tabela1[CONSUMO],(Calculadora!$J$9>=Tabela1[FAIXA INICIAL])*(Calculadora!$J$9<=Tabela1[FAIXA FINAL])*(Calculadora!$G$7=Tabela1[SEGMENTO])*($B$122=Tabela1[DISTRIBUIDORA])*(\"Itu\"=Tabela1[MUNICÍPIO]),\"\")","v":""},{"$f":"_xlfn._xlws.FILTER(Tabela1[CONSUMO],(Calculadora!$J$9>=Tabela1[FAIXA INICIAL])*(Calculadora!$G$7=Tabela1[SEGMENTO])*($B$122=Tabela1[DISTRIBUIDORA])*(\"Itu\"=Tabela1[MUNICÍPIO]),\"\")","v":""},"Faixa por volume x município x segmento"]
[null,null,null,null,null,null,null,null,"Estado","Município","Agência Regularizadora","Distribuidora","Segmento","Consumo","Faixa Inicial","Faixa Final","Variável","Fixo"]
[null,"m³/dia","m³/dia",null,null,null,null,null,{"$f":"_xlfn._xlws.FILTER(Tabela1[[ESTADO]:[FIXO]],($C129>=Tabela1[FAIXA INICIAL])*(Calculadora!$G$7=Tabela1[SEGMENTO])*($B$122=Tabela1[DISTRIBUIDORA])*(\"Itu\"=Tabela1[MUNICÍPIO]),\"Não foi encontrado valor para esse município e segmento com esse volume\")","v":"Não foi encontrado valor para esse município e segmento com esse volume"}]
[null,{"$f":"B124","v":0},{"$f":"IF($D129=\"Mensal\",Calculadora!$J$9*30,IF($D129=\"Semanal\",Calculadora!$J$9*7,IF($D129=\"Faixa Única\",Calculadora!$J$9*30,Calculadora!$J$9)))","v":0},{"$f":"IF(_xlfn._xlws.FILTER(Tabela1[CONSUMO],(Calculadora!$J$9>=Tabela1[FAIXA INICIAL])*(Calculadora!$J$9<=Tabela1[FAIXA FINAL])*(Calculadora!$G$7=Tabela1[SEGMENTO])*($B122=Tabela1[DISTRIBUIDORA])*(\"Itu\" = Tabela1[MUNICÍPIO]),\"\")=\"\", H126,G126)","v":""}]
["Faixa de Consumo",null,"Fixo                (R$/m³)","Variável (R$/m³)","Consumo      (m³)","Tarifa Aplicada (R$)"]
[{"$f":"O128","v":0},{"$f":"P128","v":0},{"$f":"R128","v":0},{"$f":"Q128","v":0},{"$f":"IF(AND($B$123=\"SP\",OR(AND($B$122=\"COMGÁS\",OR(Calculadora!$G$7=\"Industrial\",Calculadora!$G$7=\"Comercial\")),AND($B$122=\"GÁS BRASILIANO\",Calculadora!$G$7=\"Comercial\"),AND($B$122=\"Naturgy SPS\",Calculadora!$G$7<>\"GNV\"))),IF(AND(A131<>0,B131=0),$C$129,IF(B131>=$C$129,$C$129,0)),IF($D$129=\"Faixa Única\",$C$129,IF($B131>=$C$129,$C$129,$B131-$A131)))","v":0},{"$f":"(D131*E131)","v":0}]
[0,0,{"$f":"R129","v":0},{"$f":"Q129","v":0},{"$f":"IF(AND($B$123=\"SP\",OR(AND($B$122=\"COMGÁS\",OR(Calculadora!$G$7=\"Industrial\",Calculadora!$G$7=\"Comercial\")),AND($B$122=\"GÁS BRASILIANO\",Calculadora!$G$7=\"Comercial\"),AND($B$122=\"Naturgy SPS\",Calculadora!$G$7<>\"GNV\"))),IF(AND(A132<>0,B132=0),$C$129,IF(B132>=$C$129,$C$129,0)),IF($D$129<>\"Faixa Única\",IF($D$129<>\"\",IF(SUM($E$131:$E131,$B132)>=$C$129,$C$129-SUM($E$131:$E131),IF($B132=0,$C$129-SUM($E$131:$E131),$B132-$A132)),\"0\"),\"0\"))","v":0},{"$f":"(D132*E132)","v":0}]
[0,0,{"$f":"R130","v":0},{"$f":"Q130","v":0},{"$f":"IF(AND($B$123=\"SP\",OR(AND($B$122=\"COMGÁS\",OR(Calculadora!$G$7=\"Industrial\",Calculadora!$G$7=\"Comercial\")),AND($B$122=\"GÁS BRASILIANO\",Calculadora!$G$7=\"Comercial\"),AND($B$122=\"Naturgy SPS\",Calculadora!$G$7<>\"GNV\"))),IF(AND(A133<>0,B133=0),$C$129,IF(B133>=$C$129,$C$129,0)),IF($D$129<>\"Faixa Única\",IF($D$129<>\"\",IF(SUM($E$131:$E132,$B133)>=$C$129,$C$129-SUM($E$131:$E132),IF($B133=0,$C$129-SUM($E$131:$E132),$B133-$A133)),\"0\"),\"0\"))","v":0},{"$f":"(D133*E133)","v":0}]
[0,0,{"$f":"R131","v":0},{"$f":"Q131","v":0},{"$f":"IF(AND($B$123=\"SP\",OR(AND($B$122=\"COMGÁS\",OR(Calculadora!$G$7=\"Industrial\",Calculadora!$G$7=\"Comercial\")),AND($B$122=\"GÁS BRASILIANO\",Calculadora!$G$7=\"Comercial\"),AND($B$122=\"Naturgy SPS\",Calculadora!$G$7<>\"GNV\"))),IF(AND(A134<>0,B134=0),$C$129,IF(B134>=$C$129,$C$129,0)),IF($D$129<>\"Faixa Única\",IF($D$129<>\"\",IF(SUM($E$131:$E133,$B134)>=$C$129,$C$129-SUM($E$131:$E133),IF($B134=0,$C$129-SUM($E$131:$E133),$B134-$A134)),\"0\"),\"0\"))","v":0},{"$f":"(D134*E134)","v":0}]
[0,0,0,0,{"$f":"IF(AND($B$123=\"SP\",OR(AND($B$122=\"COMGÁS\",OR(Calculadora!$G$7=\"Industrial\",Calculadora!$G$7=\"Comercial\")),AND($B$122=\"GÁS BRASILIANO\",Calculadora!$G$7=\"Comercial\"),AND($B$122=\"Naturgy SPS\",Calculadora!$G$7<>\"GNV\"))),IF(AND(A135<>0,B135=0),$C$129,IF(B135>=$C$129,$C$129,0)),IF($D$129<>\"Faixa Única\",IF($D$129<>\"\",IF(SUM($E$131:$E134,$B135)>=$C$129,$C$129-SUM($E$131:$E134),IF($B135=0,$C$129-SUM($E$131:$E134),$B135-$A135)),\"0\"),\"0\"))","v":0},0]
[0,0,0,0,{"$f":"IF(AND($B$123=\"SP\",OR(AND($B$122=\"COMGÁS\",OR(Calculadora!$G$7=\"Industrial\",Calculadora!$G$7=\"Comercial\")),AND($B$122=\"GÁS BRASILIANO\",Calculadora!$G$7=\"Comercial\"),AND($B$122=\"Naturgy SPS\",Calculadora!$G$7<>\"GNV\"))),IF(AND(A136<>0,B136=0),$C$129,IF(B136>=$C$129,$C$129,0)),IF($D$129<>\"Faixa Única\",IF($D$129<>\"\",IF(SUM($E$131:$E135,$B136)>=$C$129,$C$129-SUM($E$131:$E135),IF($B136=0,$C$129-SUM($E$131:$E135),$B136-$A136)),\"0\"),\"0\"))","v":0},0]
[0,0,0,0,{"$f":"IF(AND($B$123=\"SP\",OR(AND($B$122=\"COMGÁS\",OR(Calculadora!$G$7=\"Industrial\",Calculadora!$G$7=\"Comercial\")),AND($B$122=\"GÁS BRASILIANO\",Calculadora!$G$7=\"Comercial\"),AND($B$122=\"Naturgy SPS\",Calculadora!$G$7<>\"GNV\"))),IF(AND(A137<>0,B137=0),$C$129,IF(B137>=$C$129,$C$129,0)),IF($D$129<>\"Faixa Única\",IF($D$129<>\"\",IF(SUM($E$131:$E136,$B137)>=$C$129,$C$129-SUM($E$131:$E136),IF($B137=0,$C$129-SUM($E$131:$E136),$B137-$A137)),\"0\"),\"0\"))","v":0},0]
[0,0,0,0,{"$f":"IF(AND($B$123=\"SP\",OR(AND($B$122=\"COMGÁS\",OR(Calculadora!$G$7=\"Industrial\",Calculadora!$G$7=\"Comercial\")),AND($B$122=\"GÁS BRASILIANO\",Calculadora!$G$7=\"Comercial\"),AND($B$122=\"Naturgy SPS\",Calculadora!$G$7<>\"GNV\"))),IF(AND(A138<>0,B138=0),$C$129,IF(B138>=$C$129,$C$129,0)),IF($D$129<>\"Faixa Única\",IF($D$129<>\"\",IF(SUM($E$131:$E137,$B138)>=$C$129,$C$129-SUM($E$131:$E137),IF($B138=0,$C$129-SUM($E$131:$E137),$B138-$A138)),\"0\"),\"0\"))","v":0},0]
[0,0,0,0,{"$f":"IF(AND($B$123=\"SP\",OR(AND($B$122=\"COMGÁS\",OR(Calculadora!$G$7=\"Industrial\",Calculadora!$G$7=\"Comercial\")),AND($B$122=\"GÁS BRASILIANO\",Calculadora!$G$7=\"Comercial\"),AND($B$122=\"Naturgy SPS\",Calculadora!$G$7<>\"GNV\"))),IF(AND(A139<>0,B139=0),$C$129,IF(B139>=$C$129,$C$129,0)),IF($D$129<>\"Faixa Única\",IF($D$129<>\"\",IF(SUM($E$131:$E138,$B139)>=$C$129,$C$129-SUM($E$131:$E138),IF($B139=0,$C$129-SUM($E$131:$E138),$B139-$A139)),\"0\"),\"0\"))","v":0},0]
[0,0,0,0,{"$f":"IF(AND($B$123=\"SP\",OR(AND($B$122=\"COMGÁS\",OR(Calculadora!$G$7=\"Industrial\",Calculadora!$G$7=\"Comercial\")),AND($B$122=\"GÁS BRASILIANO\",Calculadora!$G$7=\"Comercial\"),AND($B$122=\"Naturgy SPS\",Calculadora!$G$7<>\"GNV\"))),IF(AND(A140<>0,B140=0),$C$129,IF(B140>=$C$129,$C$129,0)),IF($D$129<>\"Faixa Única\",IF($D$129<>\"\",IF(SUM($E$131:$E139,$B140)>=$C$129,$C$129-SUM($E$131:$E139),IF($B140=0,$C$129-SUM($E$131:$E139),$B140-$A140)),\"0\"),\"0\"))","v":0},0]
[0,0,0,0,{"$f":"IF(AND($B$123=\"SP\",OR(AND($B$122=\"COMGÁS\",OR(Calculadora!$G$7=\"Industrial\",Calculadora!$G$7=\"Comercial\")),AND($B$122=\"GÁS BRASILIANO\",Calculadora!$G$7=\"Comercial\"),AND($B$122=\"Naturgy SPS\",Calculadora!$G$7<>\"GNV\"))),IF(AND(A141<>0,B141=0),$C$129,IF(B141>=$C$129,$C$129,0)),IF($D$129<>\"Faixa Única\",IF($D$129<>\"\",IF(SUM($E$131:$E140,$B141)>=$C$129,$C$129-SUM($E$131:$E140),IF($B141=0,$C$129-SUM($E$131:$E140),$B141-$A141)),\"0\"),\"0\"))","v":0},0]
[0,0,0,0,{"$f":"IF(AND($B$123=\"SP\",OR(AND($B$122=\"COMGÁS\",OR(Calculadora!$G$7=\"Industrial\",Calculadora!$G$7=\"Comercial\")),AND($B$122=\"GÁS BRASILIANO\",Calculadora!$G$7=\"Comercial\"),AND($B$122=\"Naturgy SPS\",Calculadora!$G$7<>\"GNV\"))),IF(AND(A142<>0,B142=0),$C$129,IF(B142>=$C$129,$C$129,0)),IF($D$129<>\"Faixa Única\",IF($D$129<>\"\",IF(SUM($E$131:$E141,$B142)>=$C$129,$C$129-SUM($E$131:$E141),IF($B142=0,$C$129-SUM($E$131:$E141),$B142-$A142)),\"0\"),\"0\"))","v":0},0]
[0,0,0,0,{"$f":"IF(AND($B$123=\"SP\",OR(AND($B$122=\"COMGÁS\",OR(Calculadora!$G$7=\"Industrial\",Calculadora!$G$7=\"Comercial\")),AND($B$122=\"GÁS BRASILIANO\",Calculadora!$G$7=\"Comercial\"),AND($B$122=\"Naturgy SPS\",Calculadora!$G$7<>\"GNV\"))),IF(AND(A143<>0,B143=0),$C$129,IF(B143>=$C$129,$C$129,0)),IF($D$129<>\"Faixa Única\",IF($D$129<>\"\",IF(SUM($E$131:$E142,$B143)>=$C$129,$C$129-SUM($E$131:$E142),IF($B143=0,$C$129-SUM($E$131:$E142),$B143-$A143)),\"0\"),\"0\"))","v":0},0]
[0,0,0,0,{"$f":"IF(AND($B$123=\"SP\",OR(AND($B$122=\"COMGÁS\",OR(Calculadora!$G$7=\"Industrial\",Calculadora!$G$7=\"Comercial\")),AND($B$122=\"GÁS BRASILIANO\",Calculadora!$G$7=\"Comercial\"),AND($B$122=\"Naturgy SPS\",Calculadora!$G$7<>\"GNV\"))),IF(AND(A144<>0,B144=0),$C$129,IF(B144>=$C$129,$C$129,0)),IF($D$129<>\"Faixa Única\",IF($D$129<>\"\",IF(SUM($E$131:$E143,$B144)>=$C$129,$C$129-SUM($E$131:$E143),IF($B144=0,$C$129-SUM($E$131:$E143),$B144-$A144)),\"0\"),\"0\"))","v":0},0]
[]
[null,null,null,"Subtotal",{"$f":"SUM(E131:E144)","v":0},{"$f":"SUM(F131:F144)","v":0}]
[null,null,null,"Termo Fixo",null,{"$f":"LARGE(C131:C144,1)","v":0}]
[null,null,null,"Total c/ impostos",null,{"$f":"F146+F147","v":0}]
[]
[]
["Distribuidora","CEG RIO"]
[]
["Volume",{"$f":"Calculadora!$J$9","v":0},"m³/dia"]
[]
["Tarifa Média",{"$f":"IFERROR(F177/E175,\"\")","v":""},null,null,null,null,{"$f":"_xlfn._xlws.FILTER(Tabela1[CONSUMO],(Calculadora!$J$9>=Tabela1[FAIXA INICIAL])*(Calculadora!$J$9<=Tabela1[FAIXA FINAL])*(Calculadora!$G$7=Tabela1[SEGMENTO])*($B$151=Tabela1[DISTRIBUIDORA])*(\"Angra dos Reis\"=Tabela1[MUNICÍPIO]),\"\")","v":""},{"$f":"_xlfn._xlws.FILTER(Tabela1[CONSUMO],(Calculadora!$J$9>=Tabela1[FAIXA INICIAL])*(Calculadora!$G$7=Tabela1[SEGMENTO])*($B$151=Tabela1[DISTRIBUIDORA])*(\"Angra dos Reis\"=Tabela1[MUNICÍPIO]),\"\")","v":""},"Faixa por volume x município x segmento"]
[null,null,null,null,null,null,null,null,"Estado","Município","Agência Regularizadora","Distribuidora","Segmento","Consumo","Faixa Inicial","Faixa Final","Variável","Fixo"]
[null,"m³/dia","m³/dia",null,null,null,null,null,{"$f":"_xlfn._xlws.FILTER(Tabela1[[ESTADO]:[FIXO]],($C158>=Tabela1[FAIXA INICIAL])*(Calculadora!$G$7=Tabela1[SEGMENTO])*($B$151=Tabela1[DISTRIBUIDORA])*(\"Angra dos Reis\"=Tabela1[MUNICÍPIO]),\"Não foi encontrado valor para esse município e segmento com esse volume\")","v":"Não foi encontrado valor para esse município e segmento com esse volume"}]
[null,{"$f":"B153","v":0},{"$f":"IF($D158=\"Mensal\",Calculadora!$J$9*30,IF($D158=\"Semanal\",Calculadora!$J$9*7,IF($D158=\"Faixa Única\",Calculadora!$J$9*30,Calculadora!$J$9)))","v":0},{"$f":"IF(_xlfn._xlws.FILTER(Tabela1[CONSUMO],(Calculadora!$J$9>=Tabela1[FAIXA INICIAL])*(Calculadora!$J$9<=Tabela1[FAIXA FINAL])*(Calculadora!$G$7=Tabela1[SEGMENTO])*($B151=Tabela1[DISTRIBUIDORA])*(\"Angra dos Reis\" = Tabela1[MUNICÍPIO]),\"\")=\"\", H155,G155)","v":""}]
["Faixa de Consumo",null,"Fixo                (R$/m³)","Variável (R$/m³)","Consumo      (m³)","Tarifa Aplicada (R$)"]
[{"$f":"O157","v":0},{"$f":"P157","v":0},{"$f":"R157","v":0},{"$f":"Q157","v":0},{"$f":"IF($D$158=\"Faixa Única\",$C$158,IF(B160>C158,C158,B160-A160))","v":0},{"$f":"(D160*E160)","v":0}]
[0,0,{"$f":"R158","v":0},{"$f":"Q158","v":0},{"$f":"IF($D$158<>\"Faixa Única\",IF($C$158<>\"\",IF(SUM(E160,B161)>=$C$158,$C$158-(E160),IF(B161=0,$C$158-SUM(E160),B161-A161)),\"0\"),\"0\")","v":0},{"$f":"(D161*E161)","v":0}]
[0,0,{"$f":"R159","v":0},{"$f":"Q159","v":0},{"$f":"IF($D$158<>\"Faixa Única\",IF($C$158<>\"\",IF(SUM(E161,B162)>=$C$158,$C$158-SUM($E$160:E161),IF(B162=0,$C$158-SUM($E$160:E161),B162-A162)),\"0\"),\"0\")","v":0},{"$f":"(D162*E162)","v":0}]
[0,0,{"$f":"R160","v":0},{"$f":"Q160","v":0},{"$f":"IF($D$158<>\"Faixa Única\",IF($C$158<>\"\",IF(SUM(E162,B163)>=$C$158,$C$158-SUM($E$160:E162),IF(B163=0,$C$158-SUM($E$160:E162),B163-A163)),\"0\"),\"0\")","v":0},{"$f":"(D163*E163)","v":0}]
[0,0,0,{"$f":"Q161","v":0},{"$f":"IF($D$158<>\"Faixa Única\",IF($C$158<>\"\",IF(SUM(E163,B164)>=$C$158,$C$158-SUM($E$160:E163),IF(B164=0,$C$158-SUM($E$160:E163),B164-A164)),\"0\"),\"0\")","v":0},0]
[0,0,0,{"$f":"Q162","v":0},{"$f":"IF($D$158<>\"Faixa Única\",IF($C$158<>\"\",IF(SUM(E164,B165)>=$C$158,$C$158-SUM($E$160:E164),IF(B165=0,$C$158-SUM($E$160:E164),B165-A165)),\"0\"),\"0\")","v":0},0]
[0,0,0,0,{"$f":"IF($D$158<>\"Faixa Única\",IF($C$158<>\"\",IF(SUM(E165,B166)>=$C$158,$C$158-SUM($E$160:E165),IF(B166=0,$C$158-SUM($E$160:E165),B166-A166)),\"0\"),\"0\")","v":0},0]
[0,0,0,0,{"$f":"IF($D$158<>\"Faixa Única\",IF($C$158<>\"\",IF(SUM(E166,B167)>=$C$158,$C$158-SUM($E$160:E166),IF(B167=0,$C$158-SUM($E$160:E166),B167-A167)),\"0\"),\"0\")","v":0},0]
[0,0,0,0,{"$f":"IF($D$158<>\"Faixa Única\",IF($C$158<>\"\",IF(SUM(E167,B168)>=$C$158,$C$158-SUM($E$160:E167),IF(B168=0,$C$158-SUM($E$160:E167),B168-A168)),\"0\"),\"0\")","v":0},0]
[0,0,0,0,{"$f":"IF($D$158<>\"Faixa Única\",IF($C$158<>\"\",IF(SUM(E168,B169)>=$C$158,$C$158-SUM($E$160:E168),IF(B169=0,$C$158-SUM($E$160:E168),B169-A169)),\"0\"),\"0\")","v":0},0]
[0,0,0,0,{"$f":"IF($D$158<>\"Faixa Única\",IF($C$158<>\"\",IF(SUM(E169,B170)>=$C$158,$C$158-SUM($E$160:E169),IF(B170=0,$C$158-SUM($E$160:E169),B170-A170)),\"0\"),\"0\")","v":0},0]
[0,0,0,0,{"$f":"IF($D$158<>\"Faixa Única\",IF($C$158<>\"\",IF(SUM(E170,B171)>=$C$158,$C$158-SUM($E$160:E170),IF(B171=0,$C$158-SUM($E$160:E170),B171-A171)),\"0\"),\"0\")","v":0},0]
[0,0,0,0,{"$f":"IF($D$158<>\"Faixa Única\",IF($C$158<>\"\",IF(SUM(E171,B172)>=$C$158,$C$158-SUM($E$160:E171),IF(B172=0,$C$158-SUM($E$160:E171),B172-A172)),\"0\"),\"0\")","v":0},0]
[0,0,0,0,{"$f":"IF($D$158<>\"Faixa Única\",IF($C$158<>\"\",IF(SUM(E172,B173)>=$C$158,$C$158-SUM($E$160:E172),IF(B173=0,$C$158-SUM($E$160:E172),B173-A173)),\"0\"),\"0\")","v":0},0]
[]
[null,null,null,"Subtotal",{"$f":"SUM(E160:E173)","v":0},{"$f":"SUM(F160:F173)","v":0}]
[null,null,null,"Termo Fixo",null,{"$f":"LARGE(C160:C173,1)","v":0}]
[null,null,null,"Total c/ impostos",null,{"$f":"F175+F176","v":0}]
[]
[]
["Distribuidora","ESGÁS"]
[]
["Volume",{"$f":"Calculadora!$J$9","v":0},"m³/dia"]
[]
["Tarifa Média",{"$f":"IFERROR(F206/E204,\"\")","v":""},null,null,null,null,{"$f":"_xlfn._xlws.FILTER(Tabela1[CONSUMO],(Calculadora!$J$9>=Tabela1[FAIXA INICIAL])*(Calculadora!$J$9<=Tabela1[FAIXA FINAL])*(Calculadora!$G$7=Tabela1[SEGMENTO])*($B$180=Tabela1[DISTRIBUIDORA]),\"\")","v":""},{"$f":"_xlfn._xlws.FILTER(Tabela1[CONSUMO],(Calculadora!$J$9>=Tabela1[FAIXA INICIAL])*(Calculadora!$G$7=Tabela1[SEGMENTO])*($B$180=Tabela1[DISTRIBUIDORA]),\"\")","v":""},"Faixa por volume x município x segmento"]
[null,null,null,null,null,null,null,null,"Estado","Município","Agência Regularizadora","Distribuidora","Segmento","Consumo","Faixa Inicial","Faixa Final","Variável","Fixo"]
[null,"m³/dia","m³/dia",null,null,null,null,null,{"$f":"_xlfn._xlws.FILTER(Tabela1[[ESTADO]:[FIXO]],($C187>=Tabela1[FAIXA INICIAL])*(Calculadora!$G$7=Tabela1[SEGMENTO])*($B$180=Tabela1[DISTRIBUIDORA]),\"Não foi encontrado valor para esse município e segmento com esse volume\")","v":"Não foi encontrado valor para esse município e segmento com esse volume"}]
[null,{"$f":"B182","v":0},{"$f":"IF($D187=\"Mensal\",Calculadora!$J$9*30,IF($D187=\"Semanal\",Calculadora!$J$9*7,IF($D187=\"Faixa Única\",Calculadora!$J$9*30,Calculadora!$J$9)))","v":0},{"$f":"IF(_xlfn._xlws.FILTER(Tabela1[CONSUMO],(Calculadora!$J$9>=Tabela1[FAIXA INICIAL])*(Calculadora!$J$9<=Tabela1[FAIXA FINAL])*(Calculadora!$G$7=Tabela1[SEGMENTO])*($B180=Tabela1[DISTRIBUIDORA]),\"\")=\"\", H184,G184)","v":""}]
["Faixa de Consumo",null,"Fixo                (R$/m³)","Variável (R$/m³)","Consumo      (m³)","Tarifa Aplicada (R$)"]
[{"$f":"O186","v":0},{"$f":"P186","v":0},{"$f":"R186","v":0},{"$f":"Q186","v":0},{"$f":"IF($D$187=\"Faixa Única\",$C$187,IF(B189>C187,C187,B189-A189))","v":0},{"$f":"(D189*E189)","v":0}]
[0,0,{"$f":"R187","v":0},{"$f":"Q187","v":0},{"$f":"IF($D$187<>\"Faixa Única\",IF($C$187<>\"\",IF(SUM(E189,B190)>=$C$187,$C$187-(E189),IF(B190=0,$C$187-SUM(E189),B190-A190)),\"0\"),\"0\")","v":0},{"$f":"(D190*E190)","v":0}]
[0,0,{"$f":"R188","v":0},{"$f":"Q188","v":0},{"$f":"IF($D$187<>\"Faixa Única\",IF($C$187<>\"\",IF(SUM(E190,B191)>=$C$187,$C$187-SUM($E$189:E190),IF(B191=0,$C$187-SUM($E$189:E190),B191-A191)),\"0\"),\"0\")","v":0},{"$f":"(D191*E191)","v":0}]
[0,0,{"$f":"R189","v":0},{"$f":"Q189","v":0},{"$f":"IF($D$187<>\"Faixa Única\",IF($C$187<>\"\",IF(SUM(E191,B192)>=$C$187,$C$187-SUM($E$189:E191),IF(B192=0,$C$187-SUM($E$189:E191),B192-A192)),\"0\"),\"0\")","v":0},{"$f":"(D192*E192)","v":0}]
[0,0,0,{"$f":"Q190","v":0},{"$f":"IF($D$187<>\"Faixa Única\",IF($C$187<>\"\",IF(SUM(E192,B193)>=$C$187,$C$187-SUM($E$189:E192),IF(B193=0,$C$187-SUM($E$189:E192),B193-A193)),\"0\"),\"0\")","v":0},0]
[0,0,0,{"$f":"Q191","v":0},{"$f":"IF($D$187<>\"Faixa Única\",IF($C$187<>\"\",IF(SUM(E193,B194)>=$C$187,$C$187-SUM($E$189:E193),IF(B194=0,$C$187-SUM($E$189:E193),B194-A194)),\"0\"),\"0\")","v":0},0]
[0,0,0,0,{"$f":"IF($D$187<>\"Faixa Única\",IF($C$187<>\"\",IF(SUM(E194,B195)>=$C$187,$C$187-SUM($E$189:E194),IF(B195=0,$C$187-SUM($E$189:E194),B195-A195)),\"0\"),\"0\")","v":0},0]
[0,0,0,0,{"$f":"IF($D$187<>\"Faixa Única\",IF($C$187<>\"\",IF(SUM(E195,B196)>=$C$187,$C$187-SUM($E$189:E195),IF(B196=0,$C$187-SUM($E$189:E195),B196-A196)),\"0\"),\"0\")","v":0},0]
[0,0,0,0,{"$f":"IF($D$187<>\"Faixa Única\",IF($C$187<>\"\",IF(SUM(E196,B197)>=$C$187,$C$187-SUM($E$189:E196),IF(B197=0,$C$187-SUM($E$189:E196),B197-A197)),\"0\"),\"0\")","v":0},0]
[0,0,0,0,{"$f":"IF($D$187<>\"Faixa Única\",IF($C$187<>\"\",IF(SUM(E197,B198)>=$C$187,$C$187-SUM($E$189:E197),IF(B198=0,$C$187-SUM($E$189:E197),B198-A198)),\"0\"),\"0\")","v":0},0]
[0,0,0,0,{"$f":"IF($D$187<>\"Faixa Única\",IF($C$187<>\"\",IF(SUM(E198,B199)>=$C$187,$C$187-SUM($E$189:E198),IF(B199=0,$C$187-SUM($E$189:E198),B199-A199)),\"0\"),\"0\")","v":0},0]
[0,0,0,0,{"$f":"IF($D$187<>\"Faixa Única\",IF($C$187<>\"\",IF(SUM(E199,B200)>=$C$187,$C$187-SUM($E$189:E199),IF(B200=0,$C$187-SUM($E$189:E199),B200-A200)),\"0\"),\"0\")","v":0},0]
[0,0,0,0,{"$f":"IF($D$187<>\"Faixa Única\",IF($C$187<>\"\",IF(SUM(E200,B201)>=$C$187,$C$187-SUM($E$189:E200),IF(B201=0,$C$187-SUM($E$189:E200),B201-A201)),\"0\"),\"0\")","v":0},0]
[0,0,0,0,{"$f":"IF($D$187<>\"Faixa Única\",IF($C$187<>\"\",IF(SUM(E201,B202)>=$C$187,$C$187-SUM($E$189:E201),IF(B202=0,$C$187-SUM($E$189:E201),B202-A202)),\"0\"),\"0\")","v":0},0]
[]
[null,null,null,"Subtotal",{"$f":"SUM(E189:E202)","v":0},{"$f":"SUM(F189:F202)","v":0}]
[null,null,null,"Termo Fixo",null,{"$f":"LARGE(C189:C202,1)","v":0}]
[null,null,null,"Total c/ impostos",null,{"$f":"F204+F205","v":0}]
[]
[]
["Distribuidora","SCGÁS"]
[]
["Volume",{"$f":"Calculadora!$J$9","v":0},"m³/dia"]
[]
["Tarifa Média",{"$f":"IFERROR(F235/E233,\"\")","v":""},null,null,null,null,{"$f":"_xlfn._xlws.FILTER(Tabela1[CONSUMO],(Calculadora!$J$9>=Tabela1[FAIXA INICIAL])*(Calculadora!$J$9<=Tabela1[FAIXA FINAL])*(Calculadora!$G$7=Tabela1[SEGMENTO])*($B$209=Tabela1[DISTRIBUIDORA]),\"\")","v":""},{"$f":"_xlfn._xlws.FILTER(Tabela1[CONSUMO],(Calculadora!$J$9>=Tabela1[FAIXA INICIAL])*(Calculadora!$G$7=Tabela1[SEGMENTO])*($B$209=Tabela1[DISTRIBUIDORA]),\"\")","v":""},"Faixa por volume x município x segmento"]
[null,null,null,null,null,null,null,null,"Estado","Município","Agência Regularizadora","Distribuidora","Segmento","Consumo","Faixa Inicial","Faixa Final","Variável","Fixo"]
[null,"m³/dia","m³/dia",null,null,null,null,null,{"$f":"_xlfn._xlws.FILTER(Tabela1[[ESTADO]:[FIXO]],($C216>=Tabela1[FAIXA INICIAL])*(Calculadora!$G$7=Tabela1[SEGMENTO])*($B$209=Tabela1[DISTRIBUIDORA]),\"Não foi encontrado valor para esse município e segmento com esse volume\")","v":"Não foi encontrado valor para esse município e segmento com esse volume"}]
[null,{"$f":"B211","v":0},{"$f":"IF($D216=\"Mensal\",Calculadora!$J$9*30,IF($D216=\"Semanal\",Calculadora!$J$9*7,IF($D216=\"Faixa Única\",Calculadora!$J$9*30,Calculadora!$J$9)))","v":0},{"$f":"IF(_xlfn._xlws.FILTER(Tabela1[CONSUMO],(Calculadora!$J$9>=Tabela1[FAIXA INICIAL])*(Calculadora!$J$9<=Tabela1[FAIXA FINAL])*(Calculadora!$G$7=Tabela1[SEGMENTO])*($B$209=Tabela1[DISTRIBUIDORA]),\"\")=\"\", H213,G213)","v":""}]
["Faixa de Consumo",null,"Fixo                (R$/m³)","Variável (R$/m³)","Consumo      (m³)","Tarifa Aplicada (R$)"]
[{"$f":"O215","v":0},{"$f":"P215","v":0},{"$f":"R215","v":0},{"$f":"Q215","v":0},{"$f":"IF($D$216=\"Faixa Única\",$C$216,IF(B218>C216,C216,B218-A218))","v":0},{"$f":"(D218*E218)","v":0}]
[0,0,{"$f":"R216","v":0},{"$f":"Q216","v":0},{"$f":"IF($D$216<>\"Faixa Única\",IF($C$216<>\"\",IF(SUM(E218,B219)>=$C$216,$C$216-(E218),IF(B219=0,$C$216-SUM(E218),B219-A219)),\"0\"),\"0\")","v":0},{"$f":"(D219*E219)","v":0}]
[0,0,{"$f":"R217","v":0},{"$f":"Q217","v":0},{"$f":"IF($D$216<>\"Faixa Única\",IF($C$216<>\"\",IF(SUM(E219,B220)>=$C$216,$C$216-SUM($E$218:E219),IF(B220=0,$C$216-SUM($E$218:E219),B220-A220)),\"0\"),\"0\")","v":0},{"$f":"(D220*E220)","v":0}]
[0,0,{"$f":"R218","v":0},{"$f":"Q218","v":0},{"$f":"IF($D$216<>\"Faixa Única\",IF($C$216<>\"\",IF(SUM(E220,B221)>=$C$216,$C$216-SUM($E$218:E220),IF(B221=0,$C$216-SUM($E$218:E220),B221-A221)),\"0\"),\"0\")","v":0},{"$f":"(D221*E221)","v":0}]
[0,0,0,{"$f":"Q219","v":0},{"$f":"IF($D$216<>\"Faixa Única\",IF($C$216<>\"\",IF(SUM(E221,B222)>=$C$216,$C$216-SUM($E$218:E221),IF(B222=0,$C$216-SUM($E$218:E221),B222-A222)),\"0\"),\"0\")","v":0},0]
[0,0,0,{"$f":"Q220","v":0},{"$f":"IF($D$216<>\"Faixa Única\",IF($C$216<>\"\",IF(SUM(E222,B223)>=$C$216,$C$216-SUM($E$218:E222),IF(B223=0,$C$216-SUM($E$218:E222),B223-A223)),\"0\"),\"0\")","v":0},0]
[0,0,0,0,{"$f":"IF($D$216<>\"Faixa Única\",IF($C$216<>\"\",IF(SUM(E223,B224)>=$C$216,$C$216-SUM($E$218:E223),IF(B224=0,$C$216-SUM($E$218:E223),B224-A224)),\"0\"),\"0\")","v":0},0]
[0,0,0,0,{"$f":"IF($D$216<>\"Faixa Única\",IF($C$216<>\"\",IF(SUM(E224,B225)>=$C$216,$C$216-SUM($E$218:E224),IF(B225=0,$C$216-SUM($E$218:E224),B225-A225)),\"0\"),\"0\")","v":0},0]
[0,0,0,0,{"$f":"IF($D$216<>\"Faixa Única\",IF($C$216<>\"\",IF(SUM(E225,B226)>=$C$216,$C$216-SUM($E$218:E225),IF(B226=0,$C$216-SUM($E$218:E225),B226-A226)),\"0\"),\"0\")","v":0},0]
[0,0,0,0,{"$f":"IF($D$216<>\"Faixa Única\",IF($C$216<>\"\",IF(SUM(E226,B227)>=$C$216,$C$216-SUM($E$218:E226),IF(B227=0,$C$216-SUM($E$218:E226),B227-A227)),\"0\"),\"0\")","v":0},0]
[0,0,0,0,{"$f":"IF($D$216<>\"Faixa Única\",IF($C$216<>\"\",IF(SUM(E227,B228)>=$C$216,$C$216-SUM($E$218:E227),IF(B228=0,$C$216-SUM($E$218:E227),B228-A228)),\"0\"),\"0\")","v":0},0]
[0,0,0,0,{"$f":"IF($D$216<>\"Faixa Única\",IF($C$216<>\"\",IF(SUM(E228,B229)>=$C$216,$C$216-SUM($E$218:E228),IF(B229=0,$C$216-SUM($E$218:E228),B229-A229)),\"0\"),\"0\")","v":0},0]
[0,0,0,0,{"$f":"IF($D$216<>\"Faixa Única\",IF($C$216<>\"\",IF(SUM(E229,B230)>=$C$216,$C$216-SUM($E$218:E229),IF(B230=0,$C$216-SUM($E$218:E229),B230-A230)),\"0\"),\"0\")","v":0},0]
[0,0,0,0,{"$f":"IF($D$216<>\"Faixa Única\",IF($C$216<>\"\",IF(SUM(E230,B231)>=$C$216,$C$216-SUM($E$218:E230),IF(B231=0,$C$216-SUM($E$218:E230),B231-A231)),\"0\"),\"0\")","v":0},0]
[]
[null,null,null,"Subtotal",{"$f":"SUM(E218:E231)","v":0},{"$f":"SUM(F218:F231)","v":0}]
[null,null,null,"Termo Fixo",null,{"$f":"LARGE(C218:C231,1)","v":0}]
[null,null,null,"Total c/ impostos",null,{"$f":"F233+F234","v":0}]
[]
[]
["Distribuidora","SULGÁS"]
[]
["Volume",{"$f":"Calculadora!$J$9","v":0},"m³/dia"]
[]
["Tarifa Média",{"$f":"IFERROR(F264/E262,\"\")","v":""},null,null,null,null,{"$f":"_xlfn._xlws.FILTER(Tabela1[CONSUMO],(Calculadora!$J$9>=Tabela1[FAIXA INICIAL])*(Calculadora!$J$9<=Tabela1[FAIXA FINAL])*(Calculadora!$G$7=Tabela1[SEGMENTO])*($B$238=Tabela1[DISTRIBUIDORA]),\"\")","v":""},{"$f":"_xlfn._xlws.FILTER(Tabela1[CONSUMO],(Calculadora!$J$9>=Tabela1[FAIXA INICIAL])*(Calculadora!$G$7=Tabela1[SEGMENTO])*($B$238=Tabela1[DISTRIBUIDORA]),\"\")","v":""},"Faixa por volume x município x segmento"]
[null,null,null,null,null,null,null,null,"Estado","Município","Agência Regularizadora","Distribuidora","Segmento","Consumo","Faixa Inicial","Faixa Final","Variável","Fixo"]
[null,"m³/dia","m³/dia",null,null,null,null,null,{"$f":"_xlfn._xlws.FILTER(Tabela1[[ESTADO]:[FIXO]],($C245>=Tabela1[FAIXA INICIAL])*(Calculadora!$G$7=Tabela1[SEGMENTO])*($B$238=Tabela1[DISTRIBUIDORA]),\"Não foi encontrado valor para esse município e segmento com esse volume\")","v":"Não foi encontrado valor para esse município e segmento com esse volume"}]
[null,{"$f":"B240","v":0},{"$f":"IF($D245=\"Mensal\",Calculadora!$J$9*30,IF($D245=\"Semanal\",Calculadora!$J$9*7,IF($D245=\"Faixa Única\",Calculadora!$J$9*30,Calculadora!$J$9)))","v":0},{"$f":"IF(_xlfn._xlws.FILTER(Tabela1[CONSUMO],(Calculadora!$J$9>=Tabela1[FAIXA INICIAL])*(Calculadora!$J$9<=Tabela1[FAIXA FINAL])*(Calculadora!$G$7=Tabela1[SEGMENTO])*($B238=Tabela1[DISTRIBUIDORA]),\"\")=\"\", H242,G242)","v":""}]
["Faixa de Consumo",null,"Fixo                (R$/m³)","Variável (R$/m³)","Consumo      (m³)","Tarifa Aplicada (R$)"]
[{"$f":"O244","v":0},{"$f":"P244","v":0},{"$f":"R244","v":0},{"$f":"Q244","v":0},{"$f":"IF($D$245=\"Faixa Única\",$C$245,IF(B247>C245,C245,B247-A247))","v":0},{"$f":"(D247*E247)","v":0}]
[0,0,{"$f":"R245","v":0},{"$f":"Q245","v":0},{"$f":"IF($D$245<>\"Faixa Única\",IF($C$245<>\"\",IF(SUM(E247,B248)>=$C$245,$C$245-(E247),IF(B248=0,$C$245-SUM(E247),B248-A248)),\"0\"),\"0\")","v":0},{"$f":"(D248*E248)","v":0}]
[0,0,{"$f":"R246","v":0},{"$f":"Q246","v":0},{"$f":"IF($D$245<>\"Faixa Única\",IF($C$245<>\"\",IF(SUM(E248,B249)>=$C$245,$C$245-SUM($E$247:E248),IF(B249=0,$C$245-SUM($E$247:E248),B249-A249)),\"0\"),\"0\")","v":0},{"$f":"(D249*E249)","v":0}]
[0,0,{"$f":"R247","v":0},{"$f":"Q247","v":0},{"$f":"IF($D$245<>\"Faixa Única\",IF($C$245<>\"\",IF(SUM(E249,B250)>=$C$245,$C$245-SUM($E$247:E249),IF(B250=0,$C$245-SUM($E$247:E249),B250-A250)),\"0\"),\"0\")","v":0},{"$f":"(D250*E250)","v":0}]
[0,0,0,{"$f":"Q248","v":0},{"$f":"IF($D$245<>\"Faixa Única\",IF($C$245<>\"\",IF(SUM(E250,B251)>=$C$245,$C$245-SUM($E$247:E250),IF(B251=0,$C$245-SUM($E$247:E250),B251-A251)),\"0\"),\"0\")","v":0},0]
[0,0,0,{"$f":"Q249","v":0},{"$f":"IF($D$245<>\"Faixa Única\",IF($C$245<>\"\",IF(SUM(E251,B252)>=$C$245,$C$245-SUM($E$247:E251),IF(B252=0,$C$245-SUM($E$247:E251),B252-A252)),\"0\"),\"0\")","v":0},0]
[0,0,0,0,{"$f":"IF($D$245<>\"Faixa Única\",IF($C$245<>\"\",IF(SUM(E252,B253)>=$C$245,$C$245-SUM($E$247:E252),IF(B253=0,$C$245-SUM($E$247:E252),B253-A253)),\"0\"),\"0\")","v":0},0]
[0,0,0,0,{"$f":"IF($D$245<>\"Faixa Única\",IF($C$245<>\"\",IF(SUM(E253,B254)>=$C$245,$C$245-SUM($E$247:E253),IF(B254=0,$C$245-SUM($E$247:E253),B254-A254)),\"0\"),\"0\")","v":0},0]
[0,0,0,0,{"$f":"IF($D$245<>\"Faixa Única\",IF($C$245<>\"\",IF(SUM(E254,B255)>=$C$245,$C$245-SUM($E$247:E254),IF(B255=0,$C$245-SUM($E$247:E254),B255-A255)),\"0\"),\"0\")","v":0},0]
[0,0,0,0,{"$f":"IF($D$245<>\"Faixa Única\",IF($C$245<>\"\",IF(SUM(E255,B256)>=$C$245,$C$245-SUM($E$247:E255),IF(B256=0,$C$245-SUM($E$247:E255),B256-A256)),\"0\"),\"0\")","v":0},0]
[0,0,0,0,{"$f":"IF($D$245<>\"Faixa Única\",IF($C$245<>\"\",IF(SUM(E256,B257)>=$C$245,$C$245-SUM($E$247:E256),IF(B257=0,$C$245-SUM($E$247:E256),B257-A257)),\"0\"),\"0\")","v":0},0]
[0,0,0,0,{"$f":"IF($D$245<>\"Faixa Única\",IF($C$245<>\"\",IF(SUM(E257,B258)>=$C$245,$C$245-SUM($E$247:E257),IF(B258=0,$C$245-SUM($E$247:E257),B258-A258)),\"0\"),\"0\")","v":0},0]
[0,0,0,0,{"$f":"IF($D$245<>\"Faixa Única\",IF($C$245<>\"\",IF(SUM(E258,B259)>=$C$245,$C$245-SUM($E$247:E258),IF(B259=0,$C$245-SUM($E$247:E258),B259-A259)),\"0\"),\"0\")","v":0},0]
[0,0,0,0,{"$f":"IF($D$245<>\"Faixa Única\",IF($C$245<>\"\",IF(SUM(E259,B260)>=$C$245,$C$245-SUM($E$247:E259),IF(B260=0,$C$245-SUM($E$247:E259),B260-A260)),\"0\"),\"0\")","v":0},0]
[]
[null,null,null,"Subtotal",{"$f":"SUM(E247:E260)","v":0},{"$f":"SUM(F247:F260)","v":0}]
[null,null,null,"Termo Fixo",null,{"$f":"LARGE(C247:C260,1)","v":0}]
[null,null,null,"Total c/ impostos",null,{"$f":"F262+F263","v":0}]
[]
[]
["Distribuidora","BAHIAGÁS"]
[]
["Volume",{"$f":"Calculadora!$J$9","v":0},"m³/dia"]
[]
["Tarifa Média",{"$f":"IFERROR(F293/E291,\"\")","v":""},null,null,null,null,{"$f":"_xlfn._xlws.FILTER(Tabela1[CONSUMO],(Calculadora!$J$9>=Tabela1[FAIXA INICIAL])*(Calculadora!$J$9<=Tabela1[FAIXA FINAL])*(Calculadora!$G$7=Tabela1[SEGMENTO])*($B$267=Tabela1[DISTRIBUIDORA]),\"\")","v":""},{"$f":"_xlfn._xlws.FILTER(Tabela1[CONSUMO],(Calculadora!$J$9>=Tabela1[FAIXA INICIAL])*(Calculadora!$G$7=Tabela1[SEGMENTO])*($B$267=Tabela1[DISTRIBUIDORA]),\"\")","v":""},"Faixa por volume x município x segmento"]
[null,null,null,null,null,null,null,null,"Estado","Município","Agência Regularizadora","Distribuidora","Segmento","Consumo","Faixa Inicial","Faixa Final","Variável","Fixo"]
[null,"m³/dia","m³/dia",null,null,null,null,null,{"$f":"_xlfn._xlws.FILTER(Tabela1[[ESTADO]:[FIXO]],($C274>=Tabela1[FAIXA INICIAL])*(Calculadora!$G$7=Tabela1[SEGMENTO])*($B$267=Tabela1[DISTRIBUIDORA]),\"Não foi encontrado valor para esse município e segmento com esse volume\")","v":"Não foi encontrado valor para esse município e segmento com esse volume"}]
[null,{"$f":"B269","v":0},{"$f":"IF($D274=\"Mensal\",Calculadora!$J$9*30,IF($D274=\"Semanal\",Calculadora!$J$9*7,IF($D274=\"Faixa Única\",Calculadora!$J$9*30,Calculadora!$J$9)))","v":0},{"$f":"IF(_xlfn._xlws.FILTER(Tabela1[CONSUMO],(Calculadora!$J$9>=Tabela1[FAIXA INICIAL])*(Calculadora!$J$9<=Tabela1[FAIXA FINAL])*(Calculadora!$G$7=Tabela1[SEGMENTO])*($B267=Tabela1[DISTRIBUIDORA]),\"\")=\"\", H271,G271)","v":""}]
["Faixa de Consumo",null,"Fixo                (R$/m³)","Variável (R$/m³)","Consumo      (m³)","Tarifa Aplicada (R$)"]
[{"$f":"O273","v":0},{"$f":"P273","v":0},{"$f":"R273","v":0},{"$f":"Q273","v":0},{"$f":"IF($D$274=\"Faixa Única\",$C$274,IF(B276>C274,C274,B276-A276))","v":0},{"$f":"(D276*E276)","v":0}]
[0,0,{"$f":"R274","v":0},{"$f":"Q274","v":0},{"$f":"IF($D$274<>\"Faixa Única\",IF($C$274<>\"\",IF(SUM(E276,B277)>=$C$274,$C$274-(E276),IF(B277=0,$C$274-SUM(E276),B277-A277)),\"0\"),\"0\")","v":0},{"$f":"(D277*E277)","v":0}]
[0,0,{"$f":"R275","v":0},{"$f":"Q275","v":0},{"$f":"IF($D$274<>\"Faixa Única\",IF($C$274<>\"\",IF(SUM(E277,B278)>=$C$274,$C$274-SUM($E$276:E277),IF(B278=0,$C$274-SUM($E$276:E277),B278-A278)),\"0\"),\"0\")","v":0},{"$f":"(D278*E278)","v":0}]
[0,0,{"$f":"R276","v":0},{"$f":"Q276","v":0},{"$f":"IF($D$274<>\"Faixa Única\",IF($C$274<>\"\",IF(SUM(E278,B279)>=$C$274,$C$274-SUM($E$276:E278),IF(B279=0,$C$274-SUM($E$276:E278),B279-A279)),\"0\"),\"0\")","v":0},{"$f":"(D279*E279)","v":0}]
[0,0,0,{"$f":"Q277","v":0},{"$f":"IF($D$274<>\"Faixa Única\",IF($C$274<>\"\",IF(SUM(E279,B280)>=$C$274,$C$274-SUM($E$276:E279),IF(B280=0,$C$274-SUM($E$276:E279),B280-A280)),\"0\"),\"0\")","v":0},0]
[0,0,0,{"$f":"Q278","v":0},{"$f":"IF($D$274<>\"Faixa Única\",IF($C$274<>\"\",IF(SUM(E280,B281)>=$C$274,$C$274-SUM($E$276:E280),IF(B281=0,$C$274-SUM($E$276:E280),B281-A281)),\"0\"),\"0\")","v":0},0]
[0,0,0,0,{"$f":"IF($D$274<>\"Faixa Única\",IF($C$274<>\"\",IF(SUM(E281,B282)>=$C$274,$C$274-SUM($E$276:E281),IF(B282=0,$C$274-SUM($E$276:E281),B282-A282)),\"0\"),\"0\")","v":0},0]
[0,0,0,0,{"$f":"IF($D$274<>\"Faixa Única\",IF($C$274<>\"\",IF(SUM(E282,B283)>=$C$274,$C$274-SUM($E$276:E282),IF(B283=0,$C$274-SUM($E$276:E282),B283-A283)),\"0\"),\"0\")","v":0},0]
[0,0,0,0,{"$f":"IF($D$274<>\"Faixa Única\",IF($C$274<>\"\",IF(SUM(E283,B284)>=$C$274,$C$274-SUM($E$276:E283),IF(B284=0,$C$274-SUM($E$276:E283),B284-A284)),\"0\"),\"0\")","v":0},0]
[0,0,0,0,{"$f":"IF($D$274<>\"Faixa Única\",IF($C$274<>\"\",IF(SUM(E284,B285)>=$C$274,$C$274-SUM($E$276:E284),IF(B285=0,$C$274-SUM($E$276:E284),B285-A285)),\"0\"),\"0\")","v":0},0]
[0,0,0,0,{"$f":"IF($D$274<>\"Faixa Única\",IF($C$274<>\"\",IF(SUM(E285,B286)>=$C$274,$C$274-SUM($E$276:E285),IF(B286=0,$C$274-SUM($E$276:E285),B286-A286)),\"0\"),\"0\")","v":0},0]
[0,0,0,0,{"$f":"IF($D$274<>\"Faixa Única\",IF($C$274<>\"\",IF(SUM(E286,B287)>=$C$274,$C$274-SUM($E$276:E286),IF(B287=0,$C$274-SUM($E$276:E286),B287-A287)),\"0\"),\"0\")","v":0},0]
[0,0,0,0,{"$f":"IF($D$274<>\"Faixa Única\",IF($C$274<>\"\",IF(SUM(E287,B288)>=$C$274,$C$274-SUM($E$276:E287),IF(B288=0,$C$274-SUM($E$276:E287),B288-A288)),\"0\"),\"0\")","v":0},0]
[0,0,0,0,{"$f":"IF($D$274<>\"Faixa Única\",IF($C$274<>\"\",IF(SUM(E288,B289)>=$C$274,$C$274-SUM($E$276:E288),IF(B289=0,$C$274-SUM($E$276:E288),B289-A289)),\"0\"),\"0\")","v":0},0]
[]
[null,null,null,"Subtotal",{"$f":"SUM(E276:E289)","v":0},{"$f":"SUM(F276:F289)","v":0}]
[null,null,null,"Termo Fixo",null,{"$f":"LARGE(C276:C289,1)","v":0}]
[null,null,null,"Total c/ impostos",null,{"$f":"F291+F292","v":0}]
[]
[]
["Distribuidora","SERGÁS"]
[]
["Volume",{"$f":"Calculadora!$J$9","v":0},"m³/dia"]
[]
["Tarifa Média",{"$f":"IFERROR(F322/E320,\"\")","v":""},null,null,null,null,{"$f":"_xlfn._xlws.FILTER(Tabela1[CONSUMO],(Calculadora!$J$9>=Tabela1[FAIXA INICIAL])*(Calculadora!$J$9<=Tabela1[FAIXA FINAL])*(Calculadora!$G$7=Tabela1[SEGMENTO])*($B$296=Tabela1[DISTRIBUIDORA]),\"\")","v":""},{"$f":"_xlfn._xlws.FILTER(Tabela1[CONSUMO],(Calculadora!$J$9>=Tabela1[FAIXA INICIAL])*(Calculadora!$G$7=Tabela1[SEGMENTO])*($B$296=Tabela1[DISTRIBUIDORA]),\"\")","v":""},"Faixa por volume x município x segmento"]
[null,null,null,null,null,null,null,null,"Estado","Município","Agência Regularizadora","Distribuidora","Segmento","Consumo","Faixa Inicial","Faixa Final","Variável","Fixo"]
[null,"m³/dia","m³/dia",null,null,null,null,null,{"$f":"_xlfn._xlws.FILTER(Tabela1[[ESTADO]:[FIXO]],($C303>=Tabela1[FAIXA INICIAL])*(Calculadora!$G$7=Tabela1[SEGMENTO])*($B$296=Tabela1[DISTRIBUIDORA]),\"Não foi encontrado valor para esse município e segmento com esse volume\")","v":"Não foi encontrado valor para esse município e segmento com esse volume"}]
[null,{"$f":"B298","v":0},{"$f":"IF($D303=\"Mensal\",Calculadora!$J$9*30,IF($D303=\"Semanal\",Calculadora!$J$9*7,IF($D303=\"Faixa Única\",Calculadora!$J$9*30,Calculadora!$J$9)))","v":0},{"$f":"IF(_xlfn._xlws.FILTER(Tabela1[CONSUMO],(Calculadora!$J$9>=Tabela1[FAIXA INICIAL])*(Calculadora!$J$9<=Tabela1[FAIXA FINAL])*(Calculadora!$G$7=Tabela1[SEGMENTO])*($B$296=Tabela1[DISTRIBUIDORA]),\"\")=\"\", H300,G300)","v":""}]
["Faixa de Consumo",null,"Fixo                (R$/m³)","Variável (R$/m³)","Consumo      (m³)","Tarifa Aplicada (R$)"]
[{"$f":"O302","v":0},{"$f":"P302","v":0},{"$f":"R302","v":0},{"$f":"Q302","v":0},{"$f":"IF($D$303=\"Faixa Única\",$C$303,IF(B305>C303,C303,B305-A305))","v":0},{"$f":"(D305*E305)","v":0}]
[0,0,{"$f":"R303","v":0},{"$f":"Q303","v":0},{"$f":"IF($D$303<>\"Faixa Única\",IF($C$303<>\"\",IF(SUM(E305,B306)>=$C$303,$C$303-(E305),IF(B306=0,$C$303-SUM(E305),B306-A306)),\"0\"),\"0\")","v":0},{"$f":"(D306*E306)","v":0}]
[0,0,{"$f":"R304","v":0},{"$f":"Q304","v":0},{"$f":"IF($D$303<>\"Faixa Única\",IF($C$303<>\"\",IF(SUM(E306,B307)>=$C$303,$C$303-SUM($E$305:E306),IF(B307=0,$C$303-SUM($E$305:E306),B307-A307)),\"0\"),\"0\")","v":0},{"$f":"(D307*E307)","v":0}]
[0,0,{"$f":"R305","v":0},{"$f":"Q305","v":0},{"$f":"IF($D$303<>\"Faixa Única\",IF($C$303<>\"\",IF(SUM(E307,B308)>=$C$303,$C$303-SUM($E$305:E307),IF(B308=0,$C$303-SUM($E$305:E307),B308-A308)),\"0\"),\"0\")","v":0},{"$f":"(D308*E308)","v":0}]
[0,0,0,{"$f":"Q306","v":0},{"$f":"IF($D$303<>\"Faixa Única\",IF($C$303<>\"\",IF(SUM(E308,B309)>=$C$303,$C$303-SUM($E$305:E308),IF(B309=0,$C$303-SUM($E$305:E308),B309-A309)),\"0\"),\"0\")","v":0},0]
[0,0,0,{"$f":"Q307","v":0},{"$f":"IF($D$303<>\"Faixa Única\",IF($C$303<>\"\",IF(SUM(E309,B310)>=$C$303,$C$303-SUM($E$305:E309),IF(B310=0,$C$303-SUM($E$305:E309),B310-A310)),\"0\"),\"0\")","v":0},0]
[0,0,0,0,{"$f":"IF($D$303<>\"Faixa Única\",IF($C$303<>\"\",IF(SUM(E310,B311)>=$C$303,$C$303-SUM($E$305:E310),IF(B311=0,$C$303-SUM($E$305:E310),B311-A311)),\"0\"),\"0\")","v":0},0]
[0,0,0,0,{"$f":"IF($D$303<>\"Faixa Única\",IF($C$303<>\"\",IF(SUM(E311,B312)>=$C$303,$C$303-SUM($E$305:E311),IF(B312=0,$C$303-SUM($E$305:E311),B312-A312)),\"0\"),\"0\")","v":0},0]
[0,0,0,0,{"$f":"IF($D$303<>\"Faixa Única\",IF($C$303<>\"\",IF(SUM(E312,B313)>=$C$303,$C$303-SUM($E$305:E312),IF(B313=0,$C$303-SUM($E$305:E312),B313-A313)),\"0\"),\"0\")","v":0},0]
[0,0,0,0,{"$f":"IF($D$303<>\"Faixa Única\",IF($C$303<>\"\",IF(SUM(E313,B314)>=$C$303,$C$303-SUM($E$305:E313),IF(B314=0,$C$303-SUM($E$305:E313),B314-A314)),\"0\"),\"0\")","v":0},0]
[0,0,0,0,{"$f":"IF($D$303<>\"Faixa Única\",IF($C$303<>\"\",IF(SUM(E314,B315)>=$C$303,$C$303-SUM($E$305:E314),IF(B315=0,$C$303-SUM($E$305:E314),B315-A315)),\"0\"),\"0\")","v":0},0]
[0,0,0,0,{"$f":"IF($D$303<>\"Faixa Única\",IF($C$303<>\"\",IF(SUM(E315,B316)>=$C$303,$C$303-SUM($E$305:E315),IF(B316=0,$C$303-SUM($E$305:E315),B316-A316)),\"0\"),\"0\")","v":0},0]
[0,0,0,0,{"$f":"IF($D$303<>\"Faixa Única\",IF($C$303<>\"\",IF(SUM(E316,B317)>=$C$303,$C$303-SUM($E$305:E316),IF(B317=0,$C$303-SUM($E$305:E316),B317-A317)),\"0\"),\"0\")","v":0},0]
[0,0,0,0,{"$f":"IF($D$303<>\"Faixa Única\",IF($C$303<>\"\",IF(SUM(E317,B318)>=$C$303,$C$303-SUM($E$305:E317),IF(B318=0,$C$303-SUM($E$305:E317),B318-A318)),\"0\"),\"0\")","v":0},0]
[]
[null,null,null,"Subtotal",{"$f":"SUM(E305:E318)","v":0},{"$f":"SUM(F305:F318)","v":0}]
[null,null,null,"Termo Fixo",null,{"$f":"LARGE(C305:C318,1)","v":0}]
[null,null,null,"Total c/ impostos",null,{"$f":"F320+F321","v":0}]
[]
[]
["Distribuidora","ALGÁS"]
[]
["Volume",{"$f":"Calculadora!$J$9","v":0},"m³/dia"]
[]
["Tarifa Média",{"$f":"IFERROR(F351/E349,\"\")","v":""},null,null,null,null,{"$f":"_xlfn._xlws.FILTER(Tabela1[CONSUMO],(Calculadora!$J$9>=Tabela1[FAIXA INICIAL])*(Calculadora!$J$9<=Tabela1[FAIXA FINAL])*(Calculadora!$G$7=Tabela1[SEGMENTO])*($B$325=Tabela1[DISTRIBUIDORA]),\"\")","v":""},{"$f":"_xlfn._xlws.FILTER(Tabela1[CONSUMO],(Calculadora!$J$9>=Tabela1[FAIXA INICIAL])*(Calculadora!$G$7=Tabela1[SEGMENTO])*($B$325=Tabela1[DISTRIBUIDORA]),\"\")","v":""},"Faixa por volume x município x segmento"]
[null,null,null,null,null,null,null,null,"Estado","Município","Agência Regularizadora","Distribuidora","Segmento","Consumo","Faixa Inicial","Faixa Final","Variável","Fixo"]
[null,"m³/dia","m³/dia",null,null,null,null,null,{"$f":"_xlfn._xlws.FILTER(Tabela1[[ESTADO]:[FIXO]],($C332>=Tabela1[FAIXA INICIAL])*(Calculadora!$G$7=Tabela1[SEGMENTO])*($B$325=Tabela1[DISTRIBUIDORA]),\"Não foi encontrado valor para esse município e segmento com esse volume\")","v":"Não foi encontrado valor para esse município e segmento com esse volume"}]
[null,{"$f":"B327","v":0},{"$f":"IF($D332=\"Mensal\",Calculadora!$J$9*30,IF($D332=\"Semanal\",Calculadora!$J$9*7,IF($D332=\"Faixa Única\",Calculadora!$J$9*30,Calculadora!$J$9)))","v":0},{"$f":"IF(_xlfn._xlws.FILTER(Tabela1[CONSUMO],(Calculadora!$J$9>=Tabela1[FAIXA INICIAL])*(Calculadora!$J$9<=Tabela1[FAIXA FINAL])*(Calculadora!$G$7=Tabela1[SEGMENTO])*($B325=Tabela1[DISTRIBUIDORA]),\"\")=\"\", H329,G329)","v":""}]
["Faixa de Consumo",null,"Fixo                (R$/m³)","Variável (R$/m³)","Consumo      (m³)","Tarifa Aplicada (R$)"]
[{"$f":"O331","v":0},{"$f":"P331","v":0},{"$f":"R331","v":0},{"$f":"Q331","v":0},{"$f":"IF($D$332=\"Faixa Única\",$C$332,IF(B334>C332,C332,B334-A334))","v":0},{"$f":"(D334*E334)","v":0}]
[0,0,{"$f":"R332","v":0},{"$f":"Q332","v":0},{"$f":"IF($D$332<>\"Faixa Única\",IF($C$332<>\"\",IF(SUM(E334,B335)>=$C$332,$C$332-(E334),IF(B335=0,$C$332-SUM(E334),B335-A335)),\"0\"),\"0\")","v":0},{"$f":"(D335*E335)","v":0}]
[0,0,{"$f":"R333","v":0},{"$f":"Q333","v":0},{"$f":"IF($D$332<>\"Faixa Única\",IF($C$332<>\"\",IF(SUM(E335,B336)>=$C$332,$C$332-SUM($E$334:E335),IF(B336=0,$C$332-SUM($E$334:E335),B336-A336)),\"0\"),\"0\")","v":0},{"$f":"(D336*E336)","v":0}]
[0,0,{"$f":"R334","v":0},{"$f":"Q334","v":0},{"$f":"IF($D$332<>\"Faixa Única\",IF($C$332<>\"\",IF(SUM(E336,B337)>=$C$332,$C$332-SUM($E$334:E336),IF(B337=0,$C$332-SUM($E$334:E336),B337-A337)),\"0\"),\"0\")","v":0},{"$f":"(D337*E337)","v":0}]
[0,0,0,{"$f":"Q335","v":0},{"$f":"IF($D$332<>\"Faixa Única\",IF($C$332<>\"\",IF(SUM(E337,B338)>=$C$332,$C$332-SUM($E$334:E337),IF(B338=0,$C$332-SUM($E$334:E337),B338-A338)),\"0\"),\"0\")","v":0},0]
[0,0,0,{"$f":"Q336","v":0},{"$f":"IF($D$332<>\"Faixa Única\",IF($C$332<>\"\",IF(SUM(E338,B339)>=$C$332,$C$332-SUM($E$334:E338),IF(B339=0,$C$332-SUM($E$334:E338),B339-A339)),\"0\"),\"0\")","v":0},0]
[0,0,0,0,{"$f":"IF($D$332<>\"Faixa Única\",IF($C$332<>\"\",IF(SUM(E339,B340)>=$C$332,$C$332-SUM($E$334:E339),IF(B340=0,$C$332-SUM($E$334:E339),B340-A340)),\"0\"),\"0\")","v":0},0]
[0,0,0,0,{"$f":"IF($D$332<>\"Faixa Única\",IF($C$332<>\"\",IF(SUM(E340,B341)>=$C$332,$C$332-SUM($E$334:E340),IF(B341=0,$C$332-SUM($E$334:E340),B341-A341)),\"0\"),\"0\")","v":0},0]
[0,0,0,0,{"$f":"IF($D$332<>\"Faixa Única\",IF($C$332<>\"\",IF(SUM(E341,B342)>=$C$332,$C$332-SUM($E$334:E341),IF(B342=0,$C$332-SUM($E$334:E341),B342-A342)),\"0\"),\"0\")","v":0},0]
[0,0,0,0,{"$f":"IF($D$332<>\"Faixa Única\",IF($C$332<>\"\",IF(SUM(E342,B343)>=$C$332,$C$332-SUM($E$334:E342),IF(B343=0,$C$332-SUM($E$334:E342),B343-A343)),\"0\"),\"0\")","v":0},0]
[0,0,0,0,{"$f":"IF($D$332<>\"Faixa Única\",IF($C$332<>\"\",IF(SUM(E343,B344)>=$C$332,$C$332-SUM($E$334:E343),IF(B344=0,$C$332-SUM($E$334:E343),B344-A344)),\"0\"),\"0\")","v":0},0]
[0,0,0,0,{"$f":"IF($D$332<>\"Faixa Única\",IF($C$332<>\"\",IF(SUM(E344,B345)>=$C$332,$C$332-SUM($E$334:E344),IF(B345=0,$C$332-SUM($E$334:E344),B345-A345)),\"0\"),\"0\")","v":0},0]
[0,0,0,0,{"$f":"IF($D$332<>\"Faixa Única\",IF($C$332<>\"\",IF(SUM(E345,B346)>=$C$332,$C$332-SUM($E$334:E345),IF(B346=0,$C$332-SUM($E$334:E345),B346-A346)),\"0\"),\"0\")","v":0},0]
[0,0,0,0,{"$f":"IF($D$332<>\"Faixa Única\",IF($C$332<>\"\",IF(SUM(E346,B347)>=$C$332,$C$332-SUM($E$334:E346),IF(B347=0,$C$332-SUM($E$334:E346),B347-A347)),\"0\"),\"0\")","v":0},0]
[]
[null,null,null,"Subtotal",{"$f":"SUM(E334:E347)","v":0},{"$f":"SUM(F334:F347)","v":0}]
[null,null,null,"Termo Fixo",null,{"$f":"LARGE(C334:C347,1)","v":0}]
[null,null,null,"Total c/ impostos",null,{"$f":"F349+F350","v":0}]
[]
[]
["Distribuidora","COPERGÁS"]
[]
["Volume",{"$f":"Calculadora!$J$9","v":0},"m³/dia"]
[]
["Tarifa Média",{"$f":"IFERROR(F380/E378,\"\")","v":""},null,null,null,null,{"$f":"_xlfn._xlws.FILTER(Tabela1[CONSUMO],(Calculadora!$J$9>=Tabela1[FAIXA INICIAL])*(Calculadora!$J$9<=Tabela1[FAIXA FINAL])*(Calculadora!$G$7=Tabela1[SEGMENTO])*($B$354=Tabela1[DISTRIBUIDORA]),\"\")","v":""},{"$f":"_xlfn._xlws.FILTER(Tabela1[CONSUMO],(Calculadora!$J$9>=Tabela1[FAIXA INICIAL])*(Calculadora!$G$7=Tabela1[SEGMENTO])*($B$354=Tabela1[DISTRIBUIDORA]),\"\")","v":""},"Faixa por volume x município x segmento"]
[null,null,null,null,null,null,null,null,"Estado","Município","Agência Regularizadora","Distribuidora","Segmento","Consumo","Faixa Inicial","Faixa Final","Variável","Fixo"]
[null,"m³/dia","m³/dia",null,null,null,null,null,{"$f":"_xlfn._xlws.FILTER(Tabela1[[ESTADO]:[FIXO]],($C361>=Tabela1[FAIXA INICIAL])*(Calculadora!$G$7=Tabela1[SEGMENTO])*($B$354=Tabela1[DISTRIBUIDORA]),\"Não foi encontrado valor para esse município e segmento com esse volume\")","v":"Não foi encontrado valor para esse município e segmento com esse volume"}]
[null,{"$f":"B356","v":0},{"$f":"IF($D361=\"Mensal\",Calculadora!$J$9*30,IF($D361=\"Semanal\",Calculadora!$J$9*7,IF($D361=\"Faixa Única\",Calculadora!$J$9*30,Calculadora!$J$9)))","v":0},{"$f":"IF(_xlfn._xlws.FILTER(Tabela1[CONSUMO],(Calculadora!$J$9>=Tabela1[FAIXA INICIAL])*(Calculadora!$J$9<=Tabela1[FAIXA FINAL])*(Calculadora!$G$7=Tabela1[SEGMENTO])*($B354=Tabela1[DISTRIBUIDORA]),\"\")=\"\", H358,G358)","v":""}]
["Faixa de Consumo",null,"Fixo                (R$/m³)","Variável (R$/m³)","Consumo      (m³)","Tarifa Aplicada (R$)"]
[{"$f":"O360","v":0},{"$f":"P360","v":0},{"$f":"R360","v":0},{"$f":"Q360","v":0},{"$f":"IF($D$361=\"Faixa Única\",$C$361,IF(B363>C361,C361,B363-A363))","v":0},{"$f":"(D363*E363)","v":0}]
[0,0,{"$f":"R361","v":0},{"$f":"Q361","v":0},{"$f":"IF($D$361<>\"Faixa Única\",IF($C$361<>\"\",IF(SUM(E363,B364)>=$C$361,$C$361-(E363),IF(B364=0,$C$361-SUM(E363),B364-A364)),\"0\"),\"0\")","v":0},{"$f":"(D364*E364)","v":0}]
[0,0,{"$f":"R362","v":0},{"$f":"Q362","v":0},{"$f":"IF($D$361<>\"Faixa Única\",IF($C$361<>\"\",IF(SUM(E364,B365)>=$C$361,$C$361-SUM($E$363:E364),IF(B365=0,$C$361-SUM($E$363:E364),B365-A365)),\"0\"),\"0\")","v":0},{"$f":"(D365*E365)","v":0}]
[0,0,{"$f":"R363","v":0},{"$f":"Q363","v":0},{"$f":"IF($D$361<>\"Faixa Única\",IF($C$361<>\"\",IF(SUM(E365,B366)>=$C$361,$C$361-SUM($E$363:E365),IF(B366=0,$C$361-SUM($E$363:E365),B366-A366)),\"0\"),\"0\")","v":0},{"$f":"(D366*E366)","v":0}]
[0,0,0,{"$f":"Q364","v":0},{"$f":"IF($D$361<>\"Faixa Única\",IF($C$361<>\"\",IF(SUM(E366,B367)>=$C$361,$C$361-SUM($E$363:E366),IF(B367=0,$C$361-SUM($E$363:E366),B367-A367)),\"0\"),\"0\")","v":0},0]
[0,0,0,{"$f":"Q365","v":0},{"$f":"IF($D$361<>\"Faixa Única\",IF($C$361<>\"\",IF(SUM(E367,B368)>=$C$361,$C$361-SUM($E$363:E367),IF(B368=0,$C$361-SUM($E$363:E367),B368-A368)),\"0\"),\"0\")","v":0},0]
[0,0,0,0,{"$f":"IF($D$361<>\"Faixa Única\",IF($C$361<>\"\",IF(SUM(E368,B369)>=$C$361,$C$361-SUM($E$363:E368),IF(B369=0,$C$361-SUM($E$363:E368),B369-A369)),\"0\"),\"0\")","v":0},0]
[0,0,0,0,{"$f":"IF($D$361<>\"Faixa Única\",IF($C$361<>\"\",IF(SUM(E369,B370)>=$C$361,$C$361-SUM($E$363:E369),IF(B370=0,$C$361-SUM($E$363:E369),B370-A370)),\"0\"),\"0\")","v":0},0]
[0,0,0,0,{"$f":"IF($D$361<>\"Faixa Única\",IF($C$361<>\"\",IF(SUM(E370,B371)>=$C$361,$C$361-SUM($E$363:E370),IF(B371=0,$C$361-SUM($E$363:E370),B371-A371)),\"0\"),\"0\")","v":0},0]
[0,0,0,0,{"$f":"IF($D$361<>\"Faixa Única\",IF($C$361<>\"\",IF(SUM(E371,B372)>=$C$361,$C$361-SUM($E$363:E371),IF(B372=0,$C$361-SUM($E$363:E371),B372-A372)),\"0\"),\"0\")","v":0},0]
[0,0,0,0,{"$f":"IF($D$361<>\"Faixa Única\",IF($C$361<>\"\",IF(SUM(E372,B373)>=$C$361,$C$361-SUM($E$363:E372),IF(B373=0,$C$361-SUM($E$363:E372),B373-A373)),\"0\"),\"0\")","v":0},0]
[0,0,0,0,{"$f":"IF($D$361<>\"Faixa Única\",IF($C$361<>\"\",IF(SUM(E373,B374)>=$C$361,$C$361-SUM($E$363:E373),IF(B374=0,$C$361-SUM($E$363:E373),B374-A374)),\"0\"),\"0\")","v":0},0]
[0,0,0,0,{"$f":"IF($D$361<>\"Faixa Única\",IF($C$361<>\"\",IF(SUM(E374,B375)>=$C$361,$C$361-SUM($E$363:E374),IF(B375=0,$C$361-SUM($E$363:E374),B375-A375)),\"0\"),\"0\")","v":0},0]
[0,0,0,0,{"$f":"IF($D$361<>\"Faixa Única\",IF($C$361<>\"\",IF(SUM(E375,B376)>=$C$361,$C$361-SUM($E$363:E375),IF(B376=0,$C$361-SUM($E$363:E375),B376-A376)),\"0\"),\"0\")","v":0},0]
[]
[null,null,null,"Subtotal",{"$f":"SUM(E363:E376)","v":0},{"$f":"SUM(F363:F376)","v":0}]
[null,null,null,"Termo Fixo",null,{"$f":"LARGE(C363:C376,1)","v":0}]
[null,null,null,"Total c/ impostos",null,{"$f":"F378+F379","v":0}]
[]
[]
["Distribuidora","PBGÁS"]
[null,"PB"]
["Volume",{"$f":"Calculadora!$J$9","v":0},"m³/dia"]
[]
["Tarifa Média",{"$f":"IFERROR(F409/E407,\"\")","v":""},null,null,null,null,{"$f":"_xlfn._xlws.FILTER(Tabela1[CONSUMO],(Calculadora!$J$9>=Tabela1[FAIXA INICIAL])*(Calculadora!$J$9<=Tabela1[FAIXA FINAL])*(Calculadora!$G$7=Tabela1[SEGMENTO])*($B$383=Tabela1[DISTRIBUIDORA]),\"\")","v":""},{"$f":"_xlfn._xlws.FILTER(Tabela1[CONSUMO],(Calculadora!$J$9>=Tabela1[FAIXA INICIAL])*(Calculadora!$G$7=Tabela1[SEGMENTO])*($B$383=Tabela1[DISTRIBUIDORA]),\"\")","v":""},"Faixa por volume x município x segmento"]
[null,null,null,null,null,null,null,null,"Estado","Município","Agência Regularizadora","Distribuidora","Segmento","Consumo","Faixa Inicial","Faixa Final","Variável","Fixo"]
[null,"m³/dia","m³/dia",null,null,null,null,null,{"$f":"_xlfn._xlws.FILTER(Tabela1[[ESTADO]:[FIXO]],($C390>=Tabela1[FAIXA INICIAL])*(Calculadora!$G$7=Tabela1[SEGMENTO])*($B$383=Tabela1[DISTRIBUIDORA]),\"Não foi encontrado valor para esse município e segmento com esse volume\")","v":"Não foi encontrado valor para esse município e segmento com esse volume"}]
[null,{"$f":"B385","v":0},{"$f":"IF($D390=\"Mensal\",Calculadora!$J$9*30,IF($D390=\"Semanal\",Calculadora!$J$9*7,IF($D390=\"Faixa Única\",Calculadora!$J$9*30,Calculadora!$J$9)))","v":0},{"$f":"IF(_xlfn._xlws.FILTER(Tabela1[CONSUMO],(Calculadora!$J$9>=Tabela1[FAIXA INICIAL])*(Calculadora!$J$9<=Tabela1[FAIXA FINAL])*(Calculadora!$G$7=Tabela1[SEGMENTO])*($B383=Tabela1[DISTRIBUIDORA]),\"\")=\"\", H387,G387)","v":""}]
["Faixa de Consumo",null,"Fixo                (R$/m³)","Variável (R$/m³)","Consumo      (m³)","Tarifa Aplicada (R$)"]
[{"$f":"O389","v":0},{"$f":"P389","v":0},{"$f":"R389","v":0},{"$f":"Q389","v":0},{"$f":"IF(OR(AND($B$384=\"PB\",$A$393<>0,OR(Calculadora!$G$7=\"Residencial\",Calculadora!$G$7=\"Comercial\")),AND($B$384=\"CE\",$A$393<>0,OR(Calculadora!$G$7=\"Residencial\",Calculadora!$G$7=\"Comercial\"))),0,IF($D$390=\"Faixa Única\",$C$390,IF(B392>C390,C390,B392-A392)))","v":0},{"$f":"(D392*E392)","v":0}]
[0,0,{"$f":"R390","v":0},{"$f":"Q390","v":0},{"$f":"IF($D$390<>\"Faixa Única\",IF($C$390<>\"\",IF(SUM(E392,B393)>=$C$390,$C$390-(E392),IF(B393=0,$C$390-SUM(E392),B393-A393)),\"0\"),\"0\")","v":0},{"$f":"(D393*E393)","v":0}]
[0,0,{"$f":"R391","v":0},{"$f":"Q391","v":0},{"$f":"IF($D$390<>\"Faixa Única\",IF($C$390<>\"\",IF(SUM(E393,B394)>=$C$390,$C$390-SUM($E$392:E393),IF(B394=0,$C$390-SUM($E$392:E393),B394-A394)),\"0\"),\"0\")","v":0},{"$f":"(D394*E394)","v":0}]
[0,0,{"$f":"R392","v":0},{"$f":"Q392","v":0},{"$f":"IF($D$390<>\"Faixa Única\",IF($C$390<>\"\",IF(SUM(E394,B395)>=$C$390,$C$390-SUM($E$392:E394),IF(B395=0,$C$390-SUM($E$392:E394),B395-A395)),\"0\"),\"0\")","v":0},{"$f":"(D395*E395)","v":0}]
[0,0,0,{"$f":"Q393","v":0},{"$f":"IF($D$390<>\"Faixa Única\",IF($C$390<>\"\",IF(SUM(E395,B396)>=$C$390,$C$390-SUM($E$392:E395),IF(B396=0,$C$390-SUM($E$392:E395),B396-A396)),\"0\"),\"0\")","v":0},0]
[0,0,0,{"$f":"Q394","v":0},{"$f":"IF($D$390<>\"Faixa Única\",IF($C$390<>\"\",IF(SUM(E396,B397)>=$C$390,$C$390-SUM($E$392:E396),IF(B397=0,$C$390-SUM($E$392:E396),B397-A397)),\"0\"),\"0\")","v":0},0]
[0,0,0,0,{"$f":"IF($D$390<>\"Faixa Única\",IF($C$390<>\"\",IF(SUM(E397,B398)>=$C$390,$C$390-SUM($E$392:E397),IF(B398=0,$C$390-SUM($E$392:E397),B398-A398)),\"0\"),\"0\")","v":0},0]
[0,0,0,0,{"$f":"IF($D$390<>\"Faixa Única\",IF($C$390<>\"\",IF(SUM(E398,B399)>=$C$390,$C$390-SUM($E$392:E398),IF(B399=0,$C$390-SUM($E$392:E398),B399-A399)),\"0\"),\"0\")","v":0},0]
[0,0,0,0,{"$f":"IF($D$390<>\"Faixa Única\",IF($C$390<>\"\",IF(SUM(E399,B400)>=$C$390,$C$390-SUM($E$392:E399),IF(B400=0,$C$390-SUM($E$392:E399),B400-A400)),\"0\"),\"0\")","v":0},0]
[0,0,0,0,{"$f":"IF($D$390<>\"Faixa Única\",IF($C$390<>\"\",IF(SUM(E400,B401)>=$C$390,$C$390-SUM($E$392:E400),IF(B401=0,$C$390-SUM($E$392:E400),B401-A401)),\"0\"),\"0\")","v":0},0]
[0,0,0,0,{"$f":"IF($D$390<>\"Faixa Única\",IF($C$390<>\"\",IF(SUM(E401,B402)>=$C$390,$C$390-SUM($E$392:E401),IF(B402=0,$C$390-SUM($E$392:E401),B402-A402)),\"0\"),\"0\")","v":0},0]
[0,0,0,0,{"$f":"IF($D$390<>\"Faixa Única\",IF($C$390<>\"\",IF(SUM(E402,B403)>=$C$390,$C$390-SUM($E$392:E402),IF(B403=0,$C$390-SUM($E$392:E402),B403-A403)),\"0\"),\"0\")","v":0},0]
[0,0,0,0,{"$f":"IF($D$390<>\"Faixa Única\",IF($C$390<>\"\",IF(SUM(E403,B404)>=$C$390,$C$390-SUM($E$392:E403),IF(B404=0,$C$390-SUM($E$392:E403),B404-A404)),\"0\"),\"0\")","v":0},0]
[0,0,0,0,{"$f":"IF($D$390<>\"Faixa Única\",IF($C$390<>\"\",IF(SUM(E404,B405)>=$C$390,$C$390-SUM($E$392:E404),IF(B405=0,$C$390-SUM($E$392:E404),B405-A405)),\"0\"),\"0\")","v":0},0]
[]
[null,null,null,"Subtotal",{"$f":"SUM(E392:E405)","v":0},{"$f":"SUM(F392:F405)","v":0}]
[null,null,null,"Termo Fixo",null,{"$f":"LARGE(C392:C405,1)","v":0}]
[null,null,null,"Total c/ impostos",null,{"$f":"F407+F408","v":0}]
[]
[]
["Distribuidora","POTIGÁS"]
[]
["Volume",{"$f":"Calculadora!$J$9","v":0},"m³/dia"]
[]
["Tarifa Média",{"$f":"IFERROR(F438/E436,\"\")","v":""},null,null,null,null,{"$f":"_xlfn._xlws.FILTER(Tabela1[CONSUMO],(Calculadora!$J$9>=Tabela1[FAIXA INICIAL])*(Calculadora!$J$9<=Tabela1[FAIXA FINAL])*(Calculadora!$G$7=Tabela1[SEGMENTO])*($B$412=Tabela1[DISTRIBUIDORA]),\"\")","v":""},{"$f":"_xlfn._xlws.FILTER(Tabela1[CONSUMO],(Calculadora!$J$9>=Tabela1[FAIXA INICIAL])*(Calculadora!$G$7=Tabela1[SEGMENTO])*($B$412=Tabela1[DISTRIBUIDORA]),\"\")","v":""},"Faixa por volume x município x segmento"]
[null,null,null,null,null,null,null,null,"Estado","Município","Agência Regularizadora","Distribuidora","Segmento","Consumo","Faixa Inicial","Faixa Final","Variável","Fixo"]
[null,"m³/dia","m³/dia",null,null,null,null,null,{"$f":"_xlfn._xlws.FILTER(Tabela1[[ESTADO]:[FIXO]],($C419>=Tabela1[FAIXA INICIAL])*(Calculadora!$G$7=Tabela1[SEGMENTO])*($B$412=Tabela1[DISTRIBUIDORA]),\"Não foi encontrado valor para esse município e segmento com esse volume\")","v":"Não foi encontrado valor para esse município e segmento com esse volume"}]
[null,{"$f":"B414","v":0},{"$f":"IF($D419=\"Mensal\",Calculadora!$J$9*30,IF($D419=\"Semanal\",Calculadora!$J$9*7,IF($D419=\"Faixa Única\",Calculadora!$J$9*30,Calculadora!$J$9)))","v":0},{"$f":"IF(_xlfn._xlws.FILTER(Tabela1[CONSUMO],(Calculadora!$J$9>=Tabela1[FAIXA INICIAL])*(Calculadora!$J$9<=Tabela1[FAIXA FINAL])*(Calculadora!$G$7=Tabela1[SEGMENTO])*($B$412=Tabela1[DISTRIBUIDORA]),\"\")=\"\", H416,G416)","v":""}]
["Faixa de Consumo",null,"Fixo                (R$/m³)","Variável (R$/m³)","Consumo      (m³)","Tarifa Aplicada (R$)"]
[{"$f":"O418","v":0},{"$f":"P418","v":0},{"$f":"R418","v":0},{"$f":"Q418","v":0},{"$f":"IF($D$419=\"Faixa Única\",$C$419,IF(B421>C419,C419,B421-A421))","v":0},{"$f":"(D421*E421)","v":0}]
[0,0,{"$f":"R419","v":0},{"$f":"Q419","v":0},{"$f":"IF($D$419<>\"Faixa Única\",IF($C$419<>\"\",IF(SUM(E421,B422)>=$C$419,$C$419-(E421),IF(B422=0,$C$419-SUM(E421),B422-A422)),\"0\"),\"0\")","v":0},{"$f":"(D422*E422)","v":0}]
[0,0,{"$f":"R420","v":0},{"$f":"Q420","v":0},{"$f":"IF($D$419<>\"Faixa Única\",IF($C$419<>\"\",IF(SUM(E422,B423)>=$C$419,$C$419-SUM($E$421:E422),IF(B423=0,$C$419-SUM($E$421:E422),B423-A423)),\"0\"),\"0\")","v":0},{"$f":"(D423*E423)","v":0}]
[0,0,{"$f":"R421","v":0},{"$f":"Q421","v":0},{"$f":"IF($D$419<>\"Faixa Única\",IF($C$419<>\"\",IF(SUM(E423,B424)>=$C$419,$C$419-SUM($E$421:E423),IF(B424=0,$C$419-SUM($E$421:E423),B424-A424)),\"0\"),\"0\")","v":0},{"$f":"(D424*E424)","v":0}]
[0,0,0,{"$f":"Q422","v":0},{"$f":"IF($D$419<>\"Faixa Única\",IF($C$419<>\"\",IF(SUM(E424,B425)>=$C$419,$C$419-SUM($E$421:E424),IF(B425=0,$C$419-SUM($E$421:E424),B425-A425)),\"0\"),\"0\")","v":0},0]
[0,0,0,{"$f":"Q423","v":0},{"$f":"IF($D$419<>\"Faixa Única\",IF($C$419<>\"\",IF(SUM(E425,B426)>=$C$419,$C$419-SUM($E$421:E425),IF(B426=0,$C$419-SUM($E$421:E425),B426-A426)),\"0\"),\"0\")","v":0},0]
[0,0,0,0,{"$f":"IF($D$419<>\"Faixa Única\",IF($C$419<>\"\",IF(SUM(E426,B427)>=$C$419,$C$419-SUM($E$421:E426),IF(B427=0,$C$419-SUM($E$421:E426),B427-A427)),\"0\"),\"0\")","v":0},0]
[0,0,0,0,{"$f":"IF($D$419<>\"Faixa Única\",IF($C$419<>\"\",IF(SUM(E427,B428)>=$C$419,$C$419-SUM($E$421:E427),IF(B428=0,$C$419-SUM($E$421:E427),B428-A428)),\"0\"),\"0\")","v":0},0]
[0,0,0,0,{"$f":"IF($D$419<>\"Faixa Única\",IF($C$419<>\"\",IF(SUM(E428,B429)>=$C$419,$C$419-SUM($E$421:E428),IF(B429=0,$C$419-SUM($E$421:E428),B429-A429)),\"0\"),\"0\")","v":0},0]
[0,0,0,0,{"$f":"IF($D$419<>\"Faixa Única\",IF($C$419<>\"\",IF(SUM(E429,B430)>=$C$419,$C$419-SUM($E$421:E429),IF(B430=0,$C$419-SUM($E$421:E429),B430-A430)),\"0\"),\"0\")","v":0},0]
[0,0,0,0,{"$f":"IF($D$419<>\"Faixa Única\",IF($C$419<>\"\",IF(SUM(E430,B431)>=$C$419,$C$419-SUM($E$421:E430),IF(B431=0,$C$419-SUM($E$421:E430),B431-A431)),\"0\"),\"0\")","v":0},0]
[0,0,0,0,{"$f":"IF($D$419<>\"Faixa Única\",IF($C$419<>\"\",IF(SUM(E431,B432)>=$C$419,$C$419-SUM($E$421:E431),IF(B432=0,$C$419-SUM($E$421:E431),B432-A432)),\"0\"),\"0\")","v":0},0]
[0,0,0,0,{"$f":"IF($D$419<>\"Faixa Única\",IF($C$419<>\"\",IF(SUM(E432,B433)>=$C$419,$C$419-SUM($E$421:E432),IF(B433=0,$C$419-SUM($E$421:E432),B433-A433)),\"0\"),\"0\")","v":0},0]
[0,0,0,0,{"$f":"IF($D$419<>\"Faixa Única\",IF($C$419<>\"\",IF(SUM(E433,B434)>=$C$419,$C$419-SUM($E$421:E433),IF(B434=0,$C$419-SUM($E$421:E433),B434-A434)),\"0\"),\"0\")","v":0},0]
[]
[null,null,null,"Subtotal",{"$f":"SUM(E421:E434)","v":0},{"$f":"SUM(F421:F434)","v":0}]
[null,null,null,"Termo Fixo",null,{"$f":"LARGE(C421:C434,1)","v":0}]
[null,null,null,"Total c/ impostos",null,{"$f":"F436+F437","v":0}]
[]
[]
["Distribuidora","CEGÁS"]
[null,"CE"]
["Volume",{"$f":"Calculadora!$J$9","v":0},"m³/dia"]
[]
["Tarifa Média",{"$f":"IFERROR(F467/E465,\"\")","v":""},null,null,null,null,{"$f":"_xlfn._xlws.FILTER(Tabela1[CONSUMO],(Calculadora!$J$9>=Tabela1[FAIXA INICIAL])*(Calculadora!$J$9<=Tabela1[FAIXA FINAL])*(Calculadora!$G$7=Tabela1[SEGMENTO])*($B$441=Tabela1[DISTRIBUIDORA]),\"\")","v":""},{"$f":"_xlfn._xlws.FILTER(Tabela1[CONSUMO],(Calculadora!$J$9>=Tabela1[FAIXA INICIAL])*(Calculadora!$G$7=Tabela1[SEGMENTO])*($B$441=Tabela1[DISTRIBUIDORA]),\"\")","v":""},"Faixa por volume x município x segmento"]
[null,null,null,null,null,null,null,null,"Estado","Município","Agência Regularizadora","Distribuidora","Segmento","Consumo","Faixa Inicial","Faixa Final","Variável","Fixo"]
[null,"m³/dia","m³/dia",null,null,null,null,null,{"$f":"_xlfn._xlws.FILTER(Tabela1[[ESTADO]:[FIXO]],($C448>=Tabela1[FAIXA INICIAL])*(Calculadora!$G$7=Tabela1[SEGMENTO])*($B$441=Tabela1[DISTRIBUIDORA]),\"Não foi encontrado valor para esse município e segmento com esse volume\")","v":"Não foi encontrado valor para esse município e segmento com esse volume"}]
[null,{"$f":"B443","v":0},{"$f":"IF($D448=\"Mensal\",Calculadora!$J$9*30,IF($D448=\"Semanal\",Calculadora!$J$9*7,IF($D448=\"Faixa Única\",Calculadora!$J$9*30,Calculadora!$J$9)))","v":0},{"$f":"IF(_xlfn._xlws.FILTER(Tabela1[CONSUMO],(Calculadora!$J$9>=Tabela1[FAIXA INICIAL])*(Calculadora!$J$9<=Tabela1[FAIXA FINAL])*(Calculadora!$G$7=Tabela1[SEGMENTO])*($B441=Tabela1[DISTRIBUIDORA]),\"\")=\"\", H445,G445)","v":""}]
["Faixa de Consumo",null,"Fixo                (R$/m³)","Variável (R$/m³)","Consumo      (m³)","Tarifa Aplicada (R$)"]
[{"$f":"O447","v":0},{"$f":"P447","v":0},{"$f":"R447","v":0},{"$f":"Q447","v":0},{"$f":"IF(OR(AND($B$442=\"PB\",$A$451<>0,OR(Calculadora!$G$7=\"Residencial\",Calculadora!$G$7=\"Comercial\")),AND($B$442=\"CE\",$A$451<>0,OR(Calculadora!$G$7=\"Residencial\",Calculadora!$G$7=\"Comercial\"))),0,IF($D$448=\"Faixa Única\",$C$448,IF(B450>C448,C448,B450-A450)))","v":0},{"$f":"(D450*E450)","v":0}]
[0,0,{"$f":"R448","v":0},{"$f":"Q448","v":0},{"$f":"IF($D$448<>\"Faixa Única\",IF($C$448<>\"\",IF(SUM(E450,B451)>=$C$448,$C$448-(E450),IF(B451=0,$C$448-SUM(E450),B451-A451)),\"0\"),\"0\")","v":0},{"$f":"(D451*E451)","v":0}]
[0,0,{"$f":"R449","v":0},{"$f":"Q449","v":0},{"$f":"IF($D$448<>\"Faixa Única\",IF($C$448<>\"\",IF(SUM(E451,B452)>=$C$448,$C$448-SUM($E$450:E451),IF(B452=0,$C$448-SUM($E$450:E451),B452-A452)),\"0\"),\"0\")","v":0},{"$f":"(D452*E452)","v":0}]
[0,0,{"$f":"R450","v":0},{"$f":"Q450","v":0},{"$f":"IF($D$448<>\"Faixa Única\",IF($C$448<>\"\",IF(SUM(E452,B453)>=$C$448,$C$448-SUM($E$450:E452),IF(B453=0,$C$448-SUM($E$450:E452),B453-A453)),\"0\"),\"0\")","v":0},{"$f":"(D453*E453)","v":0}]
[0,0,0,{"$f":"Q451","v":0},{"$f":"IF($D$448<>\"Faixa Única\",IF($C$448<>\"\",IF(SUM(E453,B454)>=$C$448,$C$448-SUM($E$450:E453),IF(B454=0,$C$448-SUM($E$450:E453),B454-A454)),\"0\"),\"0\")","v":0},0]
[0,0,0,{"$f":"Q452","v":0},{"$f":"IF($D$448<>\"Faixa Única\",IF($C$448<>\"\",IF(SUM(E454,B455)>=$C$448,$C$448-SUM($E$450:E454),IF(B455=0,$C$448-SUM($E$450:E454),B455-A455)),\"0\"),\"0\")","v":0},0]
[0,0,0,0,{"$f":"IF($D$448<>\"Faixa Única\",IF($C$448<>\"\",IF(SUM(E455,B456)>=$C$448,$C$448-SUM($E$450:E455),IF(B456=0,$C$448-SUM($E$450:E455),B456-A456)),\"0\"),\"0\")","v":0},0]
[0,0,0,0,{"$f":"IF($D$448<>\"Faixa Única\",IF($C$448<>\"\",IF(SUM(E456,B457)>=$C$448,$C$448-SUM($E$450:E456),IF(B457=0,$C$448-SUM($E$450:E456),B457-A457)),\"0\"),\"0\")","v":0},0]
[0,0,0,0,{"$f":"IF($D$448<>\"Faixa Única\",IF($C$448<>\"\",IF(SUM(E457,B458)>=$C$448,$C$448-SUM($E$450:E457),IF(B458=0,$C$448-SUM($E$450:E457),B458-A458)),\"0\"),\"0\")","v":0},0]
[0,0,0,0,{"$f":"IF($D$448<>\"Faixa Única\",IF($C$448<>\"\",IF(SUM(E458,B459)>=$C$448,$C$448-SUM($E$450:E458),IF(B459=0,$C$448-SUM($E$450:E458),B459-A459)),\"0\"),\"0\")","v":0},0]
[0,0,0,0,{"$f":"IF($D$448<>\"Faixa Única\",IF($C$448<>\"\",IF(SUM(E459,B460)>=$C$448,$C$448-SUM($E$450:E459),IF(B460=0,$C$448-SUM($E$450:E459),B460-A460)),\"0\"),\"0\")","v":0},0]
[0,0,0,0,{"$f":"IF($D$448<>\"Faixa Única\",IF($C$448<>\"\",IF(SUM(E460,B461)>=$C$448,$C$448-SUM($E$450:E460),IF(B461=0,$C$448-SUM($E$450:E460),B461-A461)),\"0\"),\"0\")","v":0},0]
[0,0,0,0,{"$f":"IF($D$448<>\"Faixa Única\",IF($C$448<>\"\",IF(SUM(E461,B462)>=$C$448,$C$448-SUM($E$450:E461),IF(B462=0,$C$448-SUM($E$450:E461),B462-A462)),\"0\"),\"0\")","v":0},0]
[0,0,0,0,{"$f":"IF($D$448<>\"Faixa Única\",IF($C$448<>\"\",IF(SUM(E462,B463)>=$C$448,$C$448-SUM($E$450:E462),IF(B463=0,$C$448-SUM($E$450:E462),B463-A463)),\"0\"),\"0\")","v":0},0]
[]
[null,null,null,"Subtotal",{"$f":"SUM(E450:E463)","v":0},{"$f":"SUM(F450:F463)","v":0}]
[null,null,null,"Termo Fixo",null,{"$f":"LARGE(C450:C463,1)","v":0}]
[null,null,null,"Total c/ impostos",null,{"$f":"F465+F466","v":0}]
[]
[]
["Distribuidora","MSGÁS"]
[]
["Volume",{"$f":"Calculadora!$J$9","v":0},"m³/dia"]
[]
["Tarifa Média",{"$f":"IFERROR(F496/E494,\"\")","v":""},null,null,null,null,{"$f":"_xlfn._xlws.FILTER(Tabela1[CONSUMO],(Calculadora!$J$9>=Tabela1[FAIXA INICIAL])*(Calculadora!$J$9<=Tabela1[FAIXA FINAL])*(Calculadora!$G$7=Tabela1[SEGMENTO])*($B$470=Tabela1[DISTRIBUIDORA]),\"\")","v":""},{"$f":"_xlfn._xlws.FILTER(Tabela1[CONSUMO],(Calculadora!$J$9>=Tabela1[FAIXA INICIAL])*(Calculadora!$G$7=Tabela1[SEGMENTO])*($B$470=Tabela1[DISTRIBUIDORA]),\"\")","v":""},"Faixa por volume x município x segmento"]
[null,null,null,null,null,null,null,null,"Estado","Município","Agência Regularizadora","Distribuidora","Segmento","Consumo","Faixa Inicial","Faixa Final","Variável","Fixo"]
[null,"m³/dia","m³/dia",null,null,null,null,null,{"$f":"_xlfn._xlws.FILTER(Tabela1[[ESTADO]:[FIXO]],($C477>=Tabela1[FAIXA INICIAL])*(Calculadora!$G$7=Tabela1[SEGMENTO])*($B$470=Tabela1[DISTRIBUIDORA]),\"Não foi encontrado valor para esse município e segmento com esse volume\")","v":"Não foi encontrado valor para esse município e segmento com esse volume"}]
[null,{"$f":"B472","v":0},{"$f":"IF($D477=\"Mensal\",Calculadora!$J$9*30,IF($D477=\"Semanal\",Calculadora!$J$9*7,IF($D477=\"Faixa Única\",Calculadora!$J$9*30,Calculadora!$J$9)))","v":0},{"$f":"IF(_xlfn._xlws.FILTER(Tabela1[CONSUMO],(Calculadora!$J$9>=Tabela1[FAIXA INICIAL])*(Calculadora!$J$9<=Tabela1[FAIXA FINAL])*(Calculadora!$G$7=Tabela1[SEGMENTO])*($B470=Tabela1[DISTRIBUIDORA]),\"\")=\"\", H474,G474)","v":""}]
["Faixa de Consumo",null,"Fixo                (R$/m³)","Variável (R$/m³)","Consumo      (m³)","Tarifa Aplicada (R$)"]
[{"$f":"O476","v":0},{"$f":"P476","v":0},{"$f":"R476","v":0},{"$f":"Q476","v":0},{"$f":"IF($D$477=\"Faixa Única\",$C$477,IF(B479>C477,C477,B479-A479))","v":0},{"$f":"(D479*E479)","v":0}]
[0,0,{"$f":"R477","v":0},{"$f":"Q477","v":0},{"$f":"IF($D$477<>\"Faixa Única\",IF($C$477<>\"\",IF(SUM(E479,B480)>=$C$477,$C$477-(E479),IF(B480=0,$C$477-SUM(E479),B480-A480)),\"0\"),\"0\")","v":0},{"$f":"(D480*E480)","v":0}]
[0,0,{"$f":"R478","v":0},{"$f":"Q478","v":0},{"$f":"IF($D$477<>\"Faixa Única\",IF($C$477<>\"\",IF(SUM(E480,B481)>=$C$477,$C$477-SUM($E$479:E480),IF(B481=0,$C$477-SUM($E$479:E480),B481-A481)),\"0\"),\"0\")","v":0},{"$f":"(D481*E481)","v":0}]
[0,0,{"$f":"R479","v":0},{"$f":"Q479","v":0},{"$f":"IF($D$477<>\"Faixa Única\",IF($C$477<>\"\",IF(SUM(E481,B482)>=$C$477,$C$477-SUM($E$479:E481),IF(B482=0,$C$477-SUM($E$479:E481),B482-A482)),\"0\"),\"0\")","v":0},{"$f":"(D482*E482)","v":0}]
[0,0,0,{"$f":"Q480","v":0},{"$f":"IF($D$477<>\"Faixa Única\",IF($C$477<>\"\",IF(SUM(E482,B483)>=$C$477,$C$477-SUM($E$479:E482),IF(B483=0,$C$477-SUM($E$479:E482),B483-A483)),\"0\"),\"0\")","v":0},0]
[0,0,0,{"$f":"Q481","v":0},{"$f":"IF($D$477<>\"Faixa Única\",IF($C$477<>\"\",IF(SUM(E483,B484)>=$C$477,$C$477-SUM($E$479:E483),IF(B484=0,$C$477-SUM($E$479:E483),B484-A484)),\"0\"),\"0\")","v":0},0]
[0,0,0,0,{"$f":"IF($D$477<>\"Faixa Única\",IF($C$477<>\"\",IF(SUM(E484,B485)>=$C$477,$C$477-SUM($E$479:E484),IF(B485=0,$C$477-SUM($E$479:E484),B485-A485)),\"0\"),\"0\")","v":0},0]
[0,0,0,0,{"$f":"IF($D$477<>\"Faixa Única\",IF($C$477<>\"\",IF(SUM(E485,B486)>=$C$477,$C$477-SUM($E$479:E485),IF(B486=0,$C$477-SUM($E$479:E485),B486-A486)),\"0\"),\"0\")","v":0},0]
[0,0,0,0,{"$f":"IF($D$477<>\"Faixa Única\",IF($C$477<>\"\",IF(SUM(E486,B487)>=$C$477,$C$477-SUM($E$479:E486),IF(B487=0,$C$477-SUM($E$479:E486),B487-A487)),\"0\"),\"0\")","v":0},0]
[0,0,0,0,{"$f":"IF($D$477<>\"Faixa Única\",IF($C$477<>\"\",IF(SUM(E487,B488)>=$C$477,$C$477-SUM($E$479:E487),IF(B488=0,$C$477-SUM($E$479:E487),B488-A488)),\"0\"),\"0\")","v":0},0]
[0,0,0,0,{"$f":"IF($D$477<>\"Faixa Única\",IF($C$477<>\"\",IF(SUM(E488,B489)>=$C$477,$C$477-SUM($E$479:E488),IF(B489=0,$C$477-SUM($E$479:E488),B489-A489)),\"0\"),\"0\")","v":0},0]
[0,0,0,0,{"$f":"IF($D$477<>\"Faixa Única\",IF($C$477<>\"\",IF(SUM(E489,B490)>=$C$477,$C$477-SUM($E$479:E489),IF(B490=0,$C$477-SUM($E$479:E489),B490-A490)),\"0\"),\"0\")","v":0},0]
[0,0,0,0,{"$f":"IF($D$477<>\"Faixa Única\",IF($C$477<>\"\",IF(SUM(E490,B491)>=$C$477,$C$477-SUM($E$479:E490),IF(B491=0,$C$477-SUM($E$479:E490),B491-A491)),\"0\"),\"0\")","v":0},0]
[0,0,0,0,{"$f":"IF($D$477<>\"Faixa Única\",IF($C$477<>\"\",IF(SUM(E491,B492)>=$C$477,$C$477-SUM($E$479:E491),IF(B492=0,$C$477-SUM($E$479:E491),B492-A492)),\"0\"),\"0\")","v":0},0]
[]
[null,null,null,"Subtotal",{"$f":"SUM(E479:E492)","v":0},{"$f":"SUM(F479:F492)","v":0}]
[null,null,null,"Termo Fixo",null,{"$f":"LARGE(C479:C492,1)","v":0}]
[null,null,null,"Total c/ impostos",null,{"$f":"F494+F495","v":0}]
[]
[]
["Distribuidora","CIGÁS"]
[]
["Volume",{"$f":"Calculadora!$J$9","v":0},"m³/dia"]
[]
["Tarifa Média",{"$f":"IFERROR(F525/E523,\"\")","v":""},null,null,null,null,{"$f":"_xlfn._xlws.FILTER(Tabela1[CONSUMO],(Calculadora!$J$9>=Tabela1[FAIXA INICIAL])*(Calculadora!$J$9<=Tabela1[FAIXA FINAL])*(Calculadora!$G$7=Tabela1[SEGMENTO])*($B$499=Tabela1[DISTRIBUIDORA]),\"\")","v":""},{"$f":"_xlfn._xlws.FILTER(Tabela1[CONSUMO],(Calculadora!$J$9>=Tabela1[FAIXA INICIAL])*(Calculadora!$G$7=Tabela1[SEGMENTO])*($B$499=Tabela1[DISTRIBUIDORA]),\"\")","v":""},"Faixa por volume x município x segmento"]
[null,null,null,null,null,null,null,null,"Estado","Município","Agência Regularizadora","Distribuidora","Segmento","Consumo","Faixa Inicial","Faixa Final","Variável","Fixo"]
[null,"m³/dia","m³/dia",null,null,null,null,null,{"$f":"_xlfn._xlws.FILTER(Tabela1[[ESTADO]:[FIXO]],($C506>=Tabela1[FAIXA INICIAL])*(Calculadora!$G$7=Tabela1[SEGMENTO])*($B$499=Tabela1[DISTRIBUIDORA]),\"Não foi encontrado valor para esse município e segmento com esse volume\")","v":"Não foi encontrado valor para esse município e segmento com esse volume"}]
[null,{"$f":"B501","v":0},{"$f":"IF($D506=\"Mensal\",Calculadora!$J$9*30,IF($D506=\"Semanal\",Calculadora!$J$9*7,IF($D506=\"Faixa Única\",Calculadora!$J$9*30,Calculadora!$J$9)))","v":0},{"$f":"IF(_xlfn._xlws.FILTER(Tabela1[CONSUMO],(Calculadora!$J$9>=Tabela1[FAIXA INICIAL])*(Calculadora!$J$9<=Tabela1[FAIXA FINAL])*(Calculadora!$G$7=Tabela1[SEGMENTO])*($B$499=Tabela1[DISTRIBUIDORA]),\"\")=\"\", H503,G503)","v":""}]
["Faixa de Consumo",null,"Fixo                (R$/m³)","Variável (R$/m³)","Consumo      (m³)","Tarifa Aplicada (R$)"]
[{"$f":"O505","v":0},{"$f":"P505","v":0},{"$f":"R505","v":0},{"$f":"Q505","v":0},{"$f":"IF($D$506=\"Faixa Única\",$C$506,IF(B508>C506,C506,B508-A508))","v":0},{"$f":"(D508*E508)","v":0}]
[0,0,{"$f":"R506","v":0},{"$f":"Q506","v":0},{"$f":"IF($D$506<>\"Faixa Única\",IF($C$506<>\"\",IF(SUM(E508,B509)>=$C$506,$C$506-(E508),IF(B509=0,$C$506-SUM(E508),B509-A509)),\"0\"),\"0\")","v":0},{"$f":"(D509*E509)","v":0}]
[0,0,{"$f":"R507","v":0},{"$f":"Q507","v":0},{"$f":"IF($D$506<>\"Faixa Única\",IF($C$506<>\"\",IF(SUM(E509,B510)>=$C$506,$C$506-SUM($E$508:E509),IF(B510=0,$C$506-SUM($E$508:E509),B510-A510)),\"0\"),\"0\")","v":0},{"$f":"(D510*E510)","v":0}]
[0,0,{"$f":"R508","v":0},{"$f":"Q508","v":0},{"$f":"IF($D$506<>\"Faixa Única\",IF($C$506<>\"\",IF(SUM(E510,B511)>=$C$506,$C$506-SUM($E$508:E510),IF(B511=0,$C$506-SUM($E$508:E510),B511-A511)),\"0\"),\"0\")","v":0},{"$f":"(D511*E511)","v":0}]
[0,0,0,{"$f":"Q509","v":0},{"$f":"IF($D$506<>\"Faixa Única\",IF($C$506<>\"\",IF(SUM(E511,B512)>=$C$506,$C$506-SUM($E$508:E511),IF(B512=0,$C$506-SUM($E$508:E511),B512-A512)),\"0\"),\"0\")","v":0},0]
[0,0,0,{"$f":"Q510","v":0},{"$f":"IF($D$506<>\"Faixa Única\",IF($C$506<>\"\",IF(SUM(E512,B513)>=$C$506,$C$506-SUM($E$508:E512),IF(B513=0,$C$506-SUM($E$508:E512),B513-A513)),\"0\"),\"0\")","v":0},0]
[0,0,0,0,{"$f":"IF($D$506<>\"Faixa Única\",IF($C$506<>\"\",IF(SUM(E513,B514)>=$C$506,$C$506-SUM($E$508:E513),IF(B514=0,$C$506-SUM($E$508:E513),B514-A514)),\"0\"),\"0\")","v":0},0]
[0,0,0,0,{"$f":"IF($D$506<>\"Faixa Única\",IF($C$506<>\"\",IF(SUM(E514,B515)>=$C$506,$C$506-SUM($E$508:E514),IF(B515=0,$C$506-SUM($E$508:E514),B515-A515)),\"0\"),\"0\")","v":0},0]
[0,0,0,0,{"$f":"IF($D$506<>\"Faixa Única\",IF($C$506<>\"\",IF(SUM(E515,B516)>=$C$506,$C$506-SUM($E$508:E515),IF(B516=0,$C$506-SUM($E$508:E515),B516-A516)),\"0\"),\"0\")","v":0},0]
[0,0,0,0,{"$f":"IF($D$506<>\"Faixa Única\",IF($C$506<>\"\",IF(SUM(E516,B517)>=$C$506,$C$506-SUM($E$508:E516),IF(B517=0,$C$506-SUM($E$508:E516),B517-A517)),\"0\"),\"0\")","v":0},0]
[0,0,0,0,{"$f":"IF($D$506<>\"Faixa Única\",IF($C$506<>\"\",IF(SUM(E517,B518)>=$C$506,$C$506-SUM($E$508:E517),IF(B518=0,$C$506-SUM($E$508:E517),B518-A518)),\"0\"),\"0\")","v":0},0]
[0,0,0,0,{"$f":"IF($D$506<>\"Faixa Única\",IF($C$506<>\"\",IF(SUM(E518,B519)>=$C$506,$C$506-SUM($E$508:E518),IF(B519=0,$C$506-SUM($E$508:E518),B519-A519)),\"0\"),\"0\")","v":0},0]
[0,0,0,0,{"$f":"IF($D$506<>\"Faixa Única\",IF($C$506<>\"\",IF(SUM(E519,B520)>=$C$506,$C$506-SUM($E$508:E519),IF(B520=0,$C$506-SUM($E$508:E519),B520-A520)),\"0\"),\"0\")","v":0},0]
[0,0,0,0,{"$f":"IF($D$506<>\"Faixa Única\",IF($C$506<>\"\",IF(SUM(E520,B521)>=$C$506,$C$506-SUM($E$508:E520),IF(B521=0,$C$506-SUM($E$508:E520),B521-A521)),\"0\"),\"0\")","v":0},0]
[]
[null,null,null,"Subtotal",{"$f":"SUM(E508:E521)","v":0},{"$f":"SUM(F508:F521)","v":0}]
[null,null,null,"Termo Fixo",null,{"$f":"LARGE(C508:C521,1)","v":0}]
[null,null,null,"Total c/ impostos",null,{"$f":"F523+F524","v":0}]
[]
[]
["Distribuidora","COMPAGAS"]
[]
["Volume",{"$f":"Calculadora!$J$9","v":0},"m³/dia"]
[]
["Tarifa Média",{"$f":"IFERROR(F554/E552,\"\")","v":""},null,null,null,null,{"$f":"_xlfn._xlws.FILTER(Tabela1[CONSUMO],(Calculadora!$J$9>=Tabela1[FAIXA INICIAL])*(Calculadora!$J$9<=Tabela1[FAIXA FINAL])*(Calculadora!$G$7=Tabela1[SEGMENTO])*($B$528=Tabela1[DISTRIBUIDORA]),\"\")","v":""},{"$f":"_xlfn._xlws.FILTER(Tabela1[CONSUMO],(Calculadora!$J$9>=Tabela1[FAIXA INICIAL])*(Calculadora!$G$7=Tabela1[SEGMENTO])*($B$528=Tabela1[DISTRIBUIDORA]),\"\")","v":""},"Faixa por volume x município x segmento"]
[null,null,null,null,null,null,null,null,"Estado","Município","Agência Regularizadora","Distribuidora","Segmento","Consumo","Faixa Inicial","Faixa Final","Variável","Fixo"]
[null,"m³/dia","m³/dia",null,null,null,null,null,{"$f":"_xlfn._xlws.FILTER(Tabela1[[ESTADO]:[FIXO]],($C535>=Tabela1[FAIXA INICIAL])*(Calculadora!$G$7=Tabela1[SEGMENTO])*($B$528=Tabela1[DISTRIBUIDORA]),\"Não foi encontrado valor para esse município e segmento com esse volume\")","v":"Não foi encontrado valor para esse município e segmento com esse volume"}]
[null,{"$f":"B530","v":0},{"$f":"IF($D535=\"Mensal\",Calculadora!$J$9*30,IF($D535=\"Semanal\",Calculadora!$J$9*7,IF($D535=\"Faixa Única\",Calculadora!$J$9*30,Calculadora!$J$9)))","v":0},{"$f":"IF(_xlfn._xlws.FILTER(Tabela1[CONSUMO],(Calculadora!$J$9>=Tabela1[FAIXA INICIAL])*(Calculadora!$J$9<=Tabela1[FAIXA FINAL])*(Calculadora!$G$7=Tabela1[SEGMENTO])*($B$528=Tabela1[DISTRIBUIDORA]),\"\")=\"\", H532,G532)","v":""}]
["Faixa de Consumo",null,"Fixo                (R$/m³)","Variável (R$/m³)","Consumo      (m³)","Tarifa Aplicada (R$)"]
[{"$f":"O534","v":0},{"$f":"P534","v":0},{"$f":"R534","v":0},{"$f":"Q534","v":0},{"$f":"IF($D$535=\"Faixa Única\",$C$535,IF(B537>C535,C535,B537-A537))","v":0},{"$f":"(D537*E537)","v":0}]
[0,0,{"$f":"R535","v":0},{"$f":"Q535","v":0},{"$f":"IF($D$535<>\"Faixa Única\",IF($C$535<>\"\",IF(SUM(E537,B538)>=$C$535,$C$535-(E537),IF(B538=0,$C$535-SUM(E537),B538-A538)),\"0\"),\"0\")","v":0},{"$f":"(D538*E538)","v":0}]
[0,0,{"$f":"R536","v":0},{"$f":"Q536","v":0},{"$f":"IF($D$535<>\"Faixa Única\",IF($C$535<>\"\",IF(SUM(E538,B539)>=$C$535,$C$535-SUM($E$537:E538),IF(B539=0,$C$535-SUM($E$537:E538),B539-A539)),\"0\"),\"0\")","v":0},{"$f":"(D539*E539)","v":0}]
[0,0,{"$f":"R537","v":0},{"$f":"Q537","v":0},{"$f":"IF($D$535<>\"Faixa Única\",IF($C$535<>\"\",IF(SUM(E539,B540)>=$C$535,$C$535-SUM($E$537:E539),IF(B540=0,$C$535-SUM($E$537:E539),B540-A540)),\"0\"),\"0\")","v":0},{"$f":"(D540*E540)","v":0}]
[0,0,0,{"$f":"Q538","v":0},{"$f":"IF($D$535<>\"Faixa Única\",IF($C$535<>\"\",IF(SUM(E540,B541)>=$C$535,$C$535-SUM($E$537:E540),IF(B541=0,$C$535-SUM($E$537:E540),B541-A541)),\"0\"),\"0\")","v":0},0]
[0,0,0,{"$f":"Q539","v":0},{"$f":"IF($D$535<>\"Faixa Única\",IF($C$535<>\"\",IF(SUM(E541,B542)>=$C$535,$C$535-SUM($E$537:E541),IF(B542=0,$C$535-SUM($E$537:E541),B542-A542)),\"0\"),\"0\")","v":0},0]
[0,0,0,0,{"$f":"IF($D$535<>\"Faixa Única\",IF($C$535<>\"\",IF(SUM(E542,B543)>=$C$535,$C$535-SUM($E$537:E542),IF(B543=0,$C$535-SUM($E$537:E542),B543-A543)),\"0\"),\"0\")","v":0},0]
[0,0,0,0,{"$f":"IF($D$535<>\"Faixa Única\",IF($C$535<>\"\",IF(SUM(E543,B544)>=$C$535,$C$535-SUM($E$537:E543),IF(B544=0,$C$535-SUM($E$537:E543),B544-A544)),\"0\"),\"0\")","v":0},0]
[0,0,0,0,{"$f":"IF($D$535<>\"Faixa Única\",IF($C$535<>\"\",IF(SUM(E544,B545)>=$C$535,$C$535-SUM($E$537:E544),IF(B545=0,$C$535-SUM($E$537:E544),B545-A545)),\"0\"),\"0\")","v":0},0]
[0,0,0,0,{"$f":"IF($D$535<>\"Faixa Única\",IF($C$535<>\"\",IF(SUM(E545,B546)>=$C$535,$C$535-SUM($E$537:E545),IF(B546=0,$C$535-SUM($E$537:E545),B546-A546)),\"0\"),\"0\")","v":0},0]
[0,0,0,0,{"$f":"IF($D$535<>\"Faixa Única\",IF($C$535<>\"\",IF(SUM(E546,B547)>=$C$535,$C$535-SUM($E$537:E546),IF(B547=0,$C$535-SUM($E$537:E546),B547-A547)),\"0\"),\"0\")","v":0},0]
[0,0,0,0,{"$f":"IF($D$535<>\"Faixa Única\",IF($C$535<>\"\",IF(SUM(E547,B548)>=$C$535,$C$535-SUM($E$537:E547),IF(B548=0,$C$535-SUM($E$537:E547),B548-A548)),\"0\"),\"0\")","v":0},0]
[0,0,0,0,{"$f":"IF($D$535<>\"Faixa Única\",IF($C$535<>\"\",IF(SUM(E548,B549)>=$C$535,$C$535-SUM($E$537:E548),IF(B549=0,$C$535-SUM($E$537:E548),B549-A549)),\"0\"),\"0\")","v":0},0]
[0,0,0,0,{"$f":"IF($D$535<>\"Faixa Única\",IF($C$535<>\"\",IF(SUM(E549,B550)>=$C$535,$C$535-SUM($E$537:E549),IF(B550=0,$C$535-SUM($E$537:E549),B550-A550)),\"0\"),\"0\")","v":0},0]
[]
[null,null,null,"Subtotal",{"$f":"SUM(E537:E550)","v":0},{"$f":"SUM(F537:F550)","v":0}]
[null,null,null,"Termo Fixo",null,{"$f":"LARGE(C537:C550,1)","v":0}]
[null,null,null,"Total c/ impostos",null,{"$f":"F552+F553","v":0}]

{"sheet":"Dados Gráfico","index":4,"n_rows":24,"n_cols":12,"rows_kept":24,"cut":false,"hidden":true,"merged":[]}
["Distribuidora","Tarifa Média",null,"Distribuidora","Tarifa Média","Desempate"]
["ALGÁS (AL)",{"$f":"'Base Gráfico'!B329","v":""},null,{"$f":"INDEX($A$2:$B$20,MATCH(ROW(A1),$F$2:$F$20,0),1)","v":{"$error":"#N/A"}},{"$f":"INDEX($A$2:$B$20,MATCH(ROW(A1),$F$2:$F$20,0),2)","v":{"$error":"#N/A"}},{"$f":"_xlfn.RANK.EQ(B2,$B$2:$B$20,0)+COUNTIF($B$2:B2,B2)-1","v":{"$error":"#VALUE!"}}]
["BAHIAGÁS (BA)",{"$f":"'Base Gráfico'!B271","v":""},null,{"$f":"INDEX($A$2:$B$20,MATCH(ROW(A2),$F$2:$F$20,0),1)","v":{"$error":"#N/A"}},{"$f":"INDEX($A$2:$B$20,MATCH(ROW(A2),$F$2:$F$20,0),2)","v":{"$error":"#N/A"}},{"$f":"_xlfn.RANK.EQ(B3,$B$2:$B$20,0)+COUNTIF($B$2:B3,B3)-1","v":{"$error":"#VALUE!"}}]
["CEG (RJ)",{"$f":"'Base Gráfico'!B9","v":""},null,{"$error":"#N/A"},{"$error":"#N/A"},{"$f":"_xlfn.RANK.EQ(B4,$B$2:$B$20,0)+COUNTIF($B$2:B4,B4)-1","v":{"$error":"#VALUE!"}}]
["CEG RIO (RJ)",{"$f":"'Base Gráfico'!B155","v":""},null,{"$error":"#N/A"},{"$error":"#N/A"},{"$f":"_xlfn.RANK.EQ(B5,$B$2:$B$20,0)+COUNTIF($B$2:B5,B5)-1","v":{"$error":"#VALUE!"}}]
["CEGÁS (CE)",{"$f":"'Base Gráfico'!B445","v":""},null,{"$error":"#N/A"},{"$error":"#N/A"},{"$f":"_xlfn.RANK.EQ(B6,$B$2:$B$20,0)+COUNTIF($B$2:B6,B6)-1","v":{"$error":"#VALUE!"}}]
["CIGÁS (AM)",{"$f":"'Base Gráfico'!B503","v":""},null,{"$error":"#N/A"},{"$error":"#N/A"},{"$f":"_xlfn.RANK.EQ(B7,$B$2:$B$20,0)+COUNTIF($B$2:B7,B7)-1","v":{"$error":"#VALUE!"}}]
["COMGÁS (SP)",{"$f":"'Base Gráfico'!B68","v":""},null,{"$error":"#N/A"},{"$error":"#N/A"},{"$f":"_xlfn.RANK.EQ(B8,$B$2:$B$20,0)+COUNTIF($B$2:B8,B8)-1","v":{"$error":"#VALUE!"}}]
["COMPAGAS (PR)",{"$f":"'Base Gráfico'!B532","v":""},null,{"$error":"#N/A"},{"$error":"#N/A"},{"$f":"_xlfn.RANK.EQ(B9,$B$2:$B$20,0)+COUNTIF($B$2:B9,B9)-1","v":{"$error":"#VALUE!"}}]
["COPERGÁS (PE)",{"$f":"'Base Gráfico'!B358","v":""},null,{"$error":"#N/A"},{"$error":"#N/A"},{"$f":"_xlfn.RANK.EQ(B10,$B$2:$B$20,0)+COUNTIF($B$2:B10,B10)-1","v":{"$error":"#VALUE!"}}]
["ESGÁS (ES)",{"$f":"'Base Gráfico'!B184","v":""},null,{"$error":"#N/A"},{"$error":"#N/A"},{"$f":"_xlfn.RANK.EQ(B11,$B$2:$B$20,0)+COUNTIF($B$2:B11,B11)-1","v":{"$error":"#VALUE!"}}]
["GÁS BRASILIANO (SP) ",{"$f":"'Base Gráfico'!B97","v":""},null,{"$error":"#N/A"},{"$error":"#N/A"},{"$f":"_xlfn.RANK.EQ(B12,$B$2:$B$20,0)+COUNTIF($B$2:B12,B12)-1","v":{"$error":"#VALUE!"}}]
["GASMIG (MG)",{"$f":"'Base Gráfico'!B39","v":""},null,{"$error":"#N/A"},{"$error":"#N/A"},{"$f":"_xlfn.RANK.EQ(B13,$B$2:$B$20,0)+COUNTIF($B$2:B13,B13)-1","v":{"$error":"#VALUE!"}}]
["MSGÁS (MS)",{"$f":"'Base Gráfico'!B474","v":""},null,{"$error":"#N/A"},{"$error":"#N/A"},{"$f":"_xlfn.RANK.EQ(B14,$B$2:$B$20,0)+COUNTIF($B$2:B14,B14)-1","v":{"$error":"#VALUE!"}}]
["Naturgy SPS (SP)",{"$f":"'Base Gráfico'!B126","v":""},null,{"$error":"#N/A"},{"$error":"#N/A"},{"$f":"_xlfn.RANK.EQ(B15,$B$2:$B$20,0)+COUNTIF($B$2:B15,B15)-1","v":{"$error":"#VALUE!"}}]
["PBGÁS (PB)",{"$f":"'Base Gráfico'!B387","v":""},null,{"$error":"#N/A"},{"$error":"#N/A"},{"$f":"_xlfn.RANK.EQ(B16,$B$2:$B$20,0)+COUNTIF($B$2:B16,B16)-1","v":{"$error":"#VALUE!"}}]
["POTIGÁS (RN)",{"$f":"'Base Gráfico'!B416","v":""},null,{"$error":"#N/A"},{"$error":"#N/A"},{"$f":"_xlfn.RANK.EQ(B17,$B$2:$B$20,0)+COUNTIF($B$2:B17,B17)-1","v":{"$error":"#VALUE!"}}]
["SCGÁS (SC)",{"$f":"'Base Gráfico'!B213","v":""},null,{"$error":"#N/A"},{"$error":"#N/A"},{"$f":"_xlfn.RANK.EQ(B18,$B$2:$B$20,0)+COUNTIF($B$2:B18,B18)-1","v":{"$error":"#VALUE!"}}]
["SERGÁS (SE)",{"$f":"'Base Gráfico'!B300","v":""},null,{"$error":"#N/A"},{"$error":"#N/A"},{"$f":"_xlfn.RANK.EQ(B19,$B$2:$B$20,0)+COUNTIF($B$2:B19,B19)-1","v":{"$error":"#VALUE!"}}]
["SULGÁS (RS)",{"$f":"'Base Gráfico'!B242","v":""},null,{"$error":"#N/A"},{"$error":"#N/A"},{"$f":"_xlfn.RANK.EQ(B20,$B$2:$B$20,0)+COUNTIF($B$2:B20,B20)-1","v":{"$error":"#VALUE!"}}]
[]
[]
[]
[null,null,"ÍNDICE($A$2:$B$20;CORRESP(LIN(A1);$F$2:$F$20;0);1)",null,null,null,"ÍNDICE($A$2:$B$20;CORRESP(LIN(A1);$F$2:$F$20;0);2)",null,null,null,null,"ORDEM.EQ(B2;$B$2:$B$20;0)+CONT.SE($B$2:B2;B2)-1"]

{"sheet":"Base","index":5,"n_rows":6207,"n_cols":12,"rows_kept":6207,"cut":false,"hidden":true,"merged":[]}
["UF","ESTADO","MUNICÍPIO","AGÊNCIA REGULADORA","DISTRIBUIDORA","SEGMENTO","CONSUMO","FAIXA INICIAL","FAIXA FINAL","VARIÁVEL","FIXO","OBS"]
["RJ","Rio de Janeiro","Angra dos Reis","AGENERSA","CEG RIO","Residencial","Mensal",0,7,{"$f":"Cálculo!$G$3","v":7.2915999999999999}]
["RJ","Rio de Janeiro","Angra dos Reis","AGENERSA","CEG RIO","Residencial","Mensal",7.01,23,{"$f":"Cálculo!$G$4","v":9.15}]
["RJ","Rio de Janeiro","Angra dos Reis","AGENERSA","CEG RIO","Residencial","Mensal",23.01,83,{"$f":"Cálculo!$G$5","v":10.852499999999999}]
["RJ","Rio de Janeiro","Angra dos Reis","AGENERSA","CEG RIO","Residencial","Mensal",83.01,null,{"$f":"Cálculo!$G$6","v":12.052199999999999}]
["RJ","Rio de Janeiro","Angra dos Reis","AGENERSA","CEG RIO","Comercial","Mensal",0,200,{"$f":"Cálculo!$G$9","v":6.2965999999999998}]
["RJ","Rio de Janeiro","Angra dos Reis","AGENERSA","CEG RIO","Comercial","Mensal",200.01,500,{"$f":"Cálculo!$G$10","v":6.2278000000000002}]
["RJ","Rio de Janeiro","Angra dos Reis","AGENERSA","CEG RIO","Comercial","Mensal",500.01,2000,{"$f":"Cálculo!$G$11","v":5.1668000000000003}]
["RJ","Rio de Janeiro","Angra dos Reis","AGENERSA","CEG RIO","Comercial","Mensal",2000.01,20000,{"$f":"Cálculo!$G$12","v":5.0536000000000003}]
["RJ","Rio de Janeiro","Angra dos Reis","AGENERSA","CEG RIO","Comercial","Mensal",20000.009999999998,50000,{"$f":"Cálculo!$G$13","v":4.9550999999999998}]
["RJ","Rio de Janeiro","Angra dos Reis","AGENERSA","CEG RIO","Comercial","Mensal",50000.01,null,{"$f":"Cálculo!$G$14","v":4.8567}]
["RJ","Rio de Janeiro","Angra dos Reis","AGENERSA","CEG RIO","Industrial","Mensal",0,200,{"$f":"Cálculo!$G$17","v":5.1243999999999996}]
["RJ","Rio de Janeiro","Angra dos Reis","AGENERSA","CEG RIO","Industrial","Mensal",200.01,2000,{"$f":"Cálculo!$G$18","v":2.9883999999999999}]
["RJ","Rio de Janeiro","Angra dos Reis","AGENERSA","CEG RIO","Industrial","Mensal",2000.01,10000,{"$f":"Cálculo!$G$19","v":4.9067999999999996}]
["RJ","Rio de Janeiro","Angra dos Reis","AGENERSA","CEG RIO","Industrial","Mensal",10000.01,50000,{"$f":"Cálculo!$G$20","v":4.3433999999999999}]
["RJ","Rio de Janeiro","Angra dos Reis","AGENERSA","CEG RIO","Industrial","Mensal",50000.01,100000,{"$f":"Cálculo!$G$21","v":4.1002000000000001}]
["RJ","Rio de Janeiro","Angra dos Reis","AGENERSA","CEG RIO","Industrial","Mensal",100000.01,300000,{"$f":"Cálculo!$G$22","v":3.8393999999999999}]
["RJ","Rio de Janeiro","Angra dos Reis","AGENERSA","CEG RIO","Industrial","Mensal",300000.01,600000,{"$f":"Cálculo!$G$23","v":3.5312000000000001}]
["RJ","Rio de Janeiro","Angra dos Reis","AGENERSA","CEG RIO","Industrial","Mensal",600000.01,1500000,{"$f":"Cálculo!$G$24","v":3.5226999999999999}]
["RJ","Rio de Janeiro","Angra dos Reis","AGENERSA","CEG RIO","Industrial","Mensal",1500000.01,3000000,{"$f":"Cálculo!$G$25","v":3.4998999999999998}]
["RJ","Rio de Janeiro","Angra dos Reis","AGENERSA","CEG RIO","Industrial","Mensal",3000000.01,null,{"$f":"Cálculo!$G$26","v":3.4243000000000001}]
["RJ","Rio de Janeiro","Angra dos Reis","AGENERSA","CEG RIO","GNV","Faixa Única",null,null,{"$f":"Cálculo!$G$29","v":3.4365999999999999}]
["RJ","Rio de Janeiro","Rio de Janeiro","AGENERSA","CEG","Residencial","Mensal",0,7,{"$f":"Cálculo!$G$34","v":9.5297000000000001}]
["RJ","Rio de Janeiro","Rio de Janeiro","AGENERSA","CEG","Residencial","Mensal",7.01,23,{"$f":"Cálculo!$G$35","v":12.308999999999999}]
["RJ","Rio de Janeiro","Rio de Janeiro","AGENERSA","CEG","Residencial","Mensal",23.01,83,{"$f":"Cálculo!$G$36","v":14.8233}]
["RJ","Rio de Janeiro","Rio de Janeiro","AGENERSA","CEG","Residencial","Mensal",83.01,null,{"$f":"Cálculo!$G$37","v":15.6203}]
["RJ","Rio de Janeiro","Rio de Janeiro","AGENERSA","CEG","Comercial","Mensal",0,200,{"$f":"Cálculo!$G$40","v":9.3140000000000001}]
["RJ","Rio de Janeiro","Rio de Janeiro","AGENERSA","CEG","Comercial","Mensal",200.01,500,{"$f":"Cálculo!$G$41","v":9.0565999999999995}]
["RJ","Rio de Janeiro","Rio de Janeiro","AGENERSA","CEG","Comercial","Mensal",500.01,2000,{"$f":"Cálculo!$G$42","v":8.7997999999999994}]
["RJ","Rio de Janeiro","Rio de Janeiro","AGENERSA","CEG","Comercial","Mensal",2000.01,20000,{"$f":"Cálculo!$G$43","v":8.5432000000000006}]
["RJ","Rio de Janeiro","Rio de Janeiro","AGENERSA","CEG","Comercial","Mensal",20000.009999999998,50000,{"$f":"Cálculo!$G$44","v":8.2860999999999994}]
["RJ","Rio de Janeiro","Rio de Janeiro","AGENERSA","CEG","Comercial","Mensal",50000.01,null,{"$f":"Cálculo!$G$45","v":8.0290999999999997}]
["RJ","Rio de Janeiro","Rio de Janeiro","AGENERSA","CEG","Industrial","Mensal",0,200,{"$f":"Cálculo!$G$48","v":5.5377999999999998}]
["RJ","Rio de Janeiro","Rio de Janeiro","AGENERSA","CEG","Industrial","Mensal",200.01,2000,{"$f":"Cálculo!$G$49","v":5.3860999999999999}]
["RJ","Rio de Janeiro","Rio de Janeiro","AGENERSA","CEG","Industrial","Mensal",2000.01,10000,{"$f":"Cálculo!$G$50","v":5.2949000000000002}]
["RJ","Rio de Janeiro","Rio de Janeiro","AGENERSA","CEG","Industrial","Mensal",10000.01,50000,{"$f":"Cálculo!$G$51","v":4.7983000000000002}]
["RJ","Rio de Janeiro","Rio de Janeiro","AGENERSA","CEG","Industrial","Mensal",50000.01,100000,{"$f":"Cálculo!$G$52","v":4.5003000000000002}]
["RJ","Rio de Janeiro","Rio de Janeiro","AGENERSA","CEG","Industrial","Mensal",100000.01,300000,{"$f":"Cálculo!$G$53","v":4.1826999999999996}]
["RJ","Rio de Janeiro","Rio de Janeiro","AGENERSA","CEG","Industrial","Mensal",300000.01,600000,{"$f":"Cálculo!$G$54","v":3.8064}]
["RJ","Rio de Janeiro","Rio de Janeiro","AGENERSA","CEG","Industrial","Mensal",600000.01,1500000,{"$f":"Cálculo!$G$55","v":3.7966000000000002}]
["RJ","Rio de Janeiro","Rio de Janeiro","AGENERSA","CEG","Industrial","Mensal",1500000.01,3000000,{"$f":"Cálculo!$G$56","v":3.7690999999999999}]
["RJ","Rio de Janeiro","Rio de Janeiro","AGENERSA","CEG","Industrial","Mensal",3000000.01,null,{"$f":"Cálculo!$G$57","v":3.6758999999999999}]
["RJ","Rio de Janeiro","Rio de Janeiro","AGENERSA","CEG","GNV","Faixa Única",null,null,{"$f":"Cálculo!$G$60","v":3.5691999999999999}]
["ES","Espírito Santo",null,"ARSP","ESGÁS","Residencial","Mensal",0,8,{"$f":"Cálculo!G158","v":0},{"$f":"Cálculo!H158","v":52.81}]
["ES","Espírito Santo",null,"ARSP","ESGÁS","Residencial","Mensal",8.01,16,{"$f":"Cálculo!G159","v":4.6502999999999997},{"$f":"Cálculo!H159","v":10.44}]
["ES","Espírito Santo",null,"ARSP","ESGÁS","Residencial","Mensal",16.010000000000002,55,{"$f":"Cálculo!G160","v":4.9850000000000003},{"$f":"Cálculo!H160","v":5.08}]
["ES","Espírito Santo",null,"ARSP","ESGÁS","Residencial","Mensal",55.01,null,{"$f":"Cálculo!G161","v":5.0834999999999999},{"$f":"Cálculo!H161","v":0}]
["ES","Espírito Santo",null,"ARSP","ESGÁS","Comercial","Mensal",0,200,{"$f":"Cálculo!G164","v":5.3343999999999996},{"$f":"Cálculo!H164","v":92.89}]
["ES","Espírito Santo",null,"ARSP","ESGÁS","Comercial","Mensal",200.01,1000,{"$f":"Cálculo!G165","v":5.7314999999999996},{"$f":"Cálculo!H165","v":13.48}]
["ES","Espírito Santo",null,"ARSP","ESGÁS","Comercial","Mensal",1000.01,5000,{"$f":"Cálculo!G166","v":5.4599000000000002},{"$f":"Cálculo!H166","v":285.11}]
["ES","Espírito Santo",null,"ARSP","ESGÁS","Comercial","Mensal",5000.01,15000,{"$f":"Cálculo!G167","v":5.3761999999999999},{"$f":"Cálculo!H167","v":703.36}]
["ES","Espírito Santo",null,"ARSP","ESGÁS","Comercial","Mensal",15000.01,null,{"$f":"Cálculo!G168","v":5.1045999999999996},{"$f":"Cálculo!H168","v":4777.88}]
["ES","Espírito Santo",null,"ARSP","ESGÁS","Industrial","Mensal",0,1000,{"$f":"Cálculo!G171","v":5.9446000000000003},{"$f":"Cálculo!H171","v":112.99}]
["ES","Espírito Santo",null,"ARSP","ESGÁS","Industrial","Mensal",1000.01,5000,{"$f":"Cálculo!G172","v":4.9076000000000004},{"$f":"Cálculo!H172","v":1150.04}]
["ES","Espírito Santo",null,"ARSP","ESGÁS","Industrial","Mensal",5000.01,50000,{"$f":"Cálculo!G173","v":3.9834000000000001},{"$f":"Cálculo!H173","v":5770.61}]
["ES","Espírito Santo",null,"ARSP","ESGÁS","Industrial","Mensal",50000.01,300000,{"$f":"Cálculo!G174","v":3.9161999999999999},{"$f":"Cálculo!H174","v":9128.2900000000009}]
["ES","Espírito Santo",null,"ARSP","ESGÁS","Industrial","Mensal",300000.01,500000,{"$f":"Cálculo!G175","v":3.871},{"$f":"Cálculo!H175","v":22721.63}]
["ES","Espírito Santo",null,"ARSP","ESGÁS","Industrial","Mensal",500000.01,1000000,{"$f":"Cálculo!G176","v":3.8258999999999999},{"$f":"Cálculo!H176","v":45261.02}]
["ES","Espírito Santo",null,"ARSP","ESGÁS","Industrial","Mensal",1000000.01,10000000,{"$f":"Cálculo!G177","v":3.8033999999999999},{"$f":"Cálculo!H177","v":67800.399999999994}]
["ES","Espírito Santo",null,"ARSP","ESGÁS","Industrial","Mensal",10000000.01,null,{"$f":"Cálculo!G178","v":3.742},{"$f":"Cálculo!H178","v":681243.52}]
["ES","Espírito Santo",null,"ARSP","ESGÁS","GNV","Faixa Única",null,null,{"$f":"Cálculo!G181","v":3.677},{"$f":"Cálculo!H181","v":0}]
["MG","Minas Gerais",null,"SECRETARIA DE ESTADO DE DESENVOLVIMENTO ECONÔMICO","GASMIG","Residencial","Mensal",0,1,{"$f":"Cálculo!G187","v":0},{"$f":"Cálculo!H187","v":30.493822000000002}]
["MG","Minas Gerais",null,"SECRETARIA DE ESTADO DE DESENVOLVIMENTO ECONÔMICO","GASMIG","Residencial","Mensal",1.01,7,{"$f":"Cálculo!G188","v":9.1941520000000008},{"$f":"Cálculo!H188","v":17.91009}]
["MG","Minas Gerais",null,"SECRETARIA DE ESTADO DE DESENVOLVIMENTO ECONÔMICO","GASMIG","Residencial","Mensal",7.01,16,{"$f":"Cálculo!G189","v":8.1456850000000003},{"$f":"Cálculo!H189","v":28.189523999999999}]
["MG","Minas Gerais",null,"SECRETARIA DE ESTADO DE DESENVOLVIMENTO ECONÔMICO","GASMIG","Residencial","Mensal",16.010000000000002,41,{"$f":"Cálculo!G190","v":7.9629890000000003},{"$f":"Cálculo!H190","v":31.975173999999999}]
["MG","Minas Gerais",null,"SECRETARIA DE ESTADO DE DESENVOLVIMENTO ECONÔMICO","GASMIG","Residencial","Mensal",41.01,200,{"$f":"Cálculo!G191","v":7.4902839999999999},{"$f":"Cálculo!H191","v":49.193924000000003}]
["MG","Minas Gerais",null,"SECRETARIA DE ESTADO DE DESENVOLVIMENTO ECONÔMICO","GASMIG","Residencial","Mensal",200.01,null,{"$f":"Cálculo!G192","v":7.2553710000000002},{"$f":"Cálculo!H192","v":96.203385999999995}]
["MG","Minas Gerais",null,"SECRETARIA DE ESTADO DE DESENVOLVIMENTO ECONÔMICO","GASMIG","Comercial","Mensal",0,50,{"$f":"Cálculo!G195","v":7.5857020000000004},{"$f":"Cálculo!H195","v":102.477784}]
["MG","Minas Gerais",null,"SECRETARIA DE ESTADO DE DESENVOLVIMENTO ECONÔMICO","GASMIG","Comercial","Mensal",50.01,150,{"$f":"Cálculo!G196","v":7.5262219999999997},{"$f":"Cálculo!H196","v":105.39065100000001}]
["MG","Minas Gerais",null,"SECRETARIA DE ESTADO DE DESENVOLVIMENTO ECONÔMICO","GASMIG","Comercial","Mensal",150.01,300,{"$f":"Cálculo!G197","v":7.2283239999999997},{"$f":"Cálculo!H197","v":149.08328499999999}]
["MG","Minas Gerais",null,"SECRETARIA DE ESTADO DE DESENVOLVIMENTO ECONÔMICO","GASMIG","Comercial","Mensal",300.01,600,{"$f":"Cálculo!G198","v":6.673724},{"$f":"Cálculo!H198","v":316.14315199999999}]
["MG","Minas Gerais",null,"SECRETARIA DE ESTADO DE DESENVOLVIMENTO ECONÔMICO","GASMIG","Comercial","Mensal",600.01,1000,{"$f":"Cálculo!G199","v":6.6136189999999999},{"$f":"Cálculo!H199","v":350.26484699999997}]
["MG","Minas Gerais",null,"SECRETARIA DE ESTADO DE DESENVOLVIMENTO ECONÔMICO","GASMIG","Comercial","Mensal",1000.01,2000,{"$f":"Cálculo!G200","v":5.8859659999999998},{"$f":"Cálculo!H200","v":1076.2854500000001}]
["MG","Minas Gerais",null,"SECRETARIA DE ESTADO DE DESENVOLVIMENTO ECONÔMICO","GASMIG","Comercial","Mensal",2000.01,5000,{"$f":"Cálculo!G201","v":4.5765399999999996},{"$f":"Cálculo!H201","v":1455.460462}]
["MG","Minas Gerais",null,"SECRETARIA DE ESTADO DE DESENVOLVIMENTO ECONÔMICO","GASMIG","Comercial","Mensal",5000.01,15000,{"$f":"Cálculo!G202","v":4.4647189999999997},{"$f":"Cálculo!H202","v":2014.1740130000001}]
["MG","Minas Gerais",null,"SECRETARIA DE ESTADO DE DESENVOLVIMENTO ECONÔMICO","GASMIG","Comercial","Mensal",15000.01,25000,{"$f":"Cálculo!G203","v":4.3743100000000004},{"$f":"Cálculo!H203","v":3373.0496699999999}]
["MG","Minas Gerais",null,"SECRETARIA DE ESTADO DE DESENVOLVIMENTO ECONÔMICO","GASMIG","Comercial","Mensal",25000.01,null,{"$f":"Cálculo!G204","v":4.1909879999999999},{"$f":"Cálculo!H204","v":7954.2205240000003}]
["MG","Minas Gerais",null,"SECRETARIA DE ESTADO DE DESENVOLVIMENTO ECONÔMICO","GASMIG","Industrial","Mensal",0,12500,{"$f":"Cálculo!G207","v":5.0757919999999999}]
["MG","Minas Gerais",null,"SECRETARIA DE ESTADO DE DESENVOLVIMENTO ECONÔMICO","GASMIG","Industrial","Mensal",12500.01,50000,{"$f":"Cálculo!G208","v":3.5558719999999999}]
["MG","Minas Gerais",null,"SECRETARIA DE ESTADO DE DESENVOLVIMENTO ECONÔMICO","GASMIG","Industrial","Mensal",50000.01,250000,{"$f":"Cálculo!G209","v":3.4334069999999999}]
["MG","Minas Gerais",null,"SECRETARIA DE ESTADO DE DESENVOLVIMENTO ECONÔMICO","GASMIG","Industrial","Mensal",250000.01,750000,{"$f":"Cálculo!G210","v":3.4544568999999998}]
["MG","Minas Gerais",null,"SECRETARIA DE ESTADO DE DESENVOLVIMENTO ECONÔMICO","GASMIG","Industrial","Mensal",750000.01,1500000,{"$f":"Cálculo!G211","v":3.424661}]
["MG","Minas Gerais",null,"SECRETARIA DE ESTADO DE DESENVOLVIMENTO ECONÔMICO","GASMIG","Industrial","Mensal",1500000.01,3000000,{"$f":"Cálculo!G212","v":3.4144990000000002}]
["MG","Minas Gerais",null,"SECRETARIA DE ESTADO DE DESENVOLVIMENTO ECONÔMICO","GASMIG","Industrial","Mensal",3000000.01,4500000,{"$f":"Cálculo!G213","v":3.338114}]
["MG","Minas Gerais",null,"SECRETARIA DE ESTADO DE DESENVOLVIMENTO ECONÔMICO","GASMIG","Industrial","Mensal",4500000.01,7000000,{"$f":"Cálculo!G214","v":3.2333050000000001}]
["MG","Minas Gerais",null,"SECRETARIA DE ESTADO DE DESENVOLVIMENTO ECONÔMICO","GASMIG","Industrial","Mensal",7000000.0099999998,null,{"$f":"Cálculo!G215","v":3.1728239999999999}]
["MG","Minas Gerais",null,"SECRETARIA DE ESTADO DE DESENVOLVIMENTO ECONÔMICO","GASMIG","GNV","Faixa Única",null,null,{"$f":"Cálculo!G218","v":3.8084500000000001}]
["PR","Paraná",null,"AGEPAR","COMPAGAS","Residencial","Mensal",0,0.1,{"$f":"Cálculo!G932","v":8.2523},{"$f":"Cálculo!H932","v":" 19,5699 "}]
["PR","Paraná",null,"AGEPAR","COMPAGAS","Residencial","Mensal",0.11,0.7,{"$f":"Cálculo!G933","v":7.7248000000000001},{"$f":"Cálculo!H933","v":" 19,5699 "}]
["PR","Paraná",null,"AGEPAR","COMPAGAS","Residencial","Mensal",0.71,1.5,{"$f":"Cálculo!G934","v":7.6295999999999999},{"$f":"Cálculo!H934","v":" 19,5699 "}]
["PR","Paraná",null,"AGEPAR","COMPAGAS","Residencial","Mensal",1.51,2,{"$f":"Cálculo!G935","v":7.3968999999999996},{"$f":"Cálculo!H935","v":" 19,5699 "}]
["PR","Paraná",null,"AGEPAR","COMPAGAS","Residencial","Mensal",2.0099999999999998,3,{"$f":"Cálculo!G936","v":7.1757999999999997},{"$f":"Cálculo!H936","v":" 19,5699 "}]
["PR","Paraná",null,"AGEPAR","COMPAGAS","Residencial","Mensal",3.01,6,{"$f":"Cálculo!G937","v":6.8396999999999997},{"$f":"Cálculo!H937","v":" 19,5699 "}]
["PR","Paraná",null,"AGEPAR","COMPAGAS","Residencial","Mensal",6.01,13,{"$f":"Cálculo!G938","v":6.4531999999999998},{"$f":"Cálculo!H938","v":" 19,5699 "}]
["PR","Paraná",null,"AGEPAR","COMPAGAS","Residencial","Mensal",13.01,null,{"$f":"Cálculo!G939","v":5.7576000000000001},{"$f":"Cálculo!H939","v":" 19,5699 "}]
["PR","Paraná",null,"AGEPAR","COMPAGAS","Comercial","Diário",0,10,{"$f":"Cálculo!G942","v":7.4680999999999997},{"$f":"Cálculo!H942","v":70.372900000000001}]
["PR","Paraná",null,"AGEPAR","COMPAGAS","Comercial","Diário",10.01,20,{"$f":"Cálculo!G943","v":7.4176000000000002},{"$f":"Cálculo!H943","v":70.372900000000001}]
["PR","Paraná",null,"AGEPAR","COMPAGAS","Comercial","Diário",20.010000000000002,40,{"$f":"Cálculo!G944","v":7.2906000000000004},{"$f":"Cálculo!H944","v":70.372900000000001}]
["PR","Paraná",null,"AGEPAR","COMPAGAS","Comercial","Diário",40.01,80,{"$f":"Cálculo!G945","v":7.0857999999999999},{"$f":"Cálculo!H945","v":70.372900000000001}]
["PR","Paraná",null,"AGEPAR","COMPAGAS","Comercial","Diário",80.010000000000005,160,{"$f":"Cálculo!G946","v":6.5991999999999997},{"$f":"Cálculo!H946","v":211.1045}]
["PR","Paraná",null,"AGEPAR","COMPAGAS","Comercial","Diário",160.01,320,{"$f":"Cálculo!G947","v":5.9070999999999998},{"$f":"Cálculo!H947","v":211.1045}]
["PR","Paraná",null,"AGEPAR","COMPAGAS","Comercial","Diário",320.01,640,{"$f":"Cálculo!G948","v":5.2965},{"$f":"Cálculo!H948","v":211.1045}]
["PR","Paraná",null,"AGEPAR","COMPAGAS","Comercial","Diário",640.01,1280,{"$f":"Cálculo!G949","v":4.7705000000000002},{"$f":"Cálculo!H949","v":211.1045}]
["PR","Paraná",null,"AGEPAR","COMPAGAS","Comercial","Diário",1280.01,null,{"$f":"Cálculo!G950","v":4.4757999999999996},{"$f":"Cálculo!H950","v":211.1045}]
["PR","Paraná",null,"AGEPAR","COMPAGAS","Industrial","Diário",0,500,{"$f":"Cálculo!G953","v":4.9271000000000003}]
["PR","Paraná",null,"AGEPAR","COMPAGAS","Industrial","Diário",500.01,1000,{"$f":"Cálculo!G954","v":4.5879000000000003}]
["PR","Paraná",null,"AGEPAR","COMPAGAS","Industrial","Diário",1000.01,2000,{"$f":"Cálculo!G955","v":4.5209000000000001}]
["PR","Paraná",null,"AGEPAR","COMPAGAS","Industrial","Diário",2000.01,4000,{"$f":"Cálculo!G956","v":4.5058999999999996}]
["PR","Paraná",null,"AGEPAR","COMPAGAS","Industrial","Diário",4000.01,8000,{"$f":"Cálculo!G957","v":4.4621000000000004}]
["PR","Paraná",null,"AGEPAR","COMPAGAS","Industrial","Diário",8000.01,16000,{"$f":"Cálculo!G958","v":4.4470999999999998}]
["PR","Paraná",null,"AGEPAR","COMPAGAS","Industrial","Diário",16000.01,32000,{"$f":"Cálculo!G959","v":4.4233000000000002}]
["PR","Paraná",null,"AGEPAR","COMPAGAS","Industrial","Diário",32000.01,64000,{"$f":"Cálculo!G960","v":4.4061000000000003}]
["PR","Paraná",null,"AGEPAR","COMPAGAS","Industrial","Diário",64000.01,null,{"$f":"Cálculo!G961","v":3.5485000000000002}]
["PR","Paraná",null,"AGEPAR","COMPAGAS","GNV","Faixa Única",null,null,{"$f":"Cálculo!G964","v":4.1024000000000003}]
["SC","Santa Catarina",null,"ARESC","SCGÁS","Residencial","Faixa Única",null,null,{"$f":"Cálculo!G251","v":7.1505000000000001}]
["SC","Santa Catarina",null,"ARESC","SCGÁS","Comercial","Mensal",0,150,{"$f":"Cálculo!G254","v":8.6441999999999997},null,"ICMS 17%"]
["SC","Santa Catarina",null,"ARESC","SCGÁS","Comercial","Mensal",150.01,300,{"$f":"Cálculo!G255","v":6.4223999999999997},null,"ICMS 17%"]
["SC","Santa Catarina",null,"ARESC","SCGÁS","Comercial","Mensal",300.01,2100,{"$f":"Cálculo!G256","v":6.2445000000000004},null,"ICMS 17%"]
["SC","Santa Catarina",null,"ARESC","SCGÁS","Comercial","Mensal",2100.0100000000002,null,{"$f":"Cálculo!G257","v":4.3943000000000003},null,"ICMS 17%"]
["SC","Santa Catarina",null,"ARESC","SCGÁS","Industrial","Diário",0,5,{"$f":"Cálculo!G268","v":8.2403999999999993},null,"Amarela TG1"]
["SC","Santa Catarina",null,"ARESC","SCGÁS","Industrial","Diário",5.01,10,{"$f":"Cálculo!G269","v":6.0881999999999996},null,"Amarela TG1"]
["SC","Santa Catarina",null,"ARESC","SCGÁS","Industrial","Diário",10.01,70,{"$f":"Cálculo!G270","v":5.9142000000000001},null,"Amarela TG1"]
["SC","Santa Catarina",null,"ARESC","SCGÁS","Industrial","Diário",70.010000000000005,1000,{"$f":"Cálculo!G271","v":3.9308999999999998},null,"Amarela TG1"]
["SC","Santa Catarina",null,"ARESC","SCGÁS","Industrial","Diário",1000.01,5000,{"$f":"Cálculo!G272","v":3.8090000000000002},null,"Amarela TG1"]
["SC","Santa Catarina",null,"ARESC","SCGÁS","Industrial","Diário",5000.01,10000,{"$f":"Cálculo!G273","v":3.6758999999999999},null,"Amarela TG1"]
["SC","Santa Catarina",null,"ARESC","SCGÁS","Industrial","Diário",10000.01,25000,{"$f":"Cálculo!G274","v":3.5867},null,"Amarela TG1"]
["SC","Santa Catarina",null,"ARESC","SCGÁS","Industrial","Diário",25000.01,50000,{"$f":"Cálculo!G275","v":3.524},null,"Amarela TG1"]
["SC","Santa Catarina",null,"ARESC","SCGÁS","Industrial","Diário",50000.01,100000,{"$f":"Cálculo!G276","v":3.4573},null,"Amarela TG1"]
["SC","Santa Catarina",null,"ARESC","SCGÁS","Industrial","Diário",100000.01,150000,{"$f":"Cálculo!G277","v":3.2703000000000002},null,"Amarela TG1"]
["SC","Santa Catarina",null,"ARESC","SCGÁS","Industrial","Diário",150000.01,200000,{"$f":"Cálculo!G278","v":3.2471999999999999},null,"Amarela TG1"]
["SC","Santa Catarina",null,"ARESC","SCGÁS","Industrial","Diário",200000.01,null,{"$f":"Cálculo!G279","v":3.2282999999999999},null,"Amarela TG1"]
["SC","Santa Catarina",null,"ARESC","SCGÁS","GNV","Faixa Única",null,null,{"$f":"Cálculo!G314","v":3.4813999999999998}]
["RS","Rio Grande do Sul",null,"AGERGS","SULGÁS","Residencial","Mensal",0,300,{"$f":"Cálculo!G320","v":7.1623000000000001},{"$f":"Cálculo!H320","v":0}]
["RS","Rio Grande do Sul",null,"AGERGS","SULGÁS","Residencial","Mensal",300.01,1500,{"$f":"Cálculo!G321","v":6.0361000000000002},{"$f":"Cálculo!H321","v":337.85}]
["RS","Rio Grande do Sul",null,"AGERGS","SULGÁS","Residencial","Mensal",1500.01,null,{"$f":"Cálculo!G322","v":5.4263000000000003},{"$f":"Cálculo!H322","v":1252.57}]
["RS","Rio Grande do Sul",null,"AGERGS","SULGÁS","Comercial","Mensal",0,200,{"$f":"Cálculo!G325","v":5.9737999999999998},{"$f":"Cálculo!H325","v":106.72}]
["RS","Rio Grande do Sul",null,"AGERGS","SULGÁS","Comercial","Mensal",200.01,1500,{"$f":"Cálculo!G326","v":5.8258000000000001},{"$f":"Cálculo!H326","v":136.33000000000001}]
["RS","Rio Grande do Sul",null,"AGERGS","SULGÁS","Comercial","Mensal",1500.01,10000,{"$f":"Cálculo!G327","v":5.7348999999999997},{"$f":"Cálculo!H327","v":272.58999999999997}]
["RS","Rio Grande do Sul",null,"AGERGS","SULGÁS","Comercial","Mensal",10000.01,null,{"$f":"Cálculo!G328","v":4.6234000000000002},{"$f":"Cálculo!H328","v":11387.89}]
["RS","Rio Grande do Sul",null,"AGERGS","SULGÁS","Industrial","Diário",0,500,{"$f":"Cálculo!L331","v":3.8010999999999999},null,"s/ tributos"]
["RS","Rio Grande do Sul",null,"AGERGS","SULGÁS","Industrial","Diário",500.01,1000,{"$f":"Cálculo!L332","v":3.2932000000000001},null,"s/ tributos"]
["RS","Rio Grande do Sul",null,"AGERGS","SULGÁS","Industrial","Diário",1000.01,5000,{"$f":"Cálculo!L333","v":3.2229999999999999},null,"s/ tributos"]
["RS","Rio Grande do Sul",null,"AGERGS","SULGÁS","Industrial","Diário",5000.01,10000,{"$f":"Cálculo!L334","v":3.1080999999999999},null,"s/ tributos"]
["RS","Rio Grande do Sul",null,"AGERGS","SULGÁS","Industrial","Diário",10000.01,15000,{"$f":"Cálculo!L335","v":3.097},null,"s/ tributos"]
["RS","Rio Grande do Sul",null,"AGERGS","SULGÁS","Industrial","Diário",15000.01,25000,{"$f":"Cálculo!L336","v":3.0207999999999999},null,"s/ tributos"]
["RS","Rio Grande do Sul",null,"AGERGS","SULGÁS","Industrial","Diário",25000.01,50000,{"$f":"Cálculo!L337","v":2.9657},null,"s/ tributos"]
["RS","Rio Grande do Sul",null,"AGERGS","SULGÁS","Industrial","Diário",50000.01,100000,{"$f":"Cálculo!L338","v":2.8875000000000002},null,"s/ tributos"]
["RS","Rio Grande do Sul",null,"AGERGS","SULGÁS","Industrial","Diário",100000.01,200000,{"$f":"Cálculo!L339","v":2.7683},null,"s/ tributos"]
["RS","Rio Grande do Sul",null,"AGERGS","SULGÁS","Industrial","Diário",200000.01,300000,{"$f":"Cálculo!L340","v":2.7515000000000001},null,"s/ tributos"]
["RS","Rio Grande do Sul",null,"AGERGS","SULGÁS","Industrial","Diário",300000.01,400000,{"$f":"Cálculo!L341","v":2.7286999999999999},null,"s/ tributos"]
["RS","Rio Grande do Sul",null,"AGERGS","SULGÁS","Industrial","Diário",400000.01,500000,{"$f":"Cálculo!L342","v":2.7181999999999999},null,"s/ tributos"]
["RS","Rio Grande do Sul",null,"AGERGS","SULGÁS","GNV","Faixa Única",null,null,{"$f":"Cálculo!L345","v":0},null,"s/ tributos"]
["BA","Bahia",null,"AGERBA","BAHIAGÁS","Residencial","Mensal",0,20,{"$f":"Cálculo!G351","v":5.6555},{"$f":"Cálculo!H351","v":8.5299999999999994}]
["BA","Bahia",null,"AGERBA","BAHIAGÁS","Residencial","Mensal",20.010000000000002,100,{"$f":"Cálculo!G352","v":5.0648999999999997},{"$f":"Cálculo!H352","v":8.5299999999999994}]
["BA","Bahia",null,"AGERBA","BAHIAGÁS","Residencial","Mensal",100.01,850,{"$f":"Cálculo!G353","v":4.8048999999999999},{"$f":"Cálculo!H353","v":8.5299999999999994}]
["BA","Bahia",null,"AGERBA","BAHIAGÁS","Residencial","Mensal",850.01,2500,{"$f":"Cálculo!G354","v":4.6914999999999996},{"$f":"Cálculo!H354","v":8.5299999999999994}]
["BA","Bahia",null,"AGERBA","BAHIAGÁS","Residencial","Mensal",2500.0100000000002,null,{"$f":"Cálculo!G355","v":4.6083999999999996},{"$f":"Cálculo!H355","v":8.5299999999999994}]
["BA","Bahia",null,"AGERBA","BAHIAGÁS","Comercial","Mensal",0,450,{"$f":"Cálculo!G358","v":5.8578000000000001}]
["BA","Bahia",null,"AGERBA","BAHIAGÁS","Comercial","Mensal",450.01,1500,{"$f":"Cálculo!G359","v":3.6758000000000002}]
["BA","Bahia",null,"AGERBA","BAHIAGÁS","Comercial","Mensal",1500.01,4500,{"$f":"Cálculo!G360","v":3.4912000000000001}]
["BA","Bahia",null,"AGERBA","BAHIAGÁS","Comercial","Mensal",4500.01,15000,{"$f":"Cálculo!G361","v":3.3395999999999999}]
["BA","Bahia",null,"AGERBA","BAHIAGÁS","Comercial","Mensal",15000.01,30000,{"$f":"Cálculo!G362","v":3.3353000000000002}]
["BA","Bahia",null,"AGERBA","BAHIAGÁS","Comercial","Mensal",30000.01,180000,{"$f":"Cálculo!G363","v":3.2616999999999998}]
["BA","Bahia",null,"AGERBA","BAHIAGÁS","Comercial","Mensal",180000.01,360000,{"$f":"Cálculo!G364","v":3.2124999999999999}]
["BA","Bahia",null,"AGERBA","BAHIAGÁS","Comercial","Mensal",360000.01,600000,{"$f":"Cálculo!G365","v":3.1404000000000001}]
["BA","Bahia",null,"AGERBA","BAHIAGÁS","Comercial","Mensal",600000.01,1050000,{"$f":"Cálculo!G366","v":3.0912000000000002}]
["BA","Bahia",null,"AGERBA","BAHIAGÁS","Comercial","Mensal",1050000.01,1800000,{"$f":"Cálculo!G367","v":3.0476000000000001}]
["BA","Bahia",null,"AGERBA","BAHIAGÁS","Comercial","Mensal",1800000.01,30000000,{"$f":"Cálculo!G368","v":3.0148999999999999}]
["BA","Bahia",null,"AGERBA","BAHIAGÁS","Comercial","Mensal",30000000.010000002,null,{"$f":"Cálculo!G369","v":2.9310999999999998}]
["BA","Bahia",null,"AGERBA","BAHIAGÁS","Industrial","Diário",0,15,{"$f":"Cálculo!G372","v":5.3129}]
["BA","Bahia",null,"AGERBA","BAHIAGÁS","Industrial","Diário",15.01,50,{"$f":"Cálculo!G373","v":3.4853000000000001}]
["BA","Bahia",null,"AGERBA","BAHIAGÁS","Industrial","Diário",50.01,150,{"$f":"Cálculo!G374","v":3.3308}]
["BA","Bahia",null,"AGERBA","BAHIAGÁS","Industrial","Diário",150.01,500,{"$f":"Cálculo!G375","v":3.2538999999999998}]
["BA","Bahia",null,"AGERBA","BAHIAGÁS","Industrial","Diário",500.01,1000,{"$f":"Cálculo!G376","v":3.2008999999999999}]
["BA","Bahia",null,"AGERBA","BAHIAGÁS","Industrial","Diário",1000.01,6000,{"$f":"Cálculo!G377","v":3.1391}]
["BA","Bahia",null,"AGERBA","BAHIAGÁS","Industrial","Diário",6000.01,12000,{"$f":"Cálculo!G378","v":3.1074000000000002}]
["BA","Bahia",null,"AGERBA","BAHIAGÁS","Industrial","Diário",12000.01,20000,{"$f":"Cálculo!G379","v":3.0491000000000001}]
["BA","Bahia",null,"AGERBA","BAHIAGÁS","Industrial","Diário",20000.009999999998,35000,{"$f":"Cálculo!G380","v":3.0188999999999999}]
["BA","Bahia",null,"AGERBA","BAHIAGÁS","Industrial","Diário",35000.01,60000,{"$f":"Cálculo!G381","v":2.9847999999999999}]
["BA","Bahia",null,"AGERBA","BAHIAGÁS","Industrial","Diário",60000.01,400000,{"$f":"Cálculo!G382","v":2.9329999999999998}]
["BA","Bahia",null,"AGERBA","BAHIAGÁS","Industrial","Diário",400000.01,700000,{"$f":"Cálculo!G383","v":2.9037999999999999}]
["BA","Bahia",null,"AGERBA","BAHIAGÁS","Industrial","Diário",700000.01,1000000,{"$f":"Cálculo!G384","v":2.8801999999999999}]
["BA","Bahia",null,"AGERBA","BAHIAGÁS","Industrial","Diário",1000000.01,null,{"$f":"Cálculo!G385","v":2.8620999999999999}]
["BA","Bahia",null,"AGERBA","BAHIAGÁS","GNV","Faixa Única",null,null,{"$f":"Cálculo!G388","v":2.9310999999999998}]
["SE","Sergipe",null,"AGRESE","SERGÁS","Residencial","Faixa Única",null,null,{"$f":"Cálculo!G394","v":6.3323}]
["SE","Sergipe",null,"AGRESE","SERGÁS","Comercial","Semanal",0,140,{"$f":"Cálculo!G397","v":5.0839999999999996}]
["SE","Sergipe",null,"AGRESE","SERGÁS","Comercial","Semanal",140.01,350,{"$f":"Cálculo!G398","v":5.0671999999999997}]
["SE","Sergipe",null,"AGRESE","SERGÁS","Comercial","Semanal",350.01,700,{"$f":"Cálculo!G399","v":4.9725000000000001}]
["SE","Sergipe",null,"AGRESE","SERGÁS","Comercial","Semanal",750.01,2100,{"$f":"Cálculo!G400","v":4.9149000000000003}]
["SE","Sergipe",null,"AGRESE","SERGÁS","Comercial","Semanal",2100.0100000000002,999999,{"$f":"Cálculo!G401","v":4.6685999999999996}]
["SE","Sergipe",null,"AGRESE","SERGÁS","Industrial","Semanal",0,70,{"$f":"Cálculo!G404","v":4.8905000000000003}]
["SE","Sergipe",null,"AGRESE","SERGÁS","Industrial","Semanal",70.010000000000005,4500,{"$f":"Cálculo!G405","v":4.3144}]
["SE","Sergipe",null,"AGRESE","SERGÁS","Industrial","Semanal",4500.01,9000,{"$f":"Cálculo!G406","v":4.2283999999999997}]
["SE","Sergipe",null,"AGRESE","SERGÁS","Industrial","Semanal",9000.01,18000,{"$f":"Cálculo!G407","v":4.1223000000000001}]
["SE","Sergipe",null,"AGRESE","SERGÁS","Industrial","Semanal",18000.009999999998,36000,{"$f":"Cálculo!G408","v":4.0404999999999998}]
["SE","Sergipe",null,"AGRESE","SERGÁS","Industrial","Semanal",36000.01,72000,{"$f":"Cálculo!G409","v":3.9980000000000002}]
["SE","Sergipe",null,"AGRESE","SERGÁS","Industrial","Semanal",72000.009999999995,144000,{"$f":"Cálculo!G410","v":3.9523999999999999}]
["SE","Sergipe",null,"AGRESE","SERGÁS","Industrial","Semanal",144000.01,288000,{"$f":"Cálculo!G411","v":3.8313000000000001}]
["SE","Sergipe",null,"AGRESE","SERGÁS","Industrial","Semanal",288000.01,576000,{"$f":"Cálculo!G412","v":3.7168999999999999}]
["SE","Sergipe",null,"AGRESE","SERGÁS","Industrial","Semanal",576000.01,1152000,{"$f":"Cálculo!G413","v":3.5516999999999999}]
["SE","Sergipe",null,"AGRESE","SERGÁS","Industrial","Semanal",1000000.01,999999999,{"$f":"Cálculo!G414","v":3.5070999999999999}]
["SE","Sergipe",null,"AGRESE","SERGÁS","GNV","Faixa Única",null,null,{"$f":"Cálculo!G417","v":3.6337000000000002}]
["AL","Alagoas",null,"ARSAL","ALGÁS","Residencial","Mensal",0,50,{"$f":"Cálculo!G423","v":7.6803999999999997}]
["AL","Alagoas",null,"ARSAL","ALGÁS","Residencial","Mensal",50.01,100,{"$f":"Cálculo!G424","v":6.7537000000000003}]
["AL","Alagoas",null,"ARSAL","ALGÁS","Residencial","Mensal",100.01,300,{"$f":"Cálculo!G425","v":6.3825000000000003}]
["AL","Alagoas",null,"ARSAL","ALGÁS","Residencial","Mensal",300.01,null,{"$f":"Cálculo!G426","v":6.1264000000000003}]
["AL","Alagoas",null,"ARSAL","ALGÁS","Comercial","Mensal",0,100,{"$f":"Cálculo!G429","v":6.0979000000000001}]
["AL","Alagoas",null,"ARSAL","ALGÁS","Comercial","Mensal",100.01,500,{"$f":"Cálculo!G430","v":5.79}]
["AL","Alagoas",null,"ARSAL","ALGÁS","Comercial","Mensal",500.01,1000,{"$f":"Cálculo!G431","v":5.1871999999999998}]
["AL","Alagoas",null,"ARSAL","ALGÁS","Comercial","Mensal",1000.01,1500,{"$f":"Cálculo!G432","v":5.0205000000000002}]
["AL","Alagoas",null,"ARSAL","ALGÁS","Comercial","Mensal",1500.01,3000,{"$f":"Cálculo!G433","v":4.5925000000000002}]
["AL","Alagoas",null,"ARSAL","ALGÁS","Comercial","Mensal",3000.01,null,{"$f":"Cálculo!G434","v":4.3354999999999997}]
["AL","Alagoas",null,"ARSAL","ALGÁS","Industrial","Diário",0,100,{"$f":"Cálculo!G437","v":3.7542}]
["AL","Alagoas",null,"ARSAL","ALGÁS","Industrial","Diário",100.01,500,{"$f":"Cálculo!G438","v":3.3490000000000002}]
["AL","Alagoas",null,"ARSAL","ALGÁS","Industrial","Diário",500.01,1000,{"$f":"Cálculo!G439","v":3.3022999999999998}]
["AL","Alagoas",null,"ARSAL","ALGÁS","Industrial","Diário",1000.01,5000,{"$f":"Cálculo!G440","v":3.2206999999999999}]
["AL","Alagoas",null,"ARSAL","ALGÁS","Industrial","Diário",5000.01,10000,{"$f":"Cálculo!G441","v":3.0198}]
["AL","Alagoas",null,"ARSAL","ALGÁS","Industrial","Diário",10000.01,20000,{"$f":"Cálculo!G442","v":2.9807999999999999}]
["AL","Alagoas",null,"ARSAL","ALGÁS","Industrial","Diário",20000.009999999998,50000,{"$f":"Cálculo!G443","v":2.9621}]
["AL","Alagoas",null,"ARSAL","ALGÁS","Industrial","Diário",50000.01,100000,{"$f":"Cálculo!G444","v":2.9432}]
["AL","Alagoas",null,"ARSAL","ALGÁS","Industrial","Diário",100000.01,150000,{"$f":"Cálculo!G445","v":2.9253}]
["AL","Alagoas",null,"ARSAL","ALGÁS","Industrial","Diário",150000.01,200000,{"$f":"Cálculo!G446","v":2.9093}]
["AL","Alagoas",null,"ARSAL","ALGÁS","Industrial","Diário",200000.01,null,{"$f":"Cálculo!G447","v":2.8938000000000001}]
["AL","Alagoas",null,"ARSAL","ALGÁS","GNV","Faixa Única",null,null,{"$f":"Cálculo!G450","v":3.4001000000000001}]
["PE","Pernambuco",null,"ARPE","COPERGÁS","Residencial","Mensal",0,30,{"$f":"Cálculo!G456","v":6.3635999999999999}]
["PE","Pernambuco",null,"ARPE","COPERGÁS","Residencial","Mensal",30.01,150,{"$f":"Cálculo!G457","v":5.7405999999999997}]
["PE","Pernambuco",null,"ARPE","COPERGÁS","Residencial","Mensal",150.01,750,{"$f":"Cálculo!G458","v":5.5736999999999997}]
["PE","Pernambuco",null,"ARPE","COPERGÁS","Residencial","Mensal",750.01,3000,{"$f":"Cálculo!G459","v":5.3788}]
["PE","Pernambuco",null,"ARPE","COPERGÁS","Residencial","Mensal",3000.01,null,{"$f":"Cálculo!G460","v":5.1426999999999996}]
["PE","Pernambuco",null,"ARPE","COPERGÁS","Comercial","Diário",0,1000,{"$f":"Cálculo!G463","v":3.4636999999999998},null,"Acima de 500 m³/dia"]
["PE","Pernambuco",null,"ARPE","COPERGÁS","Comercial","Diário",1000.01,5000,{"$f":"Cálculo!G464","v":3.4312},null,"Acima de 500 m³/dia"]
["PE","Pernambuco",null,"ARPE","COPERGÁS","Comercial","Diário",5000.01,10000,{"$f":"Cálculo!G465","v":3.4146000000000001},null,"Acima de 500 m³/dia"]
["PE","Pernambuco",null,"ARPE","COPERGÁS","Comercial","Diário",10000.01,25000,{"$f":"Cálculo!G466","v":3.4077999999999999},null,"Acima de 500 m³/dia"]
["PE","Pernambuco",null,"ARPE","COPERGÁS","Comercial","Diário",25000.01,50000,{"$f":"Cálculo!G467","v":3.3883000000000001},null,"Acima de 500 m³/dia"]
["PE","Pernambuco",null,"ARPE","COPERGÁS","Comercial","Diário",50000.01,100000,{"$f":"Cálculo!G468","v":3.3222999999999998},null,"Acima de 500 m³/dia"]
["PE","Pernambuco",null,"ARPE","COPERGÁS","Comercial","Diário",100000.01,125000,{"$f":"Cálculo!G469","v":3.2951000000000001},null,"Acima de 500 m³/dia"]
["PE","Pernambuco",null,"ARPE","COPERGÁS","Comercial","Diário",125000.01,150000,{"$f":"Cálculo!G470","v":3.2282999999999999},null,"Acima de 500 m³/dia"]
["PE","Pernambuco",null,"ARPE","COPERGÁS","Comercial","Diário",150000.01,175000,{"$f":"Cálculo!G471","v":3.1661000000000001},null,"Acima de 500 m³/dia"]
["PE","Pernambuco",null,"ARPE","COPERGÁS","Comercial","Diário",175000.01,200000,{"$f":"Cálculo!G472","v":3.1494},null,"Acima de 500 m³/dia"]
["PE","Pernambuco",null,"ARPE","COPERGÁS","Comercial","Diário",200000.01,225000,{"$f":"Cálculo!G473","v":3.1467999999999998},null,"Acima de 500 m³/dia"]
["PE","Pernambuco",null,"ARPE","COPERGÁS","Comercial","Diário",225000.01,null,{"$f":"Cálculo!G474","v":3.1448999999999998},null,"Acima de 500 m³/dia"]
["PE","Pernambuco",null,"ARPE","COPERGÁS","Industrial","Diário",0,1000,{"$f":"Cálculo!G463","v":3.4636999999999998},null,"Acima de 500 m³/dia"]
["PE","Pernambuco",null,"ARPE","COPERGÁS","Industrial","Diário",1000.01,5000,{"$f":"Cálculo!G464","v":3.4312},null,"Acima de 500 m³/dia"]
["PE","Pernambuco",null,"ARPE","COPERGÁS","Industrial","Diário",5000.01,10000,{"$f":"Cálculo!G465","v":3.4146000000000001},null,"Acima de 500 m³/dia"]
["PE","Pernambuco",null,"ARPE","COPERGÁS","Industrial","Diário",10000.01,25000,{"$f":"Cálculo!G466","v":3.4077999999999999},null,"Acima de 500 m³/dia"]
["PE","Pernambuco",null,"ARPE","COPERGÁS","Industrial","Diário",25000.01,50000,{"$f":"Cálculo!G467","v":3.3883000000000001},null,"Acima de 500 m³/dia"]
["PE","Pernambuco",null,"ARPE","COPERGÁS","Industrial","Diário",50000.01,100000,{"$f":"Cálculo!G468","v":3.3222999999999998},null,"Acima de 500 m³/dia"]
["PE","Pernambuco",null,"ARPE","COPERGÁS","Industrial","Diário",100000.01,125000,{"$f":"Cálculo!G469","v":3.2951000000000001},null,"Acima de 500 m³/dia"]
["PE","Pernambuco",null,"ARPE","COPERGÁS","Industrial","Diário",125000.01,150000,{"$f":"Cálculo!G470","v":3.2282999999999999},null,"Acima de 500 m³/dia"]
["PE","Pernambuco",null,"ARPE","COPERGÁS","Industrial","Diário",150000.01,175000,{"$f":"Cálculo!G471","v":3.1661000000000001},null,"Acima de 500 m³/dia"]
["PE","Pernambuco",null,"ARPE","COPERGÁS","Industrial","Diário",175000.01,200000,{"$f":"Cálculo!G472","v":3.1494},null,"Acima de 500 m³/dia"]
["PE","Pernambuco",null,"ARPE","COPERGÁS","Industrial","Diário",200000.01,225000,{"$f":"Cálculo!G473","v":3.1467999999999998},null,"Acima de 500 m³/dia"]
["PE","Pernambuco",null,"ARPE","COPERGÁS","Industrial","Diário",225000.01,null,{"$f":"Cálculo!G474","v":3.1448999999999998},null,"Acima de 500 m³/dia"]
["PE","Pernambuco",null,"ARPE","COPERGÁS","GNV","Faixa Única",null,null,{"$f":"Cálculo!G509","v":3.15}]
["PB","Paraíba",null,"ARPB","PBGÁS","Residencial","Mensal",0,20,{"$f":"Cálculo!G515","v":126.98}]
["PB","Paraíba",null,"ARPB","PBGÁS","Residencial","Mensal",20.010000000000002,null,{"$f":"Cálculo!G516","v":6.3487}]
["PB","Paraíba",null,"ARPB","PBGÁS","Comercial","Mensal",0,20,{"$f":"Cálculo!G519","v":128.71}]
["PB","Paraíba",null,"ARPB","PBGÁS","Comercial","Mensal",20.010000000000002,100,{"$f":"Cálculo!G520","v":6.4352999999999998}]
["PB","Paraíba",null,"ARPB","PBGÁS","Comercial","Mensal",100.01,400,{"$f":"Cálculo!G521","v":5.8922999999999996}]
["PB","Paraíba",null,"ARPB","PBGÁS","Comercial","Mensal",400.01,800,{"$f":"Cálculo!G522","v":5.1512000000000002}]
["PB","Paraíba",null,"ARPB","PBGÁS","Comercial","Mensal",800.01,1600,{"$f":"Cálculo!G523","v":4.6420000000000003}]
["PB","Paraíba",null,"ARPB","PBGÁS","Comercial","Mensal",1600.01,6000,{"$f":"Cálculo!G524","v":4.4385000000000003}]
["PB","Paraíba",null,"ARPB","PBGÁS","Comercial","Mensal",6000.01,12000,{"$f":"Cálculo!G525","v":4.2469000000000001}]
["PB","Paraíba",null,"ARPB","PBGÁS","Comercial","Mensal",12000.01,null,{"$f":"Cálculo!G526","v":3.9855999999999998}]
["PB","Paraíba",null,"ARPB","PBGÁS","Industrial","Semanal",0,700,{"$f":"Cálculo!G529","v":4.9383999999999997}]
["PB","Paraíba",null,"ARPB","PBGÁS","Industrial","Semanal",700.01,3500,{"$f":"Cálculo!G530","v":4.3674999999999997}]
["PB","Paraíba",null,"ARPB","PBGÁS","Industrial","Semanal",3500.01,7000,{"$f":"Cálculo!G531","v":4.0137}]
["PB","Paraíba",null,"ARPB","PBGÁS","Industrial","Semanal",7000.01,21000,{"$f":"Cálculo!G532","v":3.9110999999999998}]
["PB","Paraíba",null,"ARPB","PBGÁS","Industrial","Semanal",21000.01,70000,{"$f":"Cálculo!G533","v":3.8464}]
["PB","Paraíba",null,"ARPB","PBGÁS","Industrial","Semanal",70000.009999999995,105000,{"$f":"Cálculo!G534","v":3.7913000000000001}]
["PB","Paraíba",null,"ARPB","PBGÁS","Industrial","Semanal",105000.01,210000,{"$f":"Cálculo!G535","v":3.7233000000000001}]
["PB","Paraíba",null,"ARPB","PBGÁS","Industrial","Semanal",210000.01,350000,{"$f":"Cálculo!G536","v":3.6779999999999999}]
["PB","Paraíba",null,"ARPB","PBGÁS","Industrial","Semanal",350000.01,700000,{"$f":"Cálculo!G537","v":3.5758999999999999}]
["PB","Paraíba",null,"ARPB","PBGÁS","Industrial","Semanal",700000.01,840000,{"$f":"Cálculo!G538","v":3.4769999999999999}]
["PB","Paraíba",null,"ARPB","PBGÁS","Industrial","Semanal",840000.01,1400000,{"$f":"Cálculo!G539","v":3.4039999999999999}]
["PB","Paraíba",null,"ARPB","PBGÁS","Industrial","Semanal",1400000.01,null,{"$f":"Cálculo!G540","v":3.3816000000000002}]
["PB","Paraíba",null,"ARPB","PBGÁS","GNV","Faixa Única",null,null,{"$f":"Cálculo!G543","v":3.6133999999999999}]
["RN","Rio Grande do Norte",null,"ARSEP","POTIGÁS","Residencial","Faixa Única",null,null,{"$f":"Cálculo!G549","v":5.7933000000000003}]
["RN","Rio Grande do Norte",null,"ARSEP","POTIGÁS","Comercial","Mensal",0,16,{"$f":"Cálculo!G552","v":0}]
["RN","Rio Grande do Norte",null,"ARSEP","POTIGÁS","Comercial","Mensal",16.010000000000002,150,{"$f":"Cálculo!G553","v":6.2060000000000004}]
["RN","Rio Grande do Norte",null,"ARSEP","POTIGÁS","Comercial","Mensal",150.01,450,{"$f":"Cálculo!G554","v":5.2724000000000002}]
["RN","Rio Grande do Norte",null,"ARSEP","POTIGÁS","Comercial","Mensal",450.01,3000,{"$f":"Cálculo!G555","v":4.6904000000000003}]
["RN","Rio Grande do Norte",null,"ARSEP","POTIGÁS","Comercial","Mensal",3000.01,15000,{"$f":"Cálculo!G556","v":4.4077999999999999}]
["RN","Rio Grande do Norte",null,"ARSEP","POTIGÁS","Comercial","Mensal",15000.01,null,{"$f":"Cálculo!G557","v":4.3193000000000001}]
["RN","Rio Grande do Norte",null,"ARSEP","POTIGÁS","Industrial","Diário",0,1000,{"$f":"Cálculo!G560","v":4.2329999999999997},null,"ICMS 18%"]
["RN","Rio Grande do Norte",null,"ARSEP","POTIGÁS","Industrial","Diário",1000.01,5000,{"$f":"Cálculo!G561","v":4.1276999999999999},null,"ICMS 18%"]
["RN","Rio Grande do Norte",null,"ARSEP","POTIGÁS","Industrial","Diário",5000.01,10000,{"$f":"Cálculo!G562","v":4.0129000000000001},null,"ICMS 18%"]
["RN","Rio Grande do Norte",null,"ARSEP","POTIGÁS","Industrial","Diário",10000.01,25000,{"$f":"Cálculo!G563","v":3.9066000000000001},null,"ICMS 18%"]
["RN","Rio Grande do Norte",null,"ARSEP","POTIGÁS","Industrial","Diário",25000.01,50000,{"$f":"Cálculo!G564","v":3.7709000000000001},null,"ICMS 18%"]
["RN","Rio Grande do Norte",null,"ARSEP","POTIGÁS","Industrial","Diário",50000.01,100000,{"$f":"Cálculo!G565","v":3.6297999999999999},null,"ICMS 18%"]
["RN","Rio Grande do Norte",null,"ARSEP","POTIGÁS","Industrial","Diário",100000.01,200000,{"$f":"Cálculo!G566","v":3.4333},null,"ICMS 18%"]
["RN","Rio Grande do Norte",null,"ARSEP","POTIGÁS","Industrial","Diário",200000.01,400000,{"$f":"Cálculo!G567","v":3.2364999999999999},null,"ICMS 18%"]
["RN","Rio Grande do Norte",null,"ARSEP","POTIGÁS","Industrial","Diário",400000.01,null,{"$f":"Cálculo!G568","v":3.1494},null,"ICMS 18%"]
["RN","Rio Grande do Norte",null,"ARSEP","POTIGÁS","GNV","Faixa Única",null,null,{"$f":"Cálculo!G582","v":3.6932}]
["CE","Ceará",null,"ARCE","CEGÁS","Residencial","Mensal",0,20,{"$f":"Cálculo!G588","v":0}]
["CE","Ceará",null,"ARCE","CEGÁS","Residencial","Mensal",20.010000000000002,5000,{"$f":"Cálculo!G589","v":4.4812000000000003}]
["CE","Ceará",null,"ARCE","CEGÁS","Residencial","Mensal",5000.01,10000,{"$f":"Cálculo!G590","v":4.0839999999999996}]
["CE","Ceará",null,"ARCE","CEGÁS","Residencial","Mensal",10000.01,12000,{"$f":"Cálculo!G591","v":4.0766}]
["CE","Ceará",null,"ARCE","CEGÁS","Residencial","Mensal",12000.01,14000,{"$f":"Cálculo!G592","v":4.069}]
["CE","Ceará",null,"ARCE","CEGÁS","Residencial","Mensal",14000.01,16000,{"$f":"Cálculo!G593","v":4.0613000000000001}]
["CE","Ceará",null,"ARCE","CEGÁS","Residencial","Mensal",16000.01,null,{"$f":"Cálculo!G594","v":4.0540000000000003}]
["CE","Ceará",null,"ARCE","CEGÁS","Comercial","Mensal",0,20,{"$f":"Cálculo!G597","v":0}]
["CE","Ceará",null,"ARCE","CEGÁS","Comercial","Mensal",20.010000000000002,5000,{"$f":"Cálculo!G598","v":4.4741}]
["CE","Ceará",null,"ARCE","CEGÁS","Comercial","Mensal",5000.01,10000,{"$f":"Cálculo!G599","v":4.077}]
["CE","Ceará",null,"ARCE","CEGÁS","Comercial","Mensal",10000.01,12000,{"$f":"Cálculo!G600","v":4.0694999999999997}]
["CE","Ceará",null,"ARCE","CEGÁS","Comercial","Mensal",12000.01,14000,{"$f":"Cálculo!G601","v":4.0620000000000003}]
["CE","Ceará",null,"ARCE","CEGÁS","Comercial","Mensal",14000.01,16000,{"$f":"Cálculo!G602","v":4.0542999999999996}]
["CE","Ceará",null,"ARCE","CEGÁS","Comercial","Mensal",16000.01,null,{"$f":"Cálculo!G603","v":4.0468999999999999}]
["CE","Ceará",null,"ARCE","CEGÁS","Industrial","Diário",0,200,{"$f":"Cálculo!G606","v":4.7664999999999997}]
["CE","Ceará",null,"ARCE","CEGÁS","Industrial","Diário",200.01,1000,{"$f":"Cálculo!G607","v":4.6833}]
["CE","Ceará",null,"ARCE","CEGÁS","Industrial","Diário",1000.01,10000,{"$f":"Cálculo!G608","v":4.5538999999999996}]
["CE","Ceará",null,"ARCE","CEGÁS","Industrial","Diário",10000.01,30000,{"$f":"Cálculo!G609","v":4.2523}]
["CE","Ceará",null,"ARCE","CEGÁS","Industrial","Diário",30000.01,60000,{"$f":"Cálculo!G610","v":4.2153999999999998}]
["CE","Ceará",null,"ARCE","CEGÁS","Industrial","Diário",60000.01,null,{"$f":"Cálculo!G611","v":4.1802999999999999}]
["CE","Ceará",null,"ARCE","CEGÁS","GNV","Faixa Única",null,null,{"$f":"Cálculo!G614","v":4.1022999999999996}]
["AM","Amazonas",null,"ARSEPAM","CIGÁS","Residencial","Faixa Única",null,null,{"$f":"Cálculo!G750","v":6.7069999999999999}]
["AM","Amazonas",null,"ARSEPAM","CIGÁS","Comercial","Mensal",0,6000,{"$f":"Cálculo!G754","v":3.4396}]
["AM","Amazonas",null,"ARSEPAM","CIGÁS","Comercial","Mensal",6000.01,15000,{"$f":"Cálculo!G755","v":3.3266}]
["AM","Amazonas",null,"ARSEPAM","CIGÁS","Comercial","Mensal",15000.01,30000,{"$f":"Cálculo!G756","v":3.2149999999999999}]
["AM","Amazonas",null,"ARSEPAM","CIGÁS","Comercial","Mensal",30000.01,60000,{"$f":"Cálculo!G757","v":3.1069}]
["AM","Amazonas",null,"ARSEPAM","CIGÁS","Comercial","Mensal",60000.01,150000,{"$f":"Cálculo!G758","v":2.9872999999999998}]
["AM","Amazonas",null,"ARSEPAM","CIGÁS","Comercial","Mensal",150000.01,300000,{"$f":"Cálculo!G759","v":2.8654999999999999}]
["AM","Amazonas",null,"ARSEPAM","CIGÁS","Comercial","Mensal",300000.01,600000,{"$f":"Cálculo!G760","v":2.7545000000000002}]
["AM","Amazonas",null,"ARSEPAM","CIGÁS","Comercial","Mensal",600000.01,1500000,{"$f":"Cálculo!G761","v":2.6659999999999999}]
["AM","Amazonas",null,"ARSEPAM","CIGÁS","Comercial","Mensal",1500000.01,3000000,{"$f":"Cálculo!G762","v":2.5773000000000001}]
["AM","Amazonas",null,"ARSEPAM","CIGÁS","Comercial","Mensal",3000000.01,null,{"$f":"Cálculo!G763","v":2.4883999999999999}]
["AM","Amazonas",null,"ARSEPAM","CIGÁS","Industrial","Diário",0,200,{"$f":"Cálculo!G766","v":3.4396}]
["AM","Amazonas",null,"ARSEPAM","CIGÁS","Industrial","Diário",200.01,500,{"$f":"Cálculo!G767","v":3.3266}]
["AM","Amazonas",null,"ARSEPAM","CIGÁS","Industrial","Diário",500.01,1000,{"$f":"Cálculo!G768","v":3.2149999999999999}]
["AM","Amazonas",null,"ARSEPAM","CIGÁS","Industrial","Diário",1000.01,2000,{"$f":"Cálculo!G769","v":3.1069}]
["AM","Amazonas",null,"ARSEPAM","CIGÁS","Industrial","Diário",2000.01,5000,{"$f":"Cálculo!G770","v":2.9872999999999998}]
["AM","Amazonas",null,"ARSEPAM","CIGÁS","Industrial","Diário",5000.01,10000,{"$f":"Cálculo!G771","v":2.8654999999999999}]
["AM","Amazonas",null,"ARSEPAM","CIGÁS","Industrial","Diário",10000.01,20000,{"$f":"Cálculo!G772","v":2.7545000000000002}]
["AM","Amazonas",null,"ARSEPAM","CIGÁS","Industrial","Diário",20000.009999999998,50000,{"$f":"Cálculo!G773","v":2.6659999999999999}]
["AM","Amazonas",null,"ARSEPAM","CIGÁS","Industrial","Diário",50000.01,100000,{"$f":"Cálculo!G774","v":2.5773000000000001}]
["AM","Amazonas",null,"ARSEPAM","CIGÁS","Industrial","Diário",100000.01,null,{"$f":"Cálculo!G775","v":2.4883999999999999}]
["AM","Amazonas",null,"ARSEPAM","CIGÁS","GNV","Faixa Única",null,null,{"$f":"Cálculo!G778","v":2.9514999999999998}]
["MS","Mato Grosso do Sul",null,"AGEMS","MSGÁS","Residencial","Diário",0,0.59989999999999999,{"$f":"Cálculo!G900","v":7.6142000000000003}]
["MS","Mato Grosso do Sul",null,"AGEMS","MSGÁS","Residencial","Diário",0.6,15.9999,{"$f":"Cálculo!G901","v":7.3387000000000002}]
["MS","Mato Grosso do Sul",null,"AGEMS","MSGÁS","Residencial","Diário",16,150.9999,{"$f":"Cálculo!G902","v":6.9554999999999998}]
["MS","Mato Grosso do Sul",null,"AGEMS","MSGÁS","Residencial","Diário",151,300.99990000000003,{"$f":"Cálculo!G903","v":6.8757999999999999}]
["MS","Mato Grosso do Sul",null,"AGEMS","MSGÁS","Residencial","Diário",301,1000.9999,{"$f":"Cálculo!G904","v":6.2653999999999996}]
["MS","Mato Grosso do Sul",null,"AGEMS","MSGÁS","Residencial","Diário",1001,null,{"$f":"Cálculo!G905","v":5.5381}]
["MS","Mato Grosso do Sul",null,"AGEMS","MSGÁS","Comercial","Diário",0,0.59989999999999999,{"$f":"Cálculo!G908","v":6.9512999999999998}]
["MS","Mato Grosso do Sul",null,"AGEMS","MSGÁS","Comercial","Diário",0.6,15.9999,{"$f":"Cálculo!G909","v":6.6776}]
["MS","Mato Grosso do Sul",null,"AGEMS","MSGÁS","Comercial","Diário",16,150.9999,{"$f":"Cálculo!G910","v":6.4823000000000004}]
["MS","Mato Grosso do Sul",null,"AGEMS","MSGÁS","Comercial","Diário",151,300.99990000000003,{"$f":"Cálculo!G911","v":6.3708}]
["MS","Mato Grosso do Sul",null,"AGEMS","MSGÁS","Comercial","Diário",301,1000.9999,{"$f":"Cálculo!G912","v":5.7207999999999997}]
["MS","Mato Grosso do Sul",null,"AGEMS","MSGÁS","Comercial","Diário",1001,null,{"$f":"Cálculo!G913","v":4.9767000000000001}]
["MS","Mato Grosso do Sul",null,"AGEMS","MSGÁS","Industrial","Diário",0,0.59989999999999999,{"$f":"Cálculo!G916","v":5.9326999999999996}]
["MS","Mato Grosso do Sul",null,"AGEMS","MSGÁS","Industrial","Diário",0.6,15.9999,{"$f":"Cálculo!G917","v":5.6833}]
["MS","Mato Grosso do Sul",null,"AGEMS","MSGÁS","Industrial","Diário",16,150.9999,{"$f":"Cálculo!G918","v":5.5502000000000002}]
["MS","Mato Grosso do Sul",null,"AGEMS","MSGÁS","Industrial","Diário",151,300.99990000000003,{"$f":"Cálculo!G919","v":5.1048}]
["MS","Mato Grosso do Sul",null,"AGEMS","MSGÁS","Industrial","Diário",301,1000.9999,{"$f":"Cálculo!G920","v":4.6707999999999998}]
["MS","Mato Grosso do Sul",null,"AGEMS","MSGÁS","Industrial","Diário",1001,50000.999900000003,{"$f":"Cálculo!G921","v":3.9977}]
["MS","Mato Grosso do Sul",null,"AGEMS","MSGÁS","Industrial","Diário",50001,150000.9999,{"$f":"Cálculo!G922","v":3.9497}]
["MS","Mato Grosso do Sul",null,"AGEMS","MSGÁS","Industrial","Diário",150001,null,{"$f":"Cálculo!G923","v":3.8912}]
["MS","Mato Grosso do Sul",null,"AGEMS","MSGÁS","GNV","Faixa Única",null,null,{"$f":"Cálculo!G926","v":3.31}]
["RJ","Rio de Janeiro","Belford Roxo","AGENERSA","CEG","Residencial","Mensal",0,7,{"$f":"Cálculo!$G$34","v":9.5297000000000001}]
["RJ","Rio de Janeiro","Belford Roxo","AGENERSA","CEG","Residencial","Mensal",7.01,23,{"$f":"Cálculo!$G$35","v":12.308999999999999}]
["RJ","Rio de Janeiro","Belford Roxo","AGENERSA","CEG","Residencial","Mensal",23.01,83,{"$f":"Cálculo!$G$36","v":14.8233}]
["RJ","Rio de Janeiro","Belford Roxo","AGENERSA","CEG","Residencial","Mensal",83.01,null,{"$f":"Cálculo!$G$37","v":15.6203}]
["RJ","Rio de Janeiro","Belford Roxo","AGENERSA","CEG","Comercial","Mensal",0,200,{"$f":"Cálculo!$G$40","v":9.3140000000000001}]
["RJ","Rio de Janeiro","Belford Roxo","AGENERSA","CEG","Comercial","Mensal",200.01,500,{"$f":"Cálculo!$G$41","v":9.0565999999999995}]
["RJ","Rio de Janeiro","Belford Roxo","AGENERSA","CEG","Comercial","Mensal",500.01,2000,{"$f":"Cálculo!$G$42","v":8.7997999999999994}]
["RJ","Rio de Janeiro","Belford Roxo","AGENERSA","CEG","Comercial","Mensal",2000.01,20000,{"$f":"Cálculo!$G$43","v":8.5432000000000006}]
["RJ","Rio de Janeiro","Belford Roxo","AGENERSA","CEG","Comercial","Mensal",20000.009999999998,50000,{"$f":"Cálculo!$G$44","v":8.2860999999999994}]
["RJ","Rio de Janeiro","Belford Roxo","AGENERSA","CEG","Comercial","Mensal",50000.01,null,{"$f":"Cálculo!$G$45","v":8.0290999999999997}]
["RJ","Rio de Janeiro","Belford Roxo","AGENERSA","CEG","Industrial","Mensal",0,200,{"$f":"Cálculo!$G$48","v":5.5377999999999998}]
["RJ","Rio de Janeiro","Belford Roxo","AGENERSA","CEG","Industrial","Mensal",200.01,2000,{"$f":"Cálculo!$G$49","v":5.3860999999999999}]
["RJ","Rio de Janeiro","Belford Roxo","AGENERSA","CEG","Industrial","Mensal",2000.01,10000,{"$f":"Cálculo!$G$50","v":5.2949000000000002}]
["RJ","Rio de Janeiro","Belford Roxo","AGENERSA","CEG","Industrial","Mensal",10000.01,50000,{"$f":"Cálculo!$G$51","v":4.7983000000000002}]
["RJ","Rio de Janeiro","Belford Roxo","AGENERSA","CEG","Industrial","Mensal",50000.01,100000,{"$f":"Cálculo!$G$52","v":4.5003000000000002}]
["RJ","Rio de Janeiro","Belford Roxo","AGENERSA","CEG","Industrial","Mensal",100000.01,300000,{"$f":"Cálculo!$G$53","v":4.1826999999999996}]
["RJ","Rio de Janeiro","Belford Roxo","AGENERSA","CEG","Industrial","Mensal",300000.01,600000,{"$f":"Cálculo!$G$54","v":3.8064}]
["RJ","Rio de Janeiro","Belford Roxo","AGENERSA","CEG","Industrial","Mensal",600000.01,1500000,{"$f":"Cálculo!$G$55","v":3.7966000000000002}]
["RJ","Rio de Janeiro","Belford Roxo","AGENERSA","CEG","Industrial","Mensal",1500000.01,3000000,{"$f":"Cálculo!$G$56","v":3.7690999999999999}]
["RJ","Rio de Janeiro","Belford Roxo","AGENERSA","CEG","Industrial","Mensal",3000000.01,null,{"$f":"Cálculo!$G$57","v":3.6758999999999999}]
["RJ","Rio de Janeiro","Belford Roxo","AGENERSA","CEG","GNV","Faixa Única",null,null,{"$f":"Cálculo!$G$60","v":3.5691999999999999}]
["RJ","Rio de Janeiro","Duque de Caxias","AGENERSA","CEG","Residencial","Mensal",0,7,{"$f":"Cálculo!$G$34","v":9.5297000000000001}]
["RJ","Rio de Janeiro","Duque de Caxias","AGENERSA","CEG","Residencial","Mensal",7.01,23,{"$f":"Cálculo!$G$35","v":12.308999999999999}]
["RJ","Rio de Janeiro","Duque de Caxias","AGENERSA","CEG","Residencial","Mensal",23.01,83,{"$f":"Cálculo!$G$36","v":14.8233}]
["RJ","Rio de Janeiro","Duque de Caxias","AGENERSA","CEG","Residencial","Mensal",83.01,null,{"$f":"Cálculo!$G$37","v":15.6203}]
["RJ","Rio de Janeiro","Duque de Caxias","AGENERSA","CEG","Comercial","Mensal",0,200,{"$f":"Cálculo!$G$40","v":9.3140000000000001}]
["RJ","Rio de Janeiro","Duque de Caxias","AGENERSA","CEG","Comercial","Mensal",200.01,500,{"$f":"Cálculo!$G$41","v":9.0565999999999995}]
["RJ","Rio de Janeiro","Duque de Caxias","AGENERSA","CEG","Comercial","Mensal",500.01,2000,{"$f":"Cálculo!$G$42","v":8.7997999999999994}]
["RJ","Rio de Janeiro","Duque de Caxias","AGENERSA","CEG","Comercial","Mensal",2000.01,20000,{"$f":"Cálculo!$G$43","v":8.5432000000000006}]
["RJ","Rio de Janeiro","Duque de Caxias","AGENERSA","CEG","Comercial","Mensal",20000.009999999998,50000,{"$f":"Cálculo!$G$44","v":8.2860999999999994}]
["RJ","Rio de Janeiro","Duque de Caxias","AGENERSA","CEG","Comercial","Mensal",50000.01,null,{"$f":"Cálculo!$G$45","v":8.0290999999999997}]
["RJ","Rio de Janeiro","Duque de Caxias","AGENERSA","CEG","Industrial","Mensal",0,200,{"$f":"Cálculo!$G$48","v":5.5377999999999998}]
["RJ","Rio de Janeiro","Duque de Caxias","AGENERSA","CEG","Industrial","Mensal",200.01,2000,{"$f":"Cálculo!$G$49","v":5.3860999999999999}]
["RJ","Rio de Janeiro","Duque de Caxias","AGENERSA","CEG","Industrial","Mensal",2000.01,10000,{"$f":"Cálculo!$G$50","v":5.2949000000000002}]
["RJ","Rio de Janeiro","Duque de Caxias","AGENERSA","CEG","Industrial","Mensal",10000.01,50000,{"$f":"Cálculo!$G$51","v":4.7983000000000002}]
["RJ","Rio de Janeiro","Duque de Caxias","AGENERSA","CEG","Industrial","Mensal",50000.01,100000,{"$f":"Cálculo!$G$52","v":4.5003000000000002}]
["RJ","Rio de Janeiro","Duque de Caxias","AGENERSA","CEG","Industrial","Mensal",100000.01,300000,{"$f":"Cálculo!$G$53","v":4.1826999999999996}]
["RJ","Rio de Janeiro","Duque de Caxias","AGENERSA","CEG","Industrial","Mensal",300000.01,600000,{"$f":"Cálculo!$G$54","v":3.8064}]
["RJ","Rio de Janeiro","Duque de Caxias","AGENERSA","CEG","Industrial","Mensal",600000.01,1500000,{"$f":"Cálculo!$G$55","v":3.7966000000000002}]
["RJ","Rio de Janeiro","Duque de Caxias","AGENERSA","CEG","Industrial","Mensal",1500000.01,3000000,{"$f":"Cálculo!$G$56","v":3.7690999999999999}]
["RJ","Rio de Janeiro","Duque de Caxias","AGENERSA","CEG","Industrial","Mensal",3000000.01,null,{"$f":"Cálculo!$G$57","v":3.6758999999999999}]
["RJ","Rio de Janeiro","Duque de Caxias","AGENERSA","CEG","GNV","Faixa Única",null,null,{"$f":"Cálculo!$G$60","v":3.5691999999999999}]
["RJ","Rio de Janeiro","Guapimirim","AGENERSA","CEG","Residencial","Mensal",0,7,{"$f":"Cálculo!$G$34","v":9.5297000000000001}]
["RJ","Rio de Janeiro","Guapimirim","AGENERSA","CEG","Residencial","Mensal",7.01,23,{"$f":"Cálculo!$G$35","v":12.308999999999999}]
["RJ","Rio de Janeiro","Guapimirim","AGENERSA","CEG","Residencial","Mensal",23.01,83,{"$f":"Cálculo!$G$36","v":14.8233}]
["RJ","Rio de Janeiro","Guapimirim","AGENERSA","CEG","Residencial","Mensal",83.01,null,{"$f":"Cálculo!$G$37","v":15.6203}]
["RJ","Rio de Janeiro","Guapimirim","AGENERSA","CEG","Comercial","Mensal",0,200,{"$f":"Cálculo!$G$40","v":9.3140000000000001}]
["RJ","Rio de Janeiro","Guapimirim","AGENERSA","CEG","Comercial","Mensal",200.01,500,{"$f":"Cálculo!$G$41","v":9.0565999999999995}]
["RJ","Rio de Janeiro","Guapimirim","AGENERSA","CEG","Comercial","Mensal",500.01,2000,{"$f":"Cálculo!$G$42","v":8.7997999999999994}]
["RJ","Rio de Janeiro","Guapimirim","AGENERSA","CEG","Comercial","Mensal",2000.01,20000,{"$f":"Cálculo!$G$43","v":8.5432000000000006}]
["RJ","Rio de Janeiro","Guapimirim","AGENERSA","CEG","Comercial","Mensal",20000.009999999998,50000,{"$f":"Cálculo!$G$44","v":8.2860999999999994}]
["RJ","Rio de Janeiro","Guapimirim","AGENERSA","CEG","Comercial","Mensal",50000.01,null,{"$f":"Cálculo!$G$45","v":8.0290999999999997}]
["RJ","Rio de Janeiro","Guapimirim","AGENERSA","CEG","Industrial","Mensal",0,200,{"$f":"Cálculo!$G$48","v":5.5377999999999998}]
["RJ","Rio de Janeiro","Guapimirim","AGENERSA","CEG","Industrial","Mensal",200.01,2000,{"$f":"Cálculo!$G$49","v":5.3860999999999999}]
["RJ","Rio de Janeiro","Guapimirim","AGENERSA","CEG","Industrial","Mensal",2000.01,10000,{"$f":"Cálculo!$G$50","v":5.2949000000000002}]
["RJ","Rio de Janeiro","Guapimirim","AGENERSA","CEG","Industrial","Mensal",10000.01,50000,{"$f":"Cálculo!$G$51","v":4.7983000000000002}]
["RJ","Rio de Janeiro","Guapimirim","AGENERSA","CEG","Industrial","Mensal",50000.01,100000,{"$f":"Cálculo!$G$52","v":4.5003000000000002}]
["RJ","Rio de Janeiro","Guapimirim","AGENERSA","CEG","Industrial","Mensal",100000.01,300000,{"$f":"Cálculo!$G$53","v":4.1826999999999996}]
["RJ","Rio de Janeiro","Guapimirim","AGENERSA","CEG","Industrial","Mensal",300000.01,600000,{"$f":"Cálculo!$G$54","v":3.8064}]
["RJ","Rio de Janeiro","Guapimirim","AGENERSA","CEG","Industrial","Mensal",600000.01,1500000,{"$f":"Cálculo!$G$55","v":3.7966000000000002}]
["RJ","Rio de Janeiro","Guapimirim","AGENERSA","CEG","Industrial","Mensal",1500000.01,3000000,{"$f":"Cálculo!$G$56","v":3.7690999999999999}]
["RJ","Rio de Janeiro","Guapimirim","AGENERSA","CEG","Industrial","Mensal",3000000.01,null,{"$f":"Cálculo!$G$57","v":3.6758999999999999}]
["RJ","Rio de Janeiro","Guapimirim","AGENERSA","CEG","GNV","Faixa Única",null,null,{"$f":"Cálculo!$G$60","v":3.5691999999999999}]
["RJ","Rio de Janeiro","Itaboraí","AGENERSA","CEG","Residencial","Mensal",0,7,{"$f":"Cálculo!$G$34","v":9.5297000000000001}]
["RJ","Rio de Janeiro","Itaboraí","AGENERSA","CEG","Residencial","Mensal",7.01,23,{"$f":"Cálculo!$G$35","v":12.308999999999999}]
["RJ","Rio de Janeiro","Itaboraí","AGENERSA","CEG","Residencial","Mensal",23.01,83,{"$f":"Cálculo!$G$36","v":14.8233}]
["RJ","Rio de Janeiro","Itaboraí","AGENERSA","CEG","Residencial","Mensal",83.01,null,{"$f":"Cálculo!$G$37","v":15.6203}]
["RJ","Rio de Janeiro","Itaboraí","AGENERSA","CEG","Comercial","Mensal",0,200,{"$f":"Cálculo!$G$40","v":9.3140000000000001}]
["RJ","Rio de Janeiro","Itaboraí","AGENERSA","CEG","Comercial","Mensal",200.01,500,{"$f":"Cálculo!$G$41","v":9.0565999999999995}]
["RJ","Rio de Janeiro","Itaboraí","AGENERSA","CEG","Comercial","Mensal",500.01,2000,{"$f":"Cálculo!$G$42","v":8.7997999999999994}]
["RJ","Rio de Janeiro","Itaboraí","AGENERSA","CEG","Comercial","Mensal",2000.01,20000,{"$f":"Cálculo!$G$43","v":8.5432000000000006}]
["RJ","Rio de Janeiro","Itaboraí","AGENERSA","CEG","Comercial","Mensal",20000.009999999998,50000,{"$f":"Cálculo!$G$44","v":8.2860999999999994}]
["RJ","Rio de Janeiro","Itaboraí","AGENERSA","CEG","Comercial","Mensal",50000.01,null,{"$f":"Cálculo!$G$45","v":8.0290999999999997}]
["RJ","Rio de Janeiro","Itaboraí","AGENERSA","CEG","Industrial","Mensal",0,200,{"$f":"Cálculo!$G$48","v":5.5377999999999998}]
["RJ","Rio de Janeiro","Itaboraí","AGENERSA","CEG","Industrial","Mensal",200.01,2000,{"$f":"Cálculo!$G$49","v":5.3860999999999999}]
["RJ","Rio de Janeiro","Itaboraí","AGENERSA","CEG","Industrial","Mensal",2000.01,10000,{"$f":"Cálculo!$G$50","v":5.2949000000000002}]
["RJ","Rio de Janeiro","Itaboraí","AGENERSA","CEG","Industrial","Mensal",10000.01,50000,{"$f":"Cálculo!$G$51","v":4.7983000000000002}]
["RJ","Rio de Janeiro","Itaboraí","AGENERSA","CEG","Industrial","Mensal",50000.01,100000,{"$f":"Cálculo!$G$52","v":4.5003000000000002}]
["RJ","Rio de Janeiro","Itaboraí","AGENERSA","CEG","Industrial","Mensal",100000.01,300000,{"$f":"Cálculo!$G$53","v":4.1826999999999996}]
["RJ","Rio de Janeiro","Itaboraí","AGENERSA","CEG","Industrial","Mensal",300000.01,600000,{"$f":"Cálculo!$G$54","v":3.8064}]
["RJ","Rio de Janeiro","Itaboraí","AGENERSA","CEG","Industrial","Mensal",600000.01,1500000,{"$f":"Cálculo!$G$55","v":3.7966000000000002}]
["RJ","Rio de Janeiro","Itaboraí","AGENERSA","CEG","Industrial","Mensal",1500000.01,3000000,{"$f":"Cálculo!$G$56","v":3.7690999999999999}]
["RJ","Rio de Janeiro","Itaboraí","AGENERSA","CEG","Industrial","Mensal",3000000.01,null,{"$f":"Cálculo!$G$57","v":3.6758999999999999}]
["RJ","Rio de Janeiro","Itaboraí","AGENERSA","CEG","GNV","Faixa Única",null,null,{"$f":"Cálculo!$G$60","v":3.5691999999999999}]
["RJ","Rio de Janeiro","Itaguaí","AGENERSA","CEG","Residencial","Mensal",0,7,{"$f":"Cálculo!$G$34","v":9.5297000000000001}]
["RJ","Rio de Janeiro","Itaguaí","AGENERSA","CEG","Residencial","Mensal",7.01,23,{"$f":"Cálculo!$G$35","v":12.308999999999999}]
["RJ","Rio de Janeiro","Itaguaí","AGENERSA","CEG","Residencial","Mensal",23.01,83,{"$f":"Cálculo!$G$36","v":14.8233}]
["RJ","Rio de Janeiro","Itaguaí","AGENERSA","CEG","Residencial","Mensal",83.01,null,{"$f":"Cálculo!$G$37","v":15.6203}]
["RJ","Rio de Janeiro","Itaguaí","AGENERSA","CEG","Comercial","Mensal",0,200,{"$f":"Cálculo!$G$40","v":9.3140000000000001}]
["RJ","Rio de Janeiro","Itaguaí","AGENERSA","CEG","Comercial","Mensal",200.01,500,{"$f":"Cálculo!$G$41","v":9.0565999999999995}]
["RJ","Rio de Janeiro","Itaguaí","AGENERSA","CEG","Comercial","Mensal",500.01,2000,{"$f":"Cálculo!$G$42","v":8.7997999999999994}]
["RJ","Rio de Janeiro","Itaguaí","AGENERSA","CEG","Comercial","Mensal",2000.01,20000,{"$f":"Cálculo!$G$43","v":8.5432000000000006}]
["RJ","Rio de Janeiro","Itaguaí","AGENERSA","CEG","Comercial","Mensal",20000.009999999998,50000,{"$f":"Cálculo!$G$44","v":8.2860999999999994}]
["RJ","Rio de Janeiro","Itaguaí","AGENERSA","CEG","Comercial","Mensal",50000.01,null,{"$f":"Cálculo!$G$45","v":8.0290999999999997}]
["RJ","Rio de Janeiro","Itaguaí","AGENERSA","CEG","Industrial","Mensal",0,200,{"$f":"Cálculo!$G$48","v":5.5377999999999998}]
["RJ","Rio de Janeiro","Itaguaí","AGENERSA","CEG","Industrial","Mensal",200.01,2000,{"$f":"Cálculo!$G$49","v":5.3860999999999999}]
["RJ","Rio de Janeiro","Itaguaí","AGENERSA","CEG","Industrial","Mensal",2000.01,10000,{"$f":"Cálculo!$G$50","v":5.2949000000000002}]
["RJ","Rio de Janeiro","Itaguaí","AGENERSA","CEG","Industrial","Mensal",10000.01,50000,{"$f":"Cálculo!$G$51","v":4.7983000000000002}]
["RJ","Rio de Janeiro","Itaguaí","AGENERSA","CEG","Industrial","Mensal",50000.01,100000,{"$f":"Cálculo!$G$52","v":4.5003000000000002}]
["RJ","Rio de Janeiro","Itaguaí","AGENERSA","CEG","Industrial","Mensal",100000.01,300000,{"$f":"Cálculo!$G$53","v":4.1826999999999996}]
["RJ","Rio de Janeiro","Itaguaí","AGENERSA","CEG","Industrial","Mensal",300000.01,600000,{"$f":"Cálculo!$G$54","v":3.8064}]
["RJ","Rio de Janeiro","Itaguaí","AGENERSA","CEG","Industrial","Mensal",600000.01,1500000,{"$f":"Cálculo!$G$55","v":3.7966000000000002}]
["RJ","Rio de Janeiro","Itaguaí","AGENERSA","CEG","Industrial","Mensal",1500000.01,3000000,{"$f":"Cálculo!$G$56","v":3.7690999999999999}]
["RJ","Rio de Janeiro","Itaguaí","AGENERSA","CEG","Industrial","Mensal",3000000.01,null,{"$f":"Cálculo!$G$57","v":3.6758999999999999}]
["RJ","Rio de Janeiro","Itaguaí","AGENERSA","CEG","GNV","Faixa Única",null,null,{"$f":"Cálculo!$G$60","v":3.5691999999999999}]
["RJ","Rio de Janeiro","Japeri","AGENERSA","CEG","Residencial","Mensal",0,7,{"$f":"Cálculo!$G$34","v":9.5297000000000001}]
["RJ","Rio de Janeiro","Japeri","AGENERSA","CEG","Residencial","Mensal",7.01,23,{"$f":"Cálculo!$G$35","v":12.308999999999999}]
["RJ","Rio de Janeiro","Japeri","AGENERSA","CEG","Residencial","Mensal",23.01,83,{"$f":"Cálculo!$G$36","v":14.8233}]
["RJ","Rio de Janeiro","Japeri","AGENERSA","CEG","Residencial","Mensal",83.01,null,{"$f":"Cálculo!$G$37","v":15.6203}]
["RJ","Rio de Janeiro","Japeri","AGENERSA","CEG","Comercial","Mensal",0,200,{"$f":"Cálculo!$G$40","v":9.3140000000000001}]
["RJ","Rio de Janeiro","Japeri","AGENERSA","CEG","Comercial","Mensal",200.01,500,{"$f":"Cálculo!$G$41","v":9.0565999999999995}]
["RJ","Rio de Janeiro","Japeri","AGENERSA","CEG","Comercial","Mensal",500.01,2000,{"$f":"Cálculo!$G$42","v":8.7997999999999994}]
["RJ","Rio de Janeiro","Japeri","AGENERSA","CEG","Comercial","Mensal",2000.01,20000,{"$f":"Cálculo!$G$43","v":8.5432000000000006}]
["RJ","Rio de Janeiro","Japeri","AGENERSA","CEG","Comercial","Mensal",20000.009999999998,50000,{"$f":"Cálculo!$G$44","v":8.2860999999999994}]
["RJ","Rio de Janeiro","Japeri","AGENERSA","CEG","Comercial","Mensal",50000.01,null,{"$f":"Cálculo!$G$45","v":8.0290999999999997}]
["RJ","Rio de Janeiro","Japeri","AGENERSA","CEG","Industrial","Mensal",0,200,{"$f":"Cálculo!$G$48","v":5.5377999999999998}]
["RJ","Rio de Janeiro","Japeri","AGENERSA","CEG","Industrial","Mensal",200.01,2000,{"$f":"Cálculo!$G$49","v":5.3860999999999999}]
["RJ","Rio de Janeiro","Japeri","AGENERSA","CEG","Industrial","Mensal",2000.01,10000,{"$f":"Cálculo!$G$50","v":5.2949000000000002}]
["RJ","Rio de Janeiro","Japeri","AGENERSA","CEG","Industrial","Mensal",10000.01,50000,{"$f":"Cálculo!$G$51","v":4.7983000000000002}]
["RJ","Rio de Janeiro","Japeri","AGENERSA","CEG","Industrial","Mensal",50000.01,100000,{"$f":"Cálculo!$G$52","v":4.5003000000000002}]
["RJ","Rio de Janeiro","Japeri","AGENERSA","CEG","Industrial","Mensal",100000.01,300000,{"$f":"Cálculo!$G$53","v":4.1826999999999996}]
["RJ","Rio de Janeiro","Japeri","AGENERSA","CEG","Industrial","Mensal",300000.01,600000,{"$f":"Cálculo!$G$54","v":3.8064}]
["RJ","Rio de Janeiro","Japeri","AGENERSA","CEG","Industrial","Mensal",600000.01,1500000,{"$f":"Cálculo!$G$55","v":3.7966000000000002}]
["RJ","Rio de Janeiro","Japeri","AGENERSA","CEG","Industrial","Mensal",1500000.01,3000000,{"$f":"Cálculo!$G$56","v":3.7690999999999999}]
["RJ","Rio de Janeiro","Japeri","AGENERSA","CEG","Industrial","Mensal",3000000.01,null,{"$f":"Cálculo!$G$57","v":3.6758999999999999}]
["RJ","Rio de Janeiro","Japeri","AGENERSA","CEG","GNV","Faixa Única",null,null,{"$f":"Cálculo!$G$60","v":3.5691999999999999}]
["RJ","Rio de Janeiro","Magé","AGENERSA","CEG","Residencial","Mensal",0,7,{"$f":"Cálculo!$G$34","v":9.5297000000000001}]
["RJ","Rio de Janeiro","Magé","AGENERSA","CEG","Residencial","Mensal",7.01,23,{"$f":"Cálculo!$G$35","v":12.308999999999999}]
["RJ","Rio de Janeiro","Magé","AGENERSA","CEG","Residencial","Mensal",23.01,83,{"$f":"Cálculo!$G$36","v":14.8233}]
["RJ","Rio de Janeiro","Magé","AGENERSA","CEG","Residencial","Mensal",83.01,null,{"$f":"Cálculo!$G$37","v":15.6203}]
["RJ","Rio de Janeiro","Magé","AGENERSA","CEG","Comercial","Mensal",0,200,{"$f":"Cálculo!$G$40","v":9.3140000000000001}]
["RJ","Rio de Janeiro","Magé","AGENERSA","CEG","Comercial","Mensal",200.01,500,{"$f":"Cálculo!$G$41","v":9.0565999999999995}]
["RJ","Rio de Janeiro","Magé","AGENERSA","CEG","Comercial","Mensal",500.01,2000,{"$f":"Cálculo!$G$42","v":8.7997999999999994}]
["RJ","Rio de Janeiro","Magé","AGENERSA","CEG","Comercial","Mensal",2000.01,20000,{"$f":"Cálculo!$G$43","v":8.5432000000000006}]
["RJ","Rio de Janeiro","Magé","AGENERSA","CEG","Comercial","Mensal",20000.009999999998,50000,{"$f":"Cálculo!$G$44","v":8.2860999999999994}]
["RJ","Rio de Janeiro","Magé","AGENERSA","CEG","Comercial","Mensal",50000.01,null,{"$f":"Cálculo!$G$45","v":8.0290999999999997}]
["RJ","Rio de Janeiro","Magé","AGENERSA","CEG","Industrial","Mensal",0,200,{"$f":"Cálculo!$G$48","v":5.5377999999999998}]
["RJ","Rio de Janeiro","Magé","AGENERSA","CEG","Industrial","Mensal",200.01,2000,{"$f":"Cálculo!$G$49","v":5.3860999999999999}]
["RJ","Rio de Janeiro","Magé","AGENERSA","CEG","Industrial","Mensal",2000.01,10000,{"$f":"Cálculo!$G$50","v":5.2949000000000002}]
["RJ","Rio de Janeiro","Magé","AGENERSA","CEG","Industrial","Mensal",10000.01,50000,{"$f":"Cálculo!$G$51","v":4.7983000000000002}]
["RJ","Rio de Janeiro","Magé","AGENERSA","CEG","Industrial","Mensal",50000.01,100000,{"$f":"Cálculo!$G$52","v":4.5003000000000002}]
["RJ","Rio de Janeiro","Magé","AGENERSA","CEG","Industrial","Mensal",100000.01,300000,{"$f":"Cálculo!$G$53","v":4.1826999999999996}]
["RJ","Rio de Janeiro","Magé","AGENERSA","CEG","Industrial","Mensal",300000.01,600000,{"$f":"Cálculo!$G$54","v":3.8064}]
["RJ","Rio de Janeiro","Magé","AGENERSA","CEG","Industrial","Mensal",600000.01,1500000,{"$f":"Cálculo!$G$55","v":3.7966000000000002}]
["RJ","Rio de Janeiro","Magé","AGENERSA","CEG","Industrial","Mensal",1500000.01,3000000,{"$f":"Cálculo!$G$56","v":3.7690999999999999}]
["RJ","Rio de Janeiro","Magé","AGENERSA","CEG","Industrial","Mensal",3000000.01,null,{"$f":"Cálculo!$G$57","v":3.6758999999999999}]
["RJ","Rio de Janeiro","Magé","AGENERSA","CEG","GNV","Faixa Única",null,null,{"$f":"Cálculo!$G$60","v":3.5691999999999999}]
["RJ","Rio de Janeiro","Mangaratiba","AGENERSA","CEG","Residencial","Mensal",0,7,{"$f":"Cálculo!$G$34","v":9.5297000000000001}]
["RJ","Rio de Janeiro","Mangaratiba","AGENERSA","CEG","Residencial","Mensal",7.01,23,{"$f":"Cálculo!$G$35","v":12.308999999999999}]
["RJ","Rio de Janeiro","Mangaratiba","AGENERSA","CEG","Residencial","Mensal",23.01,83,{"$f":"Cálculo!$G$36","v":14.8233}]
["RJ","Rio de Janeiro","Mangaratiba","AGENERSA","CEG","Residencial","Mensal",83.01,null,{"$f":"Cálculo!$G$37","v":15.6203}]
["RJ","Rio de Janeiro","Mangaratiba","AGENERSA","CEG","Comercial","Mensal",0,200,{"$f":"Cálculo!$G$40","v":9.3140000000000001}]
["RJ","Rio de Janeiro","Mangaratiba","AGENERSA","CEG","Comercial","Mensal",200.01,500,{"$f":"Cálculo!$G$41","v":9.0565999999999995}]
["RJ","Rio de Janeiro","Mangaratiba","AGENERSA","CEG","Comercial","Mensal",500.01,2000,{"$f":"Cálculo!$G$42","v":8.7997999999999994}]
["RJ","Rio de Janeiro","Mangaratiba","AGENERSA","CEG","Comercial","Mensal",2000.01,20000,{"$f":"Cálculo!$G$43","v":8.5432000000000006}]
["RJ","Rio de Janeiro","Mangaratiba","AGENERSA","CEG","Comercial","Mensal",20000.009999999998,50000,{"$f":"Cálculo!$G$44","v":8.2860999999999994}]
["RJ","Rio de Janeiro","Mangaratiba","AGENERSA","CEG","Comercial","Mensal",50000.01,null,{"$f":"Cálculo!$G$45","v":8.0290999999999997}]
["RJ","Rio de Janeiro","Mangaratiba","AGENERSA","CEG","Industrial","Mensal",0,200,{"$f":"Cálculo!$G$48","v":5.5377999999999998}]
["RJ","Rio de Janeiro","Mangaratiba","AGENERSA","CEG","Industrial","Mensal",200.01,2000,{"$f":"Cálculo!$G$49","v":5.3860999999999999}]
["RJ","Rio de Janeiro","Mangaratiba","AGENERSA","CEG","Industrial","Mensal",2000.01,10000,{"$f":"Cálculo!$G$50","v":5.2949000000000002}]
["RJ","Rio de Janeiro","Mangaratiba","AGENERSA","CEG","Industrial","Mensal",10000.01,50000,{"$f":"Cálculo!$G$51","v":4.7983000000000002}]
["RJ","Rio de Janeiro","Mangaratiba","AGENERSA","CEG","Industrial","Mensal",50000.01,100000,{"$f":"Cálculo!$G$52","v":4.5003000000000002}]
["RJ","Rio de Janeiro","Mangaratiba","AGENERSA","CEG","Industrial","Mensal",100000.01,300000,{"$f":"Cálculo!$G$53","v":4.1826999999999996}]
["RJ","Rio de Janeiro","Mangaratiba","AGENERSA","CEG","Industrial","Mensal",300000.01,600000,{"$f":"Cálculo!$G$54","v":3.8064}]
["RJ","Rio de Janeiro","Mangaratiba","AGENERSA","CEG","Industrial","Mensal",600000.01,1500000,{"$f":"Cálculo!$G$55","v":3.7966000000000002}]
["RJ","Rio de Janeiro","Mangaratiba","AGENERSA","CEG","Industrial","Mensal",1500000.01,3000000,{"$f":"Cálculo!$G$56","v":3.7690999999999999}]
["RJ","Rio de Janeiro","Mangaratiba","AGENERSA","CEG","Industrial","Mensal",3000000.01,null,{"$f":"Cálculo!$G$57","v":3.6758999999999999}]
["RJ","Rio de Janeiro","Mangaratiba","AGENERSA","CEG","GNV","Faixa Única",null,null,{"$f":"Cálculo!$G$60","v":3.5691999999999999}]
["RJ","Rio de Janeiro","Maricá","AGENERSA","CEG","Residencial","Mensal",0,7,{"$f":"Cálculo!$G$34","v":9.5297000000000001}]
["RJ","Rio de Janeiro","Maricá","AGENERSA","CEG","Residencial","Mensal",7.01,23,{"$f":"Cálculo!$G$35","v":12.308999999999999}]
["RJ","Rio de Janeiro","Maricá","AGENERSA","CEG","Residencial","Mensal",23.01,83,{"$f":"Cálculo!$G$36","v":14.8233}]
["RJ","Rio de Janeiro","Maricá","AGENERSA","CEG","Residencial","Mensal",83.01,null,{"$f":"Cálculo!$G$37","v":15.6203}]
["RJ","Rio de Janeiro","Maricá","AGENERSA","CEG","Comercial","Mensal",0,200,{"$f":"Cálculo!$G$40","v":9.3140000000000001}]
["RJ","Rio de Janeiro","Maricá","AGENERSA","CEG","Comercial","Mensal",200.01,500,{"$f":"Cálculo!$G$41","v":9.0565999999999995}]
["RJ","Rio de Janeiro","Maricá","AGENERSA","CEG","Comercial","Mensal",500.01,2000,{"$f":"Cálculo!$G$42","v":8.7997999999999994}]
["RJ","Rio de Janeiro","Maricá","AGENERSA","CEG","Comercial","Mensal",2000.01,20000,{"$f":"Cálculo!$G$43","v":8.5432000000000006}]
["RJ","Rio de Janeiro","Maricá","AGENERSA","CEG","Comercial","Mensal",20000.009999999998,50000,{"$f":"Cálculo!$G$44","v":8.2860999999999994}]
["RJ","Rio de Janeiro","Maricá","AGENERSA","CEG","Comercial","Mensal",50000.01,null,{"$f":"Cálculo!$G$45","v":8.0290999999999997}]
["RJ","Rio de Janeiro","Maricá","AGENERSA","CEG","Industrial","Mensal",0,200,{"$f":"Cálculo!$G$48","v":5.5377999999999998}]
["RJ","Rio de Janeiro","Maricá","AGENERSA","CEG","Industrial","Mensal",200.01,2000,{"$f":"Cálculo!$G$49","v":5.3860999999999999}]
["RJ","Rio de Janeiro","Maricá","AGENERSA","CEG","Industrial","Mensal",2000.01,10000,{"$f":"Cálculo!$G$50","v":5.2949000000000002}]
["RJ","Rio de Janeiro","Maricá","AGENERSA","CEG","Industrial","Mensal",10000.01,50000,{"$f":"Cálculo!$G$51","v":4.7983000000000002}]
["RJ","Rio de Janeiro","Maricá","AGENERSA","CEG","Industrial","Mensal",50000.01,100000,{"$f":"Cálculo!$G$52","v":4.5003000000000002}]
["RJ","Rio de Janeiro","Maricá","AGENERSA","CEG","Industrial","Mensal",100000.01,300000,{"$f":"Cálculo!$G$53","v":4.1826999999999996}]
["RJ","Rio de Janeiro","Maricá","AGENERSA","CEG","Industrial","Mensal",300000.01,600000,{"$f":"Cálculo!$G$54","v":3.8064}]
["RJ","Rio de Janeiro","Maricá","AGENERSA","CEG","Industrial","Mensal",600000.01,1500000,{"$f":"Cálculo!$G$55","v":3.7966000000000002}]
["RJ","Rio de Janeiro","Maricá","AGENERSA","CEG","Industrial","Mensal",1500000.01,3000000,{"$f":"Cálculo!$G$56","v":3.7690999999999999}]
["RJ","Rio de Janeiro","Maricá","AGENERSA","CEG","Industrial","Mensal",3000000.01,null,{"$f":"Cálculo!$G$57","v":3.6758999999999999}]
["RJ","Rio de Janeiro","Maricá","AGENERSA","CEG","GNV","Faixa Única",null,null,{"$f":"Cálculo!$G$60","v":3.5691999999999999}]
["RJ","Rio de Janeiro","Mesquita","AGENERSA","CEG","Residencial","Mensal",0,7,{"$f":"Cálculo!$G$34","v":9.5297000000000001}]
["RJ","Rio de Janeiro","Mesquita","AGENERSA","CEG","Residencial","Mensal",7.01,23,{"$f":"Cálculo!$G$35","v":12.308999999999999}]
["RJ","Rio de Janeiro","Mesquita","AGENERSA","CEG","Residencial","Mensal",23.01,83,{"$f":"Cálculo!$G$36","v":14.8233}]
["RJ","Rio de Janeiro","Mesquita","AGENERSA","CEG","Residencial","Mensal",83.01,null,{"$f":"Cálculo!$G$37","v":15.6203}]
["RJ","Rio de Janeiro","Mesquita","AGENERSA","CEG","Comercial","Mensal",0,200,{"$f":"Cálculo!$G$40","v":9.3140000000000001}]
["RJ","Rio de Janeiro","Mesquita","AGENERSA","CEG","Comercial","Mensal",200.01,500,{"$f":"Cálculo!$G$41","v":9.0565999999999995}]
["RJ","Rio de Janeiro","Mesquita","AGENERSA","CEG","Comercial","Mensal",500.01,2000,{"$f":"Cálculo!$G$42","v":8.7997999999999994}]
["RJ","Rio de Janeiro","Mesquita","AGENERSA","CEG","Comercial","Mensal",2000.01,20000,{"$f":"Cálculo!$G$43","v":8.5432000000000006}]
["RJ","Rio de Janeiro","Mesquita","AGENERSA","CEG","Comercial","Mensal",20000.009999999998,50000,{"$f":"Cálculo!$G$44","v":8.2860999999999994}]
["RJ","Rio de Janeiro","Mesquita","AGENERSA","CEG","Comercial","Mensal",50000.01,null,{"$f":"Cálculo!$G$45","v":8.0290999999999997}]
["RJ","Rio de Janeiro","Mesquita","AGENERSA","CEG","Industrial","Mensal",0,200,{"$f":"Cálculo!$G$48","v":5.5377999999999998}]
["RJ","Rio de Janeiro","Mesquita","AGENERSA","CEG","Industrial","Mensal",200.01,2000,{"$f":"Cálculo!$G$49","v":5.3860999999999999}]
["RJ","Rio de Janeiro","Mesquita","AGENERSA","CEG","Industrial","Mensal",2000.01,10000,{"$f":"Cálculo!$G$50","v":5.2949000000000002}]
["RJ","Rio de Janeiro","Mesquita","AGENERSA","CEG","Industrial","Mensal",10000.01,50000,{"$f":"Cálculo!$G$51","v":4.7983000000000002}]
["RJ","Rio de Janeiro","Mesquita","AGENERSA","CEG","Industrial","Mensal",50000.01,100000,{"$f":"Cálculo!$G$52","v":4.5003000000000002}]
["RJ","Rio de Janeiro","Mesquita","AGENERSA","CEG","Industrial","Mensal",100000.01,300000,{"$f":"Cálculo!$G$53","v":4.1826999999999996}]
["RJ","Rio de Janeiro","Mesquita","AGENERSA","CEG","Industrial","Mensal",300000.01,600000,{"$f":"Cálculo!$G$54","v":3.8064}]
["RJ","Rio de Janeiro","Mesquita","AGENERSA","CEG","Industrial","Mensal",600000.01,1500000,{"$f":"Cálculo!$G$55","v":3.7966000000000002}]
["RJ","Rio de Janeiro","Mesquita","AGENERSA","CEG","Industrial","Mensal",1500000.01,3000000,{"$f":"Cálculo!$G$56","v":3.7690999999999999}]
["RJ","Rio de Janeiro","Mesquita","AGENERSA","CEG","Industrial","Mensal",3000000.01,null,{"$f":"Cálculo!$G$57","v":3.6758999999999999}]
["RJ","Rio de Janeiro","Mesquita","AGENERSA","CEG","GNV","Faixa Única",null,null,{"$f":"Cálculo!$G$60","v":3.5691999999999999}]
["RJ","Rio de Janeiro","Nilópolis","AGENERSA","CEG","Residencial","Mensal",0,7,{"$f":"Cálculo!$G$34","v":9.5297000000000001}]
["RJ","Rio de Janeiro","Nilópolis","AGENERSA","CEG","Residencial","Mensal",7.01,23,{"$f":"Cálculo!$G$35","v":12.308999999999999}]
["RJ","Rio de Janeiro","Nilópolis","AGENERSA","CEG","Residencial","Mensal",23.01,83,{"$f":"Cálculo!$G$36","v":14.8233}]
["RJ","Rio de Janeiro","Nilópolis","AGENERSA","CEG","Residencial","Mensal",83.01,null,{"$f":"Cálculo!$G$37","v":15.6203}]
["RJ","Rio de Janeiro","Nilópolis","AGENERSA","CEG","Comercial","Mensal",0,200,{"$f":"Cálculo!$G$40","v":9.3140000000000001}]
["RJ","Rio de Janeiro","Nilópolis","AGENERSA","CEG","Comercial","Mensal",200.01,500,{"$f":"Cálculo!$G$41","v":9.0565999999999995}]
["RJ","Rio de Janeiro","Nilópolis","AGENERSA","CEG","Comercial","Mensal",500.01,2000,{"$f":"Cálculo!$G$42","v":8.7997999999999994}]
["RJ","Rio de Janeiro","Nilópolis","AGENERSA","CEG","Comercial","Mensal",2000.01,20000,{"$f":"Cálculo!$G$43","v":8.5432000000000006}]
["RJ","Rio de Janeiro","Nilópolis","AGENERSA","CEG","Comercial","Mensal",20000.009999999998,50000,{"$f":"Cálculo!$G$44","v":8.2860999999999994}]
["RJ","Rio de Janeiro","Nilópolis","AGENERSA","CEG","Comercial","Mensal",50000.01,null,{"$f":"Cálculo!$G$45","v":8.0290999999999997}]
["RJ","Rio de Janeiro","Nilópolis","AGENERSA","CEG","Industrial","Mensal",0,200,{"$f":"Cálculo!$G$48","v":5.5377999999999998}]
["RJ","Rio de Janeiro","Nilópolis","AGENERSA","CEG","Industrial","Mensal",200.01,2000,{"$f":"Cálculo!$G$49","v":5.3860999999999999}]
["RJ","Rio de Janeiro","Nilópolis","AGENERSA","CEG","Industrial","Mensal",2000.01,10000,{"$f":"Cálculo!$G$50","v":5.2949000000000002}]
["RJ","Rio de Janeiro","Nilópolis","AGENERSA","CEG","Industrial","Mensal",10000.01,50000,{"$f":"Cálculo!$G$51","v":4.7983000000000002}]
["RJ","Rio de Janeiro","Nilópolis","AGENERSA","CEG","Industrial","Mensal",50000.01,100000,{"$f":"Cálculo!$G$52","v":4.5003000000000002}]
["RJ","Rio de Janeiro","Nilópolis","AGENERSA","CEG","Industrial","Mensal",100000.01,300000,{"$f":"Cálculo!$G$53","v":4.1826999999999996}]
["RJ","Rio de Janeiro","Nilópolis","AGENERSA","CEG","Industrial","Mensal",300000.01,600000,{"$f":"Cálculo!$G$54","v":3.8064}]
["RJ","Rio de Janeiro","Nilópolis","AGENERSA","CEG","Industrial","Mensal",600000.01,1500000,{"$f":"Cálculo!$G$55","v":3.7966000000000002}]
["RJ","Rio de Janeiro","Nilópolis","AGENERSA","CEG","Industrial","Mensal",1500000.01,3000000,{"$f":"Cálculo!$G$56","v":3.7690999999999999}]
["RJ","Rio de Janeiro","Nilópolis","AGENERSA","CEG","Industrial","Mensal",3000000.01,null,{"$f":"Cálculo!$G$57","v":3.6758999999999999}]
["RJ","Rio de Janeiro","Nilópolis","AGENERSA","CEG","GNV","Faixa Única",null,null,{"$f":"Cálculo!$G$60","v":3.5691999999999999}]
["RJ","Rio de Janeiro","Niterói","AGENERSA","CEG","Residencial","Mensal",0,7,{"$f":"Cálculo!$G$34","v":9.5297000000000001}]
["RJ","Rio de Janeiro","Niterói","AGENERSA","CEG","Residencial","Mensal",7.01,23,{"$f":"Cálculo!$G$35","v":12.308999999999999}]
["RJ","Rio de Janeiro","Niterói","AGENERSA","CEG","Residencial","Mensal",23.01,83,{"$f":"Cálculo!$G$36","v":14.8233}]
["RJ","Rio de Janeiro","Niterói","AGENERSA","CEG","Residencial","Mensal",83.01,null,{"$f":"Cálculo!$G$37","v":15.6203}]
["RJ","Rio de Janeiro","Niterói","AGENERSA","CEG","Comercial","Mensal",0,200,{"$f":"Cálculo!$G$40","v":9.3140000000000001}]
["RJ","Rio de Janeiro","Niterói","AGENERSA","CEG","Comercial","Mensal",200.01,500,{"$f":"Cálculo!$G$41","v":9.0565999999999995}]
["RJ","Rio de Janeiro","Niterói","AGENERSA","CEG","Comercial","Mensal",500.01,2000,{"$f":"Cálculo!$G$42","v":8.7997999999999994}]
["RJ","Rio de Janeiro","Niterói","AGENERSA","CEG","Comercial","Mensal",2000.01,20000,{"$f":"Cálculo!$G$43","v":8.5432000000000006}]
["RJ","Rio de Janeiro","Niterói","AGENERSA","CEG","Comercial","Mensal",20000.009999999998,50000,{"$f":"Cálculo!$G$44","v":8.2860999999999994}]
["RJ","Rio de Janeiro","Niterói","AGENERSA","CEG","Comercial","Mensal",50000.01,null,{"$f":"Cálculo!$G$45","v":8.0290999999999997}]
["RJ","Rio de Janeiro","Niterói","AGENERSA","CEG","Industrial","Mensal",0,200,{"$f":"Cálculo!$G$48","v":5.5377999999999998}]
["RJ","Rio de Janeiro","Niterói","AGENERSA","CEG","Industrial","Mensal",200.01,2000,{"$f":"Cálculo!$G$49","v":5.3860999999999999}]
["RJ","Rio de Janeiro","Niterói","AGENERSA","CEG","Industrial","Mensal",2000.01,10000,{"$f":"Cálculo!$G$50","v":5.2949000000000002}]
["RJ","Rio de Janeiro","Niterói","AGENERSA","CEG","Industrial","Mensal",10000.01,50000,{"$f":"Cálculo!$G$51","v":4.7983000000000002}]
["RJ","Rio de Janeiro","Niterói","AGENERSA","CEG","Industrial","Mensal",50000.01,100000,{"$f":"Cálculo!$G$52","v":4.5003000000000002}]
["RJ","Rio de Janeiro","Niterói","AGENERSA","CEG","Industrial","Mensal",100000.01,300000,{"$f":"Cálculo!$G$53","v":4.1826999999999996}]
["RJ","Rio de Janeiro","Niterói","AGENERSA","CEG","Industrial","Mensal",300000.01,600000,{"$f":"Cálculo!$G$54","v":3.8064}]
["RJ","Rio de Janeiro","Niterói","AGENERSA","CEG","Industrial","Mensal",600000.01,1500000,{"$f":"Cálculo!$G$55","v":3.7966000000000002}]
["RJ","Rio de Janeiro","Niterói","AGENERSA","CEG","Industrial","Mensal",1500000.01,3000000,{"$f":"Cálculo!$G$56","v":3.7690999999999999}]
["RJ","Rio de Janeiro","Niterói","AGENERSA","CEG","Industrial","Mensal",3000000.01,null,{"$f":"Cálculo!$G$57","v":3.6758999999999999}]
["RJ","Rio de Janeiro","Niterói","AGENERSA","CEG","GNV","Faixa Única",null,null,{"$f":"Cálculo!$G$60","v":3.5691999999999999}]
["RJ","Rio de Janeiro","Nova Iguaçu","AGENERSA","CEG","Residencial","Mensal",0,7,{"$f":"Cálculo!$G$34","v":9.5297000000000001}]
["RJ","Rio de Janeiro","Nova Iguaçu","AGENERSA","CEG","Residencial","Mensal",7.01,23,{"$f":"Cálculo!$G$35","v":12.308999999999999}]
["RJ","Rio de Janeiro","Nova Iguaçu","AGENERSA","CEG","Residencial","Mensal",23.01,83,{"$f":"Cálculo!$G$36","v":14.8233}]
["RJ","Rio de Janeiro","Nova Iguaçu","AGENERSA","CEG","Residencial","Mensal",83.01,null,{"$f":"Cálculo!$G$37","v":15.6203}]
["RJ","Rio de Janeiro","Nova Iguaçu","AGENERSA","CEG","Comercial","Mensal",0,200,{"$f":"Cálculo!$G$40","v":9.3140000000000001}]
["RJ","Rio de Janeiro","Nova Iguaçu","AGENERSA","CEG","Comercial","Mensal",200.01,500,{"$f":"Cálculo!$G$41","v":9.0565999999999995}]
["RJ","Rio de Janeiro","Nova Iguaçu","AGENERSA","CEG","Comercial","Mensal",500.01,2000,{"$f":"Cálculo!$G$42","v":8.7997999999999994}]
["RJ","Rio de Janeiro","Nova Iguaçu","AGENERSA","CEG","Comercial","Mensal",2000.01,20000,{"$f":"Cálculo!$G$43","v":8.5432000000000006}]
["RJ","Rio de Janeiro","Nova Iguaçu","AGENERSA","CEG","Comercial","Mensal",20000.009999999998,50000,{"$f":"Cálculo!$G$44","v":8.2860999999999994}]
["RJ","Rio de Janeiro","Nova Iguaçu","AGENERSA","CEG","Comercial","Mensal",50000.01,null,{"$f":"Cálculo!$G$45","v":8.0290999999999997}]
["RJ","Rio de Janeiro","Nova Iguaçu","AGENERSA","CEG","Industrial","Mensal",0,200,{"$f":"Cálculo!$G$48","v":5.5377999999999998}]
["RJ","Rio de Janeiro","Nova Iguaçu","AGENERSA","CEG","Industrial","Mensal",200.01,2000,{"$f":"Cálculo!$G$49","v":5.3860999999999999}]
["RJ","Rio de Janeiro","Nova Iguaçu","AGENERSA","CEG","Industrial","Mensal",2000.01,10000,{"$f":"Cálculo!$G$50","v":5.2949000000000002}]
["RJ","Rio de Janeiro","Nova Iguaçu","AGENERSA","CEG","Industrial","Mensal",10000.01,50000,{"$f":"Cálculo!$G$51","v":4.7983000000000002}]
["RJ","Rio de Janeiro","Nova Iguaçu","AGENERSA","CEG","Industrial","Mensal",50000.01,100000,{"$f":"Cálculo!$G$52","v":4.5003000000000002}]
["RJ","Rio de Janeiro","Nova Iguaçu","AGENERSA","CEG","Industrial","Mensal",100000.01,300000,{"$f":"Cálculo!$G$53","v":4.1826999999999996}]
["RJ","Rio de Janeiro","Nova Iguaçu","AGENERSA","CEG","Industrial","Mensal",300000.01,600000,{"$f":"Cálculo!$G$54","v":3.8064}]
["RJ","Rio de Janeiro","Nova Iguaçu","AGENERSA","CEG","Industrial","Mensal",600000.01,1500000,{"$f":"Cálculo!$G$55","v":3.7966000000000002}]
["RJ","Rio de Janeiro","Nova Iguaçu","AGENERSA","CEG","Industrial","Mensal",1500000.01,3000000,{"$f":"Cálculo!$G$56","v":3.7690999999999999}]
["RJ","Rio de Janeiro","Nova Iguaçu","AGENERSA","CEG","Industrial","Mensal",3000000.01,null,{"$f":"Cálculo!$G$57","v":3.6758999999999999}]
["RJ","Rio de Janeiro","Nova Iguaçu","AGENERSA","CEG","GNV","Faixa Única",null,null,{"$f":"Cálculo!$G$60","v":3.5691999999999999}]
["RJ","Rio de Janeiro","Paracambi","AGENERSA","CEG","Residencial","Mensal",0,7,{"$f":"Cálculo!$G$34","v":9.5297000000000001}]
["RJ","Rio de Janeiro","Paracambi","AGENERSA","CEG","Residencial","Mensal",7.01,23,{"$f":"Cálculo!$G$35","v":12.308999999999999}]
["RJ","Rio de Janeiro","Paracambi","AGENERSA","CEG","Residencial","Mensal",23.01,83,{"$f":"Cálculo!$G$36","v":14.8233}]
["RJ","Rio de Janeiro","Paracambi","AGENERSA","CEG","Residencial","Mensal",83.01,null,{"$f":"Cálculo!$G$37","v":15.6203}]
["RJ","Rio de Janeiro","Paracambi","AGENERSA","CEG","Comercial","Mensal",0,200,{"$f":"Cálculo!$G$40","v":9.3140000000000001}]
["RJ","Rio de Janeiro","Paracambi","AGENERSA","CEG","Comercial","Mensal",200.01,500,{"$f":"Cálculo!$G$41","v":9.0565999999999995}]
["RJ","Rio de Janeiro","Paracambi","AGENERSA","CEG","Comercial","Mensal",500.01,2000,{"$f":"Cálculo!$G$42","v":8.7997999999999994}]
["RJ","Rio de Janeiro","Paracambi","AGENERSA","CEG","Comercial","Mensal",2000.01,20000,{"$f":"Cálculo!$G$43","v":8.5432000000000006}]
["RJ","Rio de Janeiro","Paracambi","AGENERSA","CEG","Comercial","Mensal",20000.009999999998,50000,{"$f":"Cálculo!$G$44","v":8.2860999999999994}]
["RJ","Rio de Janeiro","Paracambi","AGENERSA","CEG","Comercial","Mensal",50000.01,null,{"$f":"Cálculo!$G$45","v":8.0290999999999997}]
["RJ","Rio de Janeiro","Paracambi","AGENERSA","CEG","Industrial","Mensal",0,200,{"$f":"Cálculo!$G$48","v":5.5377999999999998}]
["RJ","Rio de Janeiro","Paracambi","AGENERSA","CEG","Industrial","Mensal",200.01,2000,{"$f":"Cálculo!$G$49","v":5.3860999999999999}]
["RJ","Rio de Janeiro","Paracambi","AGENERSA","CEG","Industrial","Mensal",2000.01,10000,{"$f":"Cálculo!$G$50","v":5.2949000000000002}]
["RJ","Rio de Janeiro","Paracambi","AGENERSA","CEG","Industrial","Mensal",10000.01,50000,{"$f":"Cálculo!$G$51","v":4.7983000000000002}]
["RJ","Rio de Janeiro","Paracambi","AGENERSA","CEG","Industrial","Mensal",50000.01,100000,{"$f":"Cálculo!$G$52","v":4.5003000000000002}]
["RJ","Rio de Janeiro","Paracambi","AGENERSA","CEG","Industrial","Mensal",100000.01,300000,{"$f":"Cálculo!$G$53","v":4.1826999999999996}]
["RJ","Rio de Janeiro","Paracambi","AGENERSA","CEG","Industrial","Mensal",300000.01,600000,{"$f":"Cálculo!$G$54","v":3.8064}]
["RJ","Rio de Janeiro","Paracambi","AGENERSA","CEG","Industrial","Mensal",600000.01,1500000,{"$f":"Cálculo!$G$55","v":3.7966000000000002}]
["RJ","Rio de Janeiro","Paracambi","AGENERSA","CEG","Industrial","Mensal",1500000.01,3000000,{"$f":"Cálculo!$G$56","v":3.7690999999999999}]
["RJ","Rio de Janeiro","Paracambi","AGENERSA","CEG","Industrial","Mensal",3000000.01,null,{"$f":"Cálculo!$G$57","v":3.6758999999999999}]
["RJ","Rio de Janeiro","Paracambi","AGENERSA","CEG","GNV","Faixa Única",null,null,{"$f":"Cálculo!$G$60","v":3.5691999999999999}]
["RJ","Rio de Janeiro","Queimados","AGENERSA","CEG","Residencial","Mensal",0,7,{"$f":"Cálculo!$G$34","v":9.5297000000000001}]
["RJ","Rio de Janeiro","Queimados","AGENERSA","CEG","Residencial","Mensal",7.01,23,{"$f":"Cálculo!$G$35","v":12.308999999999999}]
["RJ","Rio de Janeiro","Queimados","AGENERSA","CEG","Residencial","Mensal",23.01,83,{"$f":"Cálculo!$G$36","v":14.8233}]
["RJ","Rio de Janeiro","Queimados","AGENERSA","CEG","Residencial","Mensal",83.01,null,{"$f":"Cálculo!$G$37","v":15.6203}]
["RJ","Rio de Janeiro","Queimados","AGENERSA","CEG","Comercial","Mensal",0,200,{"$f":"Cálculo!$G$40","v":9.3140000000000001}]
["RJ","Rio de Janeiro","Queimados","AGENERSA","CEG","Comercial","Mensal",200.01,500,{"$f":"Cálculo!$G$41","v":9.0565999999999995}]
["RJ","Rio de Janeiro","Queimados","AGENERSA","CEG","Comercial","Mensal",500.01,2000,{"$f":"Cálculo!$G$42","v":8.7997999999999994}]
["RJ","Rio de Janeiro","Queimados","AGENERSA","CEG","Comercial","Mensal",2000.01,20000,{"$f":"Cálculo!$G$43","v":8.5432000000000006}]
["RJ","Rio de Janeiro","Queimados","AGENERSA","CEG","Comercial","Mensal",20000.009999999998,50000,{"$f":"Cálculo!$G$44","v":8.2860999999999994}]
["RJ","Rio de Janeiro","Queimados","AGENERSA","CEG","Comercial","Mensal",50000.01,null,{"$f":"Cálculo!$G$45","v":8.0290999999999997}]
["RJ","Rio de Janeiro","Queimados","AGENERSA","CEG","Industrial","Mensal",0,200,{"$f":"Cálculo!$G$48","v":5.5377999999999998}]
["RJ","Rio de Janeiro","Queimados","AGENERSA","CEG","Industrial","Mensal",200.01,2000,{"$f":"Cálculo!$G$49","v":5.3860999999999999}]
["RJ","Rio de Janeiro","Queimados","AGENERSA","CEG","Industrial","Mensal",2000.01,10000,{"$f":"Cálculo!$G$50","v":5.2949000000000002}]
["RJ","Rio de Janeiro","Queimados","AGENERSA","CEG","Industrial","Mensal",10000.01,50000,{"$f":"Cálculo!$G$51","v":4.7983000000000002}]
["RJ","Rio de Janeiro","Queimados","AGENERSA","CEG","Industrial","Mensal",50000.01,100000,{"$f":"Cálculo!$G$52","v":4.5003000000000002}]
["RJ","Rio de Janeiro","Queimados","AGENERSA","CEG","Industrial","Mensal",100000.01,300000,{"$f":"Cálculo!$G$53","v":4.1826999999999996}]
["RJ","Rio de Janeiro","Queimados","AGENERSA","CEG","Industrial","Mensal",300000.01,600000,{"$f":"Cálculo!$G$54","v":3.8064}]
["RJ","Rio de Janeiro","Queimados","AGENERSA","CEG","Industrial","Mensal",600000.01,1500000,{"$f":"Cálculo!$G$55","v":3.7966000000000002}]
["RJ","Rio de Janeiro","Queimados","AGENERSA","CEG","Industrial","Mensal",1500000.01,3000000,{"$f":"Cálculo!$G$56","v":3.7690999999999999}]
["RJ","Rio de Janeiro","Queimados","AGENERSA","CEG","Industrial","Mensal",3000000.01,null,{"$f":"Cálculo!$G$57","v":3.6758999999999999}]
["RJ","Rio de Janeiro","Queimados","AGENERSA","CEG","GNV","Faixa Única",null,null,{"$f":"Cálculo!$G$60","v":3.5691999999999999}]
["RJ","Rio de Janeiro","Seropédica","AGENERSA","CEG","Residencial","Mensal",0,7,{"$f":"Cálculo!$G$34","v":9.5297000000000001}]
["RJ","Rio de Janeiro","Seropédica","AGENERSA","CEG","Residencial","Mensal",7.01,23,{"$f":"Cálculo!$G$35","v":12.308999999999999}]
["RJ","Rio de Janeiro","Seropédica","AGENERSA","CEG","Residencial","Mensal",23.01,83,{"$f":"Cálculo!$G$36","v":14.8233}]
["RJ","Rio de Janeiro","Seropédica","AGENERSA","CEG","Residencial","Mensal",83.01,null,{"$f":"Cálculo!$G$37","v":15.6203}]
["RJ","Rio de Janeiro","Seropédica","AGENERSA","CEG","Comercial","Mensal",0,200,{"$f":"Cálculo!$G$40","v":9.3140000000000001}]
["RJ","Rio de Janeiro","Seropédica","AGENERSA","CEG","Comercial","Mensal",200.01,500,{"$f":"Cálculo!$G$41","v":9.0565999999999995}]
["RJ","Rio de Janeiro","Seropédica","AGENERSA","CEG","Comercial","Mensal",500.01,2000,{"$f":"Cálculo!$G$42","v":8.7997999999999994}]
["RJ","Rio de Janeiro","Seropédica","AGENERSA","CEG","Comercial","Mensal",2000.01,20000,{"$f":"Cálculo!$G$43","v":8.5432000000000006}]
["RJ","Rio de Janeiro","Seropédica","AGENERSA","CEG","Comercial","Mensal",20000.009999999998,50000,{"$f":"Cálculo!$G$44","v":8.2860999999999994}]
["RJ","Rio de Janeiro","Seropédica","AGENERSA","CEG","Comercial","Mensal",50000.01,null,{"$f":"Cálculo!$G$45","v":8.0290999999999997}]
["RJ","Rio de Janeiro","Seropédica","AGENERSA","CEG","Industrial","Mensal",0,200,{"$f":"Cálculo!$G$48","v":5.5377999999999998}]
["RJ","Rio de Janeiro","Seropédica","AGENERSA","CEG","Industrial","Mensal",200.01,2000,{"$f":"Cálculo!$G$49","v":5.3860999999999999}]
["RJ","Rio de Janeiro","Seropédica","AGENERSA","CEG","Industrial","Mensal",2000.01,10000,{"$f":"Cálculo!$G$50","v":5.2949000000000002}]
["RJ","Rio de Janeiro","Seropédica","AGENERSA","CEG","Industrial","Mensal",10000.01,50000,{"$f":"Cálculo!$G$51","v":4.7983000000000002}]
["RJ","Rio de Janeiro","Seropédica","AGENERSA","CEG","Industrial","Mensal",50000.01,100000,{"$f":"Cálculo!$G$52","v":4.5003000000000002}]
["RJ","Rio de Janeiro","Seropédica","AGENERSA","CEG","Industrial","Mensal",100000.01,300000,{"$f":"Cálculo!$G$53","v":4.1826999999999996}]
["RJ","Rio de Janeiro","Seropédica","AGENERSA","CEG","Industrial","Mensal",300000.01,600000,{"$f":"Cálculo!$G$54","v":3.8064}]
["RJ","Rio de Janeiro","Seropédica","AGENERSA","CEG","Industrial","Mensal",600000.01,1500000,{"$f":"Cálculo!$G$55","v":3.7966000000000002}]
["RJ","Rio de Janeiro","Seropédica","AGENERSA","CEG","Industrial","Mensal",1500000.01,3000000,{"$f":"Cálculo!$G$56","v":3.7690999999999999}]
["RJ","Rio de Janeiro","Seropédica","AGENERSA","CEG","Industrial","Mensal",3000000.01,null,{"$f":"Cálculo!$G$57","v":3.6758999999999999}]
["RJ","Rio de Janeiro","Seropédica","AGENERSA","CEG","GNV","Faixa Única",null,null,{"$f":"Cálculo!$G$60","v":3.5691999999999999}]
["RJ","Rio de Janeiro","São Gonçalo","AGENERSA","CEG","Residencial","Mensal",0,7,{"$f":"Cálculo!$G$34","v":9.5297000000000001}]
["RJ","Rio de Janeiro","São Gonçalo","AGENERSA","CEG","Residencial","Mensal",7.01,23,{"$f":"Cálculo!$G$35","v":12.308999999999999}]
["RJ","Rio de Janeiro","São Gonçalo","AGENERSA","CEG","Residencial","Mensal",23.01,83,{"$f":"Cálculo!$G$36","v":14.8233}]
["RJ","Rio de Janeiro","São Gonçalo","AGENERSA","CEG","Residencial","Mensal",83.01,null,{"$f":"Cálculo!$G$37","v":15.6203}]
["RJ","Rio de Janeiro","São Gonçalo","AGENERSA","CEG","Comercial","Mensal",0,200,{"$f":"Cálculo!$G$40","v":9.3140000000000001}]
["RJ","Rio de Janeiro","São Gonçalo","AGENERSA","CEG","Comercial","Mensal",200.01,500,{"$f":"Cálculo!$G$41","v":9.0565999999999995}]
["RJ","Rio de Janeiro","São Gonçalo","AGENERSA","CEG","Comercial","Mensal",500.01,2000,{"$f":"Cálculo!$G$42","v":8.7997999999999994}]
["RJ","Rio de Janeiro","São Gonçalo","AGENERSA","CEG","Comercial","Mensal",2000.01,20000,{"$f":"Cálculo!$G$43","v":8.5432000000000006}]
["RJ","Rio de Janeiro","São Gonçalo","AGENERSA","CEG","Comercial","Mensal",20000.009999999998,50000,{"$f":"Cálculo!$G$44","v":8.2860999999999994}]
["RJ","Rio de Janeiro","São Gonçalo","AGENERSA","CEG","Comercial","Mensal",50000.01,null,{"$f":"Cálculo!$G$45","v":8.0290999999999997}]
["RJ","Rio de Janeiro","São Gonçalo","AGENERSA","CEG","Industrial","Mensal",0,200,{"$f":"Cálculo!$G$48","v":5.5377999999999998}]
["RJ","Rio de Janeiro","São Gonçalo","AGENERSA","CEG","Industrial","Mensal",200.01,2000,{"$f":"Cálculo!$G$49","v":5.3860999999999999}]
["RJ","Rio de Janeiro","São Gonçalo","AGENERSA","CEG","Industrial","Mensal",2000.01,10000,{"$f":"Cálculo!$G$50","v":5.2949000000000002}]
["RJ","Rio de Janeiro","São Gonçalo","AGENERSA","CEG","Industrial","Mensal",10000.01,50000,{"$f":"Cálculo!$G$51","v":4.7983000000000002}]
["RJ","Rio de Janeiro","São Gonçalo","AGENERSA","CEG","Industrial","Mensal",50000.01,100000,{"$f":"Cálculo!$G$52","v":4.5003000000000002}]
["RJ","Rio de Janeiro","São Gonçalo","AGENERSA","CEG","Industrial","Mensal",100000.01,300000,{"$f":"Cálculo!$G$53","v":4.1826999999999996}]
["RJ","Rio de Janeiro","São Gonçalo","AGENERSA","CEG","Industrial","Mensal",300000.01,600000,{"$f":"Cálculo!$G$54","v":3.8064}]
["RJ","Rio de Janeiro","São Gonçalo","AGENERSA","CEG","Industrial","Mensal",600000.01,1500000,{"$f":"Cálculo!$G$55","v":3.7966000000000002}]
["RJ","Rio de Janeiro","São Gonçalo","AGENERSA","CEG","Industrial","Mensal",1500000.01,3000000,{"$f":"Cálculo!$G$56","v":3.7690999999999999}]
["RJ","Rio de Janeiro","São Gonçalo","AGENERSA","CEG","Industrial","Mensal",3000000.01,null,{"$f":"Cálculo!$G$57","v":3.6758999999999999}]
["RJ","Rio de Janeiro","São Gonçalo","AGENERSA","CEG","GNV","Faixa Única",null,null,{"$f":"Cálculo!$G$60","v":3.5691999999999999}]
["RJ","Rio de Janeiro","São João de Meriti","AGENERSA","CEG","Residencial","Mensal",0,7,{"$f":"Cálculo!$G$34","v":9.5297000000000001}]
["RJ","Rio de Janeiro","São João de Meriti","AGENERSA","CEG","Residencial","Mensal",7.01,23,{"$f":"Cálculo!$G$35","v":12.308999999999999}]
["RJ","Rio de Janeiro","São João de Meriti","AGENERSA","CEG","Residencial","Mensal",23.01,83,{"$f":"Cálculo!$G$36","v":14.8233}]
["RJ","Rio de Janeiro","São João de Meriti","AGENERSA","CEG","Residencial","Mensal",83.01,null,{"$f":"Cálculo!$G$37","v":15.6203}]
["RJ","Rio de Janeiro","São João de Meriti","AGENERSA","CEG","Comercial","Mensal",0,200,{"$f":"Cálculo!$G$40","v":9.3140000000000001}]
["RJ","Rio de Janeiro","São João de Meriti","AGENERSA","CEG","Comercial","Mensal",200.01,500,{"$f":"Cálculo!$G$41","v":9.0565999999999995}]
["RJ","Rio de Janeiro","São João de Meriti","AGENERSA","CEG","Comercial","Mensal",500.01,2000,{"$f":"Cálculo!$G$42","v":8.7997999999999994}]
["RJ","Rio de Janeiro","São João de Meriti","AGENERSA","CEG","Comercial","Mensal",2000.01,20000,{"$f":"Cálculo!$G$43","v":8.5432000000000006}]
["RJ","Rio de Janeiro","São João de Meriti","AGENERSA","CEG","Comercial","Mensal",20000.009999999998,50000,{"$f":"Cálculo!$G$44","v":8.2860999999999994}]
["RJ","Rio de Janeiro","São João de Meriti","AGENERSA","CEG","Comercial","Mensal",50000.01,null,{"$f":"Cálculo!$G$45","v":8.0290999999999997}]
["RJ","Rio de Janeiro","São João de Meriti","AGENERSA","CEG","Industrial","Mensal",0,200,{"$f":"Cálculo!$G$48","v":5.5377999999999998}]
["RJ","Rio de Janeiro","São João de Meriti","AGENERSA","CEG","Industrial","Mensal",200.01,2000,{"$f":"Cálculo!$G$49","v":5.3860999999999999}]
["RJ","Rio de Janeiro","São João de Meriti","AGENERSA","CEG","Industrial","Mensal",2000.01,10000,{"$f":"Cálculo!$G$50","v":5.2949000000000002}]
["RJ","Rio de Janeiro","São João de Meriti","AGENERSA","CEG","Industrial","Mensal",10000.01,50000,{"$f":"Cálculo!$G$51","v":4.7983000000000002}]
["RJ","Rio de Janeiro","São João de Meriti","AGENERSA","CEG","Industrial","Mensal",50000.01,100000,{"$f":"Cálculo!$G$52","v":4.5003000000000002}]
["RJ","Rio de Janeiro","São João de Meriti","AGENERSA","CEG","Industrial","Mensal",100000.01,300000,{"$f":"Cálculo!$G$53","v":4.1826999999999996}]
["RJ","Rio de Janeiro","São João de Meriti","AGENERSA","CEG","Industrial","Mensal",300000.01,600000,{"$f":"Cálculo!$G$54","v":3.8064}]
["RJ","Rio de Janeiro","São João de Meriti","AGENERSA","CEG","Industrial","Mensal",600000.01,1500000,{"$f":"Cálculo!$G$55","v":3.7966000000000002}]
["RJ","Rio de Janeiro","São João de Meriti","AGENERSA","CEG","Industrial","Mensal",1500000.01,3000000,{"$f":"Cálculo!$G$56","v":3.7690999999999999}]
["RJ","Rio de Janeiro","São João de Meriti","AGENERSA","CEG","Industrial","Mensal",3000000.01,null,{"$f":"Cálculo!$G$57","v":3.6758999999999999}]
["RJ","Rio de Janeiro","São João de Meriti","AGENERSA","CEG","GNV","Faixa Única",null,null,{"$f":"Cálculo!$G$60","v":3.5691999999999999}]
["RJ","Rio de Janeiro","Araruama","AGENERSA","CEG RIO","Residencial","Mensal",0,7,{"$f":"Cálculo!$G$3","v":7.2915999999999999}]
["RJ","Rio de Janeiro","Araruama","AGENERSA","CEG RIO","Residencial","Mensal",7.01,23,{"$f":"Cálculo!$G$4","v":9.15}]
["RJ","Rio de Janeiro","Araruama","AGENERSA","CEG RIO","Residencial","Mensal",23.01,83,{"$f":"Cálculo!$G$5","v":10.852499999999999}]
["RJ","Rio de Janeiro","Araruama","AGENERSA","CEG RIO","Residencial","Mensal",83.01,null,{"$f":"Cálculo!$G$6","v":12.052199999999999}]
["RJ","Rio de Janeiro","Araruama","AGENERSA","CEG RIO","Comercial","Mensal",0,200,{"$f":"Cálculo!$G$9","v":6.2965999999999998}]
["RJ","Rio de Janeiro","Araruama","AGENERSA","CEG RIO","Comercial","Mensal",200.01,500,{"$f":"Cálculo!$G$10","v":6.2278000000000002}]
["RJ","Rio de Janeiro","Araruama","AGENERSA","CEG RIO","Comercial","Mensal",500.01,2000,{"$f":"Cálculo!$G$11","v":5.1668000000000003}]
["RJ","Rio de Janeiro","Araruama","AGENERSA","CEG RIO","Comercial","Mensal",2000.01,20000,{"$f":"Cálculo!$G$12","v":5.0536000000000003}]
["RJ","Rio de Janeiro","Araruama","AGENERSA","CEG RIO","Comercial","Mensal",20000.009999999998,50000,{"$f":"Cálculo!$G$13","v":4.9550999999999998}]
["RJ","Rio de Janeiro","Araruama","AGENERSA","CEG RIO","Comercial","Mensal",50000.01,null,{"$f":"Cálculo!$G$14","v":4.8567}]
["RJ","Rio de Janeiro","Araruama","AGENERSA","CEG RIO","Industrial","Mensal",0,200,{"$f":"Cálculo!$G$17","v":5.1243999999999996}]
["RJ","Rio de Janeiro","Araruama","AGENERSA","CEG RIO","Industrial","Mensal",200.01,2000,{"$f":"Cálculo!$G$18","v":2.9883999999999999}]
["RJ","Rio de Janeiro","Araruama","AGENERSA","CEG RIO","Industrial","Mensal",2000.01,10000,{"$f":"Cálculo!$G$19","v":4.9067999999999996}]
["RJ","Rio de Janeiro","Araruama","AGENERSA","CEG RIO","Industrial","Mensal",10000.01,50000,{"$f":"Cálculo!$G$20","v":4.3433999999999999}]
["RJ","Rio de Janeiro","Araruama","AGENERSA","CEG RIO","Industrial","Mensal",50000.01,100000,{"$f":"Cálculo!$G$21","v":4.1002000000000001}]
["RJ","Rio de Janeiro","Araruama","AGENERSA","CEG RIO","Industrial","Mensal",100000.01,300000,{"$f":"Cálculo!$G$22","v":3.8393999999999999}]
["RJ","Rio de Janeiro","Araruama","AGENERSA","CEG RIO","Industrial","Mensal",300000.01,600000,{"$f":"Cálculo!$G$23","v":3.5312000000000001}]
["RJ","Rio de Janeiro","Araruama","AGENERSA","CEG RIO","Industrial","Mensal",600000.01,1500000,{"$f":"Cálculo!$G$24","v":3.5226999999999999}]
["RJ","Rio de Janeiro","Araruama","AGENERSA","CEG RIO","Industrial","Mensal",1500000.01,3000000,{"$f":"Cálculo!$G$25","v":3.4998999999999998}]
["RJ","Rio de Janeiro","Araruama","AGENERSA","CEG RIO","Industrial","Mensal",3000000.01,null,{"$f":"Cálculo!$G$26","v":3.4243000000000001}]
["RJ","Rio de Janeiro","Araruama","AGENERSA","CEG RIO","GNV","Faixa Única",null,null,{"$f":"Cálculo!$G$29","v":3.4365999999999999}]
["RJ","Rio de Janeiro","Arraial do Cabo","AGENERSA","CEG RIO","Residencial","Mensal",0,7,{"$f":"Cálculo!$G$3","v":7.2915999999999999}]
["RJ","Rio de Janeiro","Arraial do Cabo","AGENERSA","CEG RIO","Residencial","Mensal",7.01,23,{"$f":"Cálculo!$G$4","v":9.15}]
["RJ","Rio de Janeiro","Arraial do Cabo","AGENERSA","CEG RIO","Residencial","Mensal",23.01,83,{"$f":"Cálculo!$G$5","v":10.852499999999999}]
["RJ","Rio de Janeiro","Arraial do Cabo","AGENERSA","CEG RIO","Residencial","Mensal",83.01,null,{"$f":"Cálculo!$G$6","v":12.052199999999999}]
["RJ","Rio de Janeiro","Arraial do Cabo","AGENERSA","CEG RIO","Comercial","Mensal",0,200,{"$f":"Cálculo!$G$9","v":6.2965999999999998}]
["RJ","Rio de Janeiro","Arraial do Cabo","AGENERSA","CEG RIO","Comercial","Mensal",200.01,500,{"$f":"Cálculo!$G$10","v":6.2278000000000002}]
["RJ","Rio de Janeiro","Arraial do Cabo","AGENERSA","CEG RIO","Comercial","Mensal",500.01,2000,{"$f":"Cálculo!$G$11","v":5.1668000000000003}]
["RJ","Rio de Janeiro","Arraial do Cabo","AGENERSA","CEG RIO","Comercial","Mensal",2000.01,20000,{"$f":"Cálculo!$G$12","v":5.0536000000000003}]
["RJ","Rio de Janeiro","Arraial do Cabo","AGENERSA","CEG RIO","Comercial","Mensal",20000.009999999998,50000,{"$f":"Cálculo!$G$13","v":4.9550999999999998}]
["RJ","Rio de Janeiro","Arraial do Cabo","AGENERSA","CEG RIO","Comercial","Mensal",50000.01,null,{"$f":"Cálculo!$G$14","v":4.8567}]
["RJ","Rio de Janeiro","Arraial do Cabo","AGENERSA","CEG RIO","Industrial","Mensal",0,200,{"$f":"Cálculo!$G$17","v":5.1243999999999996}]
["RJ","Rio de Janeiro","Arraial do Cabo","AGENERSA","CEG RIO","Industrial","Mensal",200.01,2000,{"$f":"Cálculo!$G$18","v":2.9883999999999999}]
["RJ","Rio de Janeiro","Arraial do Cabo","AGENERSA","CEG RIO","Industrial","Mensal",2000.01,10000,{"$f":"Cálculo!$G$19","v":4.9067999999999996}]
["RJ","Rio de Janeiro","Arraial do Cabo","AGENERSA","CEG RIO","Industrial","Mensal",10000.01,50000,{"$f":"Cálculo!$G$20","v":4.3433999999999999}]
["RJ","Rio de Janeiro","Arraial do Cabo","AGENERSA","CEG RIO","Industrial","Mensal",50000.01,100000,{"$f":"Cálculo!$G$21","v":4.1002000000000001}]
["RJ","Rio de Janeiro","Arraial do Cabo","AGENERSA","CEG RIO","Industrial","Mensal",100000.01,300000,{"$f":"Cálculo!$G$22","v":3.8393999999999999}]
["RJ","Rio de Janeiro","Arraial do Cabo","AGENERSA","CEG RIO","Industrial","Mensal",300000.01,600000,{"$f":"Cálculo!$G$23","v":3.5312000000000001}]
["RJ","Rio de Janeiro","Arraial do Cabo","AGENERSA","CEG RIO","Industrial","Mensal",600000.01,1500000,{"$f":"Cálculo!$G$24","v":3.5226999999999999}]
["RJ","Rio de Janeiro","Arraial do Cabo","AGENERSA","CEG RIO","Industrial","Mensal",1500000.01,3000000,{"$f":"Cálculo!$G$25","v":3.4998999999999998}]
["RJ","Rio de Janeiro","Arraial do Cabo","AGENERSA","CEG RIO","Industrial","Mensal",3000000.01,null,{"$f":"Cálculo!$G$26","v":3.4243000000000001}]
["RJ","Rio de Janeiro","Arraial do Cabo","AGENERSA","CEG RIO","GNV","Faixa Única",null,null,{"$f":"Cálculo!$G$29","v":3.4365999999999999}]
["RJ","Rio de Janeiro","Barra do Piraí","AGENERSA","CEG RIO","Residencial","Mensal",0,7,{"$f":"Cálculo!$G$3","v":7.2915999999999999}]
["RJ","Rio de Janeiro","Barra do Piraí","AGENERSA","CEG RIO","Residencial","Mensal",7.01,23,{"$f":"Cálculo!$G$4","v":9.15}]
["RJ","Rio de Janeiro","Barra do Piraí","AGENERSA","CEG RIO","Residencial","Mensal",23.01,83,{"$f":"Cálculo!$G$5","v":10.852499999999999}]
["RJ","Rio de Janeiro","Barra do Piraí","AGENERSA","CEG RIO","Residencial","Mensal",83.01,null,{"$f":"Cálculo!$G$6","v":12.052199999999999}]
["RJ","Rio de Janeiro","Barra do Piraí","AGENERSA","CEG RIO","Comercial","Mensal",0,200,{"$f":"Cálculo!$G$9","v":6.2965999999999998}]
["RJ","Rio de Janeiro","Barra do Piraí","AGENERSA","CEG RIO","Comercial","Mensal",200.01,500,{"$f":"Cálculo!$G$10","v":6.2278000000000002}]
["RJ","Rio de Janeiro","Barra do Piraí","AGENERSA","CEG RIO","Comercial","Mensal",500.01,2000,{"$f":"Cálculo!$G$11","v":5.1668000000000003}]
["RJ","Rio de Janeiro","Barra do Piraí","AGENERSA","CEG RIO","Comercial","Mensal",2000.01,20000,{"$f":"Cálculo!$G$12","v":5.0536000000000003}]
["RJ","Rio de Janeiro","Barra do Piraí","AGENERSA","CEG RIO","Comercial","Mensal",20000.009999999998,50000,{"$f":"Cálculo!$G$13","v":4.9550999999999998}]
["RJ","Rio de Janeiro","Barra do Piraí","AGENERSA","CEG RIO","Comercial","Mensal",50000.01,null,{"$f":"Cálculo!$G$14","v":4.8567}]
["RJ","Rio de Janeiro","Barra do Piraí","AGENERSA","CEG RIO","Industrial","Mensal",0,200,{"$f":"Cálculo!$G$17","v":5.1243999999999996}]
["RJ","Rio de Janeiro","Barra do Piraí","AGENERSA","CEG RIO","Industrial","Mensal",200.01,2000,{"$f":"Cálculo!$G$18","v":2.9883999999999999}]
["RJ","Rio de Janeiro","Barra do Piraí","AGENERSA","CEG RIO","Industrial","Mensal",2000.01,10000,{"$f":"Cálculo!$G$19","v":4.9067999999999996}]
["RJ","Rio de Janeiro","Barra do Piraí","AGENERSA","CEG RIO","Industrial","Mensal",10000.01,50000,{"$f":"Cálculo!$G$20","v":4.3433999999999999}]
["RJ","Rio de Janeiro","Barra do Piraí","AGENERSA","CEG RIO","Industrial","Mensal",50000.01,100000,{"$f":"Cálculo!$G$21","v":4.1002000000000001}]
["RJ","Rio de Janeiro","Barra do Piraí","AGENERSA","CEG RIO","Industrial","Mensal",100000.01,300000,{"$f":"Cálculo!$G$22","v":3.8393999999999999}]
["RJ","Rio de Janeiro","Barra do Piraí","AGENERSA","CEG RIO","Industrial","Mensal",300000.01,600000,{"$f":"Cálculo!$G$23","v":3.5312000000000001}]
["RJ","Rio de Janeiro","Barra do Piraí","AGENERSA","CEG RIO","Industrial","Mensal",600000.01,1500000,{"$f":"Cálculo!$G$24","v":3.5226999999999999}]
["RJ","Rio de Janeiro","Barra do Piraí","AGENERSA","CEG RIO","Industrial","Mensal",1500000.01,3000000,{"$f":"Cálculo!$G$25","v":3.4998999999999998}]
["RJ","Rio de Janeiro","Barra do Piraí","AGENERSA","CEG RIO","Industrial","Mensal",3000000.01,null,{"$f":"Cálculo!$G$26","v":3.4243000000000001}]
["RJ","Rio de Janeiro","Barra do Piraí","AGENERSA","CEG RIO","GNV","Faixa Única",null,null,{"$f":"Cálculo!$G$29","v":3.4365999999999999}]
["RJ","Rio de Janeiro","Barra Mansa","AGENERSA","CEG RIO","Residencial","Mensal",0,7,{"$f":"Cálculo!$G$3","v":7.2915999999999999}]
["RJ","Rio de Janeiro","Barra Mansa","AGENERSA","CEG RIO","Residencial","Mensal",7.01,23,{"$f":"Cálculo!$G$4","v":9.15}]
["RJ","Rio de Janeiro","Barra Mansa","AGENERSA","CEG RIO","Residencial","Mensal",23.01,83,{"$f":"Cálculo!$G$5","v":10.852499999999999}]
["RJ","Rio de Janeiro","Barra Mansa","AGENERSA","CEG RIO","Residencial","Mensal",83.01,null,{"$f":"Cálculo!$G$6","v":12.052199999999999}]
["RJ","Rio de Janeiro","Barra Mansa","AGENERSA","CEG RIO","Comercial","Mensal",0,200,{"$f":"Cálculo!$G$9","v":6.2965999999999998}]
["RJ","Rio de Janeiro","Barra Mansa","AGENERSA","CEG RIO","Comercial","Mensal",200.01,500,{"$f":"Cálculo!$G$10","v":6.2278000000000002}]
["RJ","Rio de Janeiro","Barra Mansa","AGENERSA","CEG RIO","Comercial","Mensal",500.01,2000,{"$f":"Cálculo!$G$11","v":5.1668000000000003}]
["RJ","Rio de Janeiro","Barra Mansa","AGENERSA","CEG RIO","Comercial","Mensal",2000.01,20000,{"$f":"Cálculo!$G$12","v":5.0536000000000003}]
["RJ","Rio de Janeiro","Barra Mansa","AGENERSA","CEG RIO","Comercial","Mensal",20000.009999999998,50000,{"$f":"Cálculo!$G$13","v":4.9550999999999998}]
["RJ","Rio de Janeiro","Barra Mansa","AGENERSA","CEG RIO","Comercial","Mensal",50000.01,null,{"$f":"Cálculo!$G$14","v":4.8567}]
["RJ","Rio de Janeiro","Barra Mansa","AGENERSA","CEG RIO","Industrial","Mensal",0,200,{"$f":"Cálculo!$G$17","v":5.1243999999999996}]
["RJ","Rio de Janeiro","Barra Mansa","AGENERSA","CEG RIO","Industrial","Mensal",200.01,2000,{"$f":"Cálculo!$G$18","v":2.9883999999999999}]
["RJ","Rio de Janeiro","Barra Mansa","AGENERSA","CEG RIO","Industrial","Mensal",2000.01,10000,{"$f":"Cálculo!$G$19","v":4.9067999999999996}]
["RJ","Rio de Janeiro","Barra Mansa","AGENERSA","CEG RIO","Industrial","Mensal",10000.01,50000,{"$f":"Cálculo!$G$20","v":4.3433999999999999}]
["RJ","Rio de Janeiro","Barra Mansa","AGENERSA","CEG RIO","Industrial","Mensal",50000.01,100000,{"$f":"Cálculo!$G$21","v":4.1002000000000001}]
["RJ","Rio de Janeiro","Barra Mansa","AGENERSA","CEG RIO","Industrial","Mensal",100000.01,300000,{"$f":"Cálculo!$G$22","v":3.8393999999999999}]
["RJ","Rio de Janeiro","Barra Mansa","AGENERSA","CEG RIO","Industrial","Mensal",300000.01,600000,{"$f":"Cálculo!$G$23","v":3.5312000000000001}]
["RJ","Rio de Janeiro","Barra Mansa","AGENERSA","CEG RIO","Industrial","Mensal",600000.01,1500000,{"$f":"Cálculo!$G$24","v":3.5226999999999999}]
["RJ","Rio de Janeiro","Barra Mansa","AGENERSA","CEG RIO","Industrial","Mensal",1500000.01,3000000,{"$f":"Cálculo!$G$25","v":3.4998999999999998}]
["RJ","Rio de Janeiro","Barra Mansa","AGENERSA","CEG RIO","Industrial","Mensal",3000000.01,null,{"$f":"Cálculo!$G$26","v":3.4243000000000001}]
["RJ","Rio de Janeiro","Barra Mansa","AGENERSA","CEG RIO","GNV","Faixa Única",null,null,{"$f":"Cálculo!$G$29","v":3.4365999999999999}]
["RJ","Rio de Janeiro","Cabo Frio","AGENERSA","CEG RIO","Residencial","Mensal",0,7,{"$f":"Cálculo!$G$3","v":7.2915999999999999}]
["RJ","Rio de Janeiro","Cabo Frio","AGENERSA","CEG RIO","Residencial","Mensal",7.01,23,{"$f":"Cálculo!$G$4","v":9.15}]
["RJ","Rio de Janeiro","Cabo Frio","AGENERSA","CEG RIO","Residencial","Mensal",23.01,83,{"$f":"Cálculo!$G$5","v":10.852499999999999}]
["RJ","Rio de Janeiro","Cabo Frio","AGENERSA","CEG RIO","Residencial","Mensal",83.01,null,{"$f":"Cálculo!$G$6","v":12.052199999999999}]
["RJ","Rio de Janeiro","Cabo Frio","AGENERSA","CEG RIO","Comercial","Mensal",0,200,{"$f":"Cálculo!$G$9","v":6.2965999999999998}]
["RJ","Rio de Janeiro","Cabo Frio","AGENERSA","CEG RIO","Comercial","Mensal",200.01,500,{"$f":"Cálculo!$G$10","v":6.2278000000000002}]
["RJ","Rio de Janeiro","Cabo Frio","AGENERSA","CEG RIO","Comercial","Mensal",500.01,2000,{"$f":"Cálculo!$G$11","v":5.1668000000000003}]
["RJ","Rio de Janeiro","Cabo Frio","AGENERSA","CEG RIO","Comercial","Mensal",2000.01,20000,{"$f":"Cálculo!$G$12","v":5.0536000000000003}]
["RJ","Rio de Janeiro","Cabo Frio","AGENERSA","CEG RIO","Comercial","Mensal",20000.009999999998,50000,{"$f":"Cálculo!$G$13","v":4.9550999999999998}]
["RJ","Rio de Janeiro","Cabo Frio","AGENERSA","CEG RIO","Comercial","Mensal",50000.01,null,{"$f":"Cálculo!$G$14","v":4.8567}]
["RJ","Rio de Janeiro","Cabo Frio","AGENERSA","CEG RIO","Industrial","Mensal",0,200,{"$f":"Cálculo!$G$17","v":5.1243999999999996}]
["RJ","Rio de Janeiro","Cabo Frio","AGENERSA","CEG RIO","Industrial","Mensal",200.01,2000,{"$f":"Cálculo!$G$18","v":2.9883999999999999}]
["RJ","Rio de Janeiro","Cabo Frio","AGENERSA","CEG RIO","Industrial","Mensal",2000.01,10000,{"$f":"Cálculo!$G$19","v":4.9067999999999996}]
["RJ","Rio de Janeiro","Cabo Frio","AGENERSA","CEG RIO","Industrial","Mensal",10000.01,50000,{"$f":"Cálculo!$G$20","v":4.3433999999999999}]
["RJ","Rio de Janeiro","Cabo Frio","AGENERSA","CEG RIO","Industrial","Mensal",50000.01,100000,{"$f":"Cálculo!$G$21","v":4.1002000000000001}]
["RJ","Rio de Janeiro","Cabo Frio","AGENERSA","CEG RIO","Industrial","Mensal",100000.01,300000,{"$f":"Cálculo!$G$22","v":3.8393999999999999}]
["RJ","Rio de Janeiro","Cabo Frio","AGENERSA","CEG RIO","Industrial","Mensal",300000.01,600000,{"$f":"Cálculo!$G$23","v":3.5312000000000001}]
["RJ","Rio de Janeiro","Cabo Frio","AGENERSA","CEG RIO","Industrial","Mensal",600000.01,1500000,{"$f":"Cálculo!$G$24","v":3.5226999999999999}]
["RJ","Rio de Janeiro","Cabo Frio","AGENERSA","CEG RIO","Industrial","Mensal",1500000.01,3000000,{"$f":"Cálculo!$G$25","v":3.4998999999999998}]
["RJ","Rio de Janeiro","Cabo Frio","AGENERSA","CEG RIO","Industrial","Mensal",3000000.01,null,{"$f":"Cálculo!$G$26","v":3.4243000000000001}]
["RJ","Rio de Janeiro","Cabo Frio","AGENERSA","CEG RIO","GNV","Faixa Única",null,null,{"$f":"Cálculo!$G$29","v":3.4365999999999999}]
["RJ","Rio de Janeiro","Cachoeira de Macacu","AGENERSA","CEG RIO","Residencial","Mensal",0,7,{"$f":"Cálculo!$G$3","v":7.2915999999999999}]
["RJ","Rio de Janeiro","Cachoeira de Macacu","AGENERSA","CEG RIO","Residencial","Mensal",7.01,23,{"$f":"Cálculo!$G$4","v":9.15}]
["RJ","Rio de Janeiro","Cachoeira de Macacu","AGENERSA","CEG RIO","Residencial","Mensal",23.01,83,{"$f":"Cálculo!$G$5","v":10.852499999999999}]
["RJ","Rio de Janeiro","Cachoeira de Macacu","AGENERSA","CEG RIO","Residencial","Mensal",83.01,null,{"$f":"Cálculo!$G$6","v":12.052199999999999}]
["RJ","Rio de Janeiro","Cachoeira de Macacu","AGENERSA","CEG RIO","Comercial","Mensal",0,200,{"$f":"Cálculo!$G$9","v":6.2965999999999998}]
["RJ","Rio de Janeiro","Cachoeira de Macacu","AGENERSA","CEG RIO","Comercial","Mensal",200.01,500,{"$f":"Cálculo!$G$10","v":6.2278000000000002}]
["RJ","Rio de Janeiro","Cachoeira de Macacu","AGENERSA","CEG RIO","Comercial","Mensal",500.01,2000,{"$f":"Cálculo!$G$11","v":5.1668000000000003}]
["RJ","Rio de Janeiro","Cachoeira de Macacu","AGENERSA","CEG RIO","Comercial","Mensal",2000.01,20000,{"$f":"Cálculo!$G$12","v":5.0536000000000003}]
["RJ","Rio de Janeiro","Cachoeira de Macacu","AGENERSA","CEG RIO","Comercial","Mensal",20000.009999999998,50000,{"$f":"Cálculo!$G$13","v":4.9550999999999998}]
["RJ","Rio de Janeiro","Cachoeira de Macacu","AGENERSA","CEG RIO","Comercial","Mensal",50000.01,null,{"$f":"Cálculo!$G$14","v":4.8567}]
["RJ","Rio de Janeiro","Cachoeira de Macacu","AGENERSA","CEG RIO","Industrial","Mensal",0,200,{"$f":"Cálculo!$G$17","v":5.1243999999999996}]
["RJ","Rio de Janeiro","Cachoeira de Macacu","AGENERSA","CEG RIO","Industrial","Mensal",200.01,2000,{"$f":"Cálculo!$G$18","v":2.9883999999999999}]
["RJ","Rio de Janeiro","Cachoeira de Macacu","AGENERSA","CEG RIO","Industrial","Mensal",2000.01,10000,{"$f":"Cálculo!$G$19","v":4.9067999999999996}]
["RJ","Rio de Janeiro","Cachoeira de Macacu","AGENERSA","CEG RIO","Industrial","Mensal",10000.01,50000,{"$f":"Cálculo!$G$20","v":4.3433999999999999}]
["RJ","Rio de Janeiro","Cachoeira de Macacu","AGENERSA","CEG RIO","Industrial","Mensal",50000.01,100000,{"$f":"Cálculo!$G$21","v":4.1002000000000001}]
["RJ","Rio de Janeiro","Cachoeira de Macacu","AGENERSA","CEG RIO","Industrial","Mensal",100000.01,300000,{"$f":"Cálculo!$G$22","v":3.8393999999999999}]
["RJ","Rio de Janeiro","Cachoeira de Macacu","AGENERSA","CEG RIO","Industrial","Mensal",300000.01,600000,{"$f":"Cálculo!$G$23","v":3.5312000000000001}]
["RJ","Rio de Janeiro","Cachoeira de Macacu","AGENERSA","CEG RIO","Industrial","Mensal",600000.01,1500000,{"$f":"Cálculo!$G$24","v":3.5226999999999999}]
["RJ","Rio de Janeiro","Cachoeira de Macacu","AGENERSA","CEG RIO","Industrial","Mensal",1500000.01,3000000,{"$f":"Cálculo!$G$25","v":3.4998999999999998}]
["RJ","Rio de Janeiro","Cachoeira de Macacu","AGENERSA","CEG RIO","Industrial","Mensal",3000000.01,null,{"$f":"Cálculo!$G$26","v":3.4243000000000001}]
["RJ","Rio de Janeiro","Cachoeira de Macacu","AGENERSA","CEG RIO","GNV","Faixa Única",null,null,{"$f":"Cálculo!$G$29","v":3.4365999999999999}]
["RJ","Rio de Janeiro","Campos dos Goytacazes","AGENERSA","CEG RIO","Residencial","Mensal",0,7,{"$f":"Cálculo!$G$3","v":7.2915999999999999}]
["RJ","Rio de Janeiro","Campos dos Goytacazes","AGENERSA","CEG RIO","Residencial","Mensal",7.01,23,{"$f":"Cálculo!$G$4","v":9.15}]
["RJ","Rio de Janeiro","Campos dos Goytacazes","AGENERSA","CEG RIO","Residencial","Mensal",23.01,83,{"$f":"Cálculo!$G$5","v":10.852499999999999}]
["RJ","Rio de Janeiro","Campos dos Goytacazes","AGENERSA","CEG RIO","Residencial","Mensal",83.01,null,{"$f":"Cálculo!$G$6","v":12.052199999999999}]
["RJ","Rio de Janeiro","Campos dos Goytacazes","AGENERSA","CEG RIO","Comercial","Mensal",0,200,{"$f":"Cálculo!$G$9","v":6.2965999999999998}]
["RJ","Rio de Janeiro","Campos dos Goytacazes","AGENERSA","CEG RIO","Comercial","Mensal",200.01,500,{"$f":"Cálculo!$G$10","v":6.2278000000000002}]
["RJ","Rio de Janeiro","Campos dos Goytacazes","AGENERSA","CEG RIO","Comercial","Mensal",500.01,2000,{"$f":"Cálculo!$G$11","v":5.1668000000000003}]
["RJ","Rio de Janeiro","Campos dos Goytacazes","AGENERSA","CEG RIO","Comercial","Mensal",2000.01,20000,{"$f":"Cálculo!$G$12","v":5.0536000000000003}]
["RJ","Rio de Janeiro","Campos dos Goytacazes","AGENERSA","CEG RIO","Comercial","Mensal",20000.009999999998,50000,{"$f":"Cálculo!$G$13","v":4.9550999999999998}]
["RJ","Rio de Janeiro","Campos dos Goytacazes","AGENERSA","CEG RIO","Comercial","Mensal",50000.01,null,{"$f":"Cálculo!$G$14","v":4.8567}]
["RJ","Rio de Janeiro","Campos dos Goytacazes","AGENERSA","CEG RIO","Industrial","Mensal",0,200,{"$f":"Cálculo!$G$17","v":5.1243999999999996}]
["RJ","Rio de Janeiro","Campos dos Goytacazes","AGENERSA","CEG RIO","Industrial","Mensal",200.01,2000,{"$f":"Cálculo!$G$18","v":2.9883999999999999}]
["RJ","Rio de Janeiro","Campos dos Goytacazes","AGENERSA","CEG RIO","Industrial","Mensal",2000.01,10000,{"$f":"Cálculo!$G$19","v":4.9067999999999996}]
["RJ","Rio de Janeiro","Campos dos Goytacazes","AGENERSA","CEG RIO","Industrial","Mensal",10000.01,50000,{"$f":"Cálculo!$G$20","v":4.3433999999999999}]
["RJ","Rio de Janeiro","Campos dos Goytacazes","AGENERSA","CEG RIO","Industrial","Mensal",50000.01,100000,{"$f":"Cálculo!$G$21","v":4.1002000000000001}]
["RJ","Rio de Janeiro","Campos dos Goytacazes","AGENERSA","CEG RIO","Industrial","Mensal",100000.01,300000,{"$f":"Cálculo!$G$22","v":3.8393999999999999}]
["RJ","Rio de Janeiro","Campos dos Goytacazes","AGENERSA","CEG RIO","Industrial","Mensal",300000.01,600000,{"$f":"Cálculo!$G$23","v":3.5312000000000001}]
["RJ","Rio de Janeiro","Campos dos Goytacazes","AGENERSA","CEG RIO","Industrial","Mensal",600000.01,1500000,{"$f":"Cálculo!$G$24","v":3.5226999999999999}]
["RJ","Rio de Janeiro","Campos dos Goytacazes","AGENERSA","CEG RIO","Industrial","Mensal",1500000.01,3000000,{"$f":"Cálculo!$G$25","v":3.4998999999999998}]
["RJ","Rio de Janeiro","Campos dos Goytacazes","AGENERSA","CEG RIO","Industrial","Mensal",3000000.01,null,{"$f":"Cálculo!$G$26","v":3.4243000000000001}]
["RJ","Rio de Janeiro","Campos dos Goytacazes","AGENERSA","CEG RIO","GNV","Faixa Única",null,null,{"$f":"Cálculo!$G$29","v":3.4365999999999999}]
["RJ","Rio de Janeiro","Carapebus","AGENERSA","CEG RIO","Residencial","Mensal",0,7,{"$f":"Cálculo!$G$3","v":7.2915999999999999}]
["RJ","Rio de Janeiro","Carapebus","AGENERSA","CEG RIO","Residencial","Mensal",7.01,23,{"$f":"Cálculo!$G$4","v":9.15}]
["RJ","Rio de Janeiro","Carapebus","AGENERSA","CEG RIO","Residencial","Mensal",23.01,83,{"$f":"Cálculo!$G$5","v":10.852499999999999}]
["RJ","Rio de Janeiro","Carapebus","AGENERSA","CEG RIO","Residencial","Mensal",83.01,null,{"$f":"Cálculo!$G$6","v":12.052199999999999}]
["RJ","Rio de Janeiro","Carapebus","AGENERSA","CEG RIO","Comercial","Mensal",0,200,{"$f":"Cálculo!$G$9","v":6.2965999999999998}]
["RJ","Rio de Janeiro","Carapebus","AGENERSA","CEG RIO","Comercial","Mensal",200.01,500,{"$f":"Cálculo!$G$10","v":6.2278000000000002}]
["RJ","Rio de Janeiro","Carapebus","AGENERSA","CEG RIO","Comercial","Mensal",500.01,2000,{"$f":"Cálculo!$G$11","v":5.1668000000000003}]
["RJ","Rio de Janeiro","Carapebus","AGENERSA","CEG RIO","Comercial","Mensal",2000.01,20000,{"$f":"Cálculo!$G$12","v":5.0536000000000003}]
["RJ","Rio de Janeiro","Carapebus","AGENERSA","CEG RIO","Comercial","Mensal",20000.009999999998,50000,{"$f":"Cálculo!$G$13","v":4.9550999999999998}]
["RJ","Rio de Janeiro","Carapebus","AGENERSA","CEG RIO","Comercial","Mensal",50000.01,null,{"$f":"Cálculo!$G$14","v":4.8567}]
["RJ","Rio de Janeiro","Carapebus","AGENERSA","CEG RIO","Industrial","Mensal",0,200,{"$f":"Cálculo!$G$17","v":5.1243999999999996}]
["RJ","Rio de Janeiro","Carapebus","AGENERSA","CEG RIO","Industrial","Mensal",200.01,2000,{"$f":"Cálculo!$G$18","v":2.9883999999999999}]
["RJ","Rio de Janeiro","Carapebus","AGENERSA","CEG RIO","Industrial","Mensal",2000.01,10000,{"$f":"Cálculo!$G$19","v":4.9067999999999996}]
["RJ","Rio de Janeiro","Carapebus","AGENERSA","CEG RIO","Industrial","Mensal",10000.01,50000,{"$f":"Cálculo!$G$20","v":4.3433999999999999}]
["RJ","Rio de Janeiro","Carapebus","AGENERSA","CEG RIO","Industrial","Mensal",50000.01,100000,{"$f":"Cálculo!$G$21","v":4.1002000000000001}]
["RJ","Rio de Janeiro","Carapebus","AGENERSA","CEG RIO","Industrial","Mensal",100000.01,300000,{"$f":"Cálculo!$G$22","v":3.8393999999999999}]
["RJ","Rio de Janeiro","Carapebus","AGENERSA","CEG RIO","Industrial","Mensal",300000.01,600000,{"$f":"Cálculo!$G$23","v":3.5312000000000001}]
["RJ","Rio de Janeiro","Carapebus","AGENERSA","CEG RIO","Industrial","Mensal",600000.01,1500000,{"$f":"Cálculo!$G$24","v":3.5226999999999999}]
["RJ","Rio de Janeiro","Carapebus","AGENERSA","CEG RIO","Industrial","Mensal",1500000.01,3000000,{"$f":"Cálculo!$G$25","v":3.4998999999999998}]
["RJ","Rio de Janeiro","Carapebus","AGENERSA","CEG RIO","Industrial","Mensal",3000000.01,null,{"$f":"Cálculo!$G$26","v":3.4243000000000001}]
["RJ","Rio de Janeiro","Carapebus","AGENERSA","CEG RIO","GNV","Faixa Única",null,null,{"$f":"Cálculo!$G$29","v":3.4365999999999999}]
["RJ","Rio de Janeiro","Casimiro de Abreu","AGENERSA","CEG RIO","Residencial","Mensal",0,7,{"$f":"Cálculo!$G$3","v":7.2915999999999999}]
["RJ","Rio de Janeiro","Casimiro de Abreu","AGENERSA","CEG RIO","Residencial","Mensal",7.01,23,{"$f":"Cálculo!$G$4","v":9.15}]
["RJ","Rio de Janeiro","Casimiro de Abreu","AGENERSA","CEG RIO","Residencial","Mensal",23.01,83,{"$f":"Cálculo!$G$5","v":10.852499999999999}]
["RJ","Rio de Janeiro","Casimiro de Abreu","AGENERSA","CEG RIO","Residencial","Mensal",83.01,null,{"$f":"Cálculo!$G$6","v":12.052199999999999}]
["RJ","Rio de Janeiro","Casimiro de Abreu","AGENERSA","CEG RIO","Comercial","Mensal",0,200,{"$f":"Cálculo!$G$9","v":6.2965999999999998}]
["RJ","Rio de Janeiro","Casimiro de Abreu","AGENERSA","CEG RIO","Comercial","Mensal",200.01,500,{"$f":"Cálculo!$G$10","v":6.2278000000000002}]
["RJ","Rio de Janeiro","Casimiro de Abreu","AGENERSA","CEG RIO","Comercial","Mensal",500.01,2000,{"$f":"Cálculo!$G$11","v":5.1668000000000003}]
["RJ","Rio de Janeiro","Casimiro de Abreu","AGENERSA","CEG RIO","Comercial","Mensal",2000.01,20000,{"$f":"Cálculo!$G$12","v":5.0536000000000003}]
["RJ","Rio de Janeiro","Casimiro de Abreu","AGENERSA","CEG RIO","Comercial","Mensal",20000.009999999998,50000,{"$f":"Cálculo!$G$13","v":4.9550999999999998}]
["RJ","Rio de Janeiro","Casimiro de Abreu","AGENERSA","CEG RIO","Comercial","Mensal",50000.01,null,{"$f":"Cálculo!$G$14","v":4.8567}]
["RJ","Rio de Janeiro","Casimiro de Abreu","AGENERSA","CEG RIO","Industrial","Mensal",0,200,{"$f":"Cálculo!$G$17","v":5.1243999999999996}]
["RJ","Rio de Janeiro","Casimiro de Abreu","AGENERSA","CEG RIO","Industrial","Mensal",200.01,2000,{"$f":"Cálculo!$G$18","v":2.9883999999999999}]
["RJ","Rio de Janeiro","Casimiro de Abreu","AGENERSA","CEG RIO","Industrial","Mensal",2000.01,10000,{"$f":"Cálculo!$G$19","v":4.9067999999999996}]
["RJ","Rio de Janeiro","Casimiro de Abreu","AGENERSA","CEG RIO","Industrial","Mensal",10000.01,50000,{"$f":"Cálculo!$G$20","v":4.3433999999999999}]
["RJ","Rio de Janeiro","Casimiro de Abreu","AGENERSA","CEG RIO","Industrial","Mensal",50000.01,100000,{"$f":"Cálculo!$G$21","v":4.1002000000000001}]
["RJ","Rio de Janeiro","Casimiro de Abreu","AGENERSA","CEG RIO","Industrial","Mensal",100000.01,300000,{"$f":"Cálculo!$G$22","v":3.8393999999999999}]
["RJ","Rio de Janeiro","Casimiro de Abreu","AGENERSA","CEG RIO","Industrial","Mensal",300000.01,600000,{"$f":"Cálculo!$G$23","v":3.5312000000000001}]
["RJ","Rio de Janeiro","Casimiro de Abreu","AGENERSA","CEG RIO","Industrial","Mensal",600000.01,1500000,{"$f":"Cálculo!$G$24","v":3.5226999999999999}]
["RJ","Rio de Janeiro","Casimiro de Abreu","AGENERSA","CEG RIO","Industrial","Mensal",1500000.01,3000000,{"$f":"Cálculo!$G$25","v":3.4998999999999998}]
["RJ","Rio de Janeiro","Casimiro de Abreu","AGENERSA","CEG RIO","Industrial","Mensal",3000000.01,null,{"$f":"Cálculo!$G$26","v":3.4243000000000001}]
["RJ","Rio de Janeiro","Casimiro de Abreu","AGENERSA","CEG RIO","GNV","Faixa Única",null,null,{"$f":"Cálculo!$G$29","v":3.4365999999999999}]
["RJ","Rio de Janeiro","Engenheiro Paulo de Frontin","AGENERSA","CEG RIO","Residencial","Mensal",0,7,{"$f":"Cálculo!$G$3","v":7.2915999999999999}]
["RJ","Rio de Janeiro","Engenheiro Paulo de Frontin","AGENERSA","CEG RIO","Residencial","Mensal",7.01,23,{"$f":"Cálculo!$G$4","v":9.15}]
["RJ","Rio de Janeiro","Engenheiro Paulo de Frontin","AGENERSA","CEG RIO","Residencial","Mensal",23.01,83,{"$f":"Cálculo!$G$5","v":10.852499999999999}]
["RJ","Rio de Janeiro","Engenheiro Paulo de Frontin","AGENERSA","CEG RIO","Residencial","Mensal",83.01,null,{"$f":"Cálculo!$G$6","v":12.052199999999999}]
["RJ","Rio de Janeiro","Engenheiro Paulo de Frontin","AGENERSA","CEG RIO","Comercial","Mensal",0,200,{"$f":"Cálculo!$G$9","v":6.2965999999999998}]
["RJ","Rio de Janeiro","Engenheiro Paulo de Frontin","AGENERSA","CEG RIO","Comercial","Mensal",200.01,500,{"$f":"Cálculo!$G$10","v":6.2278000000000002}]
["RJ","Rio de Janeiro","Engenheiro Paulo de Frontin","AGENERSA","CEG RIO","Comercial","Mensal",500.01,2000,{"$f":"Cálculo!$G$11","v":5.1668000000000003}]
["RJ","Rio de Janeiro","Engenheiro Paulo de Frontin","AGENERSA","CEG RIO","Comercial","Mensal",2000.01,20000,{"$f":"Cálculo!$G$12","v":5.0536000000000003}]
["RJ","Rio de Janeiro","Engenheiro Paulo de Frontin","AGENERSA","CEG RIO","Comercial","Mensal",20000.009999999998,50000,{"$f":"Cálculo!$G$13","v":4.9550999999999998}]
["RJ","Rio de Janeiro","Engenheiro Paulo de Frontin","AGENERSA","CEG RIO","Comercial","Mensal",50000.01,null,{"$f":"Cálculo!$G$14","v":4.8567}]
["RJ","Rio de Janeiro","Engenheiro Paulo de Frontin","AGENERSA","CEG RIO","Industrial","Mensal",0,200,{"$f":"Cálculo!$G$17","v":5.1243999999999996}]
["RJ","Rio de Janeiro","Engenheiro Paulo de Frontin","AGENERSA","CEG RIO","Industrial","Mensal",200.01,2000,{"$f":"Cálculo!$G$18","v":2.9883999999999999}]
["RJ","Rio de Janeiro","Engenheiro Paulo de Frontin","AGENERSA","CEG RIO","Industrial","Mensal",2000.01,10000,{"$f":"Cálculo!$G$19","v":4.9067999999999996}]
["RJ","Rio de Janeiro","Engenheiro Paulo de Frontin","AGENERSA","CEG RIO","Industrial","Mensal",10000.01,50000,{"$f":"Cálculo!$G$20","v":4.3433999999999999}]
["RJ","Rio de Janeiro","Engenheiro Paulo de Frontin","AGENERSA","CEG RIO","Industrial","Mensal",50000.01,100000,{"$f":"Cálculo!$G$21","v":4.1002000000000001}]
["RJ","Rio de Janeiro","Engenheiro Paulo de Frontin","AGENERSA","CEG RIO","Industrial","Mensal",100000.01,300000,{"$f":"Cálculo!$G$22","v":3.8393999999999999}]
["RJ","Rio de Janeiro","Engenheiro Paulo de Frontin","AGENERSA","CEG RIO","Industrial","Mensal",300000.01,600000,{"$f":"Cálculo!$G$23","v":3.5312000000000001}]
["RJ","Rio de Janeiro","Engenheiro Paulo de Frontin","AGENERSA","CEG RIO","Industrial","Mensal",600000.01,1500000,{"$f":"Cálculo!$G$24","v":3.5226999999999999}]
["RJ","Rio de Janeiro","Engenheiro Paulo de Frontin","AGENERSA","CEG RIO","Industrial","Mensal",1500000.01,3000000,{"$f":"Cálculo!$G$25","v":3.4998999999999998}]
["RJ","Rio de Janeiro","Engenheiro Paulo de Frontin","AGENERSA","CEG RIO","Industrial","Mensal",3000000.01,null,{"$f":"Cálculo!$G$26","v":3.4243000000000001}]
["RJ","Rio de Janeiro","Engenheiro Paulo de Frontin","AGENERSA","CEG RIO","GNV","Faixa Única",null,null,{"$f":"Cálculo!$G$29","v":3.4365999999999999}]
["RJ","Rio de Janeiro","Iguaba Grande","AGENERSA","CEG RIO","Residencial","Mensal",0,7,{"$f":"Cálculo!$G$3","v":7.2915999999999999}]
["RJ","Rio de Janeiro","Iguaba Grande","AGENERSA","CEG RIO","Residencial","Mensal",7.01,23,{"$f":"Cálculo!$G$4","v":9.15}]
["RJ","Rio de Janeiro","Iguaba Grande","AGENERSA","CEG RIO","Residencial","Mensal",23.01,83,{"$f":"Cálculo!$G$5","v":10.852499999999999}]
["RJ","Rio de Janeiro","Iguaba Grande","AGENERSA","CEG RIO","Residencial","Mensal",83.01,null,{"$f":"Cálculo!$G$6","v":12.052199999999999}]
["RJ","Rio de Janeiro","Iguaba Grande","AGENERSA","CEG RIO","Comercial","Mensal",0,200,{"$f":"Cálculo!$G$9","v":6.2965999999999998}]
["RJ","Rio de Janeiro","Iguaba Grande","AGENERSA","CEG RIO","Comercial","Mensal",200.01,500,{"$f":"Cálculo!$G$10","v":6.2278000000000002}]
["RJ","Rio de Janeiro","Iguaba Grande","AGENERSA","CEG RIO","Comercial","Mensal",500.01,2000,{"$f":"Cálculo!$G$11","v":5.1668000000000003}]
["RJ","Rio de Janeiro","Iguaba Grande","AGENERSA","CEG RIO","Comercial","Mensal",2000.01,20000,{"$f":"Cálculo!$G$12","v":5.0536000000000003}]
["RJ","Rio de Janeiro","Iguaba Grande","AGENERSA","CEG RIO","Comercial","Mensal",20000.009999999998,50000,{"$f":"Cálculo!$G$13","v":4.9550999999999998}]
["RJ","Rio de Janeiro","Iguaba Grande","AGENERSA","CEG RIO","Comercial","Mensal",50000.01,null,{"$f":"Cálculo!$G$14","v":4.8567}]
["RJ","Rio de Janeiro","Iguaba Grande","AGENERSA","CEG RIO","Industrial","Mensal",0,200,{"$f":"Cálculo!$G$17","v":5.1243999999999996}]
["RJ","Rio de Janeiro","Iguaba Grande","AGENERSA","CEG RIO","Industrial","Mensal",200.01,2000,{"$f":"Cálculo!$G$18","v":2.9883999999999999}]
["RJ","Rio de Janeiro","Iguaba Grande","AGENERSA","CEG RIO","Industrial","Mensal",2000.01,10000,{"$f":"Cálculo!$G$19","v":4.9067999999999996}]
["RJ","Rio de Janeiro","Iguaba Grande","AGENERSA","CEG RIO","Industrial","Mensal",10000.01,50000,{"$f":"Cálculo!$G$20","v":4.3433999999999999}]
["RJ","Rio de Janeiro","Iguaba Grande","AGENERSA","CEG RIO","Industrial","Mensal",50000.01,100000,{"$f":"Cálculo!$G$21","v":4.1002000000000001}]
["RJ","Rio de Janeiro","Iguaba Grande","AGENERSA","CEG RIO","Industrial","Mensal",100000.01,300000,{"$f":"Cálculo!$G$22","v":3.8393999999999999}]
["RJ","Rio de Janeiro","Iguaba Grande","AGENERSA","CEG RIO","Industrial","Mensal",300000.01,600000,{"$f":"Cálculo!$G$23","v":3.5312000000000001}]
["RJ","Rio de Janeiro","Iguaba Grande","AGENERSA","CEG RIO","Industrial","Mensal",600000.01,1500000,{"$f":"Cálculo!$G$24","v":3.5226999999999999}]
["RJ","Rio de Janeiro","Iguaba Grande","AGENERSA","CEG RIO","Industrial","Mensal",1500000.01,3000000,{"$f":"Cálculo!$G$25","v":3.4998999999999998}]
["RJ","Rio de Janeiro","Iguaba Grande","AGENERSA","CEG RIO","Industrial","Mensal",3000000.01,null,{"$f":"Cálculo!$G$26","v":3.4243000000000001}]
["RJ","Rio de Janeiro","Iguaba Grande","AGENERSA","CEG RIO","GNV","Faixa Única",null,null,{"$f":"Cálculo!$G$29","v":3.4365999999999999}]
["RJ","Rio de Janeiro","Itaipava","AGENERSA","CEG RIO","Residencial","Mensal",0,7,{"$f":"Cálculo!$G$3","v":7.2915999999999999}]
["RJ","Rio de Janeiro","Itaipava","AGENERSA","CEG RIO","Residencial","Mensal",7.01,23,{"$f":"Cálculo!$G$4","v":9.15}]
["RJ","Rio de Janeiro","Itaipava","AGENERSA","CEG RIO","Residencial","Mensal",23.01,83,{"$f":"Cálculo!$G$5","v":10.852499999999999}]
["RJ","Rio de Janeiro","Itaipava","AGENERSA","CEG RIO","Residencial","Mensal",83.01,null,{"$f":"Cálculo!$G$6","v":12.052199999999999}]
["RJ","Rio de Janeiro","Itaipava","AGENERSA","CEG RIO","Comercial","Mensal",0,200,{"$f":"Cálculo!$G$9","v":6.2965999999999998}]
["RJ","Rio de Janeiro","Itaipava","AGENERSA","CEG RIO","Comercial","Mensal",200.01,500,{"$f":"Cálculo!$G$10","v":6.2278000000000002}]
["RJ","Rio de Janeiro","Itaipava","AGENERSA","CEG RIO","Comercial","Mensal",500.01,2000,{"$f":"Cálculo!$G$11","v":5.1668000000000003}]
["RJ","Rio de Janeiro","Itaipava","AGENERSA","CEG RIO","Comercial","Mensal",2000.01,20000,{"$f":"Cálculo!$G$12","v":5.0536000000000003}]
["RJ","Rio de Janeiro","Itaipava","AGENERSA","CEG RIO","Comercial","Mensal",20000.009999999998,50000,{"$f":"Cálculo!$G$13","v":4.9550999999999998}]
["RJ","Rio de Janeiro","Itaipava","AGENERSA","CEG RIO","Comercial","Mensal",50000.01,null,{"$f":"Cálculo!$G$14","v":4.8567}]
["RJ","Rio de Janeiro","Itaipava","AGENERSA","CEG RIO","Industrial","Mensal",0,200,{"$f":"Cálculo!$G$17","v":5.1243999999999996}]
["RJ","Rio de Janeiro","Itaipava","AGENERSA","CEG RIO","Industrial","Mensal",200.01,2000,{"$f":"Cálculo!$G$18","v":2.9883999999999999}]
["RJ","Rio de Janeiro","Itaipava","AGENERSA","CEG RIO","Industrial","Mensal",2000.01,10000,{"$f":"Cálculo!$G$19","v":4.9067999999999996}]
["RJ","Rio de Janeiro","Itaipava","AGENERSA","CEG RIO","Industrial","Mensal",10000.01,50000,{"$f":"Cálculo!$G$20","v":4.3433999999999999}]
["RJ","Rio de Janeiro","Itaipava","AGENERSA","CEG RIO","Industrial","Mensal",50000.01,100000,{"$f":"Cálculo!$G$21","v":4.1002000000000001}]
["RJ","Rio de Janeiro","Itaipava","AGENERSA","CEG RIO","Industrial","Mensal",100000.01,300000,{"$f":"Cálculo!$G$22","v":3.8393999999999999}]
["RJ","Rio de Janeiro","Itaipava","AGENERSA","CEG RIO","Industrial","Mensal",300000.01,600000,{"$f":"Cálculo!$G$23","v":3.5312000000000001}]
["RJ","Rio de Janeiro","Itaipava","AGENERSA","CEG RIO","Industrial","Mensal",600000.01,1500000,{"$f":"Cálculo!$G$24","v":3.5226999999999999}]
["RJ","Rio de Janeiro","Itaipava","AGENERSA","CEG RIO","Industrial","Mensal",1500000.01,3000000,{"$f":"Cálculo!$G$25","v":3.4998999999999998}]
["RJ","Rio de Janeiro","Itaipava","AGENERSA","CEG RIO","Industrial","Mensal",3000000.01,null,{"$f":"Cálculo!$G$26","v":3.4243000000000001}]
["RJ","Rio de Janeiro","Itaipava","AGENERSA","CEG RIO","GNV","Faixa Única",null,null,{"$f":"Cálculo!$G$29","v":3.4365999999999999}]
["RJ","Rio de Janeiro","Itaperuna","AGENERSA","CEG RIO","Residencial","Mensal",0,7,{"$f":"Cálculo!$G$3","v":7.2915999999999999}]
["RJ","Rio de Janeiro","Itaperuna","AGENERSA","CEG RIO","Residencial","Mensal",7.01,23,{"$f":"Cálculo!$G$4","v":9.15}]
["RJ","Rio de Janeiro","Itaperuna","AGENERSA","CEG RIO","Residencial","Mensal",23.01,83,{"$f":"Cálculo!$G$5","v":10.852499999999999}]
["RJ","Rio de Janeiro","Itaperuna","AGENERSA","CEG RIO","Residencial","Mensal",83.01,null,{"$f":"Cálculo!$G$6","v":12.052199999999999}]
["RJ","Rio de Janeiro","Itaperuna","AGENERSA","CEG RIO","Comercial","Mensal",0,200,{"$f":"Cálculo!$G$9","v":6.2965999999999998}]
["RJ","Rio de Janeiro","Itaperuna","AGENERSA","CEG RIO","Comercial","Mensal",200.01,500,{"$f":"Cálculo!$G$10","v":6.2278000000000002}]
["RJ","Rio de Janeiro","Itaperuna","AGENERSA","CEG RIO","Comercial","Mensal",500.01,2000,{"$f":"Cálculo!$G$11","v":5.1668000000000003}]
["RJ","Rio de Janeiro","Itaperuna","AGENERSA","CEG RIO","Comercial","Mensal",2000.01,20000,{"$f":"Cálculo!$G$12","v":5.0536000000000003}]
["RJ","Rio de Janeiro","Itaperuna","AGENERSA","CEG RIO","Comercial","Mensal",20000.009999999998,50000,{"$f":"Cálculo!$G$13","v":4.9550999999999998}]
["RJ","Rio de Janeiro","Itaperuna","AGENERSA","CEG RIO","Comercial","Mensal",50000.01,null,{"$f":"Cálculo!$G$14","v":4.8567}]
["RJ","Rio de Janeiro","Itaperuna","AGENERSA","CEG RIO","Industrial","Mensal",0,200,{"$f":"Cálculo!$G$17","v":5.1243999999999996}]
["RJ","Rio de Janeiro","Itaperuna","AGENERSA","CEG RIO","Industrial","Mensal",200.01,2000,{"$f":"Cálculo!$G$18","v":2.9883999999999999}]
["RJ","Rio de Janeiro","Itaperuna","AGENERSA","CEG RIO","Industrial","Mensal",2000.01,10000,{"$f":"Cálculo!$G$19","v":4.9067999999999996}]
["RJ","Rio de Janeiro","Itaperuna","AGENERSA","CEG RIO","Industrial","Mensal",10000.01,50000,{"$f":"Cálculo!$G$20","v":4.3433999999999999}]
["RJ","Rio de Janeiro","Itaperuna","AGENERSA","CEG RIO","Industrial","Mensal",50000.01,100000,{"$f":"Cálculo!$G$21","v":4.1002000000000001}]
["RJ","Rio de Janeiro","Itaperuna","AGENERSA","CEG RIO","Industrial","Mensal",100000.01,300000,{"$f":"Cálculo!$G$22","v":3.8393999999999999}]
["RJ","Rio de Janeiro","Itaperuna","AGENERSA","CEG RIO","Industrial","Mensal",300000.01,600000,{"$f":"Cálculo!$G$23","v":3.5312000000000001}]
["RJ","Rio de Janeiro","Itaperuna","AGENERSA","CEG RIO","Industrial","Mensal",600000.01,1500000,{"$f":"Cálculo!$G$24","v":3.5226999999999999}]
["RJ","Rio de Janeiro","Itaperuna","AGENERSA","CEG RIO","Industrial","Mensal",1500000.01,3000000,{"$f":"Cálculo!$G$25","v":3.4998999999999998}]
["RJ","Rio de Janeiro","Itaperuna","AGENERSA","CEG RIO","Industrial","Mensal",3000000.01,null,{"$f":"Cálculo!$G$26","v":3.4243000000000001}]
["RJ","Rio de Janeiro","Itaperuna","AGENERSA","CEG RIO","GNV","Faixa Única",null,null,{"$f":"Cálculo!$G$29","v":3.4365999999999999}]
["RJ","Rio de Janeiro","Itatiaia","AGENERSA","CEG RIO","Residencial","Mensal",0,7,{"$f":"Cálculo!$G$3","v":7.2915999999999999}]
["RJ","Rio de Janeiro","Itatiaia","AGENERSA","CEG RIO","Residencial","Mensal",7.01,23,{"$f":"Cálculo!$G$4","v":9.15}]
["RJ","Rio de Janeiro","Itatiaia","AGENERSA","CEG RIO","Residencial","Mensal",23.01,83,{"$f":"Cálculo!$G$5","v":10.852499999999999}]
["RJ","Rio de Janeiro","Itatiaia","AGENERSA","CEG RIO","Residencial","Mensal",83.01,null,{"$f":"Cálculo!$G$6","v":12.052199999999999}]
["RJ","Rio de Janeiro","Itatiaia","AGENERSA","CEG RIO","Comercial","Mensal",0,200,{"$f":"Cálculo!$G$9","v":6.2965999999999998}]
["RJ","Rio de Janeiro","Itatiaia","AGENERSA","CEG RIO","Comercial","Mensal",200.01,500,{"$f":"Cálculo!$G$10","v":6.2278000000000002}]
["RJ","Rio de Janeiro","Itatiaia","AGENERSA","CEG RIO","Comercial","Mensal",500.01,2000,{"$f":"Cálculo!$G$11","v":5.1668000000000003}]
["RJ","Rio de Janeiro","Itatiaia","AGENERSA","CEG RIO","Comercial","Mensal",2000.01,20000,{"$f":"Cálculo!$G$12","v":5.0536000000000003}]
["RJ","Rio de Janeiro","Itatiaia","AGENERSA","CEG RIO","Comercial","Mensal",20000.009999999998,50000,{"$f":"Cálculo!$G$13","v":4.9550999999999998}]
["RJ","Rio de Janeiro","Itatiaia","AGENERSA","CEG RIO","Comercial","Mensal",50000.01,null,{"$f":"Cálculo!$G$14","v":4.8567}]
["RJ","Rio de Janeiro","Itatiaia","AGENERSA","CEG RIO","Industrial","Mensal",0,200,{"$f":"Cálculo!$G$17","v":5.1243999999999996}]
["RJ","Rio de Janeiro","Itatiaia","AGENERSA","CEG RIO","Industrial","Mensal",200.01,2000,{"$f":"Cálculo!$G$18","v":2.9883999999999999}]
["RJ","Rio de Janeiro","Itatiaia","AGENERSA","CEG RIO","Industrial","Mensal",2000.01,10000,{"$f":"Cálculo!$G$19","v":4.9067999999999996}]
["RJ","Rio de Janeiro","Itatiaia","AGENERSA","CEG RIO","Industrial","Mensal",10000.01,50000,{"$f":"Cálculo!$G$20","v":4.3433999999999999}]
["RJ","Rio de Janeiro","Itatiaia","AGENERSA","CEG RIO","Industrial","Mensal",50000.01,100000,{"$f":"Cálculo!$G$21","v":4.1002000000000001}]
["RJ","Rio de Janeiro","Itatiaia","AGENERSA","CEG RIO","Industrial","Mensal",100000.01,300000,{"$f":"Cálculo!$G$22","v":3.8393999999999999}]
["RJ","Rio de Janeiro","Itatiaia","AGENERSA","CEG RIO","Industrial","Mensal",300000.01,600000,{"$f":"Cálculo!$G$23","v":3.5312000000000001}]
["RJ","Rio de Janeiro","Itatiaia","AGENERSA","CEG RIO","Industrial","Mensal",600000.01,1500000,{"$f":"Cálculo!$G$24","v":3.5226999999999999}]
["RJ","Rio de Janeiro","Itatiaia","AGENERSA","CEG RIO","Industrial","Mensal",1500000.01,3000000,{"$f":"Cálculo!$G$25","v":3.4998999999999998}]
["RJ","Rio de Janeiro","Itatiaia","AGENERSA","CEG RIO","Industrial","Mensal",3000000.01,null,{"$f":"Cálculo!$G$26","v":3.4243000000000001}]
["RJ","Rio de Janeiro","Itatiaia","AGENERSA","CEG RIO","GNV","Faixa Única",null,null,{"$f":"Cálculo!$G$29","v":3.4365999999999999}]
["RJ","Rio de Janeiro","Macaé","AGENERSA","CEG RIO","Residencial","Mensal",0,7,{"$f":"Cálculo!$G$3","v":7.2915999999999999}]
["RJ","Rio de Janeiro","Macaé","AGENERSA","CEG RIO","Residencial","Mensal",7.01,23,{"$f":"Cálculo!$G$4","v":9.15}]
["RJ","Rio de Janeiro","Macaé","AGENERSA","CEG RIO","Residencial","Mensal",23.01,83,{"$f":"Cálculo!$G$5","v":10.852499999999999}]
["RJ","Rio de Janeiro","Macaé","AGENERSA","CEG RIO","Residencial","Mensal",83.01,null,{"$f":"Cálculo!$G$6","v":12.052199999999999}]
["RJ","Rio de Janeiro","Macaé","AGENERSA","CEG RIO","Comercial","Mensal",0,200,{"$f":"Cálculo!$G$9","v":6.2965999999999998}]
["RJ","Rio de Janeiro","Macaé","AGENERSA","CEG RIO","Comercial","Mensal",200.01,500,{"$f":"Cálculo!$G$10","v":6.2278000000000002}]
["RJ","Rio de Janeiro","Macaé","AGENERSA","CEG RIO","Comercial","Mensal",500.01,2000,{"$f":"Cálculo!$G$11","v":5.1668000000000003}]
["RJ","Rio de Janeiro","Macaé","AGENERSA","CEG RIO","Comercial","Mensal",2000.01,20000,{"$f":"Cálculo!$G$12","v":5.0536000000000003}]
["RJ","Rio de Janeiro","Macaé","AGENERSA","CEG RIO","Comercial","Mensal",20000.009999999998,50000,{"$f":"Cálculo!$G$13","v":4.9550999999999998}]
["RJ","Rio de Janeiro","Macaé","AGENERSA","CEG RIO","Comercial","Mensal",50000.01,null,{"$f":"Cálculo!$G$14","v":4.8567}]
["RJ","Rio de Janeiro","Macaé","AGENERSA","CEG RIO","Industrial","Mensal",0,200,{"$f":"Cálculo!$G$17","v":5.1243999999999996}]
["RJ","Rio de Janeiro","Macaé","AGENERSA","CEG RIO","Industrial","Mensal",200.01,2000,{"$f":"Cálculo!$G$18","v":2.9883999999999999}]
["RJ","Rio de Janeiro","Macaé","AGENERSA","CEG RIO","Industrial","Mensal",2000.01,10000,{"$f":"Cálculo!$G$19","v":4.9067999999999996}]
["RJ","Rio de Janeiro","Macaé","AGENERSA","CEG RIO","Industrial","Mensal",10000.01,50000,{"$f":"Cálculo!$G$20","v":4.3433999999999999}]
["RJ","Rio de Janeiro","Macaé","AGENERSA","CEG RIO","Industrial","Mensal",50000.01,100000,{"$f":"Cálculo!$G$21","v":4.1002000000000001}]
["RJ","Rio de Janeiro","Macaé","AGENERSA","CEG RIO","Industrial","Mensal",100000.01,300000,{"$f":"Cálculo!$G$22","v":3.8393999999999999}]
["RJ","Rio de Janeiro","Macaé","AGENERSA","CEG RIO","Industrial","Mensal",300000.01,600000,{"$f":"Cálculo!$G$23","v":3.5312000000000001}]
["RJ","Rio de Janeiro","Macaé","AGENERSA","CEG RIO","Industrial","Mensal",600000.01,1500000,{"$f":"Cálculo!$G$24","v":3.5226999999999999}]
["RJ","Rio de Janeiro","Macaé","AGENERSA","CEG RIO","Industrial","Mensal",1500000.01,3000000,{"$f":"Cálculo!$G$25","v":3.4998999999999998}]
["RJ","Rio de Janeiro","Macaé","AGENERSA","CEG RIO","Industrial","Mensal",3000000.01,null,{"$f":"Cálculo!$G$26","v":3.4243000000000001}]
["RJ","Rio de Janeiro","Macaé","AGENERSA","CEG RIO","GNV","Faixa Única",null,null,{"$f":"Cálculo!$G$29","v":3.4365999999999999}]
["RJ","Rio de Janeiro","Nova Friburgo","AGENERSA","CEG RIO","Residencial","Mensal",0,7,{"$f":"Cálculo!$G$3","v":7.2915999999999999}]
["RJ","Rio de Janeiro","Nova Friburgo","AGENERSA","CEG RIO","Residencial","Mensal",7.01,23,{"$f":"Cálculo!$G$4","v":9.15}]
["RJ","Rio de Janeiro","Nova Friburgo","AGENERSA","CEG RIO","Residencial","Mensal",23.01,83,{"$f":"Cálculo!$G$5","v":10.852499999999999}]
["RJ","Rio de Janeiro","Nova Friburgo","AGENERSA","CEG RIO","Residencial","Mensal",83.01,null,{"$f":"Cálculo!$G$6","v":12.052199999999999}]
["RJ","Rio de Janeiro","Nova Friburgo","AGENERSA","CEG RIO","Comercial","Mensal",0,200,{"$f":"Cálculo!$G$9","v":6.2965999999999998}]
["RJ","Rio de Janeiro","Nova Friburgo","AGENERSA","CEG RIO","Comercial","Mensal",200.01,500,{"$f":"Cálculo!$G$10","v":6.2278000000000002}]
["RJ","Rio de Janeiro","Nova Friburgo","AGENERSA","CEG RIO","Comercial","Mensal",500.01,2000,{"$f":"Cálculo!$G$11","v":5.1668000000000003}]
["RJ","Rio de Janeiro","Nova Friburgo","AGENERSA","CEG RIO","Comercial","Mensal",2000.01,20000,{"$f":"Cálculo!$G$12","v":5.0536000000000003}]
["RJ","Rio de Janeiro","Nova Friburgo","AGENERSA","CEG RIO","Comercial","Mensal",20000.009999999998,50000,{"$f":"Cálculo!$G$13","v":4.9550999999999998}]
["RJ","Rio de Janeiro","Nova Friburgo","AGENERSA","CEG RIO","Comercial","Mensal",50000.01,null,{"$f":"Cálculo!$G$14","v":4.8567}]
["RJ","Rio de Janeiro","Nova Friburgo","AGENERSA","CEG RIO","Industrial","Mensal",0,200,{"$f":"Cálculo!$G$17","v":5.1243999999999996}]
["RJ","Rio de Janeiro","Nova Friburgo","AGENERSA","CEG RIO","Industrial","Mensal",200.01,2000,{"$f":"Cálculo!$G$18","v":2.9883999999999999}]
["RJ","Rio de Janeiro","Nova Friburgo","AGENERSA","CEG RIO","Industrial","Mensal",2000.01,10000,{"$f":"Cálculo!$G$19","v":4.9067999999999996}]
["RJ","Rio de Janeiro","Nova Friburgo","AGENERSA","CEG RIO","Industrial","Mensal",10000.01,50000,{"$f":"Cálculo!$G$20","v":4.3433999999999999}]
["RJ","Rio de Janeiro","Nova Friburgo","AGENERSA","CEG RIO","Industrial","Mensal",50000.01,100000,{"$f":"Cálculo!$G$21","v":4.1002000000000001}]
["RJ","Rio de Janeiro","Nova Friburgo","AGENERSA","CEG RIO","Industrial","Mensal",100000.01,300000,{"$f":"Cálculo!$G$22","v":3.8393999999999999}]
["RJ","Rio de Janeiro","Nova Friburgo","AGENERSA","CEG RIO","Industrial","Mensal",300000.01,600000,{"$f":"Cálculo!$G$23","v":3.5312000000000001}]
["RJ","Rio de Janeiro","Nova Friburgo","AGENERSA","CEG RIO","Industrial","Mensal",600000.01,1500000,{"$f":"Cálculo!$G$24","v":3.5226999999999999}]
["RJ","Rio de Janeiro","Nova Friburgo","AGENERSA","CEG RIO","Industrial","Mensal",1500000.01,3000000,{"$f":"Cálculo!$G$25","v":3.4998999999999998}]
["RJ","Rio de Janeiro","Nova Friburgo","AGENERSA","CEG RIO","Industrial","Mensal",3000000.01,null,{"$f":"Cálculo!$G$26","v":3.4243000000000001}]
["RJ","Rio de Janeiro","Nova Friburgo","AGENERSA","CEG RIO","GNV","Faixa Única",null,null,{"$f":"Cálculo!$G$29","v":3.4365999999999999}]
["RJ","Rio de Janeiro","Paraíba do Sul","AGENERSA","CEG RIO","Residencial","Mensal",0,7,{"$f":"Cálculo!$G$3","v":7.2915999999999999}]
["RJ","Rio de Janeiro","Paraíba do Sul","AGENERSA","CEG RIO","Residencial","Mensal",7.01,23,{"$f":"Cálculo!$G$4","v":9.15}]
["RJ","Rio de Janeiro","Paraíba do Sul","AGENERSA","CEG RIO","Residencial","Mensal",23.01,83,{"$f":"Cálculo!$G$5","v":10.852499999999999}]
["RJ","Rio de Janeiro","Paraíba do Sul","AGENERSA","CEG RIO","Residencial","Mensal",83.01,null,{"$f":"Cálculo!$G$6","v":12.052199999999999}]
["RJ","Rio de Janeiro","Paraíba do Sul","AGENERSA","CEG RIO","Comercial","Mensal",0,200,{"$f":"Cálculo!$G$9","v":6.2965999999999998}]
["RJ","Rio de Janeiro","Paraíba do Sul","AGENERSA","CEG RIO","Comercial","Mensal",200.01,500,{"$f":"Cálculo!$G$10","v":6.2278000000000002}]
["RJ","Rio de Janeiro","Paraíba do Sul","AGENERSA","CEG RIO","Comercial","Mensal",500.01,2000,{"$f":"Cálculo!$G$11","v":5.1668000000000003}]
["RJ","Rio de Janeiro","Paraíba do Sul","AGENERSA","CEG RIO","Comercial","Mensal",2000.01,20000,{"$f":"Cálculo!$G$12","v":5.0536000000000003}]
["RJ","Rio de Janeiro","Paraíba do Sul","AGENERSA","CEG RIO","Comercial","Mensal",20000.009999999998,50000,{"$f":"Cálculo!$G$13","v":4.9550999999999998}]
["RJ","Rio de Janeiro","Paraíba do Sul","AGENERSA","CEG RIO","Comercial","Mensal",50000.01,null,{"$f":"Cálculo!$G$14","v":4.8567}]
["RJ","Rio de Janeiro","Paraíba do Sul","AGENERSA","CEG RIO","Industrial","Mensal",0,200,{"$f":"Cálculo!$G$17","v":5.1243999999999996}]
["RJ","Rio de Janeiro","Paraíba do Sul","AGENERSA","CEG RIO","Industrial","Mensal",200.01,2000,{"$f":"Cálculo!$G$18","v":2.9883999999999999}]
["RJ","Rio de Janeiro","Paraíba do Sul","AGENERSA","CEG RIO","Industrial","Mensal",2000.01,10000,{"$f":"Cálculo!$G$19","v":4.9067999999999996}]
["RJ","Rio de Janeiro","Paraíba do Sul","AGENERSA","CEG RIO","Industrial","Mensal",10000.01,50000,{"$f":"Cálculo!$G$20","v":4.3433999999999999}]
["RJ","Rio de Janeiro","Paraíba do Sul","AGENERSA","CEG RIO","Industrial","Mensal",50000.01,100000,{"$f":"Cálculo!$G$21","v":4.1002000000000001}]
["RJ","Rio de Janeiro","Paraíba do Sul","AGENERSA","CEG RIO","Industrial","Mensal",100000.01,300000,{"$f":"Cálculo!$G$22","v":3.8393999999999999}]
["RJ","Rio de Janeiro","Paraíba do Sul","AGENERSA","CEG RIO","Industrial","Mensal",300000.01,600000,{"$f":"Cálculo!$G$23","v":3.5312000000000001}]
["RJ","Rio de Janeiro","Paraíba do Sul","AGENERSA","CEG RIO","Industrial","Mensal",600000.01,1500000,{"$f":"Cálculo!$G$24","v":3.5226999999999999}]
["RJ","Rio de Janeiro","Paraíba do Sul","AGENERSA","CEG RIO","Industrial","Mensal",1500000.01,3000000,{"$f":"Cálculo!$G$25","v":3.4998999999999998}]
["RJ","Rio de Janeiro","Paraíba do Sul","AGENERSA","CEG RIO","Industrial","Mensal",3000000.01,null,{"$f":"Cálculo!$G$26","v":3.4243000000000001}]
["RJ","Rio de Janeiro","Paraíba do Sul","AGENERSA","CEG RIO","GNV","Faixa Única",null,null,{"$f":"Cálculo!$G$29","v":3.4365999999999999}]
["RJ","Rio de Janeiro","Paty do Alferes","AGENERSA","CEG RIO","Residencial","Mensal",0,7,{"$f":"Cálculo!$G$3","v":7.2915999999999999}]
["RJ","Rio de Janeiro","Paty do Alferes","AGENERSA","CEG RIO","Residencial","Mensal",7.01,23,{"$f":"Cálculo!$G$4","v":9.15}]
["RJ","Rio de Janeiro","Paty do Alferes","AGENERSA","CEG RIO","Residencial","Mensal",23.01,83,{"$f":"Cálculo!$G$5","v":10.852499999999999}]
["RJ","Rio de Janeiro","Paty do Alferes","AGENERSA","CEG RIO","Residencial","Mensal",83.01,null,{"$f":"Cálculo!$G$6","v":12.052199999999999}]
["RJ","Rio de Janeiro","Paty do Alferes","AGENERSA","CEG RIO","Comercial","Mensal",0,200,{"$f":"Cálculo!$G$9","v":6.2965999999999998}]
["RJ","Rio de Janeiro","Paty do Alferes","AGENERSA","CEG RIO","Comercial","Mensal",200.01,500,{"$f":"Cálculo!$G$10","v":6.2278000000000002}]
["RJ","Rio de Janeiro","Paty do Alferes","AGENERSA","CEG RIO","Comercial","Mensal",500.01,2000,{"$f":"Cálculo!$G$11","v":5.1668000000000003}]
["RJ","Rio de Janeiro","Paty do Alferes","AGENERSA","CEG RIO","Comercial","Mensal",2000.01,20000,{"$f":"Cálculo!$G$12","v":5.0536000000000003}]
["RJ","Rio de Janeiro","Paty do Alferes","AGENERSA","CEG RIO","Comercial","Mensal",20000.009999999998,50000,{"$f":"Cálculo!$G$13","v":4.9550999999999998}]
["RJ","Rio de Janeiro","Paty do Alferes","AGENERSA","CEG RIO","Comercial","Mensal",50000.01,null,{"$f":"Cálculo!$G$14","v":4.8567}]
["RJ","Rio de Janeiro","Paty do Alferes","AGENERSA","CEG RIO","Industrial","Mensal",0,200,{"$f":"Cálculo!$G$17","v":5.1243999999999996}]
["RJ","Rio de Janeiro","Paty do Alferes","AGENERSA","CEG RIO","Industrial","Mensal",200.01,2000,{"$f":"Cálculo!$G$18","v":2.9883999999999999}]
["RJ","Rio de Janeiro","Paty do Alferes","AGENERSA","CEG RIO","Industrial","Mensal",2000.01,10000,{"$f":"Cálculo!$G$19","v":4.9067999999999996}]
["RJ","Rio de Janeiro","Paty do Alferes","AGENERSA","CEG RIO","Industrial","Mensal",10000.01,50000,{"$f":"Cálculo!$G$20","v":4.3433999999999999}]
["RJ","Rio de Janeiro","Paty do Alferes","AGENERSA","CEG RIO","Industrial","Mensal",50000.01,100000,{"$f":"Cálculo!$G$21","v":4.1002000000000001}]
["RJ","Rio de Janeiro","Paty do Alferes","AGENERSA","CEG RIO","Industrial","Mensal",100000.01,300000,{"$f":"Cálculo!$G$22","v":3.8393999999999999}]
["RJ","Rio de Janeiro","Paty do Alferes","AGENERSA","CEG RIO","Industrial","Mensal",300000.01,600000,{"$f":"Cálculo!$G$23","v":3.5312000000000001}]
["RJ","Rio de Janeiro","Paty do Alferes","AGENERSA","CEG RIO","Industrial","Mensal",600000.01,1500000,{"$f":"Cálculo!$G$24","v":3.5226999999999999}]
["RJ","Rio de Janeiro","Paty do Alferes","AGENERSA","CEG RIO","Industrial","Mensal",1500000.01,3000000,{"$f":"Cálculo!$G$25","v":3.4998999999999998}]
["RJ","Rio de Janeiro","Paty do Alferes","AGENERSA","CEG RIO","Industrial","Mensal",3000000.01,null,{"$f":"Cálculo!$G$26","v":3.4243000000000001}]
["RJ","Rio de Janeiro","Paty do Alferes","AGENERSA","CEG RIO","GNV","Faixa Única",null,null,{"$f":"Cálculo!$G$29","v":3.4365999999999999}]
["RJ","Rio de Janeiro","Petrópolis","AGENERSA","CEG RIO","Residencial","Mensal",0,7,{"$f":"Cálculo!$G$3","v":7.2915999999999999}]
["RJ","Rio de Janeiro","Petrópolis","AGENERSA","CEG RIO","Residencial","Mensal",7.01,23,{"$f":"Cálculo!$G$4","v":9.15}]
["RJ","Rio de Janeiro","Petrópolis","AGENERSA","CEG RIO","Residencial","Mensal",23.01,83,{"$f":"Cálculo!$G$5","v":10.852499999999999}]
["RJ","Rio de Janeiro","Petrópolis","AGENERSA","CEG RIO","Residencial","Mensal",83.01,null,{"$f":"Cálculo!$G$6","v":12.052199999999999}]
["RJ","Rio de Janeiro","Petrópolis","AGENERSA","CEG RIO","Comercial","Mensal",0,200,{"$f":"Cálculo!$G$9","v":6.2965999999999998}]
["RJ","Rio de Janeiro","Petrópolis","AGENERSA","CEG RIO","Comercial","Mensal",200.01,500,{"$f":"Cálculo!$G$10","v":6.2278000000000002}]
["RJ","Rio de Janeiro","Petrópolis","AGENERSA","CEG RIO","Comercial","Mensal",500.01,2000,{"$f":"Cálculo!$G$11","v":5.1668000000000003}]
["RJ","Rio de Janeiro","Petrópolis","AGENERSA","CEG RIO","Comercial","Mensal",2000.01,20000,{"$f":"Cálculo!$G$12","v":5.0536000000000003}]
["RJ","Rio de Janeiro","Petrópolis","AGENERSA","CEG RIO","Comercial","Mensal",20000.009999999998,50000,{"$f":"Cálculo!$G$13","v":4.9550999999999998}]
["RJ","Rio de Janeiro","Petrópolis","AGENERSA","CEG RIO","Comercial","Mensal",50000.01,null,{"$f":"Cálculo!$G$14","v":4.8567}]
["RJ","Rio de Janeiro","Petrópolis","AGENERSA","CEG RIO","Industrial","Mensal",0,200,{"$f":"Cálculo!$G$17","v":5.1243999999999996}]
["RJ","Rio de Janeiro","Petrópolis","AGENERSA","CEG RIO","Industrial","Mensal",200.01,2000,{"$f":"Cálculo!$G$18","v":2.9883999999999999}]
["RJ","Rio de Janeiro","Petrópolis","AGENERSA","CEG RIO","Industrial","Mensal",2000.01,10000,{"$f":"Cálculo!$G$19","v":4.9067999999999996}]
["RJ","Rio de Janeiro","Petrópolis","AGENERSA","CEG RIO","Industrial","Mensal",10000.01,50000,{"$f":"Cálculo!$G$20","v":4.3433999999999999}]
["RJ","Rio de Janeiro","Petrópolis","AGENERSA","CEG RIO","Industrial","Mensal",50000.01,100000,{"$f":"Cálculo!$G$21","v":4.1002000000000001}]
["RJ","Rio de Janeiro","Petrópolis","AGENERSA","CEG RIO","Industrial","Mensal",100000.01,300000,{"$f":"Cálculo!$G$22","v":3.8393999999999999}]
["RJ","Rio de Janeiro","Petrópolis","AGENERSA","CEG RIO","Industrial","Mensal",300000.01,600000,{"$f":"Cálculo!$G$23","v":3.5312000000000001}]
["RJ","Rio de Janeiro","Petrópolis","AGENERSA","CEG RIO","Industrial","Mensal",600000.01,1500000,{"$f":"Cálculo!$G$24","v":3.5226999999999999}]
["RJ","Rio de Janeiro","Petrópolis","AGENERSA","CEG RIO","Industrial","Mensal",1500000.01,3000000,{"$f":"Cálculo!$G$25","v":3.4998999999999998}]
["RJ","Rio de Janeiro","Petrópolis","AGENERSA","CEG RIO","Industrial","Mensal",3000000.01,null,{"$f":"Cálculo!$G$26","v":3.4243000000000001}]
["RJ","Rio de Janeiro","Petrópolis","AGENERSA","CEG RIO","GNV","Faixa Única",null,null,{"$f":"Cálculo!$G$29","v":3.4365999999999999}]
["RJ","Rio de Janeiro","Piraí","AGENERSA","CEG RIO","Residencial","Mensal",0,7,{"$f":"Cálculo!$G$3","v":7.2915999999999999}]
["RJ","Rio de Janeiro","Piraí","AGENERSA","CEG RIO","Residencial","Mensal",7.01,23,{"$f":"Cálculo!$G$4","v":9.15}]
["RJ","Rio de Janeiro","Piraí","AGENERSA","CEG RIO","Residencial","Mensal",23.01,83,{"$f":"Cálculo!$G$5","v":10.852499999999999}]
["RJ","Rio de Janeiro","Piraí","AGENERSA","CEG RIO","Residencial","Mensal",83.01,null,{"$f":"Cálculo!$G$6","v":12.052199999999999}]
["RJ","Rio de Janeiro","Piraí","AGENERSA","CEG RIO","Comercial","Mensal",0,200,{"$f":"Cálculo!$G$9","v":6.2965999999999998}]
["RJ","Rio de Janeiro","Piraí","AGENERSA","CEG RIO","Comercial","Mensal",200.01,500,{"$f":"Cálculo!$G$10","v":6.2278000000000002}]
["RJ","Rio de Janeiro","Piraí","AGENERSA","CEG RIO","Comercial","Mensal",500.01,2000,{"$f":"Cálculo!$G$11","v":5.1668000000000003}]
["RJ","Rio de Janeiro","Piraí","AGENERSA","CEG RIO","Comercial","Mensal",2000.01,20000,{"$f":"Cálculo!$G$12","v":5.0536000000000003}]
["RJ","Rio de Janeiro","Piraí","AGENERSA","CEG RIO","Comercial","Mensal",20000.009999999998,50000,{"$f":"Cálculo!$G$13","v":4.9550999999999998}]
["RJ","Rio de Janeiro","Piraí","AGENERSA","CEG RIO","Comercial","Mensal",50000.01,null,{"$f":"Cálculo!$G$14","v":4.8567}]
["RJ","Rio de Janeiro","Piraí","AGENERSA","CEG RIO","Industrial","Mensal",0,200,{"$f":"Cálculo!$G$17","v":5.1243999999999996}]
["RJ","Rio de Janeiro","Piraí","AGENERSA","CEG RIO","Industrial","Mensal",200.01,2000,{"$f":"Cálculo!$G$18","v":2.9883999999999999}]
["RJ","Rio de Janeiro","Piraí","AGENERSA","CEG RIO","Industrial","Mensal",2000.01,10000,{"$f":"Cálculo!$G$19","v":4.9067999999999996}]
["RJ","Rio de Janeiro","Piraí","AGENERSA","CEG RIO","Industrial","Mensal",10000.01,50000,{"$f":"Cálculo!$G$20","v":4.3433999999999999}]
["RJ","Rio de Janeiro","Piraí","AGENERSA","CEG RIO","Industrial","Mensal",50000.01,100000,{"$f":"Cálculo!$G$21","v":4.1002000000000001}]
["RJ","Rio de Janeiro","Piraí","AGENERSA","CEG RIO","Industrial","Mensal",100000.01,300000,{"$f":"Cálculo!$G$22","v":3.8393999999999999}]
["RJ","Rio de Janeiro","Piraí","AGENERSA","CEG RIO","Industrial","Mensal",300000.01,600000,{"$f":"Cálculo!$G$23","v":3.5312000000000001}]
["RJ","Rio de Janeiro","Piraí","AGENERSA","CEG RIO","Industrial","Mensal",600000.01,1500000,{"$f":"Cálculo!$G$24","v":3.5226999999999999}]
["RJ","Rio de Janeiro","Piraí","AGENERSA","CEG RIO","Industrial","Mensal",1500000.01,3000000,{"$f":"Cálculo!$G$25","v":3.4998999999999998}]
["RJ","Rio de Janeiro","Piraí","AGENERSA","CEG RIO","Industrial","Mensal",3000000.01,null,{"$f":"Cálculo!$G$26","v":3.4243000000000001}]
["RJ","Rio de Janeiro","Piraí","AGENERSA","CEG RIO","GNV","Faixa Única",null,null,{"$f":"Cálculo!$G$29","v":3.4365999999999999}]
["RJ","Rio de Janeiro","Porto Real","AGENERSA","CEG RIO","Residencial","Mensal",0,7,{"$f":"Cálculo!$G$3","v":7.2915999999999999}]
["RJ","Rio de Janeiro","Porto Real","AGENERSA","CEG RIO","Residencial","Mensal",7.01,23,{"$f":"Cálculo!$G$4","v":9.15}]
["RJ","Rio de Janeiro","Porto Real","AGENERSA","CEG RIO","Residencial","Mensal",23.01,83,{"$f":"Cálculo!$G$5","v":10.852499999999999}]
["RJ","Rio de Janeiro","Porto Real","AGENERSA","CEG RIO","Residencial","Mensal",83.01,null,{"$f":"Cálculo!$G$6","v":12.052199999999999}]
["RJ","Rio de Janeiro","Porto Real","AGENERSA","CEG RIO","Comercial","Mensal",0,200,{"$f":"Cálculo!$G$9","v":6.2965999999999998}]
["RJ","Rio de Janeiro","Porto Real","AGENERSA","CEG RIO","Comercial","Mensal",200.01,500,{"$f":"Cálculo!$G$10","v":6.2278000000000002}]
["RJ","Rio de Janeiro","Porto Real","AGENERSA","CEG RIO","Comercial","Mensal",500.01,2000,{"$f":"Cálculo!$G$11","v":5.1668000000000003}]
["RJ","Rio de Janeiro","Porto Real","AGENERSA","CEG RIO","Comercial","Mensal",2000.01,20000,{"$f":"Cálculo!$G$12","v":5.0536000000000003}]
["RJ","Rio de Janeiro","Porto Real","AGENERSA","CEG RIO","Comercial","Mensal",20000.009999999998,50000,{"$f":"Cálculo!$G$13","v":4.9550999999999998}]
["RJ","Rio de Janeiro","Porto Real","AGENERSA","CEG RIO","Comercial","Mensal",50000.01,null,{"$f":"Cálculo!$G$14","v":4.8567}]
["RJ","Rio de Janeiro","Porto Real","AGENERSA","CEG RIO","Industrial","Mensal",0,200,{"$f":"Cálculo!$G$17","v":5.1243999999999996}]
["RJ","Rio de Janeiro","Porto Real","AGENERSA","CEG RIO","Industrial","Mensal",200.01,2000,{"$f":"Cálculo!$G$18","v":2.9883999999999999}]
["RJ","Rio de Janeiro","Porto Real","AGENERSA","CEG RIO","Industrial","Mensal",2000.01,10000,{"$f":"Cálculo!$G$19","v":4.9067999999999996}]
["RJ","Rio de Janeiro","Porto Real","AGENERSA","CEG RIO","Industrial","Mensal",10000.01,50000,{"$f":"Cálculo!$G$20","v":4.3433999999999999}]
["RJ","Rio de Janeiro","Porto Real","AGENERSA","CEG RIO","Industrial","Mensal",50000.01,100000,{"$f":"Cálculo!$G$21","v":4.1002000000000001}]
["RJ","Rio de Janeiro","Porto Real","AGENERSA","CEG RIO","Industrial","Mensal",100000.01,300000,{"$f":"Cálculo!$G$22","v":3.8393999999999999}]
["RJ","Rio de Janeiro","Porto Real","AGENERSA","CEG RIO","Industrial","Mensal",300000.01,600000,{"$f":"Cálculo!$G$23","v":3.5312000000000001}]
["RJ","Rio de Janeiro","Porto Real","AGENERSA","CEG RIO","Industrial","Mensal",600000.01,1500000,{"$f":"Cálculo!$G$24","v":3.5226999999999999}]
["RJ","Rio de Janeiro","Porto Real","AGENERSA","CEG RIO","Industrial","Mensal",1500000.01,3000000,{"$f":"Cálculo!$G$25","v":3.4998999999999998}]
["RJ","Rio de Janeiro","Porto Real","AGENERSA","CEG RIO","Industrial","Mensal",3000000.01,null,{"$f":"Cálculo!$G$26","v":3.4243000000000001}]
["RJ","Rio de Janeiro","Porto Real","AGENERSA","CEG RIO","GNV","Faixa Única",null,null,{"$f":"Cálculo!$G$29","v":3.4365999999999999}]
["RJ","Rio de Janeiro","Quissamã","AGENERSA","CEG RIO","Residencial","Mensal",0,7,{"$f":"Cálculo!$G$3","v":7.2915999999999999}]
["RJ","Rio de Janeiro","Quissamã","AGENERSA","CEG RIO","Residencial","Mensal",7.01,23,{"$f":"Cálculo!$G$4","v":9.15}]
["RJ","Rio de Janeiro","Quissamã","AGENERSA","CEG RIO","Residencial","Mensal",23.01,83,{"$f":"Cálculo!$G$5","v":10.852499999999999}]
["RJ","Rio de Janeiro","Quissamã","AGENERSA","CEG RIO","Residencial","Mensal",83.01,null,{"$f":"Cálculo!$G$6","v":12.052199999999999}]
["RJ","Rio de Janeiro","Quissamã","AGENERSA","CEG RIO","Comercial","Mensal",0,200,{"$f":"Cálculo!$G$9","v":6.2965999999999998}]
["RJ","Rio de Janeiro","Quissamã","AGENERSA","CEG RIO","Comercial","Mensal",200.01,500,{"$f":"Cálculo!$G$10","v":6.2278000000000002}]
["RJ","Rio de Janeiro","Quissamã","AGENERSA","CEG RIO","Comercial","Mensal",500.01,2000,{"$f":"Cálculo!$G$11","v":5.1668000000000003}]
["RJ","Rio de Janeiro","Quissamã","AGENERSA","CEG RIO","Comercial","Mensal",2000.01,20000,{"$f":"Cálculo!$G$12","v":5.0536000000000003}]
["RJ","Rio de Janeiro","Quissamã","AGENERSA","CEG RIO","Comercial","Mensal",20000.009999999998,50000,{"$f":"Cálculo!$G$13","v":4.9550999999999998}]
["RJ","Rio de Janeiro","Quissamã","AGENERSA","CEG RIO","Comercial","Mensal",50000.01,null,{"$f":"Cálculo!$G$14","v":4.8567}]
["RJ","Rio de Janeiro","Quissamã","AGENERSA","CEG RIO","Industrial","Mensal",0,200,{"$f":"Cálculo!$G$17","v":5.1243999999999996}]
["RJ","Rio de Janeiro","Quissamã","AGENERSA","CEG RIO","Industrial","Mensal",200.01,2000,{"$f":"Cálculo!$G$18","v":2.9883999999999999}]
["RJ","Rio de Janeiro","Quissamã","AGENERSA","CEG RIO","Industrial","Mensal",2000.01,10000,{"$f":"Cálculo!$G$19","v":4.9067999999999996}]
["RJ","Rio de Janeiro","Quissamã","AGENERSA","CEG RIO","Industrial","Mensal",10000.01,50000,{"$f":"Cálculo!$G$20","v":4.3433999999999999}]
["RJ","Rio de Janeiro","Quissamã","AGENERSA","CEG RIO","Industrial","Mensal",50000.01,100000,{"$f":"Cálculo!$G$21","v":4.1002000000000001}]
["RJ","Rio de Janeiro","Quissamã","AGENERSA","CEG RIO","Industrial","Mensal",100000.01,300000,{"$f":"Cálculo!$G$22","v":3.8393999999999999}]
["RJ","Rio de Janeiro","Quissamã","AGENERSA","CEG RIO","Industrial","Mensal",300000.01,600000,{"$f":"Cálculo!$G$23","v":3.5312000000000001}]
["RJ","Rio de Janeiro","Quissamã","AGENERSA","CEG RIO","Industrial","Mensal",600000.01,1500000,{"$f":"Cálculo!$G$24","v":3.5226999999999999}]
["RJ","Rio de Janeiro","Quissamã","AGENERSA","CEG RIO","Industrial","Mensal",1500000.01,3000000,{"$f":"Cálculo!$G$25","v":3.4998999999999998}]
["RJ","Rio de Janeiro","Quissamã","AGENERSA","CEG RIO","Industrial","Mensal",3000000.01,null,{"$f":"Cálculo!$G$26","v":3.4243000000000001}]
["RJ","Rio de Janeiro","Quissamã","AGENERSA","CEG RIO","GNV","Faixa Única",null,null,{"$f":"Cálculo!$G$29","v":3.4365999999999999}]
["RJ","Rio de Janeiro","Resende","AGENERSA","CEG RIO","Residencial","Mensal",0,7,{"$f":"Cálculo!$G$3","v":7.2915999999999999}]
["RJ","Rio de Janeiro","Resende","AGENERSA","CEG RIO","Residencial","Mensal",7.01,23,{"$f":"Cálculo!$G$4","v":9.15}]
["RJ","Rio de Janeiro","Resende","AGENERSA","CEG RIO","Residencial","Mensal",23.01,83,{"$f":"Cálculo!$G$5","v":10.852499999999999}]
["RJ","Rio de Janeiro","Resende","AGENERSA","CEG RIO","Residencial","Mensal",83.01,null,{"$f":"Cálculo!$G$6","v":12.052199999999999}]
["RJ","Rio de Janeiro","Resende","AGENERSA","CEG RIO","Comercial","Mensal",0,200,{"$f":"Cálculo!$G$9","v":6.2965999999999998}]
["RJ","Rio de Janeiro","Resende","AGENERSA","CEG RIO","Comercial","Mensal",200.01,500,{"$f":"Cálculo!$G$10","v":6.2278000000000002}]
["RJ","Rio de Janeiro","Resende","AGENERSA","CEG RIO","Comercial","Mensal",500.01,2000,{"$f":"Cálculo!$G$11","v":5.1668000000000003}]
["RJ","Rio de Janeiro","Resende","AGENERSA","CEG RIO","Comercial","Mensal",2000.01,20000,{"$f":"Cálculo!$G$12","v":5.0536000000000003}]
["RJ","Rio de Janeiro","Resende","AGENERSA","CEG RIO","Comercial","Mensal",20000.009999999998,50000,{"$f":"Cálculo!$G$13","v":4.9550999999999998}]
["RJ","Rio de Janeiro","Resende","AGENERSA","CEG RIO","Comercial","Mensal",50000.01,null,{"$f":"Cálculo!$G$14","v":4.8567}]
["RJ","Rio de Janeiro","Resende","AGENERSA","CEG RIO","Industrial","Mensal",0,200,{"$f":"Cálculo!$G$17","v":5.1243999999999996}]
["RJ","Rio de Janeiro","Resende","AGENERSA","CEG RIO","Industrial","Mensal",200.01,2000,{"$f":"Cálculo!$G$18","v":2.9883999999999999}]
["RJ","Rio de Janeiro","Resende","AGENERSA","CEG RIO","Industrial","Mensal",2000.01,10000,{"$f":"Cálculo!$G$19","v":4.9067999999999996}]
["RJ","Rio de Janeiro","Resende","AGENERSA","CEG RIO","Industrial","Mensal",10000.01,50000,{"$f":"Cálculo!$G$20","v":4.3433999999999999}]
["RJ","Rio de Janeiro","Resende","AGENERSA","CEG RIO","Industrial","Mensal",50000.01,100000,{"$f":"Cálculo!$G$21","v":4.1002000000000001}]
["RJ","Rio de Janeiro","Resende","AGENERSA","CEG RIO","Industrial","Mensal",100000.01,300000,{"$f":"Cálculo!$G$22","v":3.8393999999999999}]
["RJ","Rio de Janeiro","Resende","AGENERSA","CEG RIO","Industrial","Mensal",300000.01,600000,{"$f":"Cálculo!$G$23","v":3.5312000000000001}]
["RJ","Rio de Janeiro","Resende","AGENERSA","CEG RIO","Industrial","Mensal",600000.01,1500000,{"$f":"Cálculo!$G$24","v":3.5226999999999999}]
["RJ","Rio de Janeiro","Resende","AGENERSA","CEG RIO","Industrial","Mensal",1500000.01,3000000,{"$f":"Cálculo!$G$25","v":3.4998999999999998}]
["RJ","Rio de Janeiro","Resende","AGENERSA","CEG RIO","Industrial","Mensal",3000000.01,null,{"$f":"Cálculo!$G$26","v":3.4243000000000001}]
["RJ","Rio de Janeiro","Resende","AGENERSA","CEG RIO","GNV","Faixa Única",null,null,{"$f":"Cálculo!$G$29","v":3.4365999999999999}]
["RJ","Rio de Janeiro","Rio Bonito","AGENERSA","CEG RIO","Residencial","Mensal",0,7,{"$f":"Cálculo!$G$3","v":7.2915999999999999}]
["RJ","Rio de Janeiro","Rio Bonito","AGENERSA","CEG RIO","Residencial","Mensal",7.01,23,{"$f":"Cálculo!$G$4","v":9.15}]
["RJ","Rio de Janeiro","Rio Bonito","AGENERSA","CEG RIO","Residencial","Mensal",23.01,83,{"$f":"Cálculo!$G$5","v":10.852499999999999}]
["RJ","Rio de Janeiro","Rio Bonito","AGENERSA","CEG RIO","Residencial","Mensal",83.01,null,{"$f":"Cálculo!$G$6","v":12.052199999999999}]
["RJ","Rio de Janeiro","Rio Bonito","AGENERSA","CEG RIO","Comercial","Mensal",0,200,{"$f":"Cálculo!$G$9","v":6.2965999999999998}]
["RJ","Rio de Janeiro","Rio Bonito","AGENERSA","CEG RIO","Comercial","Mensal",200.01,500,{"$f":"Cálculo!$G$10","v":6.2278000000000002}]
["RJ","Rio de Janeiro","Rio Bonito","AGENERSA","CEG RIO","Comercial","Mensal",500.01,2000,{"$f":"Cálculo!$G$11","v":5.1668000000000003}]
["RJ","Rio de Janeiro","Rio Bonito","AGENERSA","CEG RIO","Comercial","Mensal",2000.01,20000,{"$f":"Cálculo!$G$12","v":5.0536000000000003}]
["RJ","Rio de Janeiro","Rio Bonito","AGENERSA","CEG RIO","Comercial","Mensal",20000.009999999998,50000,{"$f":"Cálculo!$G$13","v":4.9550999999999998}]
["RJ","Rio de Janeiro","Rio Bonito","AGENERSA","CEG RIO","Comercial","Mensal",50000.01,null,{"$f":"Cálculo!$G$14","v":4.8567}]
["RJ","Rio de Janeiro","Rio Bonito","AGENERSA","CEG RIO","Industrial","Mensal",0,200,{"$f":"Cálculo!$G$17","v":5.1243999999999996}]
["RJ","Rio de Janeiro","Rio Bonito","AGENERSA","CEG RIO","Industrial","Mensal",200.01,2000,{"$f":"Cálculo!$G$18","v":2.9883999999999999}]
["RJ","Rio de Janeiro","Rio Bonito","AGENERSA","CEG RIO","Industrial","Mensal",2000.01,10000,{"$f":"Cálculo!$G$19","v":4.9067999999999996}]
["RJ","Rio de Janeiro","Rio Bonito","AGENERSA","CEG RIO","Industrial","Mensal",10000.01,50000,{"$f":"Cálculo!$G$20","v":4.3433999999999999}]
["RJ","Rio de Janeiro","Rio Bonito","AGENERSA","CEG RIO","Industrial","Mensal",50000.01,100000,{"$f":"Cálculo!$G$21","v":4.1002000000000001}]
["RJ","Rio de Janeiro","Rio Bonito","AGENERSA","CEG RIO","Industrial","Mensal",100000.01,300000,{"$f":"Cálculo!$G$22","v":3.8393999999999999}]
["RJ","Rio de Janeiro","Rio Bonito","AGENERSA","CEG RIO","Industrial","Mensal",300000.01,600000,{"$f":"Cálculo!$G$23","v":3.5312000000000001}]
["RJ","Rio de Janeiro","Rio Bonito","AGENERSA","CEG RIO","Industrial","Mensal",600000.01,1500000,{"$f":"Cálculo!$G$24","v":3.5226999999999999}]
["RJ","Rio de Janeiro","Rio Bonito","AGENERSA","CEG RIO","Industrial","Mensal",1500000.01,3000000,{"$f":"Cálculo!$G$25","v":3.4998999999999998}]
["RJ","Rio de Janeiro","Rio Bonito","AGENERSA","CEG RIO","Industrial","Mensal",3000000.01,null,{"$f":"Cálculo!$G$26","v":3.4243000000000001}]
["RJ","Rio de Janeiro","Rio Bonito","AGENERSA","CEG RIO","GNV","Faixa Única",null,null,{"$f":"Cálculo!$G$29","v":3.4365999999999999}]
["RJ","Rio de Janeiro","Rio das Flores","AGENERSA","CEG RIO","Residencial","Mensal",0,7,{"$f":"Cálculo!$G$3","v":7.2915999999999999}]
["RJ","Rio de Janeiro","Rio das Flores","AGENERSA","CEG RIO","Residencial","Mensal",7.01,23,{"$f":"Cálculo!$G$4","v":9.15}]
["RJ","Rio de Janeiro","Rio das Flores","AGENERSA","CEG RIO","Residencial","Mensal",23.01,83,{"$f":"Cálculo!$G$5","v":10.852499999999999}]
["RJ","Rio de Janeiro","Rio das Flores","AGENERSA","CEG RIO","Residencial","Mensal",83.01,null,{"$f":"Cálculo!$G$6","v":12.052199999999999}]
["RJ","Rio de Janeiro","Rio das Flores","AGENERSA","CEG RIO","Comercial","Mensal",0,200,{"$f":"Cálculo!$G$9","v":6.2965999999999998}]
["RJ","Rio de Janeiro","Rio das Flores","AGENERSA","CEG RIO","Comercial","Mensal",200.01,500,{"$f":"Cálculo!$G$10","v":6.2278000000000002}]
["RJ","Rio de Janeiro","Rio das Flores","AGENERSA","CEG RIO","Comercial","Mensal",500.01,2000,{"$f":"Cálculo!$G$11","v":5.1668000000000003}]
["RJ","Rio de Janeiro","Rio das Flores","AGENERSA","CEG RIO","Comercial","Mensal",2000.01,20000,{"$f":"Cálculo!$G$12","v":5.0536000000000003}]
["RJ","Rio de Janeiro","Rio das Flores","AGENERSA","CEG RIO","Comercial","Mensal",20000.009999999998,50000,{"$f":"Cálculo!$G$13","v":4.9550999999999998}]
["RJ","Rio de Janeiro","Rio das Flores","AGENERSA","CEG RIO","Comercial","Mensal",50000.01,null,{"$f":"Cálculo!$G$14","v":4.8567}]
["RJ","Rio de Janeiro","Rio das Flores","AGENERSA","CEG RIO","Industrial","Mensal",0,200,{"$f":"Cálculo!$G$17","v":5.1243999999999996}]
["RJ","Rio de Janeiro","Rio das Flores","AGENERSA","CEG RIO","Industrial","Mensal",200.01,2000,{"$f":"Cálculo!$G$18","v":2.9883999999999999}]
["RJ","Rio de Janeiro","Rio das Flores","AGENERSA","CEG RIO","Industrial","Mensal",2000.01,10000,{"$f":"Cálculo!$G$19","v":4.9067999999999996}]
["RJ","Rio de Janeiro","Rio das Flores","AGENERSA","CEG RIO","Industrial","Mensal",10000.01,50000,{"$f":"Cálculo!$G$20","v":4.3433999999999999}]
["RJ","Rio de Janeiro","Rio das Flores","AGENERSA","CEG RIO","Industrial","Mensal",50000.01,100000,{"$f":"Cálculo!$G$21","v":4.1002000000000001}]
["RJ","Rio de Janeiro","Rio das Flores","AGENERSA","CEG RIO","Industrial","Mensal",100000.01,300000,{"$f":"Cálculo!$G$22","v":3.8393999999999999}]
["RJ","Rio de Janeiro","Rio das Flores","AGENERSA","CEG RIO","Industrial","Mensal",300000.01,600000,{"$f":"Cálculo!$G$23","v":3.5312000000000001}]
["RJ","Rio de Janeiro","Rio das Flores","AGENERSA","CEG RIO","Industrial","Mensal",600000.01,1500000,{"$f":"Cálculo!$G$24","v":3.5226999999999999}]
["RJ","Rio de Janeiro","Rio das Flores","AGENERSA","CEG RIO","Industrial","Mensal",1500000.01,3000000,{"$f":"Cálculo!$G$25","v":3.4998999999999998}]
["RJ","Rio de Janeiro","Rio das Flores","AGENERSA","CEG RIO","Industrial","Mensal",3000000.01,null,{"$f":"Cálculo!$G$26","v":3.4243000000000001}]
["RJ","Rio de Janeiro","Rio das Flores","AGENERSA","CEG RIO","GNV","Faixa Única",null,null,{"$f":"Cálculo!$G$29","v":3.4365999999999999}]
["RJ","Rio de Janeiro","Rio das Ostras","AGENERSA","CEG RIO","Residencial","Mensal",0,7,{"$f":"Cálculo!$G$3","v":7.2915999999999999}]
["RJ","Rio de Janeiro","Rio das Ostras","AGENERSA","CEG RIO","Residencial","Mensal",7.01,23,{"$f":"Cálculo!$G$4","v":9.15}]
["RJ","Rio de Janeiro","Rio das Ostras","AGENERSA","CEG RIO","Residencial","Mensal",23.01,83,{"$f":"Cálculo!$G$5","v":10.852499999999999}]
["RJ","Rio de Janeiro","Rio das Ostras","AGENERSA","CEG RIO","Residencial","Mensal",83.01,null,{"$f":"Cálculo!$G$6","v":12.052199999999999}]
["RJ","Rio de Janeiro","Rio das Ostras","AGENERSA","CEG RIO","Comercial","Mensal",0,200,{"$f":"Cálculo!$G$9","v":6.2965999999999998}]
["RJ","Rio de Janeiro","Rio das Ostras","AGENERSA","CEG RIO","Comercial","Mensal",200.01,500,{"$f":"Cálculo!$G$10","v":6.2278000000000002}]
["RJ","Rio de Janeiro","Rio das Ostras","AGENERSA","CEG RIO","Comercial","Mensal",500.01,2000,{"$f":"Cálculo!$G$11","v":5.1668000000000003}]
["RJ","Rio de Janeiro","Rio das Ostras","AGENERSA","CEG RIO","Comercial","Mensal",2000.01,20000,{"$f":"Cálculo!$G$12","v":5.0536000000000003}]
["RJ","Rio de Janeiro","Rio das Ostras","AGENERSA","CEG RIO","Comercial","Mensal",20000.009999999998,50000,{"$f":"Cálculo!$G$13","v":4.9550999999999998}]
["RJ","Rio de Janeiro","Rio das Ostras","AGENERSA","CEG RIO","Comercial","Mensal",50000.01,null,{"$f":"Cálculo!$G$14","v":4.8567}]
["RJ","Rio de Janeiro","Rio das Ostras","AGENERSA","CEG RIO","Industrial","Mensal",0,200,{"$f":"Cálculo!$G$17","v":5.1243999999999996}]
["RJ","Rio de Janeiro","Rio das Ostras","AGENERSA","CEG RIO","Industrial","Mensal",200.01,2000,{"$f":"Cálculo!$G$18","v":2.9883999999999999}]
["RJ","Rio de Janeiro","Rio das Ostras","AGENERSA","CEG RIO","Industrial","Mensal",2000.01,10000,{"$f":"Cálculo!$G$19","v":4.9067999999999996}]
["RJ","Rio de Janeiro","Rio das Ostras","AGENERSA","CEG RIO","Industrial","Mensal",10000.01,50000,{"$f":"Cálculo!$G$20","v":4.3433999999999999}]
["RJ","Rio de Janeiro","Rio das Ostras","AGENERSA","CEG RIO","Industrial","Mensal",50000.01,100000,{"$f":"Cálculo!$G$21","v":4.1002000000000001}]
["RJ","Rio de Janeiro","Rio das Ostras","AGENERSA","CEG RIO","Industrial","Mensal",100000.01,300000,{"$f":"Cálculo!$G$22","v":3.8393999999999999}]
["RJ","Rio de Janeiro","Rio das Ostras","AGENERSA","CEG RIO","Industrial","Mensal",300000.01,600000,{"$f":"Cálculo!$G$23","v":3.5312000000000001}]
["RJ","Rio de Janeiro","Rio das Ostras","AGENERSA","CEG RIO","Industrial","Mensal",600000.01,1500000,{"$f":"Cálculo!$G$24","v":3.5226999999999999}]
["RJ","Rio de Janeiro","Rio das Ostras","AGENERSA","CEG RIO","Industrial","Mensal",1500000.01,3000000,{"$f":"Cálculo!$G$25","v":3.4998999999999998}]
["RJ","Rio de Janeiro","Rio das Ostras","AGENERSA","CEG RIO","Industrial","Mensal",3000000.01,null,{"$f":"Cálculo!$G$26","v":3.4243000000000001}]
["RJ","Rio de Janeiro","Rio das Ostras","AGENERSA","CEG RIO","GNV","Faixa Única",null,null,{"$f":"Cálculo!$G$29","v":3.4365999999999999}]
["RJ","Rio de Janeiro","Santo Antônio de Pádua","AGENERSA","CEG RIO","Residencial","Mensal",0,7,{"$f":"Cálculo!$G$3","v":7.2915999999999999}]
["RJ","Rio de Janeiro","Santo Antônio de Pádua","AGENERSA","CEG RIO","Residencial","Mensal",7.01,23,{"$f":"Cálculo!$G$4","v":9.15}]
["RJ","Rio de Janeiro","Santo Antônio de Pádua","AGENERSA","CEG RIO","Residencial","Mensal",23.01,83,{"$f":"Cálculo!$G$5","v":10.852499999999999}]
["RJ","Rio de Janeiro","Santo Antônio de Pádua","AGENERSA","CEG RIO","Residencial","Mensal",83.01,null,{"$f":"Cálculo!$G$6","v":12.052199999999999}]
["RJ","Rio de Janeiro","Santo Antônio de Pádua","AGENERSA","CEG RIO","Comercial","Mensal",0,200,{"$f":"Cálculo!$G$9","v":6.2965999999999998}]
["RJ","Rio de Janeiro","Santo Antônio de Pádua","AGENERSA","CEG RIO","Comercial","Mensal",200.01,500,{"$f":"Cálculo!$G$10","v":6.2278000000000002}]
["RJ","Rio de Janeiro","Santo Antônio de Pádua","AGENERSA","CEG RIO","Comercial","Mensal",500.01,2000,{"$f":"Cálculo!$G$11","v":5.1668000000000003}]
["RJ","Rio de Janeiro","Santo Antônio de Pádua","AGENERSA","CEG RIO","Comercial","Mensal",2000.01,20000,{"$f":"Cálculo!$G$12","v":5.0536000000000003}]
["RJ","Rio de Janeiro","Santo Antônio de Pádua","AGENERSA","CEG RIO","Comercial","Mensal",20000.009999999998,50000,{"$f":"Cálculo!$G$13","v":4.9550999999999998}]
["RJ","Rio de Janeiro","Santo Antônio de Pádua","AGENERSA","CEG RIO","Comercial","Mensal",50000.01,null,{"$f":"Cálculo!$G$14","v":4.8567}]
["RJ","Rio de Janeiro","Santo Antônio de Pádua","AGENERSA","CEG RIO","Industrial","Mensal",0,200,{"$f":"Cálculo!$G$17","v":5.1243999999999996}]
["RJ","Rio de Janeiro","Santo Antônio de Pádua","AGENERSA","CEG RIO","Industrial","Mensal",200.01,2000,{"$f":"Cálculo!$G$18","v":2.9883999999999999}]
["RJ","Rio de Janeiro","Santo Antônio de Pádua","AGENERSA","CEG RIO","Industrial","Mensal",2000.01,10000,{"$f":"Cálculo!$G$19","v":4.9067999999999996}]
["RJ","Rio de Janeiro","Santo Antônio de Pádua","AGENERSA","CEG RIO","Industrial","Mensal",10000.01,50000,{"$f":"Cálculo!$G$20","v":4.3433999999999999}]
["RJ","Rio de Janeiro","Santo Antônio de Pádua","AGENERSA","CEG RIO","Industrial","Mensal",50000.01,100000,{"$f":"Cálculo!$G$21","v":4.1002000000000001}]
["RJ","Rio de Janeiro","Santo Antônio de Pádua","AGENERSA","CEG RIO","Industrial","Mensal",100000.01,300000,{"$f":"Cálculo!$G$22","v":3.8393999999999999}]
["RJ","Rio de Janeiro","Santo Antônio de Pádua","AGENERSA","CEG RIO","Industrial","Mensal",300000.01,600000,{"$f":"Cálculo!$G$23","v":3.5312000000000001}]
["RJ","Rio de Janeiro","Santo Antônio de Pádua","AGENERSA","CEG RIO","Industrial","Mensal",600000.01,1500000,{"$f":"Cálculo!$G$24","v":3.5226999999999999}]
["RJ","Rio de Janeiro","Santo Antônio de Pádua","AGENERSA","CEG RIO","Industrial","Mensal",1500000.01,3000000,{"$f":"Cálculo!$G$25","v":3.4998999999999998}]
["RJ","Rio de Janeiro","Santo Antônio de Pádua","AGENERSA","CEG RIO","Industrial","Mensal",3000000.01,null,{"$f":"Cálculo!$G$26","v":3.4243000000000001}]
["RJ","Rio de Janeiro","Santo Antônio de Pádua","AGENERSA","CEG RIO","GNV","Faixa Única",null,null,{"$f":"Cálculo!$G$29","v":3.4365999999999999}]
["RJ","Rio de Janeiro","Saquarema","AGENERSA","CEG RIO","Residencial","Mensal",0,7,{"$f":"Cálculo!$G$3","v":7.2915999999999999}]
["RJ","Rio de Janeiro","Saquarema","AGENERSA","CEG RIO","Residencial","Mensal",7.01,23,{"$f":"Cálculo!$G$4","v":9.15}]
["RJ","Rio de Janeiro","Saquarema","AGENERSA","CEG RIO","Residencial","Mensal",23.01,83,{"$f":"Cálculo!$G$5","v":10.852499999999999}]
["RJ","Rio de Janeiro","Saquarema","AGENERSA","CEG RIO","Residencial","Mensal",83.01,null,{"$f":"Cálculo!$G$6","v":12.052199999999999}]
["RJ","Rio de Janeiro","Saquarema","AGENERSA","CEG RIO","Comercial","Mensal",0,200,{"$f":"Cálculo!$G$9","v":6.2965999999999998}]
["RJ","Rio de Janeiro","Saquarema","AGENERSA","CEG RIO","Comercial","Mensal",200.01,500,{"$f":"Cálculo!$G$10","v":6.2278000000000002}]
["RJ","Rio de Janeiro","Saquarema","AGENERSA","CEG RIO","Comercial","Mensal",500.01,2000,{"$f":"Cálculo!$G$11","v":5.1668000000000003}]
["RJ","Rio de Janeiro","Saquarema","AGENERSA","CEG RIO","Comercial","Mensal",2000.01,20000,{"$f":"Cálculo!$G$12","v":5.0536000000000003}]
["RJ","Rio de Janeiro","Saquarema","AGENERSA","CEG RIO","Comercial","Mensal",20000.009999999998,50000,{"$f":"Cálculo!$G$13","v":4.9550999999999998}]
["RJ","Rio de Janeiro","Saquarema","AGENERSA","CEG RIO","Comercial","Mensal",50000.01,null,{"$f":"Cálculo!$G$14","v":4.8567}]
["RJ","Rio de Janeiro","Saquarema","AGENERSA","CEG RIO","Industrial","Mensal",0,200,{"$f":"Cálculo!$G$17","v":5.1243999999999996}]
["RJ","Rio de Janeiro","Saquarema","AGENERSA","CEG RIO","Industrial","Mensal",200.01,2000,{"$f":"Cálculo!$G$18","v":2.9883999999999999}]
["RJ","Rio de Janeiro","Saquarema","AGENERSA","CEG RIO","Industrial","Mensal",2000.01,10000,{"$f":"Cálculo!$G$19","v":4.9067999999999996}]
["RJ","Rio de Janeiro","Saquarema","AGENERSA","CEG RIO","Industrial","Mensal",10000.01,50000,{"$f":"Cálculo!$G$20","v":4.3433999999999999}]
["RJ","Rio de Janeiro","Saquarema","AGENERSA","CEG RIO","Industrial","Mensal",50000.01,100000,{"$f":"Cálculo!$G$21","v":4.1002000000000001}]
["RJ","Rio de Janeiro","Saquarema","AGENERSA","CEG RIO","Industrial","Mensal",100000.01,300000,{"$f":"Cálculo!$G$22","v":3.8393999999999999}]
["RJ","Rio de Janeiro","Saquarema","AGENERSA","CEG RIO","Industrial","Mensal",300000.01,600000,{"$f":"Cálculo!$G$23","v":3.5312000000000001}]
["RJ","Rio de Janeiro","Saquarema","AGENERSA","CEG RIO","Industrial","Mensal",600000.01,1500000,{"$f":"Cálculo!$G$24","v":3.5226999999999999}]
["RJ","Rio de Janeiro","Saquarema","AGENERSA","CEG RIO","Industrial","Mensal",1500000.01,3000000,{"$f":"Cálculo!$G$25","v":3.4998999999999998}]
["RJ","Rio de Janeiro","Saquarema","AGENERSA","CEG RIO","Industrial","Mensal",3000000.01,null,{"$f":"Cálculo!$G$26","v":3.4243000000000001}]
["RJ","Rio de Janeiro","Saquarema","AGENERSA","CEG RIO","GNV","Faixa Única",null,null,{"$f":"Cálculo!$G$29","v":3.4365999999999999}]
["RJ","Rio de Janeiro","São Pedro d'Aldeia","AGENERSA","CEG RIO","Residencial","Mensal",0,7,{"$f":"Cálculo!$G$3","v":7.2915999999999999}]
["RJ","Rio de Janeiro","São Pedro d'Aldeia","AGENERSA","CEG RIO","Residencial","Mensal",7.01,23,{"$f":"Cálculo!$G$4","v":9.15}]
["RJ","Rio de Janeiro","São Pedro d'Aldeia","AGENERSA","CEG RIO","Residencial","Mensal",23.01,83,{"$f":"Cálculo!$G$5","v":10.852499999999999}]
["RJ","Rio de Janeiro","São Pedro d'Aldeia","AGENERSA","CEG RIO","Residencial","Mensal",83.01,null,{"$f":"Cálculo!$G$6","v":12.052199999999999}]
["RJ","Rio de Janeiro","São Pedro d'Aldeia","AGENERSA","CEG RIO","Comercial","Mensal",0,200,{"$f":"Cálculo!$G$9","v":6.2965999999999998}]
["RJ","Rio de Janeiro","São Pedro d'Aldeia","AGENERSA","CEG RIO","Comercial","Mensal",200.01,500,{"$f":"Cálculo!$G$10","v":6.2278000000000002}]
["RJ","Rio de Janeiro","São Pedro d'Aldeia","AGENERSA","CEG RIO","Comercial","Mensal",500.01,2000,{"$f":"Cálculo!$G$11","v":5.1668000000000003}]
["RJ","Rio de Janeiro","São Pedro d'Aldeia","AGENERSA","CEG RIO","Comercial","Mensal",2000.01,20000,{"$f":"Cálculo!$G$12","v":5.0536000000000003}]
["RJ","Rio de Janeiro","São Pedro d'Aldeia","AGENERSA","CEG RIO","Comercial","Mensal",20000.009999999998,50000,{"$f":"Cálculo!$G$13","v":4.9550999999999998}]
["RJ","Rio de Janeiro","São Pedro d'Aldeia","AGENERSA","CEG RIO","Comercial","Mensal",50000.01,null,{"$f":"Cálculo!$G$14","v":4.8567}]
["RJ","Rio de Janeiro","São Pedro d'Aldeia","AGENERSA","CEG RIO","Industrial","Mensal",0,200,{"$f":"Cálculo!$G$17","v":5.1243999999999996}]
["RJ","Rio de Janeiro","São Pedro d'Aldeia","AGENERSA","CEG RIO","Industrial","Mensal",200.01,2000,{"$f":"Cálculo!$G$18","v":2.9883999999999999}]
["RJ","Rio de Janeiro","São Pedro d'Aldeia","AGENERSA","CEG RIO","Industrial","Mensal",2000.01,10000,{"$f":"Cálculo!$G$19","v":4.9067999999999996}]
["RJ","Rio de Janeiro","São Pedro d'Aldeia","AGENERSA","CEG RIO","Industrial","Mensal",10000.01,50000,{"$f":"Cálculo!$G$20","v":4.3433999999999999}]
["RJ","Rio de Janeiro","São Pedro d'Aldeia","AGENERSA","CEG RIO","Industrial","Mensal",50000.01,100000,{"$f":"Cálculo!$G$21","v":4.1002000000000001}]
["RJ","Rio de Janeiro","São Pedro d'Aldeia","AGENERSA","CEG RIO","Industrial","Mensal",100000.01,300000,{"$f":"Cálculo!$G$22","v":3.8393999999999999}]
["RJ","Rio de Janeiro","São Pedro d'Aldeia","AGENERSA","CEG RIO","Industrial","Mensal",300000.01,600000,{"$f":"Cálculo!$G$23","v":3.5312000000000001}]
["RJ","Rio de Janeiro","São Pedro d'Aldeia","AGENERSA","CEG RIO","Industrial","Mensal",600000.01,1500000,{"$f":"Cálculo!$G$24","v":3.5226999999999999}]
["RJ","Rio de Janeiro","São Pedro d'Aldeia","AGENERSA","CEG RIO","Industrial","Mensal",1500000.01,3000000,{"$f":"Cálculo!$G$25","v":3.4998999999999998}]
["RJ","Rio de Janeiro","São Pedro d'Aldeia","AGENERSA","CEG RIO","Industrial","Mensal",3000000.01,null,{"$f":"Cálculo!$G$26","v":3.4243000000000001}]
["RJ","Rio de Janeiro","São Pedro d'Aldeia","AGENERSA","CEG RIO","GNV","Faixa Única",null,null,{"$f":"Cálculo!$G$29","v":3.4365999999999999}]
["RJ","Rio de Janeiro","Teresópolis","AGENERSA","CEG RIO","Residencial","Mensal",0,7,{"$f":"Cálculo!$G$3","v":7.2915999999999999}]
["RJ","Rio de Janeiro","Teresópolis","AGENERSA","CEG RIO","Residencial","Mensal",7.01,23,{"$f":"Cálculo!$G$4","v":9.15}]
["RJ","Rio de Janeiro","Teresópolis","AGENERSA","CEG RIO","Residencial","Mensal",23.01,83,{"$f":"Cálculo!$G$5","v":10.852499999999999}]
["RJ","Rio de Janeiro","Teresópolis","AGENERSA","CEG RIO","Residencial","Mensal",83.01,null,{"$f":"Cálculo!$G$6","v":12.052199999999999}]
["RJ","Rio de Janeiro","Teresópolis","AGENERSA","CEG RIO","Comercial","Mensal",0,200,{"$f":"Cálculo!$G$9","v":6.2965999999999998}]
["RJ","Rio de Janeiro","Teresópolis","AGENERSA","CEG RIO","Comercial","Mensal",200.01,500,{"$f":"Cálculo!$G$10","v":6.2278000000000002}]
["RJ","Rio de Janeiro","Teresópolis","AGENERSA","CEG RIO","Comercial","Mensal",500.01,2000,{"$f":"Cálculo!$G$11","v":5.1668000000000003}]
["RJ","Rio de Janeiro","Teresópolis","AGENERSA","CEG RIO","Comercial","Mensal",2000.01,20000,{"$f":"Cálculo!$G$12","v":5.0536000000000003}]
["RJ","Rio de Janeiro","Teresópolis","AGENERSA","CEG RIO","Comercial","Mensal",20000.009999999998,50000,{"$f":"Cálculo!$G$13","v":4.9550999999999998}]
["RJ","Rio de Janeiro","Teresópolis","AGENERSA","CEG RIO","Comercial","Mensal",50000.01,null,{"$f":"Cálculo!$G$14","v":4.8567}]
["RJ","Rio de Janeiro","Teresópolis","AGENERSA","CEG RIO","Industrial","Mensal",0,200,{"$f":"Cálculo!$G$17","v":5.1243999999999996}]
["RJ","Rio de Janeiro","Teresópolis","AGENERSA","CEG RIO","Industrial","Mensal",200.01,2000,{"$f":"Cálculo!$G$18","v":2.9883999999999999}]
["RJ","Rio de Janeiro","Teresópolis","AGENERSA","CEG RIO","Industrial","Mensal",2000.01,10000,{"$f":"Cálculo!$G$19","v":4.9067999999999996}]
["RJ","Rio de Janeiro","Teresópolis","AGENERSA","CEG RIO","Industrial","Mensal",10000.01,50000,{"$f":"Cálculo!$G$20","v":4.3433999999999999}]
["RJ","Rio de Janeiro","Teresópolis","AGENERSA","CEG RIO","Industrial","Mensal",50000.01,100000,{"$f":"Cálculo!$G$21","v":4.1002000000000001}]
["RJ","Rio de Janeiro","Teresópolis","AGENERSA","CEG RIO","Industrial","Mensal",100000.01,300000,{"$f":"Cálculo!$G$22","v":3.8393999999999999}]
["RJ","Rio de Janeiro","Teresópolis","AGENERSA","CEG RIO","Industrial","Mensal",300000.01,600000,{"$f":"Cálculo!$G$23","v":3.5312000000000001}]
["RJ","Rio de Janeiro","Teresópolis","AGENERSA","CEG RIO","Industrial","Mensal",600000.01,1500000,{"$f":"Cálculo!$G$24","v":3.5226999999999999}]
["RJ","Rio de Janeiro","Teresópolis","AGENERSA","CEG RIO","Industrial","Mensal",1500000.01,3000000,{"$f":"Cálculo!$G$25","v":3.4998999999999998}]
["RJ","Rio de Janeiro","Teresópolis","AGENERSA","CEG RIO","Industrial","Mensal",3000000.01,null,{"$f":"Cálculo!$G$26","v":3.4243000000000001}]
["RJ","Rio de Janeiro","Teresópolis","AGENERSA","CEG RIO","GNV","Faixa Única",null,null,{"$f":"Cálculo!$G$29","v":3.4365999999999999}]
["RJ","Rio de Janeiro","Três Rios","AGENERSA","CEG RIO","Residencial","Mensal",0,7,{"$f":"Cálculo!$G$3","v":7.2915999999999999}]
["RJ","Rio de Janeiro","Três Rios","AGENERSA","CEG RIO","Residencial","Mensal",7.01,23,{"$f":"Cálculo!$G$4","v":9.15}]
["RJ","Rio de Janeiro","Três Rios","AGENERSA","CEG RIO","Residencial","Mensal",23.01,83,{"$f":"Cálculo!$G$5","v":10.852499999999999}]
["RJ","Rio de Janeiro","Três Rios","AGENERSA","CEG RIO","Residencial","Mensal",83.01,null,{"$f":"Cálculo!$G$6","v":12.052199999999999}]
["RJ","Rio de Janeiro","Três Rios","AGENERSA","CEG RIO","Comercial","Mensal",0,200,{"$f":"Cálculo!$G$9","v":6.2965999999999998}]
["RJ","Rio de Janeiro","Três Rios","AGENERSA","CEG RIO","Comercial","Mensal",200.01,500,{"$f":"Cálculo!$G$10","v":6.2278000000000002}]
["RJ","Rio de Janeiro","Três Rios","AGENERSA","CEG RIO","Comercial","Mensal",500.01,2000,{"$f":"Cálculo!$G$11","v":5.1668000000000003}]
["RJ","Rio de Janeiro","Três Rios","AGENERSA","CEG RIO","Comercial","Mensal",2000.01,20000,{"$f":"Cálculo!$G$12","v":5.0536000000000003}]
["RJ","Rio de Janeiro","Três Rios","AGENERSA","CEG RIO","Comercial","Mensal",20000.009999999998,50000,{"$f":"Cálculo!$G$13","v":4.9550999999999998}]
["RJ","Rio de Janeiro","Três Rios","AGENERSA","CEG RIO","Comercial","Mensal",50000.01,null,{"$f":"Cálculo!$G$14","v":4.8567}]
["RJ","Rio de Janeiro","Três Rios","AGENERSA","CEG RIO","Industrial","Mensal",0,200,{"$f":"Cálculo!$G$17","v":5.1243999999999996}]
["RJ","Rio de Janeiro","Três Rios","AGENERSA","CEG RIO","Industrial","Mensal",200.01,2000,{"$f":"Cálculo!$G$18","v":2.9883999999999999}]
["RJ","Rio de Janeiro","Três Rios","AGENERSA","CEG RIO","Industrial","Mensal",2000.01,10000,{"$f":"Cálculo!$G$19","v":4.9067999999999996}]
["RJ","Rio de Janeiro","Três Rios","AGENERSA","CEG RIO","Industrial","Mensal",10000.01,50000,{"$f":"Cálculo!$G$20","v":4.3433999999999999}]
["RJ","Rio de Janeiro","Três Rios","AGENERSA","CEG RIO","Industrial","Mensal",50000.01,100000,{"$f":"Cálculo!$G$21","v":4.1002000000000001}]
["RJ","Rio de Janeiro","Três Rios","AGENERSA","CEG RIO","Industrial","Mensal",100000.01,300000,{"$f":"Cálculo!$G$22","v":3.8393999999999999}]
["RJ","Rio de Janeiro","Três Rios","AGENERSA","CEG RIO","Industrial","Mensal",300000.01,600000,{"$f":"Cálculo!$G$23","v":3.5312000000000001}]
["RJ","Rio de Janeiro","Três Rios","AGENERSA","CEG RIO","Industrial","Mensal",600000.01,1500000,{"$f":"Cálculo!$G$24","v":3.5226999999999999}]
["RJ","Rio de Janeiro","Três Rios","AGENERSA","CEG RIO","Industrial","Mensal",1500000.01,3000000,{"$f":"Cálculo!$G$25","v":3.4998999999999998}]
["RJ","Rio de Janeiro","Três Rios","AGENERSA","CEG RIO","Industrial","Mensal",3000000.01,null,{"$f":"Cálculo!$G$26","v":3.4243000000000001}]
["RJ","Rio de Janeiro","Três Rios","AGENERSA","CEG RIO","GNV","Faixa Única",null,null,{"$f":"Cálculo!$G$29","v":3.4365999999999999}]
["RJ","Rio de Janeiro","Valença","AGENERSA","CEG RIO","Residencial","Mensal",0,7,{"$f":"Cálculo!$G$3","v":7.2915999999999999}]
["RJ","Rio de Janeiro","Valença","AGENERSA","CEG RIO","Residencial","Mensal",7.01,23,{"$f":"Cálculo!$G$4","v":9.15}]
["RJ","Rio de Janeiro","Valença","AGENERSA","CEG RIO","Residencial","Mensal",23.01,83,{"$f":"Cálculo!$G$5","v":10.852499999999999}]
["RJ","Rio de Janeiro","Valença","AGENERSA","CEG RIO","Residencial","Mensal",83.01,null,{"$f":"Cálculo!$G$6","v":12.052199999999999}]
["RJ","Rio de Janeiro","Valença","AGENERSA","CEG RIO","Comercial","Mensal",0,200,{"$f":"Cálculo!$G$9","v":6.2965999999999998}]
["RJ","Rio de Janeiro","Valença","AGENERSA","CEG RIO","Comercial","Mensal",200.01,500,{"$f":"Cálculo!$G$10","v":6.2278000000000002}]
["RJ","Rio de Janeiro","Valença","AGENERSA","CEG RIO","Comercial","Mensal",500.01,2000,{"$f":"Cálculo!$G$11","v":5.1668000000000003}]
["RJ","Rio de Janeiro","Valença","AGENERSA","CEG RIO","Comercial","Mensal",2000.01,20000,{"$f":"Cálculo!$G$12","v":5.0536000000000003}]
["RJ","Rio de Janeiro","Valença","AGENERSA","CEG RIO","Comercial","Mensal",20000.009999999998,50000,{"$f":"Cálculo!$G$13","v":4.9550999999999998}]
["RJ","Rio de Janeiro","Valença","AGENERSA","CEG RIO","Comercial","Mensal",50000.01,null,{"$f":"Cálculo!$G$14","v":4.8567}]
["RJ","Rio de Janeiro","Valença","AGENERSA","CEG RIO","Industrial","Mensal",0,200,{"$f":"Cálculo!$G$17","v":5.1243999999999996}]
["RJ","Rio de Janeiro","Valença","AGENERSA","CEG RIO","Industrial","Mensal",200.01,2000,{"$f":"Cálculo!$G$18","v":2.9883999999999999}]
["RJ","Rio de Janeiro","Valença","AGENERSA","CEG RIO","Industrial","Mensal",2000.01,10000,{"$f":"Cálculo!$G$19","v":4.9067999999999996}]
["RJ","Rio de Janeiro","Valença","AGENERSA","CEG RIO","Industrial","Mensal",10000.01,50000,{"$f":"Cálculo!$G$20","v":4.3433999999999999}]
["RJ","Rio de Janeiro","Valença","AGENERSA","CEG RIO","Industrial","Mensal",50000.01,100000,{"$f":"Cálculo!$G$21","v":4.1002000000000001}]
["RJ","Rio de Janeiro","Valença","AGENERSA","CEG RIO","Industrial","Mensal",100000.01,300000,{"$f":"Cálculo!$G$22","v":3.8393999999999999}]
["RJ","Rio de Janeiro","Valença","AGENERSA","CEG RIO","Industrial","Mensal",300000.01,600000,{"$f":"Cálculo!$G$23","v":3.5312000000000001}]
["RJ","Rio de Janeiro","Valença","AGENERSA","CEG RIO","Industrial","Mensal",600000.01,1500000,{"$f":"Cálculo!$G$24","v":3.5226999999999999}]
["RJ","Rio de Janeiro","Valença","AGENERSA","CEG RIO","Industrial","Mensal",1500000.01,3000000,{"$f":"Cálculo!$G$25","v":3.4998999999999998}]
["RJ","Rio de Janeiro","Valença","AGENERSA","CEG RIO","Industrial","Mensal",3000000.01,null,{"$f":"Cálculo!$G$26","v":3.4243000000000001}]
["RJ","Rio de Janeiro","Valença","AGENERSA","CEG RIO","GNV","Faixa Única",null,null,{"$f":"Cálculo!$G$29","v":3.4365999999999999}]
["RJ","Rio de Janeiro","Vassouras","AGENERSA","CEG RIO","Residencial","Mensal",0,7,{"$f":"Cálculo!$G$3","v":7.2915999999999999}]
["RJ","Rio de Janeiro","Vassouras","AGENERSA","CEG RIO","Residencial","Mensal",7.01,23,{"$f":"Cálculo!$G$4","v":9.15}]
["RJ","Rio de Janeiro","Vassouras","AGENERSA","CEG RIO","Residencial","Mensal",23.01,83,{"$f":"Cálculo!$G$5","v":10.852499999999999}]
["RJ","Rio de Janeiro","Vassouras","AGENERSA","CEG RIO","Residencial","Mensal",83.01,null,{"$f":"Cálculo!$G$6","v":12.052199999999999}]
["RJ","Rio de Janeiro","Vassouras","AGENERSA","CEG RIO","Comercial","Mensal",0,200,{"$f":"Cálculo!$G$9","v":6.2965999999999998}]
["RJ","Rio de Janeiro","Vassouras","AGENERSA","CEG RIO","Comercial","Mensal",200.01,500,{"$f":"Cálculo!$G$10","v":6.2278000000000002}]
["RJ","Rio de Janeiro","Vassouras","AGENERSA","CEG RIO","Comercial","Mensal",500.01,2000,{"$f":"Cálculo!$G$11","v":5.1668000000000003}]
["RJ","Rio de Janeiro","Vassouras","AGENERSA","CEG RIO","Comercial","Mensal",2000.01,20000,{"$f":"Cálculo!$G$12","v":5.0536000000000003}]
["RJ","Rio de Janeiro","Vassouras","AGENERSA","CEG RIO","Comercial","Mensal",20000.009999999998,50000,{"$f":"Cálculo!$G$13","v":4.9550999999999998}]
["RJ","Rio de Janeiro","Vassouras","AGENERSA","CEG RIO","Comercial","Mensal",50000.01,null,{"$f":"Cálculo!$G$14","v":4.8567}]
["RJ","Rio de Janeiro","Vassouras","AGENERSA","CEG RIO","Industrial","Mensal",0,200,{"$f":"Cálculo!$G$17","v":5.1243999999999996}]
["RJ","Rio de Janeiro","Vassouras","AGENERSA","CEG RIO","Industrial","Mensal",200.01,2000,{"$f":"Cálculo!$G$18","v":2.9883999999999999}]
["RJ","Rio de Janeiro","Vassouras","AGENERSA","CEG RIO","Industrial","Mensal",2000.01,10000,{"$f":"Cálculo!$G$19","v":4.9067999999999996}]
["RJ","Rio de Janeiro","Vassouras","AGENERSA","CEG RIO","Industrial","Mensal",10000.01,50000,{"$f":"Cálculo!$G$20","v":4.3433999999999999}]
["RJ","Rio de Janeiro","Vassouras","AGENERSA","CEG RIO","Industrial","Mensal",50000.01,100000,{"$f":"Cálculo!$G$21","v":4.1002000000000001}]
["RJ","Rio de Janeiro","Vassouras","AGENERSA","CEG RIO","Industrial","Mensal",100000.01,300000,{"$f":"Cálculo!$G$22","v":3.8393999999999999}]
["RJ","Rio de Janeiro","Vassouras","AGENERSA","CEG RIO","Industrial","Mensal",300000.01,600000,{"$f":"Cálculo!$G$23","v":3.5312000000000001}]
["RJ","Rio de Janeiro","Vassouras","AGENERSA","CEG RIO","Industrial","Mensal",600000.01,1500000,{"$f":"Cálculo!$G$24","v":3.5226999999999999}]
["RJ","Rio de Janeiro","Vassouras","AGENERSA","CEG RIO","Industrial","Mensal",1500000.01,3000000,{"$f":"Cálculo!$G$25","v":3.4998999999999998}]
["RJ","Rio de Janeiro","Vassouras","AGENERSA","CEG RIO","Industrial","Mensal",3000000.01,null,{"$f":"Cálculo!$G$26","v":3.4243000000000001}]
["RJ","Rio de Janeiro","Vassouras","AGENERSA","CEG RIO","GNV","Faixa Única",null,null,{"$f":"Cálculo!$G$29","v":3.4365999999999999}]
["RJ","Rio de Janeiro","Volta Redonda","AGENERSA","CEG RIO","Residencial","Mensal",0,7,{"$f":"Cálculo!$G$3","v":7.2915999999999999}]
["RJ","Rio de Janeiro","Volta Redonda","AGENERSA","CEG RIO","Residencial","Mensal",7.01,23,{"$f":"Cálculo!$G$4","v":9.15}]
["RJ","Rio de Janeiro","Volta Redonda","AGENERSA","CEG RIO","Residencial","Mensal",23.01,83,{"$f":"Cálculo!$G$5","v":10.852499999999999}]
["RJ","Rio de Janeiro","Volta Redonda","AGENERSA","CEG RIO","Residencial","Mensal",83.01,null,{"$f":"Cálculo!$G$6","v":12.052199999999999}]
["RJ","Rio de Janeiro","Volta Redonda","AGENERSA","CEG RIO","Comercial","Mensal",0,200,{"$f":"Cálculo!$G$9","v":6.2965999999999998}]
["RJ","Rio de Janeiro","Volta Redonda","AGENERSA","CEG RIO","Comercial","Mensal",200.01,500,{"$f":"Cálculo!$G$10","v":6.2278000000000002}]
["RJ","Rio de Janeiro","Volta Redonda","AGENERSA","CEG RIO","Comercial","Mensal",500.01,2000,{"$f":"Cálculo!$G$11","v":5.1668000000000003}]
["RJ","Rio de Janeiro","Volta Redonda","AGENERSA","CEG RIO","Comercial","Mensal",2000.01,20000,{"$f":"Cálculo!$G$12","v":5.0536000000000003}]
["RJ","Rio de Janeiro","Volta Redonda","AGENERSA","CEG RIO","Comercial","Mensal",20000.009999999998,50000,{"$f":"Cálculo!$G$13","v":4.9550999999999998}]
["RJ","Rio de Janeiro","Volta Redonda","AGENERSA","CEG RIO","Comercial","Mensal",50000.01,null,{"$f":"Cálculo!$G$14","v":4.8567}]
["RJ","Rio de Janeiro","Volta Redonda","AGENERSA","CEG RIO","Industrial","Mensal",0,200,{"$f":"Cálculo!$G$17","v":5.1243999999999996}]
["RJ","Rio de Janeiro","Volta Redonda","AGENERSA","CEG RIO","Industrial","Mensal",200.01,2000,{"$f":"Cálculo!$G$18","v":2.9883999999999999}]
["RJ","Rio de Janeiro","Volta Redonda","AGENERSA","CEG RIO","Industrial","Mensal",2000.01,10000,{"$f":"Cálculo!$G$19","v":4.9067999999999996}]
["RJ","Rio de Janeiro","Volta Redonda","AGENERSA","CEG RIO","Industrial","Mensal",10000.01,50000,{"$f":"Cálculo!$G$20","v":4.3433999999999999}]
["RJ","Rio de Janeiro","Volta Redonda","AGENERSA","CEG RIO","Industrial","Mensal",50000.01,100000,{"$f":"Cálculo!$G$21","v":4.1002000000000001}]
["RJ","Rio de Janeiro","Volta Redonda","AGENERSA","CEG RIO","Industrial","Mensal",100000.01,300000,{"$f":"Cálculo!$G$22","v":3.8393999999999999}]
["RJ","Rio de Janeiro","Volta Redonda","AGENERSA","CEG RIO","Industrial","Mensal",300000.01,600000,{"$f":"Cálculo!$G$23","v":3.5312000000000001}]
["RJ","Rio de Janeiro","Volta Redonda","AGENERSA","CEG RIO","Industrial","Mensal",600000.01,1500000,{"$f":"Cálculo!$G$24","v":3.5226999999999999}]
["RJ","Rio de Janeiro","Volta Redonda","AGENERSA","CEG RIO","Industrial","Mensal",1500000.01,3000000,{"$f":"Cálculo!$G$25","v":3.4998999999999998}]
["RJ","Rio de Janeiro","Volta Redonda","AGENERSA","CEG RIO","Industrial","Mensal",3000000.01,null,{"$f":"Cálculo!$G$26","v":3.4243000000000001}]
["RJ","Rio de Janeiro","Volta Redonda","AGENERSA","CEG RIO","GNV","Faixa Única",null,null,{"$f":"Cálculo!$G$29","v":3.4365999999999999}]
["SP","São Paulo","São Paulo","ARSESP","COMGÁS","Residencial","Mensal",0,1,{"$f":"Cálculo!$G$66","v":3.2869999999999999},{"$f":"Cálculo!$H$66","v":11.39}]
["SP","São Paulo","São Paulo","ARSESP","COMGÁS","Residencial","Mensal",1.01,3,{"$f":"Cálculo!$G$67","v":10.834},{"$f":"Cálculo!$H$67","v":14.87}]
["SP","São Paulo","São Paulo","ARSESP","COMGÁS","Residencial","Mensal",3.01,7,{"$f":"Cálculo!$G$68","v":5.6470000000000002},{"$f":"Cálculo!$H$68","v":14.87}]
["SP","São Paulo","São Paulo","ARSESP","COMGÁS","Residencial","Mensal",7.01,14,{"$f":"Cálculo!$G$69","v":9.3699999999999992},{"$f":"Cálculo!$H$69","v":16.739999999999998}]
["SP","São Paulo","São Paulo","ARSESP","COMGÁS","Residencial","Mensal",14.01,34,{"$f":"Cálculo!$G$70","v":11.132},{"$f":"Cálculo!$H$70","v":18.600000000000001}]
["SP","São Paulo","São Paulo","ARSESP","COMGÁS","Residencial","Mensal",34.01,600,{"$f":"Cálculo!$G$71","v":11.92},{"$f":"Cálculo!$H$71","v":18.600000000000001}]
["SP","São Paulo","São Paulo","ARSESP","COMGÁS","Residencial","Mensal",600.01,1000,{"$f":"Cálculo!$G$72","v":10.324},{"$f":"Cálculo!$H$72","v":18.600000000000001}]
["SP","São Paulo","São Paulo","ARSESP","COMGÁS","Residencial","Mensal",1000.01,null,{"$f":"Cálculo!$G$73","v":7.2949999999999999},{"$f":"Cálculo!$H$73","v":18.600000000000001}]
["SP","São Paulo","São Paulo","ARSESP","COMGÁS","Comercial","Mensal",0,0,{"$f":"Cálculo!$G$76","v":0},{"$f":"Cálculo!$H$76","v":0}]
["SP","São Paulo","São Paulo","ARSESP","COMGÁS","Comercial","Mensal",0.01,50,{"$f":"Cálculo!$G$77","v":9.2490000000000006},{"$f":"Cálculo!$H$77","v":60.76}]
["SP","São Paulo","São Paulo","ARSESP","COMGÁS","Comercial","Mensal",50.01,150,{"$f":"Cálculo!$G$78","v":8.49},{"$f":"Cálculo!$H$78","v":98.73}]
["SP","São Paulo","São Paulo","ARSESP","COMGÁS","Comercial","Mensal",150.01,500,{"$f":"Cálculo!$G$79","v":7.9859999999999998},{"$f":"Cálculo!$H$79","v":174.66}]
["SP","São Paulo","São Paulo","ARSESP","COMGÁS","Comercial","Mensal",500.01,2000,{"$f":"Cálculo!$G$80","v":7.5380000000000003},{"$f":"Cálculo!$H$80","v":398.71}]
["SP","São Paulo","São Paulo","ARSESP","COMGÁS","Comercial","Mensal",2000.01,3500,{"$f":"Cálculo!$G$81","v":6.819},{"$f":"Cálculo!$H$81","v":1837.86}]
["SP","São Paulo","São Paulo","ARSESP","COMGÁS","Comercial","Mensal",3500.01,50000,{"$f":"Cálculo!$G$82","v":5.3760000000000003},{"$f":"Cálculo!$H$82","v":6892.16}]
["SP","São Paulo","São Paulo","ARSESP","COMGÁS","Comercial","Mensal",50000.01,null,{"$f":"Cálculo!$G$83","v":5.1479999999999997},{"$f":"Cálculo!$H$83","v":18284.09}]
["SP","São Paulo","São Paulo","ARSESP","COMGÁS","Industrial","Mensal",0,50000,{"$f":"Cálculo!$G$86","v":4.726},{"$f":"Cálculo!$H$86","v":387.36}]
["SP","São Paulo","São Paulo","ARSESP","COMGÁS","Industrial","Mensal",50000.01,300000,{"$f":"Cálculo!$G$87","v":3.5019999999999998},{"$f":"Cálculo!$H$87","v":61597.41}]
["SP","São Paulo","São Paulo","ARSESP","COMGÁS","Industrial","Mensal",300000.01,500000,{"$f":"Cálculo!$G$88","v":3.36},{"$f":"Cálculo!$H$88","v":110975.06}]
["SP","São Paulo","São Paulo","ARSESP","COMGÁS","Industrial","Mensal",500000.01,1000000,{"$f":"Cálculo!$G$89","v":3.3340000000000001},{"$f":"Cálculo!$H$89","v":124035.06}]
["SP","São Paulo","São Paulo","ARSESP","COMGÁS","Industrial","Mensal",1000000.01,2000000,{"$f":"Cálculo!$G$90","v":3.2810000000000001},{"$f":"Cálculo!$H$90","v":177422.21}]
["SP","São Paulo","São Paulo","ARSESP","COMGÁS","Industrial","Mensal",2000000.01,null,{"$f":"Cálculo!$G$91","v":3.2330000000000001},{"$f":"Cálculo!$H$91","v":316707.87}]
["SP","São Paulo","São Paulo","ARSESP","COMGÁS","GNV","Faixa Única",null,null,{"$f":"Cálculo!$G$94","v":3.2148460000000001}]
["SP","São Paulo","Aguaí","ARSESP","COMGÁS","Residencial","Mensal",0,1,{"$f":"Cálculo!$G$66","v":3.2869999999999999},{"$f":"Cálculo!$H$66","v":11.39}]
["SP","São Paulo","Aguaí","ARSESP","COMGÁS","Residencial","Mensal",1.01,3,{"$f":"Cálculo!$G$67","v":10.834},{"$f":"Cálculo!$H$67","v":14.87}]
["SP","São Paulo","Aguaí","ARSESP","COMGÁS","Residencial","Mensal",3.01,7,{"$f":"Cálculo!$G$68","v":5.6470000000000002},{"$f":"Cálculo!$H$68","v":14.87}]
["SP","São Paulo","Aguaí","ARSESP","COMGÁS","Residencial","Mensal",7.01,14,{"$f":"Cálculo!$G$69","v":9.3699999999999992},{"$f":"Cálculo!$H$69","v":16.739999999999998}]
["SP","São Paulo","Aguaí","ARSESP","COMGÁS","Residencial","Mensal",14.01,34,{"$f":"Cálculo!$G$70","v":11.132},{"$f":"Cálculo!$H$70","v":18.600000000000001}]
["SP","São Paulo","Aguaí","ARSESP","COMGÁS","Residencial","Mensal",34.01,600,{"$f":"Cálculo!$G$71","v":11.92},{"$f":"Cálculo!$H$71","v":18.600000000000001}]
["SP","São Paulo","Aguaí","ARSESP","COMGÁS","Residencial","Mensal",600.01,1000,{"$f":"Cálculo!$G$72","v":10.324},{"$f":"Cálculo!$H$72","v":18.600000000000001}]
["SP","São Paulo","Aguaí","ARSESP","COMGÁS","Residencial","Mensal",1000.01,null,{"$f":"Cálculo!$G$73","v":7.2949999999999999},{"$f":"Cálculo!$H$73","v":18.600000000000001}]
["SP","São Paulo","Aguaí","ARSESP","COMGÁS","Comercial","Mensal",0,0,{"$f":"Cálculo!$G$76","v":0},{"$f":"Cálculo!$H$76","v":0}]
["SP","São Paulo","Aguaí","ARSESP","COMGÁS","Comercial","Mensal",0.01,50,{"$f":"Cálculo!$G$77","v":9.2490000000000006},{"$f":"Cálculo!$H$77","v":60.76}]
["SP","São Paulo","Aguaí","ARSESP","COMGÁS","Comercial","Mensal",50.01,150,{"$f":"Cálculo!$G$78","v":8.49},{"$f":"Cálculo!$H$78","v":98.73}]
["SP","São Paulo","Aguaí","ARSESP","COMGÁS","Comercial","Mensal",150.01,500,{"$f":"Cálculo!$G$79","v":7.9859999999999998},{"$f":"Cálculo!$H$79","v":174.66}]
["SP","São Paulo","Aguaí","ARSESP","COMGÁS","Comercial","Mensal",500.01,2000,{"$f":"Cálculo!$G$80","v":7.5380000000000003},{"$f":"Cálculo!$H$80","v":398.71}]
["SP","São Paulo","Aguaí","ARSESP","COMGÁS","Comercial","Mensal",2000.01,3500,{"$f":"Cálculo!$G$81","v":6.819},{"$f":"Cálculo!$H$81","v":1837.86}]
["SP","São Paulo","Aguaí","ARSESP","COMGÁS","Comercial","Mensal",3500.01,50000,{"$f":"Cálculo!$G$82","v":5.3760000000000003},{"$f":"Cálculo!$H$82","v":6892.16}]
["SP","São Paulo","Aguaí","ARSESP","COMGÁS","Comercial","Mensal",50000.01,null,{"$f":"Cálculo!$G$83","v":5.1479999999999997},{"$f":"Cálculo!$H$83","v":18284.09}]
["SP","São Paulo","Aguaí","ARSESP","COMGÁS","Industrial","Mensal",0,50000,{"$f":"Cálculo!$G$86","v":4.726},{"$f":"Cálculo!$H$86","v":387.36}]
["SP","São Paulo","Aguaí","ARSESP","COMGÁS","Industrial","Mensal",50000.01,300000,{"$f":"Cálculo!$G$87","v":3.5019999999999998},{"$f":"Cálculo!$H$87","v":61597.41}]
["SP","São Paulo","Aguaí","ARSESP","COMGÁS","Industrial","Mensal",300000.01,500000,{"$f":"Cálculo!$G$88","v":3.36},{"$f":"Cálculo!$H$88","v":110975.06}]
["SP","São Paulo","Aguaí","ARSESP","COMGÁS","Industrial","Mensal",500000.01,1000000,{"$f":"Cálculo!$G$89","v":3.3340000000000001},{"$f":"Cálculo!$H$89","v":124035.06}]
["SP","São Paulo","Aguaí","ARSESP","COMGÁS","Industrial","Mensal",1000000.01,2000000,{"$f":"Cálculo!$G$90","v":3.2810000000000001},{"$f":"Cálculo!$H$90","v":177422.21}]
["SP","São Paulo","Aguaí","ARSESP","COMGÁS","Industrial","Mensal",2000000.01,null,{"$f":"Cálculo!$G$91","v":3.2330000000000001},{"$f":"Cálculo!$H$91","v":316707.87}]
["SP","São Paulo","Aguaí","ARSESP","COMGÁS","GNV","Faixa Única",null,null,{"$f":"Cálculo!$G$94","v":3.2148460000000001}]
["SP","São Paulo","Águas da Prata","ARSESP","COMGÁS","Residencial","Mensal",0,1,{"$f":"Cálculo!$G$66","v":3.2869999999999999},{"$f":"Cálculo!$H$66","v":11.39}]
["SP","São Paulo","Águas da Prata","ARSESP","COMGÁS","Residencial","Mensal",1.01,3,{"$f":"Cálculo!$G$67","v":10.834},{"$f":"Cálculo!$H$67","v":14.87}]
["SP","São Paulo","Águas da Prata","ARSESP","COMGÁS","Residencial","Mensal",3.01,7,{"$f":"Cálculo!$G$68","v":5.6470000000000002},{"$f":"Cálculo!$H$68","v":14.87}]
["SP","São Paulo","Águas da Prata","ARSESP","COMGÁS","Residencial","Mensal",7.01,14,{"$f":"Cálculo!$G$69","v":9.3699999999999992},{"$f":"Cálculo!$H$69","v":16.739999999999998}]
["SP","São Paulo","Águas da Prata","ARSESP","COMGÁS","Residencial","Mensal",14.01,34,{"$f":"Cálculo!$G$70","v":11.132},{"$f":"Cálculo!$H$70","v":18.600000000000001}]
["SP","São Paulo","Águas da Prata","ARSESP","COMGÁS","Residencial","Mensal",34.01,600,{"$f":"Cálculo!$G$71","v":11.92},{"$f":"Cálculo!$H$71","v":18.600000000000001}]
["SP","São Paulo","Águas da Prata","ARSESP","COMGÁS","Residencial","Mensal",600.01,1000,{"$f":"Cálculo!$G$72","v":10.324},{"$f":"Cálculo!$H$72","v":18.600000000000001}]
["SP","São Paulo","Águas da Prata","ARSESP","COMGÁS","Residencial","Mensal",1000.01,null,{"$f":"Cálculo!$G$73","v":7.2949999999999999},{"$f":"Cálculo!$H$73","v":18.600000000000001}]
["SP","São Paulo","Águas da Prata","ARSESP","COMGÁS","Comercial","Mensal",0,0,{"$f":"Cálculo!$G$76","v":0},{"$f":"Cálculo!$H$76","v":0}]
["SP","São Paulo","Águas da Prata","ARSESP","COMGÁS","Comercial","Mensal",0.01,50,{"$f":"Cálculo!$G$77","v":9.2490000000000006},{"$f":"Cálculo!$H$77","v":60.76}]
["SP","São Paulo","Águas da Prata","ARSESP","COMGÁS","Comercial","Mensal",50.01,150,{"$f":"Cálculo!$G$78","v":8.49},{"$f":"Cálculo!$H$78","v":98.73}]
["SP","São Paulo","Águas da Prata","ARSESP","COMGÁS","Comercial","Mensal",150.01,500,{"$f":"Cálculo!$G$79","v":7.9859999999999998},{"$f":"Cálculo!$H$79","v":174.66}]
["SP","São Paulo","Águas da Prata","ARSESP","COMGÁS","Comercial","Mensal",500.01,2000,{"$f":"Cálculo!$G$80","v":7.5380000000000003},{"$f":"Cálculo!$H$80","v":398.71}]
["SP","São Paulo","Águas da Prata","ARSESP","COMGÁS","Comercial","Mensal",2000.01,3500,{"$f":"Cálculo!$G$81","v":6.819},{"$f":"Cálculo!$H$81","v":1837.86}]
["SP","São Paulo","Águas da Prata","ARSESP","COMGÁS","Comercial","Mensal",3500.01,50000,{"$f":"Cálculo!$G$82","v":5.3760000000000003},{"$f":"Cálculo!$H$82","v":6892.16}]
["SP","São Paulo","Águas da Prata","ARSESP","COMGÁS","Comercial","Mensal",50000.01,null,{"$f":"Cálculo!$G$83","v":5.1479999999999997},{"$f":"Cálculo!$H$83","v":18284.09}]
["SP","São Paulo","Águas da Prata","ARSESP","COMGÁS","Industrial","Mensal",0,50000,{"$f":"Cálculo!$G$86","v":4.726},{"$f":"Cálculo!$H$86","v":387.36}]
["SP","São Paulo","Águas da Prata","ARSESP","COMGÁS","Industrial","Mensal",50000.01,300000,{"$f":"Cálculo!$G$87","v":3.5019999999999998},{"$f":"Cálculo!$H$87","v":61597.41}]
["SP","São Paulo","Águas da Prata","ARSESP","COMGÁS","Industrial","Mensal",300000.01,500000,{"$f":"Cálculo!$G$88","v":3.36},{"$f":"Cálculo!$H$88","v":110975.06}]
["SP","São Paulo","Águas da Prata","ARSESP","COMGÁS","Industrial","Mensal",500000.01,1000000,{"$f":"Cálculo!$G$89","v":3.3340000000000001},{"$f":"Cálculo!$H$89","v":124035.06}]
["SP","São Paulo","Águas da Prata","ARSESP","COMGÁS","Industrial","Mensal",1000000.01,2000000,{"$f":"Cálculo!$G$90","v":3.2810000000000001},{"$f":"Cálculo!$H$90","v":177422.21}]
["SP","São Paulo","Águas da Prata","ARSESP","COMGÁS","Industrial","Mensal",2000000.01,null,{"$f":"Cálculo!$G$91","v":3.2330000000000001},{"$f":"Cálculo!$H$91","v":316707.87}]
["SP","São Paulo","Águas da Prata","ARSESP","COMGÁS","GNV","Faixa Única",null,null,{"$f":"Cálculo!$G$94","v":3.2148460000000001}]
["SP","São Paulo","Águas de Lindóia","ARSESP","COMGÁS","Residencial","Mensal",0,1,{"$f":"Cálculo!$G$66","v":3.2869999999999999},{"$f":"Cálculo!$H$66","v":11.39}]
["SP","São Paulo","Águas de Lindóia","ARSESP","COMGÁS","Residencial","Mensal",1.01,3,{"$f":"Cálculo!$G$67","v":10.834},{"$f":"Cálculo!$H$67","v":14.87}]
["SP","São Paulo","Águas de Lindóia","ARSESP","COMGÁS","Residencial","Mensal",3.01,7,{"$f":"Cálculo!$G$68","v":5.6470000000000002},{"$f":"Cálculo!$H$68","v":14.87}]
["SP","São Paulo","Águas de Lindóia","ARSESP","COMGÁS","Residencial","Mensal",7.01,14,{"$f":"Cálculo!$G$69","v":9.3699999999999992},{"$f":"Cálculo!$H$69","v":16.739999999999998}]
["SP","São Paulo","Águas de Lindóia","ARSESP","COMGÁS","Residencial","Mensal",14.01,34,{"$f":"Cálculo!$G$70","v":11.132},{"$f":"Cálculo!$H$70","v":18.600000000000001}]
["SP","São Paulo","Águas de Lindóia","ARSESP","COMGÁS","Residencial","Mensal",34.01,600,{"$f":"Cálculo!$G$71","v":11.92},{"$f":"Cálculo!$H$71","v":18.600000000000001}]
["SP","São Paulo","Águas de Lindóia","ARSESP","COMGÁS","Residencial","Mensal",600.01,1000,{"$f":"Cálculo!$G$72","v":10.324},{"$f":"Cálculo!$H$72","v":18.600000000000001}]
["SP","São Paulo","Águas de Lindóia","ARSESP","COMGÁS","Residencial","Mensal",1000.01,null,{"$f":"Cálculo!$G$73","v":7.2949999999999999},{"$f":"Cálculo!$H$73","v":18.600000000000001}]
["SP","São Paulo","Águas de Lindóia","ARSESP","COMGÁS","Comercial","Mensal",0,0,{"$f":"Cálculo!$G$76","v":0},{"$f":"Cálculo!$H$76","v":0}]
["SP","São Paulo","Águas de Lindóia","ARSESP","COMGÁS","Comercial","Mensal",0.01,50,{"$f":"Cálculo!$G$77","v":9.2490000000000006},{"$f":"Cálculo!$H$77","v":60.76}]
["SP","São Paulo","Águas de Lindóia","ARSESP","COMGÁS","Comercial","Mensal",50.01,150,{"$f":"Cálculo!$G$78","v":8.49},{"$f":"Cálculo!$H$78","v":98.73}]
["SP","São Paulo","Águas de Lindóia","ARSESP","COMGÁS","Comercial","Mensal",150.01,500,{"$f":"Cálculo!$G$79","v":7.9859999999999998},{"$f":"Cálculo!$H$79","v":174.66}]
["SP","São Paulo","Águas de Lindóia","ARSESP","COMGÁS","Comercial","Mensal",500.01,2000,{"$f":"Cálculo!$G$80","v":7.5380000000000003},{"$f":"Cálculo!$H$80","v":398.71}]
["SP","São Paulo","Águas de Lindóia","ARSESP","COMGÁS","Comercial","Mensal",2000.01,3500,{"$f":"Cálculo!$G$81","v":6.819},{"$f":"Cálculo!$H$81","v":1837.86}]
["SP","São Paulo","Águas de Lindóia","ARSESP","COMGÁS","Comercial","Mensal",3500.01,50000,{"$f":"Cálculo!$G$82","v":5.3760000000000003},{"$f":"Cálculo!$H$82","v":6892.16}]
["SP","São Paulo","Águas de Lindóia","ARSESP","COMGÁS","Comercial","Mensal",50000.01,null,{"$f":"Cálculo!$G$83","v":5.1479999999999997},{"$f":"Cálculo!$H$83","v":18284.09}]
["SP","São Paulo","Águas de Lindóia","ARSESP","COMGÁS","Industrial","Mensal",0,50000,{"$f":"Cálculo!$G$86","v":4.726},{"$f":"Cálculo!$H$86","v":387.36}]
["SP","São Paulo","Águas de Lindóia","ARSESP","COMGÁS","Industrial","Mensal",50000.01,300000,{"$f":"Cálculo!$G$87","v":3.5019999999999998},{"$f":"Cálculo!$H$87","v":61597.41}]
["SP","São Paulo","Águas de Lindóia","ARSESP","COMGÁS","Industrial","Mensal",300000.01,500000,{"$f":"Cálculo!$G$88","v":3.36},{"$f":"Cálculo!$H$88","v":110975.06}]
["SP","São Paulo","Águas de Lindóia","ARSESP","COMGÁS","Industrial","Mensal",500000.01,1000000,{"$f":"Cálculo!$G$89","v":3.3340000000000001},{"$f":"Cálculo!$H$89","v":124035.06}]
["SP","São Paulo","Águas de Lindóia","ARSESP","COMGÁS","Industrial","Mensal",1000000.01,2000000,{"$f":"Cálculo!$G$90","v":3.2810000000000001},{"$f":"Cálculo!$H$90","v":177422.21}]
["SP","São Paulo","Águas de Lindóia","ARSESP","COMGÁS","Industrial","Mensal",2000000.01,null,{"$f":"Cálculo!$G$91","v":3.2330000000000001},{"$f":"Cálculo!$H$91","v":316707.87}]
["SP","São Paulo","Águas de Lindóia","ARSESP","COMGÁS","GNV","Faixa Única",null,null,{"$f":"Cálculo!$G$94","v":3.2148460000000001}]
["SP","São Paulo","Águas de São Pedro","ARSESP","COMGÁS","Residencial","Mensal",0,1,{"$f":"Cálculo!$G$66","v":3.2869999999999999},{"$f":"Cálculo!$H$66","v":11.39}]
["SP","São Paulo","Águas de São Pedro","ARSESP","COMGÁS","Residencial","Mensal",1.01,3,{"$f":"Cálculo!$G$67","v":10.834},{"$f":"Cálculo!$H$67","v":14.87}]
["SP","São Paulo","Águas de São Pedro","ARSESP","COMGÁS","Residencial","Mensal",3.01,7,{"$f":"Cálculo!$G$68","v":5.6470000000000002},{"$f":"Cálculo!$H$68","v":14.87}]
["SP","São Paulo","Águas de São Pedro","ARSESP","COMGÁS","Residencial","Mensal",7.01,14,{"$f":"Cálculo!$G$69","v":9.3699999999999992},{"$f":"Cálculo!$H$69","v":16.739999999999998}]
["SP","São Paulo","Águas de São Pedro","ARSESP","COMGÁS","Residencial","Mensal",14.01,34,{"$f":"Cálculo!$G$70","v":11.132},{"$f":"Cálculo!$H$70","v":18.600000000000001}]
["SP","São Paulo","Águas de São Pedro","ARSESP","COMGÁS","Residencial","Mensal",34.01,600,{"$f":"Cálculo!$G$71","v":11.92},{"$f":"Cálculo!$H$71","v":18.600000000000001}]
["SP","São Paulo","Águas de São Pedro","ARSESP","COMGÁS","Residencial","Mensal",600.01,1000,{"$f":"Cálculo!$G$72","v":10.324},{"$f":"Cálculo!$H$72","v":18.600000000000001}]
["SP","São Paulo","Águas de São Pedro","ARSESP","COMGÁS","Residencial","Mensal",1000.01,null,{"$f":"Cálculo!$G$73","v":7.2949999999999999},{"$f":"Cálculo!$H$73","v":18.600000000000001}]
["SP","São Paulo","Águas de São Pedro","ARSESP","COMGÁS","Comercial","Mensal",0,0,{"$f":"Cálculo!$G$76","v":0},{"$f":"Cálculo!$H$76","v":0}]
["SP","São Paulo","Águas de São Pedro","ARSESP","COMGÁS","Comercial","Mensal",0.01,50,{"$f":"Cálculo!$G$77","v":9.2490000000000006},{"$f":"Cálculo!$H$77","v":60.76}]
["SP","São Paulo","Águas de São Pedro","ARSESP","COMGÁS","Comercial","Mensal",50.01,150,{"$f":"Cálculo!$G$78","v":8.49},{"$f":"Cálculo!$H$78","v":98.73}]
["SP","São Paulo","Águas de São Pedro","ARSESP","COMGÁS","Comercial","Mensal",150.01,500,{"$f":"Cálculo!$G$79","v":7.9859999999999998},{"$f":"Cálculo!$H$79","v":174.66}]
["SP","São Paulo","Águas de São Pedro","ARSESP","COMGÁS","Comercial","Mensal",500.01,2000,{"$f":"Cálculo!$G$80","v":7.5380000000000003},{"$f":"Cálculo!$H$80","v":398.71}]
["SP","São Paulo","Águas de São Pedro","ARSESP","COMGÁS","Comercial","Mensal",2000.01,3500,{"$f":"Cálculo!$G$81","v":6.819},{"$f":"Cálculo!$H$81","v":1837.86}]
["SP","São Paulo","Águas de São Pedro","ARSESP","COMGÁS","Comercial","Mensal",3500.01,50000,{"$f":"Cálculo!$G$82","v":5.3760000000000003},{"$f":"Cálculo!$H$82","v":6892.16}]
["SP","São Paulo","Águas de São Pedro","ARSESP","COMGÁS","Comercial","Mensal",50000.01,null,{"$f":"Cálculo!$G$83","v":5.1479999999999997},{"$f":"Cálculo!$H$83","v":18284.09}]
["SP","São Paulo","Águas de São Pedro","ARSESP","COMGÁS","Industrial","Mensal",0,50000,{"$f":"Cálculo!$G$86","v":4.726},{"$f":"Cálculo!$H$86","v":387.36}]
["SP","São Paulo","Águas de São Pedro","ARSESP","COMGÁS","Industrial","Mensal",50000.01,300000,{"$f":"Cálculo!$G$87","v":3.5019999999999998},{"$f":"Cálculo!$H$87","v":61597.41}]
["SP","São Paulo","Águas de São Pedro","ARSESP","COMGÁS","Industrial","Mensal",300000.01,500000,{"$f":"Cálculo!$G$88","v":3.36},{"$f":"Cálculo!$H$88","v":110975.06}]
["SP","São Paulo","Águas de São Pedro","ARSESP","COMGÁS","Industrial","Mensal",500000.01,1000000,{"$f":"Cálculo!$G$89","v":3.3340000000000001},{"$f":"Cálculo!$H$89","v":124035.06}]
["SP","São Paulo","Águas de São Pedro","ARSESP","COMGÁS","Industrial","Mensal",1000000.01,2000000,{"$f":"Cálculo!$G$90","v":3.2810000000000001},{"$f":"Cálculo!$H$90","v":177422.21}]
["SP","São Paulo","Águas de São Pedro","ARSESP","COMGÁS","Industrial","Mensal",2000000.01,null,{"$f":"Cálculo!$G$91","v":3.2330000000000001},{"$f":"Cálculo!$H$91","v":316707.87}]
["SP","São Paulo","Águas de São Pedro","ARSESP","COMGÁS","GNV","Faixa Única",null,null,{"$f":"Cálculo!$G$94","v":3.2148460000000001}]
["SP","São Paulo","Americana","ARSESP","COMGÁS","Residencial","Mensal",0,1,{"$f":"Cálculo!$G$66","v":3.2869999999999999},{"$f":"Cálculo!$H$66","v":11.39}]
["SP","São Paulo","Americana","ARSESP","COMGÁS","Residencial","Mensal",1.01,3,{"$f":"Cálculo!$G$67","v":10.834},{"$f":"Cálculo!$H$67","v":14.87}]
["SP","São Paulo","Americana","ARSESP","COMGÁS","Residencial","Mensal",3.01,7,{"$f":"Cálculo!$G$68","v":5.6470000000000002},{"$f":"Cálculo!$H$68","v":14.87}]
["SP","São Paulo","Americana","ARSESP","COMGÁS","Residencial","Mensal",7.01,14,{"$f":"Cálculo!$G$69","v":9.3699999999999992},{"$f":"Cálculo!$H$69","v":16.739999999999998}]
["SP","São Paulo","Americana","ARSESP","COMGÁS","Residencial","Mensal",14.01,34,{"$f":"Cálculo!$G$70","v":11.132},{"$f":"Cálculo!$H$70","v":18.600000000000001}]
["SP","São Paulo","Americana","ARSESP","COMGÁS","Residencial","Mensal",34.01,600,{"$f":"Cálculo!$G$71","v":11.92},{"$f":"Cálculo!$H$71","v":18.600000000000001}]
["SP","São Paulo","Americana","ARSESP","COMGÁS","Residencial","Mensal",600.01,1000,{"$f":"Cálculo!$G$72","v":10.324},{"$f":"Cálculo!$H$72","v":18.600000000000001}]
["SP","São Paulo","Americana","ARSESP","COMGÁS","Residencial","Mensal",1000.01,null,{"$f":"Cálculo!$G$73","v":7.2949999999999999},{"$f":"Cálculo!$H$73","v":18.600000000000001}]
["SP","São Paulo","Americana","ARSESP","COMGÁS","Comercial","Mensal",0,0,{"$f":"Cálculo!$G$76","v":0},{"$f":"Cálculo!$H$76","v":0}]
["SP","São Paulo","Americana","ARSESP","COMGÁS","Comercial","Mensal",0.01,50,{"$f":"Cálculo!$G$77","v":9.2490000000000006},{"$f":"Cálculo!$H$77","v":60.76}]
["SP","São Paulo","Americana","ARSESP","COMGÁS","Comercial","Mensal",50.01,150,{"$f":"Cálculo!$G$78","v":8.49},{"$f":"Cálculo!$H$78","v":98.73}]
["SP","São Paulo","Americana","ARSESP","COMGÁS","Comercial","Mensal",150.01,500,{"$f":"Cálculo!$G$79","v":7.9859999999999998},{"$f":"Cálculo!$H$79","v":174.66}]
["SP","São Paulo","Americana","ARSESP","COMGÁS","Comercial","Mensal",500.01,2000,{"$f":"Cálculo!$G$80","v":7.5380000000000003},{"$f":"Cálculo!$H$80","v":398.71}]
["SP","São Paulo","Americana","ARSESP","COMGÁS","Comercial","Mensal",2000.01,3500,{"$f":"Cálculo!$G$81","v":6.819},{"$f":"Cálculo!$H$81","v":1837.86}]
["SP","São Paulo","Americana","ARSESP","COMGÁS","Comercial","Mensal",3500.01,50000,{"$f":"Cálculo!$G$82","v":5.3760000000000003},{"$f":"Cálculo!$H$82","v":6892.16}]
["SP","São Paulo","Americana","ARSESP","COMGÁS","Comercial","Mensal",50000.01,null,{"$f":"Cálculo!$G$83","v":5.1479999999999997},{"$f":"Cálculo!$H$83","v":18284.09}]
["SP","São Paulo","Americana","ARSESP","COMGÁS","Industrial","Mensal",0,50000,{"$f":"Cálculo!$G$86","v":4.726},{"$f":"Cálculo!$H$86","v":387.36}]
["SP","São Paulo","Americana","ARSESP","COMGÁS","Industrial","Mensal",50000.01,300000,{"$f":"Cálculo!$G$87","v":3.5019999999999998},{"$f":"Cálculo!$H$87","v":61597.41}]
["SP","São Paulo","Americana","ARSESP","COMGÁS","Industrial","Mensal",300000.01,500000,{"$f":"Cálculo!$G$88","v":3.36},{"$f":"Cálculo!$H$88","v":110975.06}]
["SP","São Paulo","Americana","ARSESP","COMGÁS","Industrial","Mensal",500000.01,1000000,{"$f":"Cálculo!$G$89","v":3.3340000000000001},{"$f":"Cálculo!$H$89","v":124035.06}]
["SP","São Paulo","Americana","ARSESP","COMGÁS","Industrial","Mensal",1000000.01,2000000,{"$f":"Cálculo!$G$90","v":3.2810000000000001},{"$f":"Cálculo!$H$90","v":177422.21}]
["SP","São Paulo","Americana","ARSESP","COMGÁS","Industrial","Mensal",2000000.01,null,{"$f":"Cálculo!$G$91","v":3.2330000000000001},{"$f":"Cálculo!$H$91","v":316707.87}]
["SP","São Paulo","Americana","ARSESP","COMGÁS","GNV","Faixa Única",null,null,{"$f":"Cálculo!$G$94","v":3.2148460000000001}]
["SP","São Paulo","Amparo","ARSESP","COMGÁS","Residencial","Mensal",0,1,{"$f":"Cálculo!$G$66","v":3.2869999999999999},{"$f":"Cálculo!$H$66","v":11.39}]
["SP","São Paulo","Amparo","ARSESP","COMGÁS","Residencial","Mensal",1.01,3,{"$f":"Cálculo!$G$67","v":10.834},{"$f":"Cálculo!$H$67","v":14.87}]
["SP","São Paulo","Amparo","ARSESP","COMGÁS","Residencial","Mensal",3.01,7,{"$f":"Cálculo!$G$68","v":5.6470000000000002},{"$f":"Cálculo!$H$68","v":14.87}]
["SP","São Paulo","Amparo","ARSESP","COMGÁS","Residencial","Mensal",7.01,14,{"$f":"Cálculo!$G$69","v":9.3699999999999992},{"$f":"Cálculo!$H$69","v":16.739999999999998}]
["SP","São Paulo","Amparo","ARSESP","COMGÁS","Residencial","Mensal",14.01,34,{"$f":"Cálculo!$G$70","v":11.132},{"$f":"Cálculo!$H$70","v":18.600000000000001}]
["SP","São Paulo","Amparo","ARSESP","COMGÁS","Residencial","Mensal",34.01,600,{"$f":"Cálculo!$G$71","v":11.92},{"$f":"Cálculo!$H$71","v":18.600000000000001}]
["SP","São Paulo","Amparo","ARSESP","COMGÁS","Residencial","Mensal",600.01,1000,{"$f":"Cálculo!$G$72","v":10.324},{"$f":"Cálculo!$H$72","v":18.600000000000001}]
["SP","São Paulo","Amparo","ARSESP","COMGÁS","Residencial","Mensal",1000.01,null,{"$f":"Cálculo!$G$73","v":7.2949999999999999},{"$f":"Cálculo!$H$73","v":18.600000000000001}]
["SP","São Paulo","Amparo","ARSESP","COMGÁS","Comercial","Mensal",0,0,{"$f":"Cálculo!$G$76","v":0},{"$f":"Cálculo!$H$76","v":0}]
["SP","São Paulo","Amparo","ARSESP","COMGÁS","Comercial","Mensal",0.01,50,{"$f":"Cálculo!$G$77","v":9.2490000000000006},{"$f":"Cálculo!$H$77","v":60.76}]
["SP","São Paulo","Amparo","ARSESP","COMGÁS","Comercial","Mensal",50.01,150,{"$f":"Cálculo!$G$78","v":8.49},{"$f":"Cálculo!$H$78","v":98.73}]
["SP","São Paulo","Amparo","ARSESP","COMGÁS","Comercial","Mensal",150.01,500,{"$f":"Cálculo!$G$79","v":7.9859999999999998},{"$f":"Cálculo!$H$79","v":174.66}]
["SP","São Paulo","Amparo","ARSESP","COMGÁS","Comercial","Mensal",500.01,2000,{"$f":"Cálculo!$G$80","v":7.5380000000000003},{"$f":"Cálculo!$H$80","v":398.71}]
["SP","São Paulo","Amparo","ARSESP","COMGÁS","Comercial","Mensal",2000.01,3500,{"$f":"Cálculo!$G$81","v":6.819},{"$f":"Cálculo!$H$81","v":1837.86}]
["SP","São Paulo","Amparo","ARSESP","COMGÁS","Comercial","Mensal",3500.01,50000,{"$f":"Cálculo!$G$82","v":5.3760000000000003},{"$f":"Cálculo!$H$82","v":6892.16}]
["SP","São Paulo","Amparo","ARSESP","COMGÁS","Comercial","Mensal",50000.01,null,{"$f":"Cálculo!$G$83","v":5.1479999999999997},{"$f":"Cálculo!$H$83","v":18284.09}]
["SP","São Paulo","Amparo","ARSESP","COMGÁS","Industrial","Mensal",0,50000,{"$f":"Cálculo!$G$86","v":4.726},{"$f":"Cálculo!$H$86","v":387.36}]
["SP","São Paulo","Amparo","ARSESP","COMGÁS","Industrial","Mensal",50000.01,300000,{"$f":"Cálculo!$G$87","v":3.5019999999999998},{"$f":"Cálculo!$H$87","v":61597.41}]
["SP","São Paulo","Amparo","ARSESP","COMGÁS","Industrial","Mensal",300000.01,500000,{"$f":"Cálculo!$G$88","v":3.36},{"$f":"Cálculo!$H$88","v":110975.06}]
["SP","São Paulo","Amparo","ARSESP","COMGÁS","Industrial","Mensal",500000.01,1000000,{"$f":"Cálculo!$G$89","v":3.3340000000000001},{"$f":"Cálculo!$H$89","v":124035.06}]
["SP","São Paulo","Amparo","ARSESP","COMGÁS","Industrial","Mensal",1000000.01,2000000,{"$f":"Cálculo!$G$90","v":3.2810000000000001},{"$f":"Cálculo!$H$90","v":177422.21}]
["SP","São Paulo","Amparo","ARSESP","COMGÁS","Industrial","Mensal",2000000.01,null,{"$f":"Cálculo!$G$91","v":3.2330000000000001},{"$f":"Cálculo!$H$91","v":316707.87}]
["SP","São Paulo","Amparo","ARSESP","COMGÁS","GNV","Faixa Única",null,null,{"$f":"Cálculo!$G$94","v":3.2148460000000001}]
["SP","São Paulo","Analândia","ARSESP","COMGÁS","Residencial","Mensal",0,1,{"$f":"Cálculo!$G$66","v":3.2869999999999999},{"$f":"Cálculo!$H$66","v":11.39}]
["SP","São Paulo","Analândia","ARSESP","COMGÁS","Residencial","Mensal",1.01,3,{"$f":"Cálculo!$G$67","v":10.834},{"$f":"Cálculo!$H$67","v":14.87}]
["SP","São Paulo","Analândia","ARSESP","COMGÁS","Residencial","Mensal",3.01,7,{"$f":"Cálculo!$G$68","v":5.6470000000000002},{"$f":"Cálculo!$H$68","v":14.87}]
["SP","São Paulo","Analândia","ARSESP","COMGÁS","Residencial","Mensal",7.01,14,{"$f":"Cálculo!$G$69","v":9.3699999999999992},{"$f":"Cálculo!$H$69","v":16.739999999999998}]
["SP","São Paulo","Analândia","ARSESP","COMGÁS","Residencial","Mensal",14.01,34,{"$f":"Cálculo!$G$70","v":11.132},{"$f":"Cálculo!$H$70","v":18.600000000000001}]
["SP","São Paulo","Analândia","ARSESP","COMGÁS","Residencial","Mensal",34.01,600,{"$f":"Cálculo!$G$71","v":11.92},{"$f":"Cálculo!$H$71","v":18.600000000000001}]
["SP","São Paulo","Analândia","ARSESP","COMGÁS","Residencial","Mensal",600.01,1000,{"$f":"Cálculo!$G$72","v":10.324},{"$f":"Cálculo!$H$72","v":18.600000000000001}]
["SP","São Paulo","Analândia","ARSESP","COMGÁS","Residencial","Mensal",1000.01,null,{"$f":"Cálculo!$G$73","v":7.2949999999999999},{"$f":"Cálculo!$H$73","v":18.600000000000001}]
["SP","São Paulo","Analândia","ARSESP","COMGÁS","Comercial","Mensal",0,0,{"$f":"Cálculo!$G$76","v":0},{"$f":"Cálculo!$H$76","v":0}]
["SP","São Paulo","Analândia","ARSESP","COMGÁS","Comercial","Mensal",0.01,50,{"$f":"Cálculo!$G$77","v":9.2490000000000006},{"$f":"Cálculo!$H$77","v":60.76}]
["SP","São Paulo","Analândia","ARSESP","COMGÁS","Comercial","Mensal",50.01,150,{"$f":"Cálculo!$G$78","v":8.49},{"$f":"Cálculo!$H$78","v":98.73}]
["SP","São Paulo","Analândia","ARSESP","COMGÁS","Comercial","Mensal",150.01,500,{"$f":"Cálculo!$G$79","v":7.9859999999999998},{"$f":"Cálculo!$H$79","v":174.66}]
["SP","São Paulo","Analândia","ARSESP","COMGÁS","Comercial","Mensal",500.01,2000,{"$f":"Cálculo!$G$80","v":7.5380000000000003},{"$f":"Cálculo!$H$80","v":398.71}]
["SP","São Paulo","Analândia","ARSESP","COMGÁS","Comercial","Mensal",2000.01,3500,{"$f":"Cálculo!$G$81","v":6.819},{"$f":"Cálculo!$H$81","v":1837.86}]
["SP","São Paulo","Analândia","ARSESP","COMGÁS","Comercial","Mensal",3500.01,50000,{"$f":"Cálculo!$G$82","v":5.3760000000000003},{"$f":"Cálculo!$H$82","v":6892.16}]
["SP","São Paulo","Analândia","ARSESP","COMGÁS","Comercial","Mensal",50000.01,null,{"$f":"Cálculo!$G$83","v":5.1479999999999997},{"$f":"Cálculo!$H$83","v":18284.09}]
["SP","São Paulo","Analândia","ARSESP","COMGÁS","Industrial","Mensal",0,50000,{"$f":"Cálculo!$G$86","v":4.726},{"$f":"Cálculo!$H$86","v":387.36}]
["SP","São Paulo","Analândia","ARSESP","COMGÁS","Industrial","Mensal",50000.01,300000,{"$f":"Cálculo!$G$87","v":3.5019999999999998},{"$f":"Cálculo!$H$87","v":61597.41}]
["SP","São Paulo","Analândia","ARSESP","COMGÁS","Industrial","Mensal",300000.01,500000,{"$f":"Cálculo!$G$88","v":3.36},{"$f":"Cálculo!$H$88","v":110975.06}]
["SP","São Paulo","Analândia","ARSESP","COMGÁS","Industrial","Mensal",500000.01,1000000,{"$f":"Cálculo!$G$89","v":3.3340000000000001},{"$f":"Cálculo!$H$89","v":124035.06}]
["SP","São Paulo","Analândia","ARSESP","COMGÁS","Industrial","Mensal",1000000.01,2000000,{"$f":"Cálculo!$G$90","v":3.2810000000000001},{"$f":"Cálculo!$H$90","v":177422.21}]
["SP","São Paulo","Analândia","ARSESP","COMGÁS","Industrial","Mensal",2000000.01,null,{"$f":"Cálculo!$G$91","v":3.2330000000000001},{"$f":"Cálculo!$H$91","v":316707.87}]
["SP","São Paulo","Analândia","ARSESP","COMGÁS","GNV","Faixa Única",null,null,{"$f":"Cálculo!$G$94","v":3.2148460000000001}]
["SP","São Paulo","Aparecida","ARSESP","COMGÁS","Residencial","Mensal",0,1,{"$f":"Cálculo!$G$66","v":3.2869999999999999},{"$f":"Cálculo!$H$66","v":11.39}]
["SP","São Paulo","Aparecida","ARSESP","COMGÁS","Residencial","Mensal",1.01,3,{"$f":"Cálculo!$G$67","v":10.834},{"$f":"Cálculo!$H$67","v":14.87}]
["SP","São Paulo","Aparecida","ARSESP","COMGÁS","Residencial","Mensal",3.01,7,{"$f":"Cálculo!$G$68","v":5.6470000000000002},{"$f":"Cálculo!$H$68","v":14.87}]
["SP","São Paulo","Aparecida","ARSESP","COMGÁS","Residencial","Mensal",7.01,14,{"$f":"Cálculo!$G$69","v":9.3699999999999992},{"$f":"Cálculo!$H$69","v":16.739999999999998}]
["SP","São Paulo","Aparecida","ARSESP","COMGÁS","Residencial","Mensal",14.01,34,{"$f":"Cálculo!$G$70","v":11.132},{"$f":"Cálculo!$H$70","v":18.600000000000001}]
["SP","São Paulo","Aparecida","ARSESP","COMGÁS","Residencial","Mensal",34.01,600,{"$f":"Cálculo!$G$71","v":11.92},{"$f":"Cálculo!$H$71","v":18.600000000000001}]
["SP","São Paulo","Aparecida","ARSESP","COMGÁS","Residencial","Mensal",600.01,1000,{"$f":"Cálculo!$G$72","v":10.324},{"$f":"Cálculo!$H$72","v":18.600000000000001}]
["SP","São Paulo","Aparecida","ARSESP","COMGÁS","Residencial","Mensal",1000.01,null,{"$f":"Cálculo!$G$73","v":7.2949999999999999},{"$f":"Cálculo!$H$73","v":18.600000000000001}]
["SP","São Paulo","Aparecida","ARSESP","COMGÁS","Comercial","Mensal",0,0,{"$f":"Cálculo!$G$76","v":0},{"$f":"Cálculo!$H$76","v":0}]
["SP","São Paulo","Aparecida","ARSESP","COMGÁS","Comercial","Mensal",0.01,50,{"$f":"Cálculo!$G$77","v":9.2490000000000006},{"$f":"Cálculo!$H$77","v":60.76}]
["SP","São Paulo","Aparecida","ARSESP","COMGÁS","Comercial","Mensal",50.01,150,{"$f":"Cálculo!$G$78","v":8.49},{"$f":"Cálculo!$H$78","v":98.73}]
["SP","São Paulo","Aparecida","ARSESP","COMGÁS","Comercial","Mensal",150.01,500,{"$f":"Cálculo!$G$79","v":7.9859999999999998},{"$f":"Cálculo!$H$79","v":174.66}]
["SP","São Paulo","Aparecida","ARSESP","COMGÁS","Comercial","Mensal",500.01,2000,{"$f":"Cálculo!$G$80","v":7.5380000000000003},{"$f":"Cálculo!$H$80","v":398.71}]
["SP","São Paulo","Aparecida","ARSESP","COMGÁS","Comercial","Mensal",2000.01,3500,{"$f":"Cálculo!$G$81","v":6.819},{"$f":"Cálculo!$H$81","v":1837.86}]
["SP","São Paulo","Aparecida","ARSESP","COMGÁS","Comercial","Mensal",3500.01,50000,{"$f":"Cálculo!$G$82","v":5.3760000000000003},{"$f":"Cálculo!$H$82","v":6892.16}]
["SP","São Paulo","Aparecida","ARSESP","COMGÁS","Comercial","Mensal",50000.01,null,{"$f":"Cálculo!$G$83","v":5.1479999999999997},{"$f":"Cálculo!$H$83","v":18284.09}]
["SP","São Paulo","Aparecida","ARSESP","COMGÁS","Industrial","Mensal",0,50000,{"$f":"Cálculo!$G$86","v":4.726},{"$f":"Cálculo!$H$86","v":387.36}]
["SP","São Paulo","Aparecida","ARSESP","COMGÁS","Industrial","Mensal",50000.01,300000,{"$f":"Cálculo!$G$87","v":3.5019999999999998},{"$f":"Cálculo!$H$87","v":61597.41}]
["SP","São Paulo","Aparecida","ARSESP","COMGÁS","Industrial","Mensal",300000.01,500000,{"$f":"Cálculo!$G$88","v":3.36},{"$f":"Cálculo!$H$88","v":110975.06}]
["SP","São Paulo","Aparecida","ARSESP","COMGÁS","Industrial","Mensal",500000.01,1000000,{"$f":"Cálculo!$G$89","v":3.3340000000000001},{"$f":"Cálculo!$H$89","v":124035.06}]
["SP","São Paulo","Aparecida","ARSESP","COMGÁS","Industrial","Mensal",1000000.01,2000000,{"$f":"Cálculo!$G$90","v":3.2810000000000001},{"$f":"Cálculo!$H$90","v":177422.21}]
["SP","São Paulo","Aparecida","ARSESP","COMGÁS","Industrial","Mensal",2000000.01,null,{"$f":"Cálculo!$G$91","v":3.2330000000000001},{"$f":"Cálculo!$H$91","v":316707.87}]
["SP","São Paulo","Aparecida","ARSESP","COMGÁS","GNV","Faixa Única",null,null,{"$f":"Cálculo!$G$94","v":3.2148460000000001}]
["SP","São Paulo","Arapeí","ARSESP","COMGÁS","Residencial","Mensal",0,1,{"$f":"Cálculo!$G$66","v":3.2869999999999999},{"$f":"Cálculo!$H$66","v":11.39}]
["SP","São Paulo","Arapeí","ARSESP","COMGÁS","Residencial","Mensal",1.01,3,{"$f":"Cálculo!$G$67","v":10.834},{"$f":"Cálculo!$H$67","v":14.87}]
["SP","São Paulo","Arapeí","ARSESP","COMGÁS","Residencial","Mensal",3.01,7,{"$f":"Cálculo!$G$68","v":5.6470000000000002},{"$f":"Cálculo!$H$68","v":14.87}]
["SP","São Paulo","Arapeí","ARSESP","COMGÁS","Residencial","Mensal",7.01,14,{"$f":"Cálculo!$G$69","v":9.3699999999999992},{"$f":"Cálculo!$H$69","v":16.739999999999998}]
["SP","São Paulo","Arapeí","ARSESP","COMGÁS","Residencial","Mensal",14.01,34,{"$f":"Cálculo!$G$70","v":11.132},{"$f":"Cálculo!$H$70","v":18.600000000000001}]
["SP","São Paulo","Arapeí","ARSESP","COMGÁS","Residencial","Mensal",34.01,600,{"$f":"Cálculo!$G$71","v":11.92},{"$f":"Cálculo!$H$71","v":18.600000000000001}]
["SP","São Paulo","Arapeí","ARSESP","COMGÁS","Residencial","Mensal",600.01,1000,{"$f":"Cálculo!$G$72","v":10.324},{"$f":"Cálculo!$H$72","v":18.600000000000001}]
["SP","São Paulo","Arapeí","ARSESP","COMGÁS","Residencial","Mensal",1000.01,null,{"$f":"Cálculo!$G$73","v":7.2949999999999999},{"$f":"Cálculo!$H$73","v":18.600000000000001}]
["SP","São Paulo","Arapeí","ARSESP","COMGÁS","Comercial","Mensal",0,0,{"$f":"Cálculo!$G$76","v":0},{"$f":"Cálculo!$H$76","v":0}]
["SP","São Paulo","Arapeí","ARSESP","COMGÁS","Comercial","Mensal",0.01,50,{"$f":"Cálculo!$G$77","v":9.2490000000000006},{"$f":"Cálculo!$H$77","v":60.76}]
["SP","São Paulo","Arapeí","ARSESP","COMGÁS","Comercial","Mensal",50.01,150,{"$f":"Cálculo!$G$78","v":8.49},{"$f":"Cálculo!$H$78","v":98.73}]
["SP","São Paulo","Arapeí","ARSESP","COMGÁS","Comercial","Mensal",150.01,500,{"$f":"Cálculo!$G$79","v":7.9859999999999998},{"$f":"Cálculo!$H$79","v":174.66}]
["SP","São Paulo","Arapeí","ARSESP","COMGÁS","Comercial","Mensal",500.01,2000,{"$f":"Cálculo!$G$80","v":7.5380000000000003},{"$f":"Cálculo!$H$80","v":398.71}]
["SP","São Paulo","Arapeí","ARSESP","COMGÁS","Comercial","Mensal",2000.01,3500,{"$f":"Cálculo!$G$81","v":6.819},{"$f":"Cálculo!$H$81","v":1837.86}]
["SP","São Paulo","Arapeí","ARSESP","COMGÁS","Comercial","Mensal",3500.01,50000,{"$f":"Cálculo!$G$82","v":5.3760000000000003},{"$f":"Cálculo!$H$82","v":6892.16}]
["SP","São Paulo","Arapeí","ARSESP","COMGÁS","Comercial","Mensal",50000.01,null,{"$f":"Cálculo!$G$83","v":5.1479999999999997},{"$f":"Cálculo!$H$83","v":18284.09}]
["SP","São Paulo","Arapeí","ARSESP","COMGÁS","Industrial","Mensal",0,50000,{"$f":"Cálculo!$G$86","v":4.726},{"$f":"Cálculo!$H$86","v":387.36}]
["SP","São Paulo","Arapeí","ARSESP","COMGÁS","Industrial","Mensal",50000.01,300000,{"$f":"Cálculo!$G$87","v":3.5019999999999998},{"$f":"Cálculo!$H$87","v":61597.41}]
["SP","São Paulo","Arapeí","ARSESP","COMGÁS","Industrial","Mensal",300000.01,500000,{"$f":"Cálculo!$G$88","v":3.36},{"$f":"Cálculo!$H$88","v":110975.06}]
["SP","São Paulo","Arapeí","ARSESP","COMGÁS","Industrial","Mensal",500000.01,1000000,{"$f":"Cálculo!$G$89","v":3.3340000000000001},{"$f":"Cálculo!$H$89","v":124035.06}]
["SP","São Paulo","Arapeí","ARSESP","COMGÁS","Industrial","Mensal",1000000.01,2000000,{"$f":"Cálculo!$G$90","v":3.2810000000000001},{"$f":"Cálculo!$H$90","v":177422.21}]
["SP","São Paulo","Arapeí","ARSESP","COMGÁS","Industrial","Mensal",2000000.01,null,{"$f":"Cálculo!$G$91","v":3.2330000000000001},{"$f":"Cálculo!$H$91","v":316707.87}]
["SP","São Paulo","Arapeí","ARSESP","COMGÁS","GNV","Faixa Única",null,null,{"$f":"Cálculo!$G$94","v":3.2148460000000001}]
["SP","São Paulo","Araras","ARSESP","COMGÁS","Residencial","Mensal",0,1,{"$f":"Cálculo!$G$66","v":3.2869999999999999},{"$f":"Cálculo!$H$66","v":11.39}]
["SP","São Paulo","Araras","ARSESP","COMGÁS","Residencial","Mensal",1.01,3,{"$f":"Cálculo!$G$67","v":10.834},{"$f":"Cálculo!$H$67","v":14.87}]
["SP","São Paulo","Araras","ARSESP","COMGÁS","Residencial","Mensal",3.01,7,{"$f":"Cálculo!$G$68","v":5.6470000000000002},{"$f":"Cálculo!$H$68","v":14.87}]
["SP","São Paulo","Araras","ARSESP","COMGÁS","Residencial","Mensal",7.01,14,{"$f":"Cálculo!$G$69","v":9.3699999999999992},{"$f":"Cálculo!$H$69","v":16.739999999999998}]
["SP","São Paulo","Araras","ARSESP","COMGÁS","Residencial","Mensal",14.01,34,{"$f":"Cálculo!$G$70","v":11.132},{"$f":"Cálculo!$H$70","v":18.600000000000001}]
["SP","São Paulo","Araras","ARSESP","COMGÁS","Residencial","Mensal",34.01,600,{"$f":"Cálculo!$G$71","v":11.92},{"$f":"Cálculo!$H$71","v":18.600000000000001}]
["SP","São Paulo","Araras","ARSESP","COMGÁS","Residencial","Mensal",600.01,1000,{"$f":"Cálculo!$G$72","v":10.324},{"$f":"Cálculo!$H$72","v":18.600000000000001}]
["SP","São Paulo","Araras","ARSESP","COMGÁS","Residencial","Mensal",1000.01,null,{"$f":"Cálculo!$G$73","v":7.2949999999999999},{"$f":"Cálculo!$H$73","v":18.600000000000001}]
["SP","São Paulo","Araras","ARSESP","COMGÁS","Comercial","Mensal",0,0,{"$f":"Cálculo!$G$76","v":0},{"$f":"Cálculo!$H$76","v":0}]
["SP","São Paulo","Araras","ARSESP","COMGÁS","Comercial","Mensal",0.01,50,{"$f":"Cálculo!$G$77","v":9.2490000000000006},{"$f":"Cálculo!$H$77","v":60.76}]
["SP","São Paulo","Araras","ARSESP","COMGÁS","Comercial","Mensal",50.01,150,{"$f":"Cálculo!$G$78","v":8.49},{"$f":"Cálculo!$H$78","v":98.73}]
["SP","São Paulo","Araras","ARSESP","COMGÁS","Comercial","Mensal",150.01,500,{"$f":"Cálculo!$G$79","v":7.9859999999999998},{"$f":"Cálculo!$H$79","v":174.66}]
["SP","São Paulo","Araras","ARSESP","COMGÁS","Comercial","Mensal",500.01,2000,{"$f":"Cálculo!$G$80","v":7.5380000000000003},{"$f":"Cálculo!$H$80","v":398.71}]
["SP","São Paulo","Araras","ARSESP","COMGÁS","Comercial","Mensal",2000.01,3500,{"$f":"Cálculo!$G$81","v":6.819},{"$f":"Cálculo!$H$81","v":1837.86}]
["SP","São Paulo","Araras","ARSESP","COMGÁS","Comercial","Mensal",3500.01,50000,{"$f":"Cálculo!$G$82","v":5.3760000000000003},{"$f":"Cálculo!$H$82","v":6892.16}]
["SP","São Paulo","Araras","ARSESP","COMGÁS","Comercial","Mensal",50000.01,null,{"$f":"Cálculo!$G$83","v":5.1479999999999997},{"$f":"Cálculo!$H$83","v":18284.09}]
["SP","São Paulo","Araras","ARSESP","COMGÁS","Industrial","Mensal",0,50000,{"$f":"Cálculo!$G$86","v":4.726},{"$f":"Cálculo!$H$86","v":387.36}]
["SP","São Paulo","Araras","ARSESP","COMGÁS","Industrial","Mensal",50000.01,300000,{"$f":"Cálculo!$G$87","v":3.5019999999999998},{"$f":"Cálculo!$H$87","v":61597.41}]
["SP","São Paulo","Araras","ARSESP","COMGÁS","Industrial","Mensal",300000.01,500000,{"$f":"Cálculo!$G$88","v":3.36},{"$f":"Cálculo!$H$88","v":110975.06}]
["SP","São Paulo","Araras","ARSESP","COMGÁS","Industrial","Mensal",500000.01,1000000,{"$f":"Cálculo!$G$89","v":3.3340000000000001},{"$f":"Cálculo!$H$89","v":124035.06}]
["SP","São Paulo","Araras","ARSESP","COMGÁS","Industrial","Mensal",1000000.01,2000000,{"$f":"Cálculo!$G$90","v":3.2810000000000001},{"$f":"Cálculo!$H$90","v":177422.21}]
["SP","São Paulo","Araras","ARSESP","COMGÁS","Industrial","Mensal",2000000.01,null,{"$f":"Cálculo!$G$91","v":3.2330000000000001},{"$f":"Cálculo!$H$91","v":316707.87}]
["SP","São Paulo","Araras","ARSESP","COMGÁS","GNV","Faixa Única",null,null,{"$f":"Cálculo!$G$94","v":3.2148460000000001}]
["SP","São Paulo","Areias","ARSESP","COMGÁS","Residencial","Mensal",0,1,{"$f":"Cálculo!$G$66","v":3.2869999999999999},{"$f":"Cálculo!$H$66","v":11.39}]
["SP","São Paulo","Areias","ARSESP","COMGÁS","Residencial","Mensal",1.01,3,{"$f":"Cálculo!$G$67","v":10.834},{"$f":"Cálculo!$H$67","v":14.87}]
["SP","São Paulo","Areias","ARSESP","COMGÁS","Residencial","Mensal",3.01,7,{"$f":"Cálculo!$G$68","v":5.6470000000000002},{"$f":"Cálculo!$H$68","v":14.87}]
["SP","São Paulo","Areias","ARSESP","COMGÁS","Residencial","Mensal",7.01,14,{"$f":"Cálculo!$G$69","v":9.3699999999999992},{"$f":"Cálculo!$H$69","v":16.739999999999998}]
["SP","São Paulo","Areias","ARSESP","COMGÁS","Residencial","Mensal",14.01,34,{"$f":"Cálculo!$G$70","v":11.132},{"$f":"Cálculo!$H$70","v":18.600000000000001}]
["SP","São Paulo","Areias","ARSESP","COMGÁS","Residencial","Mensal",34.01,600,{"$f":"Cálculo!$G$71","v":11.92},{"$f":"Cálculo!$H$71","v":18.600000000000001}]
["SP","São Paulo","Areias","ARSESP","COMGÁS","Residencial","Mensal",600.01,1000,{"$f":"Cálculo!$G$72","v":10.324},{"$f":"Cálculo!$H$72","v":18.600000000000001}]
["SP","São Paulo","Areias","ARSESP","COMGÁS","Residencial","Mensal",1000.01,null,{"$f":"Cálculo!$G$73","v":7.2949999999999999},{"$f":"Cálculo!$H$73","v":18.600000000000001}]
["SP","São Paulo","Areias","ARSESP","COMGÁS","Comercial","Mensal",0,0,{"$f":"Cálculo!$G$76","v":0},{"$f":"Cálculo!$H$76","v":0}]
["SP","São Paulo","Areias","ARSESP","COMGÁS","Comercial","Mensal",0.01,50,{"$f":"Cálculo!$G$77","v":9.2490000000000006},{"$f":"Cálculo!$H$77","v":60.76}]
["SP","São Paulo","Areias","ARSESP","COMGÁS","Comercial","Mensal",50.01,150,{"$f":"Cálculo!$G$78","v":8.49},{"$f":"Cálculo!$H$78","v":98.73}]
["SP","São Paulo","Areias","ARSESP","COMGÁS","Comercial","Mensal",150.01,500,{"$f":"Cálculo!$G$79","v":7.9859999999999998},{"$f":"Cálculo!$H$79","v":174.66}]
["SP","São Paulo","Areias","ARSESP","COMGÁS","Comercial","Mensal",500.01,2000,{"$f":"Cálculo!$G$80","v":7.5380000000000003},{"$f":"Cálculo!$H$80","v":398.71}]
["SP","São Paulo","Areias","ARSESP","COMGÁS","Comercial","Mensal",2000.01,3500,{"$f":"Cálculo!$G$81","v":6.819},{"$f":"Cálculo!$H$81","v":1837.86}]
["SP","São Paulo","Areias","ARSESP","COMGÁS","Comercial","Mensal",3500.01,50000,{"$f":"Cálculo!$G$82","v":5.3760000000000003},{"$f":"Cálculo!$H$82","v":6892.16}]
["SP","São Paulo","Areias","ARSESP","COMGÁS","Comercial","Mensal",50000.01,null,{"$f":"Cálculo!$G$83","v":5.1479999999999997},{"$f":"Cálculo!$H$83","v":18284.09}]
["SP","São Paulo","Areias","ARSESP","COMGÁS","Industrial","Mensal",0,50000,{"$f":"Cálculo!$G$86","v":4.726},{"$f":"Cálculo!$H$86","v":387.36}]
["SP","São Paulo","Areias","ARSESP","COMGÁS","Industrial","Mensal",50000.01,300000,{"$f":"Cálculo!$G$87","v":3.5019999999999998},{"$f":"Cálculo!$H$87","v":61597.41}]
["SP","São Paulo","Areias","ARSESP","COMGÁS","Industrial","Mensal",300000.01,500000,{"$f":"Cálculo!$G$88","v":3.36},{"$f":"Cálculo!$H$88","v":110975.06}]
["SP","São Paulo","Areias","ARSESP","COMGÁS","Industrial","Mensal",500000.01,1000000,{"$f":"Cálculo!$G$89","v":3.3340000000000001},{"$f":"Cálculo!$H$89","v":124035.06}]
["SP","São Paulo","Areias","ARSESP","COMGÁS","Industrial","Mensal",1000000.01,2000000,{"$f":"Cálculo!$G$90","v":3.2810000000000001},{"$f":"Cálculo!$H$90","v":177422.21}]
["SP","São Paulo","Areias","ARSESP","COMGÁS","Industrial","Mensal",2000000.01,null,{"$f":"Cálculo!$G$91","v":3.2330000000000001},{"$f":"Cálculo!$H$91","v":316707.87}]
["SP","São Paulo","Areias","ARSESP","COMGÁS","GNV","Faixa Única",null,null,{"$f":"Cálculo!$G$94","v":3.2148460000000001}]
["SP","São Paulo","Artur Nogueira","ARSESP","COMGÁS","Residencial","Mensal",0,1,{"$f":"Cálculo!$G$66","v":3.2869999999999999},{"$f":"Cálculo!$H$66","v":11.39}]
["SP","São Paulo","Artur Nogueira","ARSESP","COMGÁS","Residencial","Mensal",1.01,3,{"$f":"Cálculo!$G$67","v":10.834},{"$f":"Cálculo!$H$67","v":14.87}]
["SP","São Paulo","Artur Nogueira","ARSESP","COMGÁS","Residencial","Mensal",3.01,7,{"$f":"Cálculo!$G$68","v":5.6470000000000002},{"$f":"Cálculo!$H$68","v":14.87}]
["SP","São Paulo","Artur Nogueira","ARSESP","COMGÁS","Residencial","Mensal",7.01,14,{"$f":"Cálculo!$G$69","v":9.3699999999999992},{"$f":"Cálculo!$H$69","v":16.739999999999998}]
["SP","São Paulo","Artur Nogueira","ARSESP","COMGÁS","Residencial","Mensal",14.01,34,{"$f":"Cálculo!$G$70","v":11.132},{"$f":"Cálculo!$H$70","v":18.600000000000001}]
["SP","São Paulo","Artur Nogueira","ARSESP","COMGÁS","Residencial","Mensal",34.01,600,{"$f":"Cálculo!$G$71","v":11.92},{"$f":"Cálculo!$H$71","v":18.600000000000001}]
["SP","São Paulo","Artur Nogueira","ARSESP","COMGÁS","Residencial","Mensal",600.01,1000,{"$f":"Cálculo!$G$72","v":10.324},{"$f":"Cálculo!$H$72","v":18.600000000000001}]
["SP","São Paulo","Artur Nogueira","ARSESP","COMGÁS","Residencial","Mensal",1000.01,null,{"$f":"Cálculo!$G$73","v":7.2949999999999999},{"$f":"Cálculo!$H$73","v":18.600000000000001}]
["SP","São Paulo","Artur Nogueira","ARSESP","COMGÁS","Comercial","Mensal",0,0,{"$f":"Cálculo!$G$76","v":0},{"$f":"Cálculo!$H$76","v":0}]
["SP","São Paulo","Artur Nogueira","ARSESP","COMGÁS","Comercial","Mensal",0.01,50,{"$f":"Cálculo!$G$77","v":9.2490000000000006},{"$f":"Cálculo!$H$77","v":60.76}]
["SP","São Paulo","Artur Nogueira","ARSESP","COMGÁS","Comercial","Mensal",50.01,150,{"$f":"Cálculo!$G$78","v":8.49},{"$f":"Cálculo!$H$78","v":98.73}]
["SP","São Paulo","Artur Nogueira","ARSESP","COMGÁS","Comercial","Mensal",150.01,500,{"$f":"Cálculo!$G$79","v":7.9859999999999998},{"$f":"Cálculo!$H$79","v":174.66}]
["SP","São Paulo","Artur Nogueira","ARSESP","COMGÁS","Comercial","Mensal",500.01,2000,{"$f":"Cálculo!$G$80","v":7.5380000000000003},{"$f":"Cálculo!$H$80","v":398.71}]
["SP","São Paulo","Artur Nogueira","ARSESP","COMGÁS","Comercial","Mensal",2000.01,3500,{"$f":"Cálculo!$G$81","v":6.819},{"$f":"Cálculo!$H$81","v":1837.86}]
["SP","São Paulo","Artur Nogueira","ARSESP","COMGÁS","Comercial","Mensal",3500.01,50000,{"$f":"Cálculo!$G$82","v":5.3760000000000003},{"$f":"Cálculo!$H$82","v":6892.16}]
["SP","São Paulo","Artur Nogueira","ARSESP","COMGÁS","Comercial","Mensal",50000.01,null,{"$f":"Cálculo!$G$83","v":5.1479999999999997},{"$f":"Cálculo!$H$83","v":18284.09}]
["SP","São Paulo","Artur Nogueira","ARSESP","COMGÁS","Industrial","Mensal",0,50000,{"$f":"Cálculo!$G$86","v":4.726},{"$f":"Cálculo!$H$86","v":387.36}]
["SP","São Paulo","Artur Nogueira","ARSESP","COMGÁS","Industrial","Mensal",50000.01,300000,{"$f":"Cálculo!$G$87","v":3.5019999999999998},{"$f":"Cálculo!$H$87","v":61597.41}]
["SP","São Paulo","Artur Nogueira","ARSESP","COMGÁS","Industrial","Mensal",300000.01,500000,{"$f":"Cálculo!$G$88","v":3.36},{"$f":"Cálculo!$H$88","v":110975.06}]
["SP","São Paulo","Artur Nogueira","ARSESP","COMGÁS","Industrial","Mensal",500000.01,1000000,{"$f":"Cálculo!$G$89","v":3.3340000000000001},{"$f":"Cálculo!$H$89","v":124035.06}]
["SP","São Paulo","Artur Nogueira","ARSESP","COMGÁS","Industrial","Mensal",1000000.01,2000000,{"$f":"Cálculo!$G$90","v":3.2810000000000001},{"$f":"Cálculo!$H$90","v":177422.21}]
["SP","São Paulo","Artur Nogueira","ARSESP","COMGÁS","Industrial","Mensal",2000000.01,null,{"$f":"Cálculo!$G$91","v":3.2330000000000001},{"$f":"Cálculo!$H$91","v":316707.87}]
["SP","São Paulo","Artur Nogueira","ARSESP","COMGÁS","GNV","Faixa Única",null,null,{"$f":"Cálculo!$G$94","v":3.2148460000000001}]
["SP","São Paulo","Arujá","ARSESP","COMGÁS","Residencial","Mensal",0,1,{"$f":"Cálculo!$G$66","v":3.2869999999999999},{"$f":"Cálculo!$H$66","v":11.39}]
["SP","São Paulo","Arujá","ARSESP","COMGÁS","Residencial","Mensal",1.01,3,{"$f":"Cálculo!$G$67","v":10.834},{"$f":"Cálculo!$H$67","v":14.87}]
["SP","São Paulo","Arujá","ARSESP","COMGÁS","Residencial","Mensal",3.01,7,{"$f":"Cálculo!$G$68","v":5.6470000000000002},{"$f":"Cálculo!$H$68","v":14.87}]
["SP","São Paulo","Arujá","ARSESP","COMGÁS","Residencial","Mensal",7.01,14,{"$f":"Cálculo!$G$69","v":9.3699999999999992},{"$f":"Cálculo!$H$69","v":16.739999999999998}]
["SP","São Paulo","Arujá","ARSESP","COMGÁS","Residencial","Mensal",14.01,34,{"$f":"Cálculo!$G$70","v":11.132},{"$f":"Cálculo!$H$70","v":18.600000000000001}]
["SP","São Paulo","Arujá","ARSESP","COMGÁS","Residencial","Mensal",34.01,600,{"$f":"Cálculo!$G$71","v":11.92},{"$f":"Cálculo!$H$71","v":18.600000000000001}]
["SP","São Paulo","Arujá","ARSESP","COMGÁS","Residencial","Mensal",600.01,1000,{"$f":"Cálculo!$G$72","v":10.324},{"$f":"Cálculo!$H$72","v":18.600000000000001}]
["SP","São Paulo","Arujá","ARSESP","COMGÁS","Residencial","Mensal",1000.01,null,{"$f":"Cálculo!$G$73","v":7.2949999999999999},{"$f":"Cálculo!$H$73","v":18.600000000000001}]
["SP","São Paulo","Arujá","ARSESP","COMGÁS","Comercial","Mensal",0,0,{"$f":"Cálculo!$G$76","v":0},{"$f":"Cálculo!$H$76","v":0}]
["SP","São Paulo","Arujá","ARSESP","COMGÁS","Comercial","Mensal",0.01,50,{"$f":"Cálculo!$G$77","v":9.2490000000000006},{"$f":"Cálculo!$H$77","v":60.76}]
["SP","São Paulo","Arujá","ARSESP","COMGÁS","Comercial","Mensal",50.01,150,{"$f":"Cálculo!$G$78","v":8.49},{"$f":"Cálculo!$H$78","v":98.73}]
["SP","São Paulo","Arujá","ARSESP","COMGÁS","Comercial","Mensal",150.01,500,{"$f":"Cálculo!$G$79","v":7.9859999999999998},{"$f":"Cálculo!$H$79","v":174.66}]
["SP","São Paulo","Arujá","ARSESP","COMGÁS","Comercial","Mensal",500.01,2000,{"$f":"Cálculo!$G$80","v":7.5380000000000003},{"$f":"Cálculo!$H$80","v":398.71}]
["SP","São Paulo","Arujá","ARSESP","COMGÁS","Comercial","Mensal",2000.01,3500,{"$f":"Cálculo!$G$81","v":6.819},{"$f":"Cálculo!$H$81","v":1837.86}]
["SP","São Paulo","Arujá","ARSESP","COMGÁS","Comercial","Mensal",3500.01,50000,{"$f":"Cálculo!$G$82","v":5.3760000000000003},{"$f":"Cálculo!$H$82","v":6892.16}]
["SP","São Paulo","Arujá","ARSESP","COMGÁS","Comercial","Mensal",50000.01,null,{"$f":"Cálculo!$G$83","v":5.1479999999999997},{"$f":"Cálculo!$H$83","v":18284.09}]
["SP","São Paulo","Arujá","ARSESP","COMGÁS","Industrial","Mensal",0,50000,{"$f":"Cálculo!$G$86","v":4.726},{"$f":"Cálculo!$H$86","v":387.36}]
["SP","São Paulo","Arujá","ARSESP","COMGÁS","Industrial","Mensal",50000.01,300000,{"$f":"Cálculo!$G$87","v":3.5019999999999998},{"$f":"Cálculo!$H$87","v":61597.41}]
["SP","São Paulo","Arujá","ARSESP","COMGÁS","Industrial","Mensal",300000.01,500000,{"$f":"Cálculo!$G$88","v":3.36},{"$f":"Cálculo!$H$88","v":110975.06}]
["SP","São Paulo","Arujá","ARSESP","COMGÁS","Industrial","Mensal",500000.01,1000000,{"$f":"Cálculo!$G$89","v":3.3340000000000001},{"$f":"Cálculo!$H$89","v":124035.06}]
["SP","São Paulo","Arujá","ARSESP","COMGÁS","Industrial","Mensal",1000000.01,2000000,{"$f":"Cálculo!$G$90","v":3.2810000000000001},{"$f":"Cálculo!$H$90","v":177422.21}]
["SP","São Paulo","Arujá","ARSESP","COMGÁS","Industrial","Mensal",2000000.01,null,{"$f":"Cálculo!$G$91","v":3.2330000000000001},{"$f":"Cálculo!$H$91","v":316707.87}]
["SP","São Paulo","Arujá","ARSESP","COMGÁS","GNV","Faixa Única",null,null,{"$f":"Cálculo!$G$94","v":3.2148460000000001}]
["SP","São Paulo","Atibaia","ARSESP","COMGÁS","Residencial","Mensal",0,1,{"$f":"Cálculo!$G$66","v":3.2869999999999999},{"$f":"Cálculo!$H$66","v":11.39}]
["SP","São Paulo","Atibaia","ARSESP","COMGÁS","Residencial","Mensal",1.01,3,{"$f":"Cálculo!$G$67","v":10.834},{"$f":"Cálculo!$H$67","v":14.87}]
["SP","São Paulo","Atibaia","ARSESP","COMGÁS","Residencial","Mensal",3.01,7,{"$f":"Cálculo!$G$68","v":5.6470000000000002},{"$f":"Cálculo!$H$68","v":14.87}]
["SP","São Paulo","Atibaia","ARSESP","COMGÁS","Residencial","Mensal",7.01,14,{"$f":"Cálculo!$G$69","v":9.3699999999999992},{"$f":"Cálculo!$H$69","v":16.739999999999998}]
["SP","São Paulo","Atibaia","ARSESP","COMGÁS","Residencial","Mensal",14.01,34,{"$f":"Cálculo!$G$70","v":11.132},{"$f":"Cálculo!$H$70","v":18.600000000000001}]
["SP","São Paulo","Atibaia","ARSESP","COMGÁS","Residencial","Mensal",34.01,600,{"$f":"Cálculo!$G$71","v":11.92},{"$f":"Cálculo!$H$71","v":18.600000000000001}]
["SP","São Paulo","Atibaia","ARSESP","COMGÁS","Residencial","Mensal",600.01,1000,{"$f":"Cálculo!$G$72","v":10.324},{"$f":"Cálculo!$H$72","v":18.600000000000001}]
["SP","São Paulo","Atibaia","ARSESP","COMGÁS","Residencial","Mensal",1000.01,null,{"$f":"Cálculo!$G$73","v":7.2949999999999999},{"$f":"Cálculo!$H$73","v":18.600000000000001}]
["SP","São Paulo","Atibaia","ARSESP","COMGÁS","Comercial","Mensal",0,0,{"$f":"Cálculo!$G$76","v":0},{"$f":"Cálculo!$H$76","v":0}]
["SP","São Paulo","Atibaia","ARSESP","COMGÁS","Comercial","Mensal",0.01,50,{"$f":"Cálculo!$G$77","v":9.2490000000000006},{"$f":"Cálculo!$H$77","v":60.76}]
["SP","São Paulo","Atibaia","ARSESP","COMGÁS","Comercial","Mensal",50.01,150,{"$f":"Cálculo!$G$78","v":8.49},{"$f":"Cálculo!$H$78","v":98.73}]
["SP","São Paulo","Atibaia","ARSESP","COMGÁS","Comercial","Mensal",150.01,500,{"$f":"Cálculo!$G$79","v":7.9859999999999998},{"$f":"Cálculo!$H$79","v":174.66}]
["SP","São Paulo","Atibaia","ARSESP","COMGÁS","Comercial","Mensal",500.01,2000,{"$f":"Cálculo!$G$80","v":7.5380000000000003},{"$f":"Cálculo!$H$80","v":398.71}]
["SP","São Paulo","Atibaia","ARSESP","COMGÁS","Comercial","Mensal",2000.01,3500,{"$f":"Cálculo!$G$81","v":6.819},{"$f":"Cálculo!$H$81","v":1837.86}]
["SP","São Paulo","Atibaia","ARSESP","COMGÁS","Comercial","Mensal",3500.01,50000,{"$f":"Cálculo!$G$82","v":5.3760000000000003},{"$f":"Cálculo!$H$82","v":6892.16}]
["SP","São Paulo","Atibaia","ARSESP","COMGÁS","Comercial","Mensal",50000.01,null,{"$f":"Cálculo!$G$83","v":5.1479999999999997},{"$f":"Cálculo!$H$83","v":18284.09}]
["SP","São Paulo","Atibaia","ARSESP","COMGÁS","Industrial","Mensal",0,50000,{"$f":"Cálculo!$G$86","v":4.726},{"$f":"Cálculo!$H$86","v":387.36}]
["SP","São Paulo","Atibaia","ARSESP","COMGÁS","Industrial","Mensal",50000.01,300000,{"$f":"Cálculo!$G$87","v":3.5019999999999998},{"$f":"Cálculo!$H$87","v":61597.41}]
["SP","São Paulo","Atibaia","ARSESP","COMGÁS","Industrial","Mensal",300000.01,500000,{"$f":"Cálculo!$G$88","v":3.36},{"$f":"Cálculo!$H$88","v":110975.06}]
["SP","São Paulo","Atibaia","ARSESP","COMGÁS","Industrial","Mensal",500000.01,1000000,{"$f":"Cálculo!$G$89","v":3.3340000000000001},{"$f":"Cálculo!$H$89","v":124035.06}]
["SP","São Paulo","Atibaia","ARSESP","COMGÁS","Industrial","Mensal",1000000.01,2000000,{"$f":"Cálculo!$G$90","v":3.2810000000000001},{"$f":"Cálculo!$H$90","v":177422.21}]
["SP","São Paulo","Atibaia","ARSESP","COMGÁS","Industrial","Mensal",2000000.01,null,{"$f":"Cálculo!$G$91","v":3.2330000000000001},{"$f":"Cálculo!$H$91","v":316707.87}]
["SP","São Paulo","Atibaia","ARSESP","COMGÁS","GNV","Faixa Única",null,null,{"$f":"Cálculo!$G$94","v":3.2148460000000001}]
["SP","São Paulo","Bananal","ARSESP","COMGÁS","Residencial","Mensal",0,1,{"$f":"Cálculo!$G$66","v":3.2869999999999999},{"$f":"Cálculo!$H$66","v":11.39}]
["SP","São Paulo","Bananal","ARSESP","COMGÁS","Residencial","Mensal",1.01,3,{"$f":"Cálculo!$G$67","v":10.834},{"$f":"Cálculo!$H$67","v":14.87}]
["SP","São Paulo","Bananal","ARSESP","COMGÁS","Residencial","Mensal",3.01,7,{"$f":"Cálculo!$G$68","v":5.6470000000000002},{"$f":"Cálculo!$H$68","v":14.87}]
["SP","São Paulo","Bananal","ARSESP","COMGÁS","Residencial","Mensal",7.01,14,{"$f":"Cálculo!$G$69","v":9.3699999999999992},{"$f":"Cálculo!$H$69","v":16.739999999999998}]
["SP","São Paulo","Bananal","ARSESP","COMGÁS","Residencial","Mensal",14.01,34,{"$f":"Cálculo!$G$70","v":11.132},{"$f":"Cálculo!$H$70","v":18.600000000000001}]
["SP","São Paulo","Bananal","ARSESP","COMGÁS","Residencial","Mensal",34.01,600,{"$f":"Cálculo!$G$71","v":11.92},{"$f":"Cálculo!$H$71","v":18.600000000000001}]
["SP","São Paulo","Bananal","ARSESP","COMGÁS","Residencial","Mensal",600.01,1000,{"$f":"Cálculo!$G$72","v":10.324},{"$f":"Cálculo!$H$72","v":18.600000000000001}]
["SP","São Paulo","Bananal","ARSESP","COMGÁS","Residencial","Mensal",1000.01,null,{"$f":"Cálculo!$G$73","v":7.2949999999999999},{"$f":"Cálculo!$H$73","v":18.600000000000001}]
["SP","São Paulo","Bananal","ARSESP","COMGÁS","Comercial","Mensal",0,0,{"$f":"Cálculo!$G$76","v":0},{"$f":"Cálculo!$H$76","v":0}]
["SP","São Paulo","Bananal","ARSESP","COMGÁS","Comercial","Mensal",0.01,50,{"$f":"Cálculo!$G$77","v":9.2490000000000006},{"$f":"Cálculo!$H$77","v":60.76}]
["SP","São Paulo","Bananal","ARSESP","COMGÁS","Comercial","Mensal",50.01,150,{"$f":"Cálculo!$G$78","v":8.49},{"$f":"Cálculo!$H$78","v":98.73}]
["SP","São Paulo","Bananal","ARSESP","COMGÁS","Comercial","Mensal",150.01,500,{"$f":"Cálculo!$G$79","v":7.9859999999999998},{"$f":"Cálculo!$H$79","v":174.66}]
["SP","São Paulo","Bananal","ARSESP","COMGÁS","Comercial","Mensal",500.01,2000,{"$f":"Cálculo!$G$80","v":7.5380000000000003},{"$f":"Cálculo!$H$80","v":398.71}]
["SP","São Paulo","Bananal","ARSESP","COMGÁS","Comercial","Mensal",2000.01,3500,{"$f":"Cálculo!$G$81","v":6.819},{"$f":"Cálculo!$H$81","v":1837.86}]
["SP","São Paulo","Bananal","ARSESP","COMGÁS","Comercial","Mensal",3500.01,50000,{"$f":"Cálculo!$G$82","v":5.3760000000000003},{"$f":"Cálculo!$H$82","v":6892.16}]
["SP","São Paulo","Bananal","ARSESP","COMGÁS","Comercial","Mensal",50000.01,null,{"$f":"Cálculo!$G$83","v":5.1479999999999997},{"$f":"Cálculo!$H$83","v":18284.09}]
["SP","São Paulo","Bananal","ARSESP","COMGÁS","Industrial","Mensal",0,50000,{"$f":"Cálculo!$G$86","v":4.726},{"$f":"Cálculo!$H$86","v":387.36}]
["SP","São Paulo","Bananal","ARSESP","COMGÁS","Industrial","Mensal",50000.01,300000,{"$f":"Cálculo!$G$87","v":3.5019999999999998},{"$f":"Cálculo!$H$87","v":61597.41}]
["SP","São Paulo","Bananal","ARSESP","COMGÁS","Industrial","Mensal",300000.01,500000,{"$f":"Cálculo!$G$88","v":3.36},{"$f":"Cálculo!$H$88","v":110975.06}]
["SP","São Paulo","Bananal","ARSESP","COMGÁS","Industrial","Mensal",500000.01,1000000,{"$f":"Cálculo!$G$89","v":3.3340000000000001},{"$f":"Cálculo!$H$89","v":124035.06}]
["SP","São Paulo","Bananal","ARSESP","COMGÁS","Industrial","Mensal",1000000.01,2000000,{"$f":"Cálculo!$G$90","v":3.2810000000000001},{"$f":"Cálculo!$H$90","v":177422.21}]
["SP","São Paulo","Bananal","ARSESP","COMGÁS","Industrial","Mensal",2000000.01,null,{"$f":"Cálculo!$G$91","v":3.2330000000000001},{"$f":"Cálculo!$H$91","v":316707.87}]
["SP","São Paulo","Bananal","ARSESP","COMGÁS","GNV","Faixa Única",null,null,{"$f":"Cálculo!$G$94","v":3.2148460000000001}]
["SP","São Paulo","Barueri","ARSESP","COMGÁS","Residencial","Mensal",0,1,{"$f":"Cálculo!$G$66","v":3.2869999999999999},{"$f":"Cálculo!$H$66","v":11.39}]
["SP","São Paulo","Barueri","ARSESP","COMGÁS","Residencial","Mensal",1.01,3,{"$f":"Cálculo!$G$67","v":10.834},{"$f":"Cálculo!$H$67","v":14.87}]
["SP","São Paulo","Barueri","ARSESP","COMGÁS","Residencial","Mensal",3.01,7,{"$f":"Cálculo!$G$68","v":5.6470000000000002},{"$f":"Cálculo!$H$68","v":14.87}]
["SP","São Paulo","Barueri","ARSESP","COMGÁS","Residencial","Mensal",7.01,14,{"$f":"Cálculo!$G$69","v":9.3699999999999992},{"$f":"Cálculo!$H$69","v":16.739999999999998}]
["SP","São Paulo","Barueri","ARSESP","COMGÁS","Residencial","Mensal",14.01,34,{"$f":"Cálculo!$G$70","v":11.132},{"$f":"Cálculo!$H$70","v":18.600000000000001}]
["SP","São Paulo","Barueri","ARSESP","COMGÁS","Residencial","Mensal",34.01,600,{"$f":"Cálculo!$G$71","v":11.92},{"$f":"Cálculo!$H$71","v":18.600000000000001}]
["SP","São Paulo","Barueri","ARSESP","COMGÁS","Residencial","Mensal",600.01,1000,{"$f":"Cálculo!$G$72","v":10.324},{"$f":"Cálculo!$H$72","v":18.600000000000001}]
["SP","São Paulo","Barueri","ARSESP","COMGÁS","Residencial","Mensal",1000.01,null,{"$f":"Cálculo!$G$73","v":7.2949999999999999},{"$f":"Cálculo!$H$73","v":18.600000000000001}]
["SP","São Paulo","Barueri","ARSESP","COMGÁS","Comercial","Mensal",0,0,{"$f":"Cálculo!$G$76","v":0},{"$f":"Cálculo!$H$76","v":0}]
["SP","São Paulo","Barueri","ARSESP","COMGÁS","Comercial","Mensal",0.01,50,{"$f":"Cálculo!$G$77","v":9.2490000000000006},{"$f":"Cálculo!$H$77","v":60.76}]
["SP","São Paulo","Barueri","ARSESP","COMGÁS","Comercial","Mensal",50.01,150,{"$f":"Cálculo!$G$78","v":8.49},{"$f":"Cálculo!$H$78","v":98.73}]
["SP","São Paulo","Barueri","ARSESP","COMGÁS","Comercial","Mensal",150.01,500,{"$f":"Cálculo!$G$79","v":7.9859999999999998},{"$f":"Cálculo!$H$79","v":174.66}]
["SP","São Paulo","Barueri","ARSESP","COMGÁS","Comercial","Mensal",500.01,2000,{"$f":"Cálculo!$G$80","v":7.5380000000000003},{"$f":"Cálculo!$H$80","v":398.71}]
["SP","São Paulo","Barueri","ARSESP","COMGÁS","Comercial","Mensal",2000.01,3500,{"$f":"Cálculo!$G$81","v":6.819},{"$f":"Cálculo!$H$81","v":1837.86}]
["SP","São Paulo","Barueri","ARSESP","COMGÁS","Comercial","Mensal",3500.01,50000,{"$f":"Cálculo!$G$82","v":5.3760000000000003},{"$f":"Cálculo!$H$82","v":6892.16}]
["SP","São Paulo","Barueri","ARSESP","COMGÁS","Comercial","Mensal",50000.01,null,{"$f":"Cálculo!$G$83","v":5.1479999999999997},{"$f":"Cálculo!$H$83","v":18284.09}]
["SP","São Paulo","Barueri","ARSESP","COMGÁS","Industrial","Mensal",0,50000,{"$f":"Cálculo!$G$86","v":4.726},{"$f":"Cálculo!$H$86","v":387.36}]
["SP","São Paulo","Barueri","ARSESP","COMGÁS","Industrial","Mensal",50000.01,300000,{"$f":"Cálculo!$G$87","v":3.5019999999999998},{"$f":"Cálculo!$H$87","v":61597.41}]
["SP","São Paulo","Barueri","ARSESP","COMGÁS","Industrial","Mensal",300000.01,500000,{"$f":"Cálculo!$G$88","v":3.36},{"$f":"Cálculo!$H$88","v":110975.06}]
["SP","São Paulo","Barueri","ARSESP","COMGÁS","Industrial","Mensal",500000.01,1000000,{"$f":"Cálculo!$G$89","v":3.3340000000000001},{"$f":"Cálculo!$H$89","v":124035.06}]
["SP","São Paulo","Barueri","ARSESP","COMGÁS","Industrial","Mensal",1000000.01,2000000,{"$f":"Cálculo!$G$90","v":3.2810000000000001},{"$f":"Cálculo!$H$90","v":177422.21}]
["SP","São Paulo","Barueri","ARSESP","COMGÁS","Industrial","Mensal",2000000.01,null,{"$f":"Cálculo!$G$91","v":3.2330000000000001},{"$f":"Cálculo!$H$91","v":316707.87}]
["SP","São Paulo","Barueri","ARSESP","COMGÁS","GNV","Faixa Única",null,null,{"$f":"Cálculo!$G$94","v":3.2148460000000001}]
["SP","São Paulo","Bertioga","ARSESP","COMGÁS","Residencial","Mensal",0,1,{"$f":"Cálculo!$G$66","v":3.2869999999999999},{"$f":"Cálculo!$H$66","v":11.39}]
["SP","São Paulo","Bertioga","ARSESP","COMGÁS","Residencial","Mensal",1.01,3,{"$f":"Cálculo!$G$67","v":10.834},{"$f":"Cálculo!$H$67","v":14.87}]
["SP","São Paulo","Bertioga","ARSESP","COMGÁS","Residencial","Mensal",3.01,7,{"$f":"Cálculo!$G$68","v":5.6470000000000002},{"$f":"Cálculo!$H$68","v":14.87}]
["SP","São Paulo","Bertioga","ARSESP","COMGÁS","Residencial","Mensal",7.01,14,{"$f":"Cálculo!$G$69","v":9.3699999999999992},{"$f":"Cálculo!$H$69","v":16.739999999999998}]
["SP","São Paulo","Bertioga","ARSESP","COMGÁS","Residencial","Mensal",14.01,34,{"$f":"Cálculo!$G$70","v":11.132},{"$f":"Cálculo!$H$70","v":18.600000000000001}]
["SP","São Paulo","Bertioga","ARSESP","COMGÁS","Residencial","Mensal",34.01,600,{"$f":"Cálculo!$G$71","v":11.92},{"$f":"Cálculo!$H$71","v":18.600000000000001}]
["SP","São Paulo","Bertioga","ARSESP","COMGÁS","Residencial","Mensal",600.01,1000,{"$f":"Cálculo!$G$72","v":10.324},{"$f":"Cálculo!$H$72","v":18.600000000000001}]
["SP","São Paulo","Bertioga","ARSESP","COMGÁS","Residencial","Mensal",1000.01,null,{"$f":"Cálculo!$G$73","v":7.2949999999999999},{"$f":"Cálculo!$H$73","v":18.600000000000001}]
["SP","São Paulo","Bertioga","ARSESP","COMGÁS","Comercial","Mensal",0,0,{"$f":"Cálculo!$G$76","v":0},{"$f":"Cálculo!$H$76","v":0}]
["SP","São Paulo","Bertioga","ARSESP","COMGÁS","Comercial","Mensal",0.01,50,{"$f":"Cálculo!$G$77","v":9.2490000000000006},{"$f":"Cálculo!$H$77","v":60.76}]
["SP","São Paulo","Bertioga","ARSESP","COMGÁS","Comercial","Mensal",50.01,150,{"$f":"Cálculo!$G$78","v":8.49},{"$f":"Cálculo!$H$78","v":98.73}]
["SP","São Paulo","Bertioga","ARSESP","COMGÁS","Comercial","Mensal",150.01,500,{"$f":"Cálculo!$G$79","v":7.9859999999999998},{"$f":"Cálculo!$H$79","v":174.66}]
["SP","São Paulo","Bertioga","ARSESP","COMGÁS","Comercial","Mensal",500.01,2000,{"$f":"Cálculo!$G$80","v":7.5380000000000003},{"$f":"Cálculo!$H$80","v":398.71}]
["SP","São Paulo","Bertioga","ARSESP","COMGÁS","Comercial","Mensal",2000.01,3500,{"$f":"Cálculo!$G$81","v":6.819},{"$f":"Cálculo!$H$81","v":1837.86}]
["SP","São Paulo","Bertioga","ARSESP","COMGÁS","Comercial","Mensal",3500.01,50000,{"$f":"Cálculo!$G$82","v":5.3760000000000003},{"$f":"Cálculo!$H$82","v":6892.16}]
["SP","São Paulo","Bertioga","ARSESP","COMGÁS","Comercial","Mensal",50000.01,null,{"$f":"Cálculo!$G$83","v":5.1479999999999997},{"$f":"Cálculo!$H$83","v":18284.09}]
["SP","São Paulo","Bertioga","ARSESP","COMGÁS","Industrial","Mensal",0,50000,{"$f":"Cálculo!$G$86","v":4.726},{"$f":"Cálculo!$H$86","v":387.36}]
["SP","São Paulo","Bertioga","ARSESP","COMGÁS","Industrial","Mensal",50000.01,300000,{"$f":"Cálculo!$G$87","v":3.5019999999999998},{"$f":"Cálculo!$H$87","v":61597.41}]
["SP","São Paulo","Bertioga","ARSESP","COMGÁS","Industrial","Mensal",300000.01,500000,{"$f":"Cálculo!$G$88","v":3.36},{"$f":"Cálculo!$H$88","v":110975.06}]
["SP","São Paulo","Bertioga","ARSESP","COMGÁS","Industrial","Mensal",500000.01,1000000,{"$f":"Cálculo!$G$89","v":3.3340000000000001},{"$f":"Cálculo!$H$89","v":124035.06}]
["SP","São Paulo","Bertioga","ARSESP","COMGÁS","Industrial","Mensal",1000000.01,2000000,{"$f":"Cálculo!$G$90","v":3.2810000000000001},{"$f":"Cálculo!$H$90","v":177422.21}]
["SP","São Paulo","Bertioga","ARSESP","COMGÁS","Industrial","Mensal",2000000.01,null,{"$f":"Cálculo!$G$91","v":3.2330000000000001},{"$f":"Cálculo!$H$91","v":316707.87}]
["SP","São Paulo","Bertioga","ARSESP","COMGÁS","GNV","Faixa Única",null,null,{"$f":"Cálculo!$G$94","v":3.2148460000000001}]
["SP","São Paulo","Biritiba Mirim","ARSESP","COMGÁS","Residencial","Mensal",0,1,{"$f":"Cálculo!$G$66","v":3.2869999999999999},{"$f":"Cálculo!$H$66","v":11.39}]
["SP","São Paulo","Biritiba Mirim","ARSESP","COMGÁS","Residencial","Mensal",1.01,3,{"$f":"Cálculo!$G$67","v":10.834},{"$f":"Cálculo!$H$67","v":14.87}]
["SP","São Paulo","Biritiba Mirim","ARSESP","COMGÁS","Residencial","Mensal",3.01,7,{"$f":"Cálculo!$G$68","v":5.6470000000000002},{"$f":"Cálculo!$H$68","v":14.87}]
["SP","São Paulo","Biritiba Mirim","ARSESP","COMGÁS","Residencial","Mensal",7.01,14,{"$f":"Cálculo!$G$69","v":9.3699999999999992},{"$f":"Cálculo!$H$69","v":16.739999999999998}]
["SP","São Paulo","Biritiba Mirim","ARSESP","COMGÁS","Residencial","Mensal",14.01,34,{"$f":"Cálculo!$G$70","v":11.132},{"$f":"Cálculo!$H$70","v":18.600000000000001}]
["SP","São Paulo","Biritiba Mirim","ARSESP","COMGÁS","Residencial","Mensal",34.01,600,{"$f":"Cálculo!$G$71","v":11.92},{"$f":"Cálculo!$H$71","v":18.600000000000001}]
["SP","São Paulo","Biritiba Mirim","ARSESP","COMGÁS","Residencial","Mensal",600.01,1000,{"$f":"Cálculo!$G$72","v":10.324},{"$f":"Cálculo!$H$72","v":18.600000000000001}]
["SP","São Paulo","Biritiba Mirim","ARSESP","COMGÁS","Residencial","Mensal",1000.01,null,{"$f":"Cálculo!$G$73","v":7.2949999999999999},{"$f":"Cálculo!$H$73","v":18.600000000000001}]
["SP","São Paulo","Biritiba Mirim","ARSESP","COMGÁS","Comercial","Mensal",0,0,{"$f":"Cálculo!$G$76","v":0},{"$f":"Cálculo!$H$76","v":0}]
["SP","São Paulo","Biritiba Mirim","ARSESP","COMGÁS","Comercial","Mensal",0.01,50,{"$f":"Cálculo!$G$77","v":9.2490000000000006},{"$f":"Cálculo!$H$77","v":60.76}]
["SP","São Paulo","Biritiba Mirim","ARSESP","COMGÁS","Comercial","Mensal",50.01,150,{"$f":"Cálculo!$G$78","v":8.49},{"$f":"Cálculo!$H$78","v":98.73}]
["SP","São Paulo","Biritiba Mirim","ARSESP","COMGÁS","Comercial","Mensal",150.01,500,{"$f":"Cálculo!$G$79","v":7.9859999999999998},{"$f":"Cálculo!$H$79","v":174.66}]
["SP","São Paulo","Biritiba Mirim","ARSESP","COMGÁS","Comercial","Mensal",500.01,2000,{"$f":"Cálculo!$G$80","v":7.5380000000000003},{"$f":"Cálculo!$H$80","v":398.71}]
["SP","São Paulo","Biritiba Mirim","ARSESP","COMGÁS","Comercial","Mensal",2000.01,3500,{"$f":"Cálculo!$G$81","v":6.819},{"$f":"Cálculo!$H$81","v":1837.86}]
["SP","São Paulo","Biritiba Mirim","ARSESP","COMGÁS","Comercial","Mensal",3500.01,50000,{"$f":"Cálculo!$G$82","v":5.3760000000000003},{"$f":"Cálculo!$H$82","v":6892.16}]
["SP","São Paulo","Biritiba Mirim","ARSESP","COMGÁS","Comercial","Mensal",50000.01,null,{"$f":"Cálculo!$G$83","v":5.1479999999999997},{"$f":"Cálculo!$H$83","v":18284.09}]
["SP","São Paulo","Biritiba Mirim","ARSESP","COMGÁS","Industrial","Mensal",0,50000,{"$f":"Cálculo!$G$86","v":4.726},{"$f":"Cálculo!$H$86","v":387.36}]
["SP","São Paulo","Biritiba Mirim","ARSESP","COMGÁS","Industrial","Mensal",50000.01,300000,{"$f":"Cálculo!$G$87","v":3.5019999999999998},{"$f":"Cálculo!$H$87","v":61597.41}]
["SP","São Paulo","Biritiba Mirim","ARSESP","COMGÁS","Industrial","Mensal",300000.01,500000,{"$f":"Cálculo!$G$88","v":3.36},{"$f":"Cálculo!$H$88","v":110975.06}]
["SP","São Paulo","Biritiba Mirim","ARSESP","COMGÁS","Industrial","Mensal",500000.01,1000000,{"$f":"Cálculo!$G$89","v":3.3340000000000001},{"$f":"Cálculo!$H$89","v":124035.06}]
["SP","São Paulo","Biritiba Mirim","ARSESP","COMGÁS","Industrial","Mensal",1000000.01,2000000,{"$f":"Cálculo!$G$90","v":3.2810000000000001},{"$f":"Cálculo!$H$90","v":177422.21}]
["SP","São Paulo","Biritiba Mirim","ARSESP","COMGÁS","Industrial","Mensal",2000000.01,null,{"$f":"Cálculo!$G$91","v":3.2330000000000001},{"$f":"Cálculo!$H$91","v":316707.87}]
["SP","São Paulo","Biritiba Mirim","ARSESP","COMGÁS","GNV","Faixa Única",null,null,{"$f":"Cálculo!$G$94","v":3.2148460000000001}]
["SP","São Paulo","Bom Jesus dos Perdões","ARSESP","COMGÁS","Residencial","Mensal",0,1,{"$f":"Cálculo!$G$66","v":3.2869999999999999},{"$f":"Cálculo!$H$66","v":11.39}]
["SP","São Paulo","Bom Jesus dos Perdões","ARSESP","COMGÁS","Residencial","Mensal",1.01,3,{"$f":"Cálculo!$G$67","v":10.834},{"$f":"Cálculo!$H$67","v":14.87}]
["SP","São Paulo","Bom Jesus dos Perdões","ARSESP","COMGÁS","Residencial","Mensal",3.01,7,{"$f":"Cálculo!$G$68","v":5.6470000000000002},{"$f":"Cálculo!$H$68","v":14.87}]
["SP","São Paulo","Bom Jesus dos Perdões","ARSESP","COMGÁS","Residencial","Mensal",7.01,14,{"$f":"Cálculo!$G$69","v":9.3699999999999992},{"$f":"Cálculo!$H$69","v":16.739999999999998}]
["SP","São Paulo","Bom Jesus dos Perdões","ARSESP","COMGÁS","Residencial","Mensal",14.01,34,{"$f":"Cálculo!$G$70","v":11.132},{"$f":"Cálculo!$H$70","v":18.600000000000001}]
["SP","São Paulo","Bom Jesus dos Perdões","ARSESP","COMGÁS","Residencial","Mensal",34.01,600,{"$f":"Cálculo!$G$71","v":11.92},{"$f":"Cálculo!$H$71","v":18.600000000000001}]
["SP","São Paulo","Bom Jesus dos Perdões","ARSESP","COMGÁS","Residencial","Mensal",600.01,1000,{"$f":"Cálculo!$G$72","v":10.324},{"$f":"Cálculo!$H$72","v":18.600000000000001}]
["SP","São Paulo","Bom Jesus dos Perdões","ARSESP","COMGÁS","Residencial","Mensal",1000.01,null,{"$f":"Cálculo!$G$73","v":7.2949999999999999},{"$f":"Cálculo!$H$73","v":18.600000000000001}]
["SP","São Paulo","Bom Jesus dos Perdões","ARSESP","COMGÁS","Comercial","Mensal",0,0,{"$f":"Cálculo!$G$76","v":0},{"$f":"Cálculo!$H$76","v":0}]
["SP","São Paulo","Bom Jesus dos Perdões","ARSESP","COMGÁS","Comercial","Mensal",0.01,50,{"$f":"Cálculo!$G$77","v":9.2490000000000006},{"$f":"Cálculo!$H$77","v":60.76}]
["SP","São Paulo","Bom Jesus dos Perdões","ARSESP","COMGÁS","Comercial","Mensal",50.01,150,{"$f":"Cálculo!$G$78","v":8.49},{"$f":"Cálculo!$H$78","v":98.73}]
["SP","São Paulo","Bom Jesus dos Perdões","ARSESP","COMGÁS","Comercial","Mensal",150.01,500,{"$f":"Cálculo!$G$79","v":7.9859999999999998},{"$f":"Cálculo!$H$79","v":174.66}]
["SP","São Paulo","Bom Jesus dos Perdões","ARSESP","COMGÁS","Comercial","Mensal",500.01,2000,{"$f":"Cálculo!$G$80","v":7.5380000000000003},{"$f":"Cálculo!$H$80","v":398.71}]
["SP","São Paulo","Bom Jesus dos Perdões","ARSESP","COMGÁS","Comercial","Mensal",2000.01,3500,{"$f":"Cálculo!$G$81","v":6.819},{"$f":"Cálculo!$H$81","v":1837.86}]
["SP","São Paulo","Bom Jesus dos Perdões","ARSESP","COMGÁS","Comercial","Mensal",3500.01,50000,{"$f":"Cálculo!$G$82","v":5.3760000000000003},{"$f":"Cálculo!$H$82","v":6892.16}]
["SP","São Paulo","Bom Jesus dos Perdões","ARSESP","COMGÁS","Comercial","Mensal",50000.01,null,{"$f":"Cálculo!$G$83","v":5.1479999999999997},{"$f":"Cálculo!$H$83","v":18284.09}]
["SP","São Paulo","Bom Jesus dos Perdões","ARSESP","COMGÁS","Industrial","Mensal",0,50000,{"$f":"Cálculo!$G$86","v":4.726},{"$f":"Cálculo!$H$86","v":387.36}]
["SP","São Paulo","Bom Jesus dos Perdões","ARSESP","COMGÁS","Industrial","Mensal",50000.01,300000,{"$f":"Cálculo!$G$87","v":3.5019999999999998},{"$f":"Cálculo!$H$87","v":61597.41}]
["SP","São Paulo","Bom Jesus dos Perdões","ARSESP","COMGÁS","Industrial","Mensal",300000.01,500000,{"$f":"Cálculo!$G$88","v":3.36},{"$f":"Cálculo!$H$88","v":110975.06}]
["SP","São Paulo","Bom Jesus dos Perdões","ARSESP","COMGÁS","Industrial","Mensal",500000.01,1000000,{"$f":"Cálculo!$G$89","v":3.3340000000000001},{"$f":"Cálculo!$H$89","v":124035.06}]
["SP","São Paulo","Bom Jesus dos Perdões","ARSESP","COMGÁS","Industrial","Mensal",1000000.01,2000000,{"$f":"Cálculo!$G$90","v":3.2810000000000001},{"$f":"Cálculo!$H$90","v":177422.21}]
["SP","São Paulo","Bom Jesus dos Perdões","ARSESP","COMGÁS","Industrial","Mensal",2000000.01,null,{"$f":"Cálculo!$G$91","v":3.2330000000000001},{"$f":"Cálculo!$H$91","v":316707.87}]
["SP","São Paulo","Bom Jesus dos Perdões","ARSESP","COMGÁS","GNV","Faixa Única",null,null,{"$f":"Cálculo!$G$94","v":3.2148460000000001}]
["SP","São Paulo","Bragança Paulista","ARSESP","COMGÁS","Residencial","Mensal",0,1,{"$f":"Cálculo!$G$66","v":3.2869999999999999},{"$f":"Cálculo!$H$66","v":11.39}]
["SP","São Paulo","Bragança Paulista","ARSESP","COMGÁS","Residencial","Mensal",1.01,3,{"$f":"Cálculo!$G$67","v":10.834},{"$f":"Cálculo!$H$67","v":14.87}]
["SP","São Paulo","Bragança Paulista","ARSESP","COMGÁS","Residencial","Mensal",3.01,7,{"$f":"Cálculo!$G$68","v":5.6470000000000002},{"$f":"Cálculo!$H$68","v":14.87}]
["SP","São Paulo","Bragança Paulista","ARSESP","COMGÁS","Residencial","Mensal",7.01,14,{"$f":"Cálculo!$G$69","v":9.3699999999999992},{"$f":"Cálculo!$H$69","v":16.739999999999998}]
["SP","São Paulo","Bragança Paulista","ARSESP","COMGÁS","Residencial","Mensal",14.01,34,{"$f":"Cálculo!$G$70","v":11.132},{"$f":"Cálculo!$H$70","v":18.600000000000001}]
["SP","São Paulo","Bragança Paulista","ARSESP","COMGÁS","Residencial","Mensal",34.01,600,{"$f":"Cálculo!$G$71","v":11.92},{"$f":"Cálculo!$H$71","v":18.600000000000001}]
["SP","São Paulo","Bragança Paulista","ARSESP","COMGÁS","Residencial","Mensal",600.01,1000,{"$f":"Cálculo!$G$72","v":10.324},{"$f":"Cálculo!$H$72","v":18.600000000000001}]
["SP","São Paulo","Bragança Paulista","ARSESP","COMGÁS","Residencial","Mensal",1000.01,null,{"$f":"Cálculo!$G$73","v":7.2949999999999999},{"$f":"Cálculo!$H$73","v":18.600000000000001}]
["SP","São Paulo","Bragança Paulista","ARSESP","COMGÁS","Comercial","Mensal",0,0,{"$f":"Cálculo!$G$76","v":0},{"$f":"Cálculo!$H$76","v":0}]
["SP","São Paulo","Bragança Paulista","ARSESP","COMGÁS","Comercial","Mensal",0.01,50,{"$f":"Cálculo!$G$77","v":9.2490000000000006},{"$f":"Cálculo!$H$77","v":60.76}]
["SP","São Paulo","Bragança Paulista","ARSESP","COMGÁS","Comercial","Mensal",50.01,150,{"$f":"Cálculo!$G$78","v":8.49},{"$f":"Cálculo!$H$78","v":98.73}]
["SP","São Paulo","Bragança Paulista","ARSESP","COMGÁS","Comercial","Mensal",150.01,500,{"$f":"Cálculo!$G$79","v":7.9859999999999998},{"$f":"Cálculo!$H$79","v":174.66}]
["SP","São Paulo","Bragança Paulista","ARSESP","COMGÁS","Comercial","Mensal",500.01,2000,{"$f":"Cálculo!$G$80","v":7.5380000000000003},{"$f":"Cálculo!$H$80","v":398.71}]
["SP","São Paulo","Bragança Paulista","ARSESP","COMGÁS","Comercial","Mensal",2000.01,3500,{"$f":"Cálculo!$G$81","v":6.819},{"$f":"Cálculo!$H$81","v":1837.86}]
["SP","São Paulo","Bragança Paulista","ARSESP","COMGÁS","Comercial","Mensal",3500.01,50000,{"$f":"Cálculo!$G$82","v":5.3760000000000003},{"$f":"Cálculo!$H$82","v":6892.16}]
["SP","São Paulo","Bragança Paulista","ARSESP","COMGÁS","Comercial","Mensal",50000.01,null,{"$f":"Cálculo!$G$83","v":5.1479999999999997},{"$f":"Cálculo!$H$83","v":18284.09}]
["SP","São Paulo","Bragança Paulista","ARSESP","COMGÁS","Industrial","Mensal",0,50000,{"$f":"Cálculo!$G$86","v":4.726},{"$f":"Cálculo!$H$86","v":387.36}]
["SP","São Paulo","Bragança Paulista","ARSESP","COMGÁS","Industrial","Mensal",50000.01,300000,{"$f":"Cálculo!$G$87","v":3.5019999999999998},{"$f":"Cálculo!$H$87","v":61597.41}]
["SP","São Paulo","Bragança Paulista","ARSESP","COMGÁS","Industrial","Mensal",300000.01,500000,{"$f":"Cálculo!$G$88","v":3.36},{"$f":"Cálculo!$H$88","v":110975.06}]
["SP","São Paulo","Bragança Paulista","ARSESP","COMGÁS","Industrial","Mensal",500000.01,1000000,{"$f":"Cálculo!$G$89","v":3.3340000000000001},{"$f":"Cálculo!$H$89","v":124035.06}]
["SP","São Paulo","Bragança Paulista","ARSESP","COMGÁS","Industrial","Mensal",1000000.01,2000000,{"$f":"Cálculo!$G$90","v":3.2810000000000001},{"$f":"Cálculo!$H$90","v":177422.21}]
["SP","São Paulo","Bragança Paulista","ARSESP","COMGÁS","Industrial","Mensal",2000000.01,null,{"$f":"Cálculo!$G$91","v":3.2330000000000001},{"$f":"Cálculo!$H$91","v":316707.87}]
["SP","São Paulo","Bragança Paulista","ARSESP","COMGÁS","GNV","Faixa Única",null,null,{"$f":"Cálculo!$G$94","v":3.2148460000000001}]
["SP","São Paulo","Brotas","ARSESP","COMGÁS","Residencial","Mensal",0,1,{"$f":"Cálculo!$G$66","v":3.2869999999999999},{"$f":"Cálculo!$H$66","v":11.39}]
["SP","São Paulo","Brotas","ARSESP","COMGÁS","Residencial","Mensal",1.01,3,{"$f":"Cálculo!$G$67","v":10.834},{"$f":"Cálculo!$H$67","v":14.87}]
["SP","São Paulo","Brotas","ARSESP","COMGÁS","Residencial","Mensal",3.01,7,{"$f":"Cálculo!$G$68","v":5.6470000000000002},{"$f":"Cálculo!$H$68","v":14.87}]
["SP","São Paulo","Brotas","ARSESP","COMGÁS","Residencial","Mensal",7.01,14,{"$f":"Cálculo!$G$69","v":9.3699999999999992},{"$f":"Cálculo!$H$69","v":16.739999999999998}]
["SP","São Paulo","Brotas","ARSESP","COMGÁS","Residencial","Mensal",14.01,34,{"$f":"Cálculo!$G$70","v":11.132},{"$f":"Cálculo!$H$70","v":18.600000000000001}]
["SP","São Paulo","Brotas","ARSESP","COMGÁS","Residencial","Mensal",34.01,600,{"$f":"Cálculo!$G$71","v":11.92},{"$f":"Cálculo!$H$71","v":18.600000000000001}]
["SP","São Paulo","Brotas","ARSESP","COMGÁS","Residencial","Mensal",600.01,1000,{"$f":"Cálculo!$G$72","v":10.324},{"$f":"Cálculo!$H$72","v":18.600000000000001}]
["SP","São Paulo","Brotas","ARSESP","COMGÁS","Residencial","Mensal",1000.01,null,{"$f":"Cálculo!$G$73","v":7.2949999999999999},{"$f":"Cálculo!$H$73","v":18.600000000000001}]
["SP","São Paulo","Brotas","ARSESP","COMGÁS","Comercial","Mensal",0,0,{"$f":"Cálculo!$G$76","v":0},{"$f":"Cálculo!$H$76","v":0}]
["SP","São Paulo","Brotas","ARSESP","COMGÁS","Comercial","Mensal",0.01,50,{"$f":"Cálculo!$G$77","v":9.2490000000000006},{"$f":"Cálculo!$H$77","v":60.76}]
["SP","São Paulo","Brotas","ARSESP","COMGÁS","Comercial","Mensal",50.01,150,{"$f":"Cálculo!$G$78","v":8.49},{"$f":"Cálculo!$H$78","v":98.73}]
["SP","São Paulo","Brotas","ARSESP","COMGÁS","Comercial","Mensal",150.01,500,{"$f":"Cálculo!$G$79","v":7.9859999999999998},{"$f":"Cálculo!$H$79","v":174.66}]
["SP","São Paulo","Brotas","ARSESP","COMGÁS","Comercial","Mensal",500.01,2000,{"$f":"Cálculo!$G$80","v":7.5380000000000003},{"$f":"Cálculo!$H$80","v":398.71}]
["SP","São Paulo","Brotas","ARSESP","COMGÁS","Comercial","Mensal",2000.01,3500,{"$f":"Cálculo!$G$81","v":6.819},{"$f":"Cálculo!$H$81","v":1837.86}]
["SP","São Paulo","Brotas","ARSESP","COMGÁS","Comercial","Mensal",3500.01,50000,{"$f":"Cálculo!$G$82","v":5.3760000000000003},{"$f":"Cálculo!$H$82","v":6892.16}]
["SP","São Paulo","Brotas","ARSESP","COMGÁS","Comercial","Mensal",50000.01,null,{"$f":"Cálculo!$G$83","v":5.1479999999999997},{"$f":"Cálculo!$H$83","v":18284.09}]
["SP","São Paulo","Brotas","ARSESP","COMGÁS","Industrial","Mensal",0,50000,{"$f":"Cálculo!$G$86","v":4.726},{"$f":"Cálculo!$H$86","v":387.36}]
["SP","São Paulo","Brotas","ARSESP","COMGÁS","Industrial","Mensal",50000.01,300000,{"$f":"Cálculo!$G$87","v":3.5019999999999998},{"$f":"Cálculo!$H$87","v":61597.41}]
["SP","São Paulo","Brotas","ARSESP","COMGÁS","Industrial","Mensal",300000.01,500000,{"$f":"Cálculo!$G$88","v":3.36},{"$f":"Cálculo!$H$88","v":110975.06}]
["SP","São Paulo","Brotas","ARSESP","COMGÁS","Industrial","Mensal",500000.01,1000000,{"$f":"Cálculo!$G$89","v":3.3340000000000001},{"$f":"Cálculo!$H$89","v":124035.06}]
["SP","São Paulo","Brotas","ARSESP","COMGÁS","Industrial","Mensal",1000000.01,2000000,{"$f":"Cálculo!$G$90","v":3.2810000000000001},{"$f":"Cálculo!$H$90","v":177422.21}]
["SP","São Paulo","Brotas","ARSESP","COMGÁS","Industrial","Mensal",2000000.01,null,{"$f":"Cálculo!$G$91","v":3.2330000000000001},{"$f":"Cálculo!$H$91","v":316707.87}]
["SP","São Paulo","Brotas","ARSESP","COMGÁS","GNV","Faixa Única",null,null,{"$f":"Cálculo!$G$94","v":3.2148460000000001}]
["SP","São Paulo","Cabreúva","ARSESP","COMGÁS","Residencial","Mensal",0,1,{"$f":"Cálculo!$G$66","v":3.2869999999999999},{"$f":"Cálculo!$H$66","v":11.39}]
["SP","São Paulo","Cabreúva","ARSESP","COMGÁS","Residencial","Mensal",1.01,3,{"$f":"Cálculo!$G$67","v":10.834},{"$f":"Cálculo!$H$67","v":14.87}]
["SP","São Paulo","Cabreúva","ARSESP","COMGÁS","Residencial","Mensal",3.01,7,{"$f":"Cálculo!$G$68","v":5.6470000000000002},{"$f":"Cálculo!$H$68","v":14.87}]
["SP","São Paulo","Cabreúva","ARSESP","COMGÁS","Residencial","Mensal",7.01,14,{"$f":"Cálculo!$G$69","v":9.3699999999999992},{"$f":"Cálculo!$H$69","v":16.739999999999998}]
["SP","São Paulo","Cabreúva","ARSESP","COMGÁS","Residencial","Mensal",14.01,34,{"$f":"Cálculo!$G$70","v":11.132},{"$f":"Cálculo!$H$70","v":18.600000000000001}]
["SP","São Paulo","Cabreúva","ARSESP","COMGÁS","Residencial","Mensal",34.01,600,{"$f":"Cálculo!$G$71","v":11.92},{"$f":"Cálculo!$H$71","v":18.600000000000001}]
["SP","São Paulo","Cabreúva","ARSESP","COMGÁS","Residencial","Mensal",600.01,1000,{"$f":"Cálculo!$G$72","v":10.324},{"$f":"Cálculo!$H$72","v":18.600000000000001}]
["SP","São Paulo","Cabreúva","ARSESP","COMGÁS","Residencial","Mensal",1000.01,null,{"$f":"Cálculo!$G$73","v":7.2949999999999999},{"$f":"Cálculo!$H$73","v":18.600000000000001}]
["SP","São Paulo","Cabreúva","ARSESP","COMGÁS","Comercial","Mensal",0,0,{"$f":"Cálculo!$G$76","v":0},{"$f":"Cálculo!$H$76","v":0}]
["SP","São Paulo","Cabreúva","ARSESP","COMGÁS","Comercial","Mensal",0.01,50,{"$f":"Cálculo!$G$77","v":9.2490000000000006},{"$f":"Cálculo!$H$77","v":60.76}]
["SP","São Paulo","Cabreúva","ARSESP","COMGÁS","Comercial","Mensal",50.01,150,{"$f":"Cálculo!$G$78","v":8.49},{"$f":"Cálculo!$H$78","v":98.73}]
["SP","São Paulo","Cabreúva","ARSESP","COMGÁS","Comercial","Mensal",150.01,500,{"$f":"Cálculo!$G$79","v":7.9859999999999998},{"$f":"Cálculo!$H$79","v":174.66}]
["SP","São Paulo","Cabreúva","ARSESP","COMGÁS","Comercial","Mensal",500.01,2000,{"$f":"Cálculo!$G$80","v":7.5380000000000003},{"$f":"Cálculo!$H$80","v":398.71}]
["SP","São Paulo","Cabreúva","ARSESP","COMGÁS","Comercial","Mensal",2000.01,3500,{"$f":"Cálculo!$G$81","v":6.819},{"$f":"Cálculo!$H$81","v":1837.86}]
["SP","São Paulo","Cabreúva","ARSESP","COMGÁS","Comercial","Mensal",3500.01,50000,{"$f":"Cálculo!$G$82","v":5.3760000000000003},{"$f":"Cálculo!$H$82","v":6892.16}]
["SP","São Paulo","Cabreúva","ARSESP","COMGÁS","Comercial","Mensal",50000.01,null,{"$f":"Cálculo!$G$83","v":5.1479999999999997},{"$f":"Cálculo!$H$83","v":18284.09}]
["SP","São Paulo","Cabreúva","ARSESP","COMGÁS","Industrial","Mensal",0,50000,{"$f":"Cálculo!$G$86","v":4.726},{"$f":"Cálculo!$H$86","v":387.36}]
["SP","São Paulo","Cabreúva","ARSESP","COMGÁS","Industrial","Mensal",50000.01,300000,{"$f":"Cálculo!$G$87","v":3.5019999999999998},{"$f":"Cálculo!$H$87","v":61597.41}]
["SP","São Paulo","Cabreúva","ARSESP","COMGÁS","Industrial","Mensal",300000.01,500000,{"$f":"Cálculo!$G$88","v":3.36},{"$f":"Cálculo!$H$88","v":110975.06}]
["SP","São Paulo","Cabreúva","ARSESP","COMGÁS","Industrial","Mensal",500000.01,1000000,{"$f":"Cálculo!$G$89","v":3.3340000000000001},{"$f":"Cálculo!$H$89","v":124035.06}]
["SP","São Paulo","Cabreúva","ARSESP","COMGÁS","Industrial","Mensal",1000000.01,2000000,{"$f":"Cálculo!$G$90","v":3.2810000000000001},{"$f":"Cálculo!$H$90","v":177422.21}]
["SP","São Paulo","Cabreúva","ARSESP","COMGÁS","Industrial","Mensal",2000000.01,null,{"$f":"Cálculo!$G$91","v":3.2330000000000001},{"$f":"Cálculo!$H$91","v":316707.87}]
["SP","São Paulo","Cabreúva","ARSESP","COMGÁS","GNV","Faixa Única",null,null,{"$f":"Cálculo!$G$94","v":3.2148460000000001}]
["SP","São Paulo","Caçapava","ARSESP","COMGÁS","Residencial","Mensal",0,1,{"$f":"Cálculo!$G$66","v":3.2869999999999999},{"$f":"Cálculo!$H$66","v":11.39}]
["SP","São Paulo","Caçapava","ARSESP","COMGÁS","Residencial","Mensal",1.01,3,{"$f":"Cálculo!$G$67","v":10.834},{"$f":"Cálculo!$H$67","v":14.87}]
["SP","São Paulo","Caçapava","ARSESP","COMGÁS","Residencial","Mensal",3.01,7,{"$f":"Cálculo!$G$68","v":5.6470000000000002},{"$f":"Cálculo!$H$68","v":14.87}]
["SP","São Paulo","Caçapava","ARSESP","COMGÁS","Residencial","Mensal",7.01,14,{"$f":"Cálculo!$G$69","v":9.3699999999999992},{"$f":"Cálculo!$H$69","v":16.739999999999998}]
["SP","São Paulo","Caçapava","ARSESP","COMGÁS","Residencial","Mensal",14.01,34,{"$f":"Cálculo!$G$70","v":11.132},{"$f":"Cálculo!$H$70","v":18.600000000000001}]
["SP","São Paulo","Caçapava","ARSESP","COMGÁS","Residencial","Mensal",34.01,600,{"$f":"Cálculo!$G$71","v":11.92},{"$f":"Cálculo!$H$71","v":18.600000000000001}]
["SP","São Paulo","Caçapava","ARSESP","COMGÁS","Residencial","Mensal",600.01,1000,{"$f":"Cálculo!$G$72","v":10.324},{"$f":"Cálculo!$H$72","v":18.600000000000001}]
["SP","São Paulo","Caçapava","ARSESP","COMGÁS","Residencial","Mensal",1000.01,null,{"$f":"Cálculo!$G$73","v":7.2949999999999999},{"$f":"Cálculo!$H$73","v":18.600000000000001}]
["SP","São Paulo","Caçapava","ARSESP","COMGÁS","Comercial","Mensal",0,0,{"$f":"Cálculo!$G$76","v":0},{"$f":"Cálculo!$H$76","v":0}]
["SP","São Paulo","Caçapava","ARSESP","COMGÁS","Comercial","Mensal",0.01,50,{"$f":"Cálculo!$G$77","v":9.2490000000000006},{"$f":"Cálculo!$H$77","v":60.76}]
["SP","São Paulo","Caçapava","ARSESP","COMGÁS","Comercial","Mensal",50.01,150,{"$f":"Cálculo!$G$78","v":8.49},{"$f":"Cálculo!$H$78","v":98.73}]
["SP","São Paulo","Caçapava","ARSESP","COMGÁS","Comercial","Mensal",150.01,500,{"$f":"Cálculo!$G$79","v":7.9859999999999998},{"$f":"Cálculo!$H$79","v":174.66}]
["SP","São Paulo","Caçapava","ARSESP","COMGÁS","Comercial","Mensal",500.01,2000,{"$f":"Cálculo!$G$80","v":7.5380000000000003},{"$f":"Cálculo!$H$80","v":398.71}]
["SP","São Paulo","Caçapava","ARSESP","COMGÁS","Comercial","Mensal",2000.01,3500,{"$f":"Cálculo!$G$81","v":6.819},{"$f":"Cálculo!$H$81","v":1837.86}]
["SP","São Paulo","Caçapava","ARSESP","COMGÁS","Comercial","Mensal",3500.01,50000,{"$f":"Cálculo!$G$82","v":5.3760000000000003},{"$f":"Cálculo!$H$82","v":6892.16}]
["SP","São Paulo","Caçapava","ARSESP","COMGÁS","Comercial","Mensal",50000.01,null,{"$f":"Cálculo!$G$83","v":5.1479999999999997},{"$f":"Cálculo!$H$83","v":18284.09}]
["SP","São Paulo","Caçapava","ARSESP","COMGÁS","Industrial","Mensal",0,50000,{"$f":"Cálculo!$G$86","v":4.726},{"$f":"Cálculo!$H$86","v":387.36}]
["SP","São Paulo","Caçapava","ARSESP","COMGÁS","Industrial","Mensal",50000.01,300000,{"$f":"Cálculo!$G$87","v":3.5019999999999998},{"$f":"Cálculo!$H$87","v":61597.41}]
["SP","São Paulo","Caçapava","ARSESP","COMGÁS","Industrial","Mensal",300000.01,500000,{"$f":"Cálculo!$G$88","v":3.36},{"$f":"Cálculo!$H$88","v":110975.06}]
["SP","São Paulo","Caçapava","ARSESP","COMGÁS","Industrial","Mensal",500000.01,1000000,{"$f":"Cálculo!$G$89","v":3.3340000000000001},{"$f":"Cálculo!$H$89","v":124035.06}]
["SP","São Paulo","Caçapava","ARSESP","COMGÁS","Industrial","Mensal",1000000.01,2000000,{"$f":"Cálculo!$G$90","v":3.2810000000000001},{"$f":"Cálculo!$H$90","v":177422.21}]
["SP","São Paulo","Caçapava","ARSESP","COMGÁS","Industrial","Mensal",2000000.01,null,{"$f":"Cálculo!$G$91","v":3.2330000000000001},{"$f":"Cálculo!$H$91","v":316707.87}]
["SP","São Paulo","Caçapava","ARSESP","COMGÁS","GNV","Faixa Única",null,null,{"$f":"Cálculo!$G$94","v":3.2148460000000001}]
["SP","São Paulo","Cachoeira Paulista","ARSESP","COMGÁS","Residencial","Mensal",0,1,{"$f":"Cálculo!$G$66","v":3.2869999999999999},{"$f":"Cálculo!$H$66","v":11.39}]
["SP","São Paulo","Cachoeira Paulista","ARSESP","COMGÁS","Residencial","Mensal",1.01,3,{"$f":"Cálculo!$G$67","v":10.834},{"$f":"Cálculo!$H$67","v":14.87}]
["SP","São Paulo","Cachoeira Paulista","ARSESP","COMGÁS","Residencial","Mensal",3.01,7,{"$f":"Cálculo!$G$68","v":5.6470000000000002},{"$f":"Cálculo!$H$68","v":14.87}]
["SP","São Paulo","Cachoeira Paulista","ARSESP","COMGÁS","Residencial","Mensal",7.01,14,{"$f":"Cálculo!$G$69","v":9.3699999999999992},{"$f":"Cálculo!$H$69","v":16.739999999999998}]
["SP","São Paulo","Cachoeira Paulista","ARSESP","COMGÁS","Residencial","Mensal",14.01,34,{"$f":"Cálculo!$G$70","v":11.132},{"$f":"Cálculo!$H$70","v":18.600000000000001}]
["SP","São Paulo","Cachoeira Paulista","ARSESP","COMGÁS","Residencial","Mensal",34.01,600,{"$f":"Cálculo!$G$71","v":11.92},{"$f":"Cálculo!$H$71","v":18.600000000000001}]
["SP","São Paulo","Cachoeira Paulista","ARSESP","COMGÁS","Residencial","Mensal",600.01,1000,{"$f":"Cálculo!$G$72","v":10.324},{"$f":"Cálculo!$H$72","v":18.600000000000001}]
["SP","São Paulo","Cachoeira Paulista","ARSESP","COMGÁS","Residencial","Mensal",1000.01,null,{"$f":"Cálculo!$G$73","v":7.2949999999999999},{"$f":"Cálculo!$H$73","v":18.600000000000001}]
["SP","São Paulo","Cachoeira Paulista","ARSESP","COMGÁS","Comercial","Mensal",0,0,{"$f":"Cálculo!$G$76","v":0},{"$f":"Cálculo!$H$76","v":0}]
["SP","São Paulo","Cachoeira Paulista","ARSESP","COMGÁS","Comercial","Mensal",0.01,50,{"$f":"Cálculo!$G$77","v":9.2490000000000006},{"$f":"Cálculo!$H$77","v":60.76}]
["SP","São Paulo","Cachoeira Paulista","ARSESP","COMGÁS","Comercial","Mensal",50.01,150,{"$f":"Cálculo!$G$78","v":8.49},{"$f":"Cálculo!$H$78","v":98.73}]
["SP","São Paulo","Cachoeira Paulista","ARSESP","COMGÁS","Comercial","Mensal",150.01,500,{"$f":"Cálculo!$G$79","v":7.9859999999999998},{"$f":"Cálculo!$H$79","v":174.66}]
["SP","São Paulo","Cachoeira Paulista","ARSESP","COMGÁS","Comercial","Mensal",500.01,2000,{"$f":"Cálculo!$G$80","v":7.5380000000000003},{"$f":"Cálculo!$H$80","v":398.71}]
["SP","São Paulo","Cachoeira Paulista","ARSESP","COMGÁS","Comercial","Mensal",2000.01,3500,{"$f":"Cálculo!$G$81","v":6.819},{"$f":"Cálculo!$H$81","v":1837.86}]
["SP","São Paulo","Cachoeira Paulista","ARSESP","COMGÁS","Comercial","Mensal",3500.01,50000,{"$f":"Cálculo!$G$82","v":5.3760000000000003},{"$f":"Cálculo!$H$82","v":6892.16}]
["SP","São Paulo","Cachoeira Paulista","ARSESP","COMGÁS","Comercial","Mensal",50000.01,null,{"$f":"Cálculo!$G$83","v":5.1479999999999997},{"$f":"Cálculo!$H$83","v":18284.09}]
["SP","São Paulo","Cachoeira Paulista","ARSESP","COMGÁS","Industrial","Mensal",0,50000,{"$f":"Cálculo!$G$86","v":4.726},{"$f":"Cálculo!$H$86","v":387.36}]
["SP","São Paulo","Cachoeira Paulista","ARSESP","COMGÁS","Industrial","Mensal",50000.01,300000,{"$f":"Cálculo!$G$87","v":3.5019999999999998},{"$f":"Cálculo!$H$87","v":61597.41}]
["SP","São Paulo","Cachoeira Paulista","ARSESP","COMGÁS","Industrial","Mensal",300000.01,500000,{"$f":"Cálculo!$G$88","v":3.36},{"$f":"Cálculo!$H$88","v":110975.06}]
["SP","São Paulo","Cachoeira Paulista","ARSESP","COMGÁS","Industrial","Mensal",500000.01,1000000,{"$f":"Cálculo!$G$89","v":3.3340000000000001},{"$f":"Cálculo!$H$89","v":124035.06}]
["SP","São Paulo","Cachoeira Paulista","ARSESP","COMGÁS","Industrial","Mensal",1000000.01,2000000,{"$f":"Cálculo!$G$90","v":3.2810000000000001},{"$f":"Cálculo!$H$90","v":177422.21}]
["SP","São Paulo","Cachoeira Paulista","ARSESP","COMGÁS","Industrial","Mensal",2000000.01,null,{"$f":"Cálculo!$G$91","v":3.2330000000000001},{"$f":"Cálculo!$H$91","v":316707.87}]
["SP","São Paulo","Cachoeira Paulista","ARSESP","COMGÁS","GNV","Faixa Única",null,null,{"$f":"Cálculo!$G$94","v":3.2148460000000001}]
["SP","São Paulo","Caconde","ARSESP","COMGÁS","Residencial","Mensal",0,1,{"$f":"Cálculo!$G$66","v":3.2869999999999999},{"$f":"Cálculo!$H$66","v":11.39}]
["SP","São Paulo","Caconde","ARSESP","COMGÁS","Residencial","Mensal",1.01,3,{"$f":"Cálculo!$G$67","v":10.834},{"$f":"Cálculo!$H$67","v":14.87}]
["SP","São Paulo","Caconde","ARSESP","COMGÁS","Residencial","Mensal",3.01,7,{"$f":"Cálculo!$G$68","v":5.6470000000000002},{"$f":"Cálculo!$H$68","v":14.87}]
["SP","São Paulo","Caconde","ARSESP","COMGÁS","Residencial","Mensal",7.01,14,{"$f":"Cálculo!$G$69","v":9.3699999999999992},{"$f":"Cálculo!$H$69","v":16.739999999999998}]
["SP","São Paulo","Caconde","ARSESP","COMGÁS","Residencial","Mensal",14.01,34,{"$f":"Cálculo!$G$70","v":11.132},{"$f":"Cálculo!$H$70","v":18.600000000000001}]
["SP","São Paulo","Caconde","ARSESP","COMGÁS","Residencial","Mensal",34.01,600,{"$f":"Cálculo!$G$71","v":11.92},{"$f":"Cálculo!$H$71","v":18.600000000000001}]
["SP","São Paulo","Caconde","ARSESP","COMGÁS","Residencial","Mensal",600.01,1000,{"$f":"Cálculo!$G$72","v":10.324},{"$f":"Cálculo!$H$72","v":18.600000000000001}]
["SP","São Paulo","Caconde","ARSESP","COMGÁS","Residencial","Mensal",1000.01,null,{"$f":"Cálculo!$G$73","v":7.2949999999999999},{"$f":"Cálculo!$H$73","v":18.600000000000001}]
["SP","São Paulo","Caconde","ARSESP","COMGÁS","Comercial","Mensal",0,0,{"$f":"Cálculo!$G$76","v":0},{"$f":"Cálculo!$H$76","v":0}]
["SP","São Paulo","Caconde","ARSESP","COMGÁS","Comercial","Mensal",0.01,50,{"$f":"Cálculo!$G$77","v":9.2490000000000006},{"$f":"Cálculo!$H$77","v":60.76}]
["SP","São Paulo","Caconde","ARSESP","COMGÁS","Comercial","Mensal",50.01,150,{"$f":"Cálculo!$G$78","v":8.49},{"$f":"Cálculo!$H$78","v":98.73}]
["SP","São Paulo","Caconde","ARSESP","COMGÁS","Comercial","Mensal",150.01,500,{"$f":"Cálculo!$G$79","v":7.9859999999999998},{"$f":"Cálculo!$H$79","v":174.66}]
["SP","São Paulo","Caconde","ARSESP","COMGÁS","Comercial","Mensal",500.01,2000,{"$f":"Cálculo!$G$80","v":7.5380000000000003},{"$f":"Cálculo!$H$80","v":398.71}]
["SP","São Paulo","Caconde","ARSESP","COMGÁS","Comercial","Mensal",2000.01,3500,{"$f":"Cálculo!$G$81","v":6.819},{"$f":"Cálculo!$H$81","v":1837.86}]
["SP","São Paulo","Caconde","ARSESP","COMGÁS","Comercial","Mensal",3500.01,50000,{"$f":"Cálculo!$G$82","v":5.3760000000000003},{"$f":"Cálculo!$H$82","v":6892.16}]
["SP","São Paulo","Caconde","ARSESP","COMGÁS","Comercial","Mensal",50000.01,null,{"$f":"Cálculo!$G$83","v":5.1479999999999997},{"$f":"Cálculo!$H$83","v":18284.09}]
["SP","São Paulo","Caconde","ARSESP","COMGÁS","Industrial","Mensal",0,50000,{"$f":"Cálculo!$G$86","v":4.726},{"$f":"Cálculo!$H$86","v":387.36}]
["SP","São Paulo","Caconde","ARSESP","COMGÁS","Industrial","Mensal",50000.01,300000,{"$f":"Cálculo!$G$87","v":3.5019999999999998},{"$f":"Cálculo!$H$87","v":61597.41}]
["SP","São Paulo","Caconde","ARSESP","COMGÁS","Industrial","Mensal",300000.01,500000,{"$f":"Cálculo!$G$88","v":3.36},{"$f":"Cálculo!$H$88","v":110975.06}]
["SP","São Paulo","Caconde","ARSESP","COMGÁS","Industrial","Mensal",500000.01,1000000,{"$f":"Cálculo!$G$89","v":3.3340000000000001},{"$f":"Cálculo!$H$89","v":124035.06}]
["SP","São Paulo","Caconde","ARSESP","COMGÁS","Industrial","Mensal",1000000.01,2000000,{"$f":"Cálculo!$G$90","v":3.2810000000000001},{"$f":"Cálculo!$H$90","v":177422.21}]
["SP","São Paulo","Caconde","ARSESP","COMGÁS","Industrial","Mensal",2000000.01,null,{"$f":"Cálculo!$G$91","v":3.2330000000000001},{"$f":"Cálculo!$H$91","v":316707.87}]
["SP","São Paulo","Caconde","ARSESP","COMGÁS","GNV","Faixa Única",null,null,{"$f":"Cálculo!$G$94","v":3.2148460000000001}]
["SP","São Paulo","Caieiras","ARSESP","COMGÁS","Residencial","Mensal",0,1,{"$f":"Cálculo!$G$66","v":3.2869999999999999},{"$f":"Cálculo!$H$66","v":11.39}]
["SP","São Paulo","Caieiras","ARSESP","COMGÁS","Residencial","Mensal",1.01,3,{"$f":"Cálculo!$G$67","v":10.834},{"$f":"Cálculo!$H$67","v":14.87}]
["SP","São Paulo","Caieiras","ARSESP","COMGÁS","Residencial","Mensal",3.01,7,{"$f":"Cálculo!$G$68","v":5.6470000000000002},{"$f":"Cálculo!$H$68","v":14.87}]
["SP","São Paulo","Caieiras","ARSESP","COMGÁS","Residencial","Mensal",7.01,14,{"$f":"Cálculo!$G$69","v":9.3699999999999992},{"$f":"Cálculo!$H$69","v":16.739999999999998}]
["SP","São Paulo","Caieiras","ARSESP","COMGÁS","Residencial","Mensal",14.01,34,{"$f":"Cálculo!$G$70","v":11.132},{"$f":"Cálculo!$H$70","v":18.600000000000001}]
["SP","São Paulo","Caieiras","ARSESP","COMGÁS","Residencial","Mensal",34.01,600,{"$f":"Cálculo!$G$71","v":11.92},{"$f":"Cálculo!$H$71","v":18.600000000000001}]
["SP","São Paulo","Caieiras","ARSESP","COMGÁS","Residencial","Mensal",600.01,1000,{"$f":"Cálculo!$G$72","v":10.324},{"$f":"Cálculo!$H$72","v":18.600000000000001}]
["SP","São Paulo","Caieiras","ARSESP","COMGÁS","Residencial","Mensal",1000.01,null,{"$f":"Cálculo!$G$73","v":7.2949999999999999},{"$f":"Cálculo!$H$73","v":18.600000000000001}]
["SP","São Paulo","Caieiras","ARSESP","COMGÁS","Comercial","Mensal",0,0,{"$f":"Cálculo!$G$76","v":0},{"$f":"Cálculo!$H$76","v":0}]
["SP","São Paulo","Caieiras","ARSESP","COMGÁS","Comercial","Mensal",0.01,50,{"$f":"Cálculo!$G$77","v":9.2490000000000006},{"$f":"Cálculo!$H$77","v":60.76}]
["SP","São Paulo","Caieiras","ARSESP","COMGÁS","Comercial","Mensal",50.01,150,{"$f":"Cálculo!$G$78","v":8.49},{"$f":"Cálculo!$H$78","v":98.73}]
["SP","São Paulo","Caieiras","ARSESP","COMGÁS","Comercial","Mensal",150.01,500,{"$f":"Cálculo!$G$79","v":7.9859999999999998},{"$f":"Cálculo!$H$79","v":174.66}]
["SP","São Paulo","Caieiras","ARSESP","COMGÁS","Comercial","Mensal",500.01,2000,{"$f":"Cálculo!$G$80","v":7.5380000000000003},{"$f":"Cálculo!$H$80","v":398.71}]
["SP","São Paulo","Caieiras","ARSESP","COMGÁS","Comercial","Mensal",2000.01,3500,{"$f":"Cálculo!$G$81","v":6.819},{"$f":"Cálculo!$H$81","v":1837.86}]
["SP","São Paulo","Caieiras","ARSESP","COMGÁS","Comercial","Mensal",3500.01,50000,{"$f":"Cálculo!$G$82","v":5.3760000000000003},{"$f":"Cálculo!$H$82","v":6892.16}]
["SP","São Paulo","Caieiras","ARSESP","COMGÁS","Comercial","Mensal",50000.01,null,{"$f":"Cálculo!$G$83","v":5.1479999999999997},{"$f":"Cálculo!$H$83","v":18284.09}]
["SP","São Paulo","Caieiras","ARSESP","COMGÁS","Industrial","Mensal",0,50000,{"$f":"Cálculo!$G$86","v":4.726},{"$f":"Cálculo!$H$86","v":387.36}]
["SP","São Paulo","Caieiras","ARSESP","COMGÁS","Industrial","Mensal",50000.01,300000,{"$f":"Cálculo!$G$87","v":3.5019999999999998},{"$f":"Cálculo!$H$87","v":61597.41}]
["SP","São Paulo","Caieiras","ARSESP","COMGÁS","Industrial","Mensal",300000.01,500000,{"$f":"Cálculo!$G$88","v":3.36},{"$f":"Cálculo!$H$88","v":110975.06}]
["SP","São Paulo","Caieiras","ARSESP","COMGÁS","Industrial","Mensal",500000.01,1000000,{"$f":"Cálculo!$G$89","v":3.3340000000000001},{"$f":"Cálculo!$H$89","v":124035.06}]
["SP","São Paulo","Caieiras","ARSESP","COMGÁS","Industrial","Mensal",1000000.01,2000000,{"$f":"Cálculo!$G$90","v":3.2810000000000001},{"$f":"Cálculo!$H$90","v":177422.21}]
["SP","São Paulo","Caieiras","ARSESP","COMGÁS","Industrial","Mensal",2000000.01,null,{"$f":"Cálculo!$G$91","v":3.2330000000000001},{"$f":"Cálculo!$H$91","v":316707.87}]
["SP","São Paulo","Caieiras","ARSESP","COMGÁS","GNV","Faixa Única",null,null,{"$f":"Cálculo!$G$94","v":3.2148460000000001}]
["SP","São Paulo","Cajamar","ARSESP","COMGÁS","Residencial","Mensal",0,1,{"$f":"Cálculo!$G$66","v":3.2869999999999999},{"$f":"Cálculo!$H$66","v":11.39}]
["SP","São Paulo","Cajamar","ARSESP","COMGÁS","Residencial","Mensal",1.01,3,{"$f":"Cálculo!$G$67","v":10.834},{"$f":"Cálculo!$H$67","v":14.87}]
["SP","São Paulo","Cajamar","ARSESP","COMGÁS","Residencial","Mensal",3.01,7,{"$f":"Cálculo!$G$68","v":5.6470000000000002},{"$f":"Cálculo!$H$68","v":14.87}]
["SP","São Paulo","Cajamar","ARSESP","COMGÁS","Residencial","Mensal",7.01,14,{"$f":"Cálculo!$G$69","v":9.3699999999999992},{"$f":"Cálculo!$H$69","v":16.739999999999998}]
["SP","São Paulo","Cajamar","ARSESP","COMGÁS","Residencial","Mensal",14.01,34,{"$f":"Cálculo!$G$70","v":11.132},{"$f":"Cálculo!$H$70","v":18.600000000000001}]
["SP","São Paulo","Cajamar","ARSESP","COMGÁS","Residencial","Mensal",34.01,600,{"$f":"Cálculo!$G$71","v":11.92},{"$f":"Cálculo!$H$71","v":18.600000000000001}]
["SP","São Paulo","Cajamar","ARSESP","COMGÁS","Residencial","Mensal",600.01,1000,{"$f":"Cálculo!$G$72","v":10.324},{"$f":"Cálculo!$H$72","v":18.600000000000001}]
["SP","São Paulo","Cajamar","ARSESP","COMGÁS","Residencial","Mensal",1000.01,null,{"$f":"Cálculo!$G$73","v":7.2949999999999999},{"$f":"Cálculo!$H$73","v":18.600000000000001}]
["SP","São Paulo","Cajamar","ARSESP","COMGÁS","Comercial","Mensal",0,0,{"$f":"Cálculo!$G$76","v":0},{"$f":"Cálculo!$H$76","v":0}]
["SP","São Paulo","Cajamar","ARSESP","COMGÁS","Comercial","Mensal",0.01,50,{"$f":"Cálculo!$G$77","v":9.2490000000000006},{"$f":"Cálculo!$H$77","v":60.76}]
["SP","São Paulo","Cajamar","ARSESP","COMGÁS","Comercial","Mensal",50.01,150,{"$f":"Cálculo!$G$78","v":8.49},{"$f":"Cálculo!$H$78","v":98.73}]
["SP","São Paulo","Cajamar","ARSESP","COMGÁS","Comercial","Mensal",150.01,500,{"$f":"Cálculo!$G$79","v":7.9859999999999998},{"$f":"Cálculo!$H$79","v":174.66}]
["SP","São Paulo","Cajamar","ARSESP","COMGÁS","Comercial","Mensal",500.01,2000,{"$f":"Cálculo!$G$80","v":7.5380000000000003},{"$f":"Cálculo!$H$80","v":398.71}]
["SP","São Paulo","Cajamar","ARSESP","COMGÁS","Comercial","Mensal",2000.01,3500,{"$f":"Cálculo!$G$81","v":6.819},{"$f":"Cálculo!$H$81","v":1837.86}]
["SP","São Paulo","Cajamar","ARSESP","COMGÁS","Comercial","Mensal",3500.01,50000,{"$f":"Cálculo!$G$82","v":5.3760000000000003},{"$f":"Cálculo!$H$82","v":6892.16}]
["SP","São Paulo","Cajamar","ARSESP","COMGÁS","Comercial","Mensal",50000.01,null,{"$f":"Cálculo!$G$83","v":5.1479999999999997},{"$f":"Cálculo!$H$83","v":18284.09}]
["SP","São Paulo","Cajamar","ARSESP","COMGÁS","Industrial","Mensal",0,50000,{"$f":"Cálculo!$G$86","v":4.726},{"$f":"Cálculo!$H$86","v":387.36}]
["SP","São Paulo","Cajamar","ARSESP","COMGÁS","Industrial","Mensal",50000.01,300000,{"$f":"Cálculo!$G$87","v":3.5019999999999998},{"$f":"Cálculo!$H$87","v":61597.41}]
["SP","São Paulo","Cajamar","ARSESP","COMGÁS","Industrial","Mensal",300000.01,500000,{"$f":"Cálculo!$G$88","v":3.36},{"$f":"Cálculo!$H$88","v":110975.06}]
["SP","São Paulo","Cajamar","ARSESP","COMGÁS","Industrial","Mensal",500000.01,1000000,{"$f":"Cálculo!$G$89","v":3.3340000000000001},{"$f":"Cálculo!$H$89","v":124035.06}]
["SP","São Paulo","Cajamar","ARSESP","COMGÁS","Industrial","Mensal",1000000.01,2000000,{"$f":"Cálculo!$G$90","v":3.2810000000000001},{"$f":"Cálculo!$H$90","v":177422.21}]
["SP","São Paulo","Cajamar","ARSESP","COMGÁS","Industrial","Mensal",2000000.01,null,{"$f":"Cálculo!$G$91","v":3.2330000000000001},{"$f":"Cálculo!$H$91","v":316707.87}]
["SP","São Paulo","Cajamar","ARSESP","COMGÁS","GNV","Faixa Única",null,null,{"$f":"Cálculo!$G$94","v":3.2148460000000001}]
["SP","São Paulo","Campinas","ARSESP","COMGÁS","Residencial","Mensal",0,1,{"$f":"Cálculo!$G$66","v":3.2869999999999999},{"$f":"Cálculo!$H$66","v":11.39}]
["SP","São Paulo","Campinas","ARSESP","COMGÁS","Residencial","Mensal",1.01,3,{"$f":"Cálculo!$G$67","v":10.834},{"$f":"Cálculo!$H$67","v":14.87}]
["SP","São Paulo","Campinas","ARSESP","COMGÁS","Residencial","Mensal",3.01,7,{"$f":"Cálculo!$G$68","v":5.6470000000000002},{"$f":"Cálculo!$H$68","v":14.87}]
["SP","São Paulo","Campinas","ARSESP","COMGÁS","Residencial","Mensal",7.01,14,{"$f":"Cálculo!$G$69","v":9.3699999999999992},{"$f":"Cálculo!$H$69","v":16.739999999999998}]
["SP","São Paulo","Campinas","ARSESP","COMGÁS","Residencial","Mensal",14.01,34,{"$f":"Cálculo!$G$70","v":11.132},{"$f":"Cálculo!$H$70","v":18.600000000000001}]
["SP","São Paulo","Campinas","ARSESP","COMGÁS","Residencial","Mensal",34.01,600,{"$f":"Cálculo!$G$71","v":11.92},{"$f":"Cálculo!$H$71","v":18.600000000000001}]
["SP","São Paulo","Campinas","ARSESP","COMGÁS","Residencial","Mensal",600.01,1000,{"$f":"Cálculo!$G$72","v":10.324},{"$f":"Cálculo!$H$72","v":18.600000000000001}]
["SP","São Paulo","Campinas","ARSESP","COMGÁS","Residencial","Mensal",1000.01,null,{"$f":"Cálculo!$G$73","v":7.2949999999999999},{"$f":"Cálculo!$H$73","v":18.600000000000001}]
["SP","São Paulo","Campinas","ARSESP","COMGÁS","Comercial","Mensal",0,0,{"$f":"Cálculo!$G$76","v":0},{"$f":"Cálculo!$H$76","v":0}]
["SP","São Paulo","Campinas","ARSESP","COMGÁS","Comercial","Mensal",0.01,50,{"$f":"Cálculo!$G$77","v":9.2490000000000006},{"$f":"Cálculo!$H$77","v":60.76}]
["SP","São Paulo","Campinas","ARSESP","COMGÁS","Comercial","Mensal",50.01,150,{"$f":"Cálculo!$G$78","v":8.49},{"$f":"Cálculo!$H$78","v":98.73}]
["SP","São Paulo","Campinas","ARSESP","COMGÁS","Comercial","Mensal",150.01,500,{"$f":"Cálculo!$G$79","v":7.9859999999999998},{"$f":"Cálculo!$H$79","v":174.66}]
["SP","São Paulo","Campinas","ARSESP","COMGÁS","Comercial","Mensal",500.01,2000,{"$f":"Cálculo!$G$80","v":7.5380000000000003},{"$f":"Cálculo!$H$80","v":398.71}]
["SP","São Paulo","Campinas","ARSESP","COMGÁS","Comercial","Mensal",2000.01,3500,{"$f":"Cálculo!$G$81","v":6.819},{"$f":"Cálculo!$H$81","v":1837.86}]
["SP","São Paulo","Campinas","ARSESP","COMGÁS","Comercial","Mensal",3500.01,50000,{"$f":"Cálculo!$G$82","v":5.3760000000000003},{"$f":"Cálculo!$H$82","v":6892.16}]
["SP","São Paulo","Campinas","ARSESP","COMGÁS","Comercial","Mensal",50000.01,null,{"$f":"Cálculo!$G$83","v":5.1479999999999997},{"$f":"Cálculo!$H$83","v":18284.09}]
["SP","São Paulo","Campinas","ARSESP","COMGÁS","Industrial","Mensal",0,50000,{"$f":"Cálculo!$G$86","v":4.726},{"$f":"Cálculo!$H$86","v":387.36}]
["SP","São Paulo","Campinas","ARSESP","COMGÁS","Industrial","Mensal",50000.01,300000,{"$f":"Cálculo!$G$87","v":3.5019999999999998},{"$f":"Cálculo!$H$87","v":61597.41}]
["SP","São Paulo","Campinas","ARSESP","COMGÁS","Industrial","Mensal",300000.01,500000,{"$f":"Cálculo!$G$88","v":3.36},{"$f":"Cálculo!$H$88","v":110975.06}]
["SP","São Paulo","Campinas","ARSESP","COMGÁS","Industrial","Mensal",500000.01,1000000,{"$f":"Cálculo!$G$89","v":3.3340000000000001},{"$f":"Cálculo!$H$89","v":124035.06}]
["SP","São Paulo","Campinas","ARSESP","COMGÁS","Industrial","Mensal",1000000.01,2000000,{"$f":"Cálculo!$G$90","v":3.2810000000000001},{"$f":"Cálculo!$H$90","v":177422.21}]
["SP","São Paulo","Campinas","ARSESP","COMGÁS","Industrial","Mensal",2000000.01,null,{"$f":"Cálculo!$G$91","v":3.2330000000000001},{"$f":"Cálculo!$H$91","v":316707.87}]
["SP","São Paulo","Campinas","ARSESP","COMGÁS","GNV","Faixa Única",null,null,{"$f":"Cálculo!$G$94","v":3.2148460000000001}]
["SP","São Paulo","Campo Limpo Paulista","ARSESP","COMGÁS","Residencial","Mensal",0,1,{"$f":"Cálculo!$G$66","v":3.2869999999999999},{"$f":"Cálculo!$H$66","v":11.39}]
["SP","São Paulo","Campo Limpo Paulista","ARSESP","COMGÁS","Residencial","Mensal",1.01,3,{"$f":"Cálculo!$G$67","v":10.834},{"$f":"Cálculo!$H$67","v":14.87}]
["SP","São Paulo","Campo Limpo Paulista","ARSESP","COMGÁS","Residencial","Mensal",3.01,7,{"$f":"Cálculo!$G$68","v":5.6470000000000002},{"$f":"Cálculo!$H$68","v":14.87}]
["SP","São Paulo","Campo Limpo Paulista","ARSESP","COMGÁS","Residencial","Mensal",7.01,14,{"$f":"Cálculo!$G$69","v":9.3699999999999992},{"$f":"Cálculo!$H$69","v":16.739999999999998}]
["SP","São Paulo","Campo Limpo Paulista","ARSESP","COMGÁS","Residencial","Mensal",14.01,34,{"$f":"Cálculo!$G$70","v":11.132},{"$f":"Cálculo!$H$70","v":18.600000000000001}]
["SP","São Paulo","Campo Limpo Paulista","ARSESP","COMGÁS","Residencial","Mensal",34.01,600,{"$f":"Cálculo!$G$71","v":11.92},{"$f":"Cálculo!$H$71","v":18.600000000000001}]
["SP","São Paulo","Campo Limpo Paulista","ARSESP","COMGÁS","Residencial","Mensal",600.01,1000,{"$f":"Cálculo!$G$72","v":10.324},{"$f":"Cálculo!$H$72","v":18.600000000000001}]
["SP","São Paulo","Campo Limpo Paulista","ARSESP","COMGÁS","Residencial","Mensal",1000.01,null,{"$f":"Cálculo!$G$73","v":7.2949999999999999},{"$f":"Cálculo!$H$73","v":18.600000000000001}]
["SP","São Paulo","Campo Limpo Paulista","ARSESP","COMGÁS","Comercial","Mensal",0,0,{"$f":"Cálculo!$G$76","v":0},{"$f":"Cálculo!$H$76","v":0}]
["SP","São Paulo","Campo Limpo Paulista","ARSESP","COMGÁS","Comercial","Mensal",0.01,50,{"$f":"Cálculo!$G$77","v":9.2490000000000006},{"$f":"Cálculo!$H$77","v":60.76}]
["SP","São Paulo","Campo Limpo Paulista","ARSESP","COMGÁS","Comercial","Mensal",50.01,150,{"$f":"Cálculo!$G$78","v":8.49},{"$f":"Cálculo!$H$78","v":98.73}]
["SP","São Paulo","Campo Limpo Paulista","ARSESP","COMGÁS","Comercial","Mensal",150.01,500,{"$f":"Cálculo!$G$79","v":7.9859999999999998},{"$f":"Cálculo!$H$79","v":174.66}]
["SP","São Paulo","Campo Limpo Paulista","ARSESP","COMGÁS","Comercial","Mensal",500.01,2000,{"$f":"Cálculo!$G$80","v":7.5380000000000003},{"$f":"Cálculo!$H$80","v":398.71}]
["SP","São Paulo","Campo Limpo Paulista","ARSESP","COMGÁS","Comercial","Mensal",2000.01,3500,{"$f":"Cálculo!$G$81","v":6.819},{"$f":"Cálculo!$H$81","v":1837.86}]
["SP","São Paulo","Campo Limpo Paulista","ARSESP","COMGÁS","Comercial","Mensal",3500.01,50000,{"$f":"Cálculo!$G$82","v":5.3760000000000003},{"$f":"Cálculo!$H$82","v":6892.16}]
["SP","São Paulo","Campo Limpo Paulista","ARSESP","COMGÁS","Comercial","Mensal",50000.01,null,{"$f":"Cálculo!$G$83","v":5.1479999999999997},{"$f":"Cálculo!$H$83","v":18284.09}]
["SP","São Paulo","Campo Limpo Paulista","ARSESP","COMGÁS","Industrial","Mensal",0,50000,{"$f":"Cálculo!$G$86","v":4.726},{"$f":"Cálculo!$H$86","v":387.36}]
["SP","São Paulo","Campo Limpo Paulista","ARSESP","COMGÁS","Industrial","Mensal",50000.01,300000,{"$f":"Cálculo!$G$87","v":3.5019999999999998},{"$f":"Cálculo!$H$87","v":61597.41}]
["SP","São Paulo","Campo Limpo Paulista","ARSESP","COMGÁS","Industrial","Mensal",300000.01,500000,{"$f":"Cálculo!$G$88","v":3.36},{"$f":"Cálculo!$H$88","v":110975.06}]
["SP","São Paulo","Campo Limpo Paulista","ARSESP","COMGÁS","Industrial","Mensal",500000.01,1000000,{"$f":"Cálculo!$G$89","v":3.3340000000000001},{"$f":"Cálculo!$H$89","v":124035.06}]
["SP","São Paulo","Campo Limpo Paulista","ARSESP","COMGÁS","Industrial","Mensal",1000000.01,2000000,{"$f":"Cálculo!$G$90","v":3.2810000000000001},{"$f":"Cálculo!$H$90","v":177422.21}]
["SP","São Paulo","Campo Limpo Paulista","ARSESP","COMGÁS","Industrial","Mensal",2000000.01,null,{"$f":"Cálculo!$G$91","v":3.2330000000000001},{"$f":"Cálculo!$H$91","v":316707.87}]
["SP","São Paulo","Campo Limpo Paulista","ARSESP","COMGÁS","GNV","Faixa Única",null,null,{"$f":"Cálculo!$G$94","v":3.2148460000000001}]
["SP","São Paulo","Campos do Jordão","ARSESP","COMGÁS","Residencial","Mensal",0,1,{"$f":"Cálculo!$G$66","v":3.2869999999999999},{"$f":"Cálculo!$H$66","v":11.39}]
["SP","São Paulo","Campos do Jordão","ARSESP","COMGÁS","Residencial","Mensal",1.01,3,{"$f":"Cálculo!$G$67","v":10.834},{"$f":"Cálculo!$H$67","v":14.87}]
["SP","São Paulo","Campos do Jordão","ARSESP","COMGÁS","Residencial","Mensal",3.01,7,{"$f":"Cálculo!$G$68","v":5.6470000000000002},{"$f":"Cálculo!$H$68","v":14.87}]
["SP","São Paulo","Campos do Jordão","ARSESP","COMGÁS","Residencial","Mensal",7.01,14,{"$f":"Cálculo!$G$69","v":9.3699999999999992},{"$f":"Cálculo!$H$69","v":16.739999999999998}]
["SP","São Paulo","Campos do Jordão","ARSESP","COMGÁS","Residencial","Mensal",14.01,34,{"$f":"Cálculo!$G$70","v":11.132},{"$f":"Cálculo!$H$70","v":18.600000000000001}]
["SP","São Paulo","Campos do Jordão","ARSESP","COMGÁS","Residencial","Mensal",34.01,600,{"$f":"Cálculo!$G$71","v":11.92},{"$f":"Cálculo!$H$71","v":18.600000000000001}]
["SP","São Paulo","Campos do Jordão","ARSESP","COMGÁS","Residencial","Mensal",600.01,1000,{"$f":"Cálculo!$G$72","v":10.324},{"$f":"Cálculo!$H$72","v":18.600000000000001}]
["SP","São Paulo","Campos do Jordão","ARSESP","COMGÁS","Residencial","Mensal",1000.01,null,{"$f":"Cálculo!$G$73","v":7.2949999999999999},{"$f":"Cálculo!$H$73","v":18.600000000000001}]
["SP","São Paulo","Campos do Jordão","ARSESP","COMGÁS","Comercial","Mensal",0,0,{"$f":"Cálculo!$G$76","v":0},{"$f":"Cálculo!$H$76","v":0}]
["SP","São Paulo","Campos do Jordão","ARSESP","COMGÁS","Comercial","Mensal",0.01,50,{"$f":"Cálculo!$G$77","v":9.2490000000000006},{"$f":"Cálculo!$H$77","v":60.76}]
["SP","São Paulo","Campos do Jordão","ARSESP","COMGÁS","Comercial","Mensal",50.01,150,{"$f":"Cálculo!$G$78","v":8.49},{"$f":"Cálculo!$H$78","v":98.73}]
["SP","São Paulo","Campos do Jordão","ARSESP","COMGÁS","Comercial","Mensal",150.01,500,{"$f":"Cálculo!$G$79","v":7.9859999999999998},{"$f":"Cálculo!$H$79","v":174.66}]
["SP","São Paulo","Campos do Jordão","ARSESP","COMGÁS","Comercial","Mensal",500.01,2000,{"$f":"Cálculo!$G$80","v":7.5380000000000003},{"$f":"Cálculo!$H$80","v":398.71}]
["SP","São Paulo","Campos do Jordão","ARSESP","COMGÁS","Comercial","Mensal",2000.01,3500,{"$f":"Cálculo!$G$81","v":6.819},{"$f":"Cálculo!$H$81","v":1837.86}]
["SP","São Paulo","Campos do Jordão","ARSESP","COMGÁS","Comercial","Mensal",3500.01,50000,{"$f":"Cálculo!$G$82","v":5.3760000000000003},{"$f":"Cálculo!$H$82","v":6892.16}]
["SP","São Paulo","Campos do Jordão","ARSESP","COMGÁS","Comercial","Mensal",50000.01,null,{"$f":"Cálculo!$G$83","v":5.1479999999999997},{"$f":"Cálculo!$H$83","v":18284.09}]
["SP","São Paulo","Campos do Jordão","ARSESP","COMGÁS","Industrial","Mensal",0,50000,{"$f":"Cálculo!$G$86","v":4.726},{"$f":"Cálculo!$H$86","v":387.36}]
["SP","São Paulo","Campos do Jordão","ARSESP","COMGÁS","Industrial","Mensal",50000.01,300000,{"$f":"Cálculo!$G$87","v":3.5019999999999998},{"$f":"Cálculo!$H$87","v":61597.41}]
["SP","São Paulo","Campos do Jordão","ARSESP","COMGÁS","Industrial","Mensal",300000.01,500000,{"$f":"Cálculo!$G$88","v":3.36},{"$f":"Cálculo!$H$88","v":110975.06}]
["SP","São Paulo","Campos do Jordão","ARSESP","COMGÁS","Industrial","Mensal",500000.01,1000000,{"$f":"Cálculo!$G$89","v":3.3340000000000001},{"$f":"Cálculo!$H$89","v":124035.06}]
["SP","São Paulo","Campos do Jordão","ARSESP","COMGÁS","Industrial","Mensal",1000000.01,2000000,{"$f":"Cálculo!$G$90","v":3.2810000000000001},{"$f":"Cálculo!$H$90","v":177422.21}]
["SP","São Paulo","Campos do Jordão","ARSESP","COMGÁS","Industrial","Mensal",2000000.01,null,{"$f":"Cálculo!$G$91","v":3.2330000000000001},{"$f":"Cálculo!$H$91","v":316707.87}]
["SP","São Paulo","Campos do Jordão","ARSESP","COMGÁS","GNV","Faixa Única",null,null,{"$f":"Cálculo!$G$94","v":3.2148460000000001}]
["SP","São Paulo","Canas","ARSESP","COMGÁS","Residencial","Mensal",0,1,{"$f":"Cálculo!$G$66","v":3.2869999999999999},{"$f":"Cálculo!$H$66","v":11.39}]
["SP","São Paulo","Canas","ARSESP","COMGÁS","Residencial","Mensal",1.01,3,{"$f":"Cálculo!$G$67","v":10.834},{"$f":"Cálculo!$H$67","v":14.87}]
["SP","São Paulo","Canas","ARSESP","COMGÁS","Residencial","Mensal",3.01,7,{"$f":"Cálculo!$G$68","v":5.6470000000000002},{"$f":"Cálculo!$H$68","v":14.87}]
["SP","São Paulo","Canas","ARSESP","COMGÁS","Residencial","Mensal",7.01,14,{"$f":"Cálculo!$G$69","v":9.3699999999999992},{"$f":"Cálculo!$H$69","v":16.739999999999998}]
["SP","São Paulo","Canas","ARSESP","COMGÁS","Residencial","Mensal",14.01,34,{"$f":"Cálculo!$G$70","v":11.132},{"$f":"Cálculo!$H$70","v":18.600000000000001}]
["SP","São Paulo","Canas","ARSESP","COMGÁS","Residencial","Mensal",34.01,600,{"$f":"Cálculo!$G$71","v":11.92},{"$f":"Cálculo!$H$71","v":18.600000000000001}]
["SP","São Paulo","Canas","ARSESP","COMGÁS","Residencial","Mensal",600.01,1000,{"$f":"Cálculo!$G$72","v":10.324},{"$f":"Cálculo!$H$72","v":18.600000000000001}]
["SP","São Paulo","Canas","ARSESP","COMGÁS","Residencial","Mensal",1000.01,null,{"$f":"Cálculo!$G$73","v":7.2949999999999999},{"$f":"Cálculo!$H$73","v":18.600000000000001}]
["SP","São Paulo","Canas","ARSESP","COMGÁS","Comercial","Mensal",0,0,{"$f":"Cálculo!$G$76","v":0},{"$f":"Cálculo!$H$76","v":0}]
["SP","São Paulo","Canas","ARSESP","COMGÁS","Comercial","Mensal",0.01,50,{"$f":"Cálculo!$G$77","v":9.2490000000000006},{"$f":"Cálculo!$H$77","v":60.76}]
["SP","São Paulo","Canas","ARSESP","COMGÁS","Comercial","Mensal",50.01,150,{"$f":"Cálculo!$G$78","v":8.49},{"$f":"Cálculo!$H$78","v":98.73}]
["SP","São Paulo","Canas","ARSESP","COMGÁS","Comercial","Mensal",150.01,500,{"$f":"Cálculo!$G$79","v":7.9859999999999998},{"$f":"Cálculo!$H$79","v":174.66}]
["SP","São Paulo","Canas","ARSESP","COMGÁS","Comercial","Mensal",500.01,2000,{"$f":"Cálculo!$G$80","v":7.5380000000000003},{"$f":"Cálculo!$H$80","v":398.71}]
["SP","São Paulo","Canas","ARSESP","COMGÁS","Comercial","Mensal",2000.01,3500,{"$f":"Cálculo!$G$81","v":6.819},{"$f":"Cálculo!$H$81","v":1837.86}]
["SP","São Paulo","Canas","ARSESP","COMGÁS","Comercial","Mensal",3500.01,50000,{"$f":"Cálculo!$G$82","v":5.3760000000000003},{"$f":"Cálculo!$H$82","v":6892.16}]
["SP","São Paulo","Canas","ARSESP","COMGÁS","Comercial","Mensal",50000.01,null,{"$f":"Cálculo!$G$83","v":5.1479999999999997},{"$f":"Cálculo!$H$83","v":18284.09}]
["SP","São Paulo","Canas","ARSESP","COMGÁS","Industrial","Mensal",0,50000,{"$f":"Cálculo!$G$86","v":4.726},{"$f":"Cálculo!$H$86","v":387.36}]
["SP","São Paulo","Canas","ARSESP","COMGÁS","Industrial","Mensal",50000.01,300000,{"$f":"Cálculo!$G$87","v":3.5019999999999998},{"$f":"Cálculo!$H$87","v":61597.41}]
["SP","São Paulo","Canas","ARSESP","COMGÁS","Industrial","Mensal",300000.01,500000,{"$f":"Cálculo!$G$88","v":3.36},{"$f":"Cálculo!$H$88","v":110975.06}]
["SP","São Paulo","Canas","ARSESP","COMGÁS","Industrial","Mensal",500000.01,1000000,{"$f":"Cálculo!$G$89","v":3.3340000000000001},{"$f":"Cálculo!$H$89","v":124035.06}]
["SP","São Paulo","Canas","ARSESP","COMGÁS","Industrial","Mensal",1000000.01,2000000,{"$f":"Cálculo!$G$90","v":3.2810000000000001},{"$f":"Cálculo!$H$90","v":177422.21}]
["SP","São Paulo","Canas","ARSESP","COMGÁS","Industrial","Mensal",2000000.01,null,{"$f":"Cálculo!$G$91","v":3.2330000000000001},{"$f":"Cálculo!$H$91","v":316707.87}]
["SP","São Paulo","Canas","ARSESP","COMGÁS","GNV","Faixa Única",null,null,{"$f":"Cálculo!$G$94","v":3.2148460000000001}]
["SP","São Paulo","Capivarí","ARSESP","COMGÁS","Residencial","Mensal",0,1,{"$f":"Cálculo!$G$66","v":3.2869999999999999},{"$f":"Cálculo!$H$66","v":11.39}]
["SP","São Paulo","Capivarí","ARSESP","COMGÁS","Residencial","Mensal",1.01,3,{"$f":"Cálculo!$G$67","v":10.834},{"$f":"Cálculo!$H$67","v":14.87}]
["SP","São Paulo","Capivarí","ARSESP","COMGÁS","Residencial","Mensal",3.01,7,{"$f":"Cálculo!$G$68","v":5.6470000000000002},{"$f":"Cálculo!$H$68","v":14.87}]
["SP","São Paulo","Capivarí","ARSESP","COMGÁS","Residencial","Mensal",7.01,14,{"$f":"Cálculo!$G$69","v":9.3699999999999992},{"$f":"Cálculo!$H$69","v":16.739999999999998}]
["SP","São Paulo","Capivarí","ARSESP","COMGÁS","Residencial","Mensal",14.01,34,{"$f":"Cálculo!$G$70","v":11.132},{"$f":"Cálculo!$H$70","v":18.600000000000001}]
["SP","São Paulo","Capivarí","ARSESP","COMGÁS","Residencial","Mensal",34.01,600,{"$f":"Cálculo!$G$71","v":11.92},{"$f":"Cálculo!$H$71","v":18.600000000000001}]
["SP","São Paulo","Capivarí","ARSESP","COMGÁS","Residencial","Mensal",600.01,1000,{"$f":"Cálculo!$G$72","v":10.324},{"$f":"Cálculo!$H$72","v":18.600000000000001}]
["SP","São Paulo","Capivarí","ARSESP","COMGÁS","Residencial","Mensal",1000.01,null,{"$f":"Cálculo!$G$73","v":7.2949999999999999},{"$f":"Cálculo!$H$73","v":18.600000000000001}]
["SP","São Paulo","Capivarí","ARSESP","COMGÁS","Comercial","Mensal",0,0,{"$f":"Cálculo!$G$76","v":0},{"$f":"Cálculo!$H$76","v":0}]
["SP","São Paulo","Capivarí","ARSESP","COMGÁS","Comercial","Mensal",0.01,50,{"$f":"Cálculo!$G$77","v":9.2490000000000006},{"$f":"Cálculo!$H$77","v":60.76}]
["SP","São Paulo","Capivarí","ARSESP","COMGÁS","Comercial","Mensal",50.01,150,{"$f":"Cálculo!$G$78","v":8.49},{"$f":"Cálculo!$H$78","v":98.73}]
["SP","São Paulo","Capivarí","ARSESP","COMGÁS","Comercial","Mensal",150.01,500,{"$f":"Cálculo!$G$79","v":7.9859999999999998},{"$f":"Cálculo!$H$79","v":174.66}]
["SP","São Paulo","Capivarí","ARSESP","COMGÁS","Comercial","Mensal",500.01,2000,{"$f":"Cálculo!$G$80","v":7.5380000000000003},{"$f":"Cálculo!$H$80","v":398.71}]
["SP","São Paulo","Capivarí","ARSESP","COMGÁS","Comercial","Mensal",2000.01,3500,{"$f":"Cálculo!$G$81","v":6.819},{"$f":"Cálculo!$H$81","v":1837.86}]
["SP","São Paulo","Capivarí","ARSESP","COMGÁS","Comercial","Mensal",3500.01,50000,{"$f":"Cálculo!$G$82","v":5.3760000000000003},{"$f":"Cálculo!$H$82","v":6892.16}]
["SP","São Paulo","Capivarí","ARSESP","COMGÁS","Comercial","Mensal",50000.01,null,{"$f":"Cálculo!$G$83","v":5.1479999999999997},{"$f":"Cálculo!$H$83","v":18284.09}]
["SP","São Paulo","Capivarí","ARSESP","COMGÁS","Industrial","Mensal",0,50000,{"$f":"Cálculo!$G$86","v":4.726},{"$f":"Cálculo!$H$86","v":387.36}]
["SP","São Paulo","Capivarí","ARSESP","COMGÁS","Industrial","Mensal",50000.01,300000,{"$f":"Cálculo!$G$87","v":3.5019999999999998},{"$f":"Cálculo!$H$87","v":61597.41}]
["SP","São Paulo","Capivarí","ARSESP","COMGÁS","Industrial","Mensal",300000.01,500000,{"$f":"Cálculo!$G$88","v":3.36},{"$f":"Cálculo!$H$88","v":110975.06}]
["SP","São Paulo","Capivarí","ARSESP","COMGÁS","Industrial","Mensal",500000.01,1000000,{"$f":"Cálculo!$G$89","v":3.3340000000000001},{"$f":"Cálculo!$H$89","v":124035.06}]
["SP","São Paulo","Capivarí","ARSESP","COMGÁS","Industrial","Mensal",1000000.01,2000000,{"$f":"Cálculo!$G$90","v":3.2810000000000001},{"$f":"Cálculo!$H$90","v":177422.21}]
["SP","São Paulo","Capivarí","ARSESP","COMGÁS","Industrial","Mensal",2000000.01,null,{"$f":"Cálculo!$G$91","v":3.2330000000000001},{"$f":"Cálculo!$H$91","v":316707.87}]
["SP","São Paulo","Capivarí","ARSESP","COMGÁS","GNV","Faixa Única",null,null,{"$f":"Cálculo!$G$94","v":3.2148460000000001}]
["SP","São Paulo","Caraguatatuba","ARSESP","COMGÁS","Residencial","Mensal",0,1,{"$f":"Cálculo!$G$66","v":3.2869999999999999},{"$f":"Cálculo!$H$66","v":11.39}]
["SP","São Paulo","Caraguatatuba","ARSESP","COMGÁS","Residencial","Mensal",1.01,3,{"$f":"Cálculo!$G$67","v":10.834},{"$f":"Cálculo!$H$67","v":14.87}]
["SP","São Paulo","Caraguatatuba","ARSESP","COMGÁS","Residencial","Mensal",3.01,7,{"$f":"Cálculo!$G$68","v":5.6470000000000002},{"$f":"Cálculo!$H$68","v":14.87}]
["SP","São Paulo","Caraguatatuba","ARSESP","COMGÁS","Residencial","Mensal",7.01,14,{"$f":"Cálculo!$G$69","v":9.3699999999999992},{"$f":"Cálculo!$H$69","v":16.739999999999998}]
["SP","São Paulo","Caraguatatuba","ARSESP","COMGÁS","Residencial","Mensal",14.01,34,{"$f":"Cálculo!$G$70","v":11.132},{"$f":"Cálculo!$H$70","v":18.600000000000001}]
["SP","São Paulo","Caraguatatuba","ARSESP","COMGÁS","Residencial","Mensal",34.01,600,{"$f":"Cálculo!$G$71","v":11.92},{"$f":"Cálculo!$H$71","v":18.600000000000001}]
["SP","São Paulo","Caraguatatuba","ARSESP","COMGÁS","Residencial","Mensal",600.01,1000,{"$f":"Cálculo!$G$72","v":10.324},{"$f":"Cálculo!$H$72","v":18.600000000000001}]
["SP","São Paulo","Caraguatatuba","ARSESP","COMGÁS","Residencial","Mensal",1000.01,null,{"$f":"Cálculo!$G$73","v":7.2949999999999999},{"$f":"Cálculo!$H$73","v":18.600000000000001}]
["SP","São Paulo","Caraguatatuba","ARSESP","COMGÁS","Comercial","Mensal",0,0,{"$f":"Cálculo!$G$76","v":0},{"$f":"Cálculo!$H$76","v":0}]
["SP","São Paulo","Caraguatatuba","ARSESP","COMGÁS","Comercial","Mensal",0.01,50,{"$f":"Cálculo!$G$77","v":9.2490000000000006},{"$f":"Cálculo!$H$77","v":60.76}]
["SP","São Paulo","Caraguatatuba","ARSESP","COMGÁS","Comercial","Mensal",50.01,150,{"$f":"Cálculo!$G$78","v":8.49},{"$f":"Cálculo!$H$78","v":98.73}]
["SP","São Paulo","Caraguatatuba","ARSESP","COMGÁS","Comercial","Mensal",150.01,500,{"$f":"Cálculo!$G$79","v":7.9859999999999998},{"$f":"Cálculo!$H$79","v":174.66}]
["SP","São Paulo","Caraguatatuba","ARSESP","COMGÁS","Comercial","Mensal",500.01,2000,{"$f":"Cálculo!$G$80","v":7.5380000000000003},{"$f":"Cálculo!$H$80","v":398.71}]
["SP","São Paulo","Caraguatatuba","ARSESP","COMGÁS","Comercial","Mensal",2000.01,3500,{"$f":"Cálculo!$G$81","v":6.819},{"$f":"Cálculo!$H$81","v":1837.86}]
["SP","São Paulo","Caraguatatuba","ARSESP","COMGÁS","Comercial","Mensal",3500.01,50000,{"$f":"Cálculo!$G$82","v":5.3760000000000003},{"$f":"Cálculo!$H$82","v":6892.16}]
["SP","São Paulo","Caraguatatuba","ARSESP","COMGÁS","Comercial","Mensal",50000.01,null,{"$f":"Cálculo!$G$83","v":5.1479999999999997},{"$f":"Cálculo!$H$83","v":18284.09}]
["SP","São Paulo","Caraguatatuba","ARSESP","COMGÁS","Industrial","Mensal",0,50000,{"$f":"Cálculo!$G$86","v":4.726},{"$f":"Cálculo!$H$86","v":387.36}]
["SP","São Paulo","Caraguatatuba","ARSESP","COMGÁS","Industrial","Mensal",50000.01,300000,{"$f":"Cálculo!$G$87","v":3.5019999999999998},{"$f":"Cálculo!$H$87","v":61597.41}]
["SP","São Paulo","Caraguatatuba","ARSESP","COMGÁS","Industrial","Mensal",300000.01,500000,{"$f":"Cálculo!$G$88","v":3.36},{"$f":"Cálculo!$H$88","v":110975.06}]
["SP","São Paulo","Caraguatatuba","ARSESP","COMGÁS","Industrial","Mensal",500000.01,1000000,{"$f":"Cálculo!$G$89","v":3.3340000000000001},{"$f":"Cálculo!$H$89","v":124035.06}]
["SP","São Paulo","Caraguatatuba","ARSESP","COMGÁS","Industrial","Mensal",1000000.01,2000000,{"$f":"Cálculo!$G$90","v":3.2810000000000001},{"$f":"Cálculo!$H$90","v":177422.21}]
["SP","São Paulo","Caraguatatuba","ARSESP","COMGÁS","Industrial","Mensal",2000000.01,null,{"$f":"Cálculo!$G$91","v":3.2330000000000001},{"$f":"Cálculo!$H$91","v":316707.87}]
["SP","São Paulo","Caraguatatuba","ARSESP","COMGÁS","GNV","Faixa Única",null,null,{"$f":"Cálculo!$G$94","v":3.2148460000000001}]
["SP","São Paulo","Carapicuíba","ARSESP","COMGÁS","Residencial","Mensal",0,1,{"$f":"Cálculo!$G$66","v":3.2869999999999999},{"$f":"Cálculo!$H$66","v":11.39}]
["SP","São Paulo","Carapicuíba","ARSESP","COMGÁS","Residencial","Mensal",1.01,3,{"$f":"Cálculo!$G$67","v":10.834},{"$f":"Cálculo!$H$67","v":14.87}]
["SP","São Paulo","Carapicuíba","ARSESP","COMGÁS","Residencial","Mensal",3.01,7,{"$f":"Cálculo!$G$68","v":5.6470000000000002},{"$f":"Cálculo!$H$68","v":14.87}]
["SP","São Paulo","Carapicuíba","ARSESP","COMGÁS","Residencial","Mensal",7.01,14,{"$f":"Cálculo!$G$69","v":9.3699999999999992},{"$f":"Cálculo!$H$69","v":16.739999999999998}]
["SP","São Paulo","Carapicuíba","ARSESP","COMGÁS","Residencial","Mensal",14.01,34,{"$f":"Cálculo!$G$70","v":11.132},{"$f":"Cálculo!$H$70","v":18.600000000000001}]
["SP","São Paulo","Carapicuíba","ARSESP","COMGÁS","Residencial","Mensal",34.01,600,{"$f":"Cálculo!$G$71","v":11.92},{"$f":"Cálculo!$H$71","v":18.600000000000001}]
["SP","São Paulo","Carapicuíba","ARSESP","COMGÁS","Residencial","Mensal",600.01,1000,{"$f":"Cálculo!$G$72","v":10.324},{"$f":"Cálculo!$H$72","v":18.600000000000001}]
["SP","São Paulo","Carapicuíba","ARSESP","COMGÁS","Residencial","Mensal",1000.01,null,{"$f":"Cálculo!$G$73","v":7.2949999999999999},{"$f":"Cálculo!$H$73","v":18.600000000000001}]
["SP","São Paulo","Carapicuíba","ARSESP","COMGÁS","Comercial","Mensal",0,0,{"$f":"Cálculo!$G$76","v":0},{"$f":"Cálculo!$H$76","v":0}]
["SP","São Paulo","Carapicuíba","ARSESP","COMGÁS","Comercial","Mensal",0.01,50,{"$f":"Cálculo!$G$77","v":9.2490000000000006},{"$f":"Cálculo!$H$77","v":60.76}]
["SP","São Paulo","Carapicuíba","ARSESP","COMGÁS","Comercial","Mensal",50.01,150,{"$f":"Cálculo!$G$78","v":8.49},{"$f":"Cálculo!$H$78","v":98.73}]
["SP","São Paulo","Carapicuíba","ARSESP","COMGÁS","Comercial","Mensal",150.01,500,{"$f":"Cálculo!$G$79","v":7.9859999999999998},{"$f":"Cálculo!$H$79","v":174.66}]
["SP","São Paulo","Carapicuíba","ARSESP","COMGÁS","Comercial","Mensal",500.01,2000,{"$f":"Cálculo!$G$80","v":7.5380000000000003},{"$f":"Cálculo!$H$80","v":398.71}]
["SP","São Paulo","Carapicuíba","ARSESP","COMGÁS","Comercial","Mensal",2000.01,3500,{"$f":"Cálculo!$G$81","v":6.819},{"$f":"Cálculo!$H$81","v":1837.86}]
["SP","São Paulo","Carapicuíba","ARSESP","COMGÁS","Comercial","Mensal",3500.01,50000,{"$f":"Cálculo!$G$82","v":5.3760000000000003},{"$f":"Cálculo!$H$82","v":6892.16}]
["SP","São Paulo","Carapicuíba","ARSESP","COMGÁS","Comercial","Mensal",50000.01,null,{"$f":"Cálculo!$G$83","v":5.1479999999999997},{"$f":"Cálculo!$H$83","v":18284.09}]
["SP","São Paulo","Carapicuíba","ARSESP","COMGÁS","Industrial","Mensal",0,50000,{"$f":"Cálculo!$G$86","v":4.726},{"$f":"Cálculo!$H$86","v":387.36}]
["SP","São Paulo","Carapicuíba","ARSESP","COMGÁS","Industrial","Mensal",50000.01,300000,{"$f":"Cálculo!$G$87","v":3.5019999999999998},{"$f":"Cálculo!$H$87","v":61597.41}]
["SP","São Paulo","Carapicuíba","ARSESP","COMGÁS","Industrial","Mensal",300000.01,500000,{"$f":"Cálculo!$G$88","v":3.36},{"$f":"Cálculo!$H$88","v":110975.06}]
["SP","São Paulo","Carapicuíba","ARSESP","COMGÁS","Industrial","Mensal",500000.01,1000000,{"$f":"Cálculo!$G$89","v":3.3340000000000001},{"$f":"Cálculo!$H$89","v":124035.06}]
["SP","São Paulo","Carapicuíba","ARSESP","COMGÁS","Industrial","Mensal",1000000.01,2000000,{"$f":"Cálculo!$G$90","v":3.2810000000000001},{"$f":"Cálculo!$H$90","v":177422.21}]
["SP","São Paulo","Carapicuíba","ARSESP","COMGÁS","Industrial","Mensal",2000000.01,null,{"$f":"Cálculo!$G$91","v":3.2330000000000001},{"$f":"Cálculo!$H$91","v":316707.87}]
["SP","São Paulo","Carapicuíba","ARSESP","COMGÁS","GNV","Faixa Única",null,null,{"$f":"Cálculo!$G$94","v":3.2148460000000001}]
["SP","São Paulo","Casa Branca","ARSESP","COMGÁS","Residencial","Mensal",0,1,{"$f":"Cálculo!$G$66","v":3.2869999999999999},{"$f":"Cálculo!$H$66","v":11.39}]
["SP","São Paulo","Casa Branca","ARSESP","COMGÁS","Residencial","Mensal",1.01,3,{"$f":"Cálculo!$G$67","v":10.834},{"$f":"Cálculo!$H$67","v":14.87}]
["SP","São Paulo","Casa Branca","ARSESP","COMGÁS","Residencial","Mensal",3.01,7,{"$f":"Cálculo!$G$68","v":5.6470000000000002},{"$f":"Cálculo!$H$68","v":14.87}]
["SP","São Paulo","Casa Branca","ARSESP","COMGÁS","Residencial","Mensal",7.01,14,{"$f":"Cálculo!$G$69","v":9.3699999999999992},{"$f":"Cálculo!$H$69","v":16.739999999999998}]
["SP","São Paulo","Casa Branca","ARSESP","COMGÁS","Residencial","Mensal",14.01,34,{"$f":"Cálculo!$G$70","v":11.132},{"$f":"Cálculo!$H$70","v":18.600000000000001}]
["SP","São Paulo","Casa Branca","ARSESP","COMGÁS","Residencial","Mensal",34.01,600,{"$f":"Cálculo!$G$71","v":11.92},{"$f":"Cálculo!$H$71","v":18.600000000000001}]
["SP","São Paulo","Casa Branca","ARSESP","COMGÁS","Residencial","Mensal",600.01,1000,{"$f":"Cálculo!$G$72","v":10.324},{"$f":"Cálculo!$H$72","v":18.600000000000001}]
["SP","São Paulo","Casa Branca","ARSESP","COMGÁS","Residencial","Mensal",1000.01,null,{"$f":"Cálculo!$G$73","v":7.2949999999999999},{"$f":"Cálculo!$H$73","v":18.600000000000001}]
["SP","São Paulo","Casa Branca","ARSESP","COMGÁS","Comercial","Mensal",0,0,{"$f":"Cálculo!$G$76","v":0},{"$f":"Cálculo!$H$76","v":0}]
["SP","São Paulo","Casa Branca","ARSESP","COMGÁS","Comercial","Mensal",0.01,50,{"$f":"Cálculo!$G$77","v":9.2490000000000006},{"$f":"Cálculo!$H$77","v":60.76}]
["SP","São Paulo","Casa Branca","ARSESP","COMGÁS","Comercial","Mensal",50.01,150,{"$f":"Cálculo!$G$78","v":8.49},{"$f":"Cálculo!$H$78","v":98.73}]
["SP","São Paulo","Casa Branca","ARSESP","COMGÁS","Comercial","Mensal",150.01,500,{"$f":"Cálculo!$G$79","v":7.9859999999999998},{"$f":"Cálculo!$H$79","v":174.66}]
["SP","São Paulo","Casa Branca","ARSESP","COMGÁS","Comercial","Mensal",500.01,2000,{"$f":"Cálculo!$G$80","v":7.5380000000000003},{"$f":"Cálculo!$H$80","v":398.71}]
["SP","São Paulo","Casa Branca","ARSESP","COMGÁS","Comercial","Mensal",2000.01,3500,{"$f":"Cálculo!$G$81","v":6.819},{"$f":"Cálculo!$H$81","v":1837.86}]
["SP","São Paulo","Casa Branca","ARSESP","COMGÁS","Comercial","Mensal",3500.01,50000,{"$f":"Cálculo!$G$82","v":5.3760000000000003},{"$f":"Cálculo!$H$82","v":6892.16}]
["SP","São Paulo","Casa Branca","ARSESP","COMGÁS","Comercial","Mensal",50000.01,null,{"$f":"Cálculo!$G$83","v":5.1479999999999997},{"$f":"Cálculo!$H$83","v":18284.09}]
["SP","São Paulo","Casa Branca","ARSESP","COMGÁS","Industrial","Mensal",0,50000,{"$f":"Cálculo!$G$86","v":4.726},{"$f":"Cálculo!$H$86","v":387.36}]
["SP","São Paulo","Casa Branca","ARSESP","COMGÁS","Industrial","Mensal",50000.01,300000,{"$f":"Cálculo!$G$87","v":3.5019999999999998},{"$f":"Cálculo!$H$87","v":61597.41}]
["SP","São Paulo","Casa Branca","ARSESP","COMGÁS","Industrial","Mensal",300000.01,500000,{"$f":"Cálculo!$G$88","v":3.36},{"$f":"Cálculo!$H$88","v":110975.06}]
["SP","São Paulo","Casa Branca","ARSESP","COMGÁS","Industrial","Mensal",500000.01,1000000,{"$f":"Cálculo!$G$89","v":3.3340000000000001},{"$f":"Cálculo!$H$89","v":124035.06}]
["SP","São Paulo","Casa Branca","ARSESP","COMGÁS","Industrial","Mensal",1000000.01,2000000,{"$f":"Cálculo!$G$90","v":3.2810000000000001},{"$f":"Cálculo!$H$90","v":177422.21}]
["SP","São Paulo","Casa Branca","ARSESP","COMGÁS","Industrial","Mensal",2000000.01,null,{"$f":"Cálculo!$G$91","v":3.2330000000000001},{"$f":"Cálculo!$H$91","v":316707.87}]
["SP","São Paulo","Casa Branca","ARSESP","COMGÁS","GNV","Faixa Única",null,null,{"$f":"Cálculo!$G$94","v":3.2148460000000001}]
["SP","São Paulo","Charqueada","ARSESP","COMGÁS","Residencial","Mensal",0,1,{"$f":"Cálculo!$G$66","v":3.2869999999999999},{"$f":"Cálculo!$H$66","v":11.39}]
["SP","São Paulo","Charqueada","ARSESP","COMGÁS","Residencial","Mensal",1.01,3,{"$f":"Cálculo!$G$67","v":10.834},{"$f":"Cálculo!$H$67","v":14.87}]
["SP","São Paulo","Charqueada","ARSESP","COMGÁS","Residencial","Mensal",3.01,7,{"$f":"Cálculo!$G$68","v":5.6470000000000002},{"$f":"Cálculo!$H$68","v":14.87}]
["SP","São Paulo","Charqueada","ARSESP","COMGÁS","Residencial","Mensal",7.01,14,{"$f":"Cálculo!$G$69","v":9.3699999999999992},{"$f":"Cálculo!$H$69","v":16.739999999999998}]
["SP","São Paulo","Charqueada","ARSESP","COMGÁS","Residencial","Mensal",14.01,34,{"$f":"Cálculo!$G$70","v":11.132},{"$f":"Cálculo!$H$70","v":18.600000000000001}]
["SP","São Paulo","Charqueada","ARSESP","COMGÁS","Residencial","Mensal",34.01,600,{"$f":"Cálculo!$G$71","v":11.92},{"$f":"Cálculo!$H$71","v":18.600000000000001}]
["SP","São Paulo","Charqueada","ARSESP","COMGÁS","Residencial","Mensal",600.01,1000,{"$f":"Cálculo!$G$72","v":10.324},{"$f":"Cálculo!$H$72","v":18.600000000000001}]
["SP","São Paulo","Charqueada","ARSESP","COMGÁS","Residencial","Mensal",1000.01,null,{"$f":"Cálculo!$G$73","v":7.2949999999999999},{"$f":"Cálculo!$H$73","v":18.600000000000001}]
["SP","São Paulo","Charqueada","ARSESP","COMGÁS","Comercial","Mensal",0,0,{"$f":"Cálculo!$G$76","v":0},{"$f":"Cálculo!$H$76","v":0}]
["SP","São Paulo","Charqueada","ARSESP","COMGÁS","Comercial","Mensal",0.01,50,{"$f":"Cálculo!$G$77","v":9.2490000000000006},{"$f":"Cálculo!$H$77","v":60.76}]
["SP","São Paulo","Charqueada","ARSESP","COMGÁS","Comercial","Mensal",50.01,150,{"$f":"Cálculo!$G$78","v":8.49},{"$f":"Cálculo!$H$78","v":98.73}]
["SP","São Paulo","Charqueada","ARSESP","COMGÁS","Comercial","Mensal",150.01,500,{"$f":"Cálculo!$G$79","v":7.9859999999999998},{"$f":"Cálculo!$H$79","v":174.66}]
["SP","São Paulo","Charqueada","ARSESP","COMGÁS","Comercial","Mensal",500.01,2000,{"$f":"Cálculo!$G$80","v":7.5380000000000003},{"$f":"Cálculo!$H$80","v":398.71}]
["SP","São Paulo","Charqueada","ARSESP","COMGÁS","Comercial","Mensal",2000.01,3500,{"$f":"Cálculo!$G$81","v":6.819},{"$f":"Cálculo!$H$81","v":1837.86}]
["SP","São Paulo","Charqueada","ARSESP","COMGÁS","Comercial","Mensal",3500.01,50000,{"$f":"Cálculo!$G$82","v":5.3760000000000003},{"$f":"Cálculo!$H$82","v":6892.16}]
["SP","São Paulo","Charqueada","ARSESP","COMGÁS","Comercial","Mensal",50000.01,null,{"$f":"Cálculo!$G$83","v":5.1479999999999997},{"$f":"Cálculo!$H$83","v":18284.09}]
["SP","São Paulo","Charqueada","ARSESP","COMGÁS","Industrial","Mensal",0,50000,{"$f":"Cálculo!$G$86","v":4.726},{"$f":"Cálculo!$H$86","v":387.36}]
["SP","São Paulo","Charqueada","ARSESP","COMGÁS","Industrial","Mensal",50000.01,300000,{"$f":"Cálculo!$G$87","v":3.5019999999999998},{"$f":"Cálculo!$H$87","v":61597.41}]
["SP","São Paulo","Charqueada","ARSESP","COMGÁS","Industrial","Mensal",300000.01,500000,{"$f":"Cálculo!$G$88","v":3.36},{"$f":"Cálculo!$H$88","v":110975.06}]
["SP","São Paulo","Charqueada","ARSESP","COMGÁS","Industrial","Mensal",500000.01,1000000,{"$f":"Cálculo!$G$89","v":3.3340000000000001},{"$f":"Cálculo!$H$89","v":124035.06}]
["SP","São Paulo","Charqueada","ARSESP","COMGÁS","Industrial","Mensal",1000000.01,2000000,{"$f":"Cálculo!$G$90","v":3.2810000000000001},{"$f":"Cálculo!$H$90","v":177422.21}]
["SP","São Paulo","Charqueada","ARSESP","COMGÁS","Industrial","Mensal",2000000.01,null,{"$f":"Cálculo!$G$91","v":3.2330000000000001},{"$f":"Cálculo!$H$91","v":316707.87}]
["SP","São Paulo","Charqueada","ARSESP","COMGÁS","GNV","Faixa Única",null,null,{"$f":"Cálculo!$G$94","v":3.2148460000000001}]
["SP","São Paulo","Conchal","ARSESP","COMGÁS","Residencial","Mensal",0,1,{"$f":"Cálculo!$G$66","v":3.2869999999999999},{"$f":"Cálculo!$H$66","v":11.39}]
["SP","São Paulo","Conchal","ARSESP","COMGÁS","Residencial","Mensal",1.01,3,{"$f":"Cálculo!$G$67","v":10.834},{"$f":"Cálculo!$H$67","v":14.87}]
["SP","São Paulo","Conchal","ARSESP","COMGÁS","Residencial","Mensal",3.01,7,{"$f":"Cálculo!$G$68","v":5.6470000000000002},{"$f":"Cálculo!$H$68","v":14.87}]
["SP","São Paulo","Conchal","ARSESP","COMGÁS","Residencial","Mensal",7.01,14,{"$f":"Cálculo!$G$69","v":9.3699999999999992},{"$f":"Cálculo!$H$69","v":16.739999999999998}]
["SP","São Paulo","Conchal","ARSESP","COMGÁS","Residencial","Mensal",14.01,34,{"$f":"Cálculo!$G$70","v":11.132},{"$f":"Cálculo!$H$70","v":18.600000000000001}]
["SP","São Paulo","Conchal","ARSESP","COMGÁS","Residencial","Mensal",34.01,600,{"$f":"Cálculo!$G$71","v":11.92},{"$f":"Cálculo!$H$71","v":18.600000000000001}]
["SP","São Paulo","Conchal","ARSESP","COMGÁS","Residencial","Mensal",600.01,1000,{"$f":"Cálculo!$G$72","v":10.324},{"$f":"Cálculo!$H$72","v":18.600000000000001}]
["SP","São Paulo","Conchal","ARSESP","COMGÁS","Residencial","Mensal",1000.01,null,{"$f":"Cálculo!$G$73","v":7.2949999999999999},{"$f":"Cálculo!$H$73","v":18.600000000000001}]
["SP","São Paulo","Conchal","ARSESP","COMGÁS","Comercial","Mensal",0,0,{"$f":"Cálculo!$G$76","v":0},{"$f":"Cálculo!$H$76","v":0}]
["SP","São Paulo","Conchal","ARSESP","COMGÁS","Comercial","Mensal",0.01,50,{"$f":"Cálculo!$G$77","v":9.2490000000000006},{"$f":"Cálculo!$H$77","v":60.76}]
["SP","São Paulo","Conchal","ARSESP","COMGÁS","Comercial","Mensal",50.01,150,{"$f":"Cálculo!$G$78","v":8.49},{"$f":"Cálculo!$H$78","v":98.73}]
["SP","São Paulo","Conchal","ARSESP","COMGÁS","Comercial","Mensal",150.01,500,{"$f":"Cálculo!$G$79","v":7.9859999999999998},{"$f":"Cálculo!$H$79","v":174.66}]
["SP","São Paulo","Conchal","ARSESP","COMGÁS","Comercial","Mensal",500.01,2000,{"$f":"Cálculo!$G$80","v":7.5380000000000003},{"$f":"Cálculo!$H$80","v":398.71}]
["SP","São Paulo","Conchal","ARSESP","COMGÁS","Comercial","Mensal",2000.01,3500,{"$f":"Cálculo!$G$81","v":6.819},{"$f":"Cálculo!$H$81","v":1837.86}]
["SP","São Paulo","Conchal","ARSESP","COMGÁS","Comercial","Mensal",3500.01,50000,{"$f":"Cálculo!$G$82","v":5.3760000000000003},{"$f":"Cálculo!$H$82","v":6892.16}]
["SP","São Paulo","Conchal","ARSESP","COMGÁS","Comercial","Mensal",50000.01,null,{"$f":"Cálculo!$G$83","v":5.1479999999999997},{"$f":"Cálculo!$H$83","v":18284.09}]
["SP","São Paulo","Conchal","ARSESP","COMGÁS","Industrial","Mensal",0,50000,{"$f":"Cálculo!$G$86","v":4.726},{"$f":"Cálculo!$H$86","v":387.36}]
["SP","São Paulo","Conchal","ARSESP","COMGÁS","Industrial","Mensal",50000.01,300000,{"$f":"Cálculo!$G$87","v":3.5019999999999998},{"$f":"Cálculo!$H$87","v":61597.41}]
["SP","São Paulo","Conchal","ARSESP","COMGÁS","Industrial","Mensal",300000.01,500000,{"$f":"Cálculo!$G$88","v":3.36},{"$f":"Cálculo!$H$88","v":110975.06}]
["SP","São Paulo","Conchal","ARSESP","COMGÁS","Industrial","Mensal",500000.01,1000000,{"$f":"Cálculo!$G$89","v":3.3340000000000001},{"$f":"Cálculo!$H$89","v":124035.06}]
["SP","São Paulo","Conchal","ARSESP","COMGÁS","Industrial","Mensal",1000000.01,2000000,{"$f":"Cálculo!$G$90","v":3.2810000000000001},{"$f":"Cálculo!$H$90","v":177422.21}]
["SP","São Paulo","Conchal","ARSESP","COMGÁS","Industrial","Mensal",2000000.01,null,{"$f":"Cálculo!$G$91","v":3.2330000000000001},{"$f":"Cálculo!$H$91","v":316707.87}]
["SP","São Paulo","Conchal","ARSESP","COMGÁS","GNV","Faixa Única",null,null,{"$f":"Cálculo!$G$94","v":3.2148460000000001}]
["SP","São Paulo","Cordeirópolis","ARSESP","COMGÁS","Residencial","Mensal",0,1,{"$f":"Cálculo!$G$66","v":3.2869999999999999},{"$f":"Cálculo!$H$66","v":11.39}]
["SP","São Paulo","Cordeirópolis","ARSESP","COMGÁS","Residencial","Mensal",1.01,3,{"$f":"Cálculo!$G$67","v":10.834},{"$f":"Cálculo!$H$67","v":14.87}]
["SP","São Paulo","Cordeirópolis","ARSESP","COMGÁS","Residencial","Mensal",3.01,7,{"$f":"Cálculo!$G$68","v":5.6470000000000002},{"$f":"Cálculo!$H$68","v":14.87}]
["SP","São Paulo","Cordeirópolis","ARSESP","COMGÁS","Residencial","Mensal",7.01,14,{"$f":"Cálculo!$G$69","v":9.3699999999999992},{"$f":"Cálculo!$H$69","v":16.739999999999998}]
["SP","São Paulo","Cordeirópolis","ARSESP","COMGÁS","Residencial","Mensal",14.01,34,{"$f":"Cálculo!$G$70","v":11.132},{"$f":"Cálculo!$H$70","v":18.600000000000001}]
["SP","São Paulo","Cordeirópolis","ARSESP","COMGÁS","Residencial","Mensal",34.01,600,{"$f":"Cálculo!$G$71","v":11.92},{"$f":"Cálculo!$H$71","v":18.600000000000001}]
["SP","São Paulo","Cordeirópolis","ARSESP","COMGÁS","Residencial","Mensal",600.01,1000,{"$f":"Cálculo!$G$72","v":10.324},{"$f":"Cálculo!$H$72","v":18.600000000000001}]
["SP","São Paulo","Cordeirópolis","ARSESP","COMGÁS","Residencial","Mensal",1000.01,null,{"$f":"Cálculo!$G$73","v":7.2949999999999999},{"$f":"Cálculo!$H$73","v":18.600000000000001}]
["SP","São Paulo","Cordeirópolis","ARSESP","COMGÁS","Comercial","Mensal",0,0,{"$f":"Cálculo!$G$76","v":0},{"$f":"Cálculo!$H$76","v":0}]
["SP","São Paulo","Cordeirópolis","ARSESP","COMGÁS","Comercial","Mensal",0.01,50,{"$f":"Cálculo!$G$77","v":9.2490000000000006},{"$f":"Cálculo!$H$77","v":60.76}]
["SP","São Paulo","Cordeirópolis","ARSESP","COMGÁS","Comercial","Mensal",50.01,150,{"$f":"Cálculo!$G$78","v":8.49},{"$f":"Cálculo!$H$78","v":98.73}]
["SP","São Paulo","Cordeirópolis","ARSESP","COMGÁS","Comercial","Mensal",150.01,500,{"$f":"Cálculo!$G$79","v":7.9859999999999998},{"$f":"Cálculo!$H$79","v":174.66}]
["SP","São Paulo","Cordeirópolis","ARSESP","COMGÁS","Comercial","Mensal",500.01,2000,{"$f":"Cálculo!$G$80","v":7.5380000000000003},{"$f":"Cálculo!$H$80","v":398.71}]
["SP","São Paulo","Cordeirópolis","ARSESP","COMGÁS","Comercial","Mensal",2000.01,3500,{"$f":"Cálculo!$G$81","v":6.819},{"$f":"Cálculo!$H$81","v":1837.86}]
["SP","São Paulo","Cordeirópolis","ARSESP","COMGÁS","Comercial","Mensal",3500.01,50000,{"$f":"Cálculo!$G$82","v":5.3760000000000003},{"$f":"Cálculo!$H$82","v":6892.16}]
["SP","São Paulo","Cordeirópolis","ARSESP","COMGÁS","Comercial","Mensal",50000.01,null,{"$f":"Cálculo!$G$83","v":5.1479999999999997},{"$f":"Cálculo!$H$83","v":18284.09}]
["SP","São Paulo","Cordeirópolis","ARSESP","COMGÁS","Industrial","Mensal",0,50000,{"$f":"Cálculo!$G$86","v":4.726},{"$f":"Cálculo!$H$86","v":387.36}]
["SP","São Paulo","Cordeirópolis","ARSESP","COMGÁS","Industrial","Mensal",50000.01,300000,{"$f":"Cálculo!$G$87","v":3.5019999999999998},{"$f":"Cálculo!$H$87","v":61597.41}]
["SP","São Paulo","Cordeirópolis","ARSESP","COMGÁS","Industrial","Mensal",300000.01,500000,{"$f":"Cálculo!$G$88","v":3.36},{"$f":"Cálculo!$H$88","v":110975.06}]
["SP","São Paulo","Cordeirópolis","ARSESP","COMGÁS","Industrial","Mensal",500000.01,1000000,{"$f":"Cálculo!$G$89","v":3.3340000000000001},{"$f":"Cálculo!$H$89","v":124035.06}]
["SP","São Paulo","Cordeirópolis","ARSESP","COMGÁS","Industrial","Mensal",1000000.01,2000000,{"$f":"Cálculo!$G$90","v":3.2810000000000001},{"$f":"Cálculo!$H$90","v":177422.21}]
["SP","São Paulo","Cordeirópolis","ARSESP","COMGÁS","Industrial","Mensal",2000000.01,null,{"$f":"Cálculo!$G$91","v":3.2330000000000001},{"$f":"Cálculo!$H$91","v":316707.87}]
["SP","São Paulo","Cordeirópolis","ARSESP","COMGÁS","GNV","Faixa Única",null,null,{"$f":"Cálculo!$G$94","v":3.2148460000000001}]
["SP","São Paulo","Corumbataí","ARSESP","COMGÁS","Residencial","Mensal",0,1,{"$f":"Cálculo!$G$66","v":3.2869999999999999},{"$f":"Cálculo!$H$66","v":11.39}]
["SP","São Paulo","Corumbataí","ARSESP","COMGÁS","Residencial","Mensal",1.01,3,{"$f":"Cálculo!$G$67","v":10.834},{"$f":"Cálculo!$H$67","v":14.87}]
["SP","São Paulo","Corumbataí","ARSESP","COMGÁS","Residencial","Mensal",3.01,7,{"$f":"Cálculo!$G$68","v":5.6470000000000002},{"$f":"Cálculo!$H$68","v":14.87}]
["SP","São Paulo","Corumbataí","ARSESP","COMGÁS","Residencial","Mensal",7.01,14,{"$f":"Cálculo!$G$69","v":9.3699999999999992},{"$f":"Cálculo!$H$69","v":16.739999999999998}]
["SP","São Paulo","Corumbataí","ARSESP","COMGÁS","Residencial","Mensal",14.01,34,{"$f":"Cálculo!$G$70","v":11.132},{"$f":"Cálculo!$H$70","v":18.600000000000001}]
["SP","São Paulo","Corumbataí","ARSESP","COMGÁS","Residencial","Mensal",34.01,600,{"$f":"Cálculo!$G$71","v":11.92},{"$f":"Cálculo!$H$71","v":18.600000000000001}]
["SP","São Paulo","Corumbataí","ARSESP","COMGÁS","Residencial","Mensal",600.01,1000,{"$f":"Cálculo!$G$72","v":10.324},{"$f":"Cálculo!$H$72","v":18.600000000000001}]
["SP","São Paulo","Corumbataí","ARSESP","COMGÁS","Residencial","Mensal",1000.01,null,{"$f":"Cálculo!$G$73","v":7.2949999999999999},{"$f":"Cálculo!$H$73","v":18.600000000000001}]
["SP","São Paulo","Corumbataí","ARSESP","COMGÁS","Comercial","Mensal",0,0,{"$f":"Cálculo!$G$76","v":0},{"$f":"Cálculo!$H$76","v":0}]
["SP","São Paulo","Corumbataí","ARSESP","COMGÁS","Comercial","Mensal",0.01,50,{"$f":"Cálculo!$G$77","v":9.2490000000000006},{"$f":"Cálculo!$H$77","v":60.76}]
["SP","São Paulo","Corumbataí","ARSESP","COMGÁS","Comercial","Mensal",50.01,150,{"$f":"Cálculo!$G$78","v":8.49},{"$f":"Cálculo!$H$78","v":98.73}]
["SP","São Paulo","Corumbataí","ARSESP","COMGÁS","Comercial","Mensal",150.01,500,{"$f":"Cálculo!$G$79","v":7.9859999999999998},{"$f":"Cálculo!$H$79","v":174.66}]
["SP","São Paulo","Corumbataí","ARSESP","COMGÁS","Comercial","Mensal",500.01,2000,{"$f":"Cálculo!$G$80","v":7.5380000000000003},{"$f":"Cálculo!$H$80","v":398.71}]
["SP","São Paulo","Corumbataí","ARSESP","COMGÁS","Comercial","Mensal",2000.01,3500,{"$f":"Cálculo!$G$81","v":6.819},{"$f":"Cálculo!$H$81","v":1837.86}]
["SP","São Paulo","Corumbataí","ARSESP","COMGÁS","Comercial","Mensal",3500.01,50000,{"$f":"Cálculo!$G$82","v":5.3760000000000003},{"$f":"Cálculo!$H$82","v":6892.16}]
["SP","São Paulo","Corumbataí","ARSESP","COMGÁS","Comercial","Mensal",50000.01,null,{"$f":"Cálculo!$G$83","v":5.1479999999999997},{"$f":"Cálculo!$H$83","v":18284.09}]
["SP","São Paulo","Corumbataí","ARSESP","COMGÁS","Industrial","Mensal",0,50000,{"$f":"Cálculo!$G$86","v":4.726},{"$f":"Cálculo!$H$86","v":387.36}]
["SP","São Paulo","Corumbataí","ARSESP","COMGÁS","Industrial","Mensal",50000.01,300000,{"$f":"Cálculo!$G$87","v":3.5019999999999998},{"$f":"Cálculo!$H$87","v":61597.41}]
["SP","São Paulo","Corumbataí","ARSESP","COMGÁS","Industrial","Mensal",300000.01,500000,{"$f":"Cálculo!$G$88","v":3.36},{"$f":"Cálculo!$H$88","v":110975.06}]
["SP","São Paulo","Corumbataí","ARSESP","COMGÁS","Industrial","Mensal",500000.01,1000000,{"$f":"Cálculo!$G$89","v":3.3340000000000001},{"$f":"Cálculo!$H$89","v":124035.06}]
["SP","São Paulo","Corumbataí","ARSESP","COMGÁS","Industrial","Mensal",1000000.01,2000000,{"$f":"Cálculo!$G$90","v":3.2810000000000001},{"$f":"Cálculo!$H$90","v":177422.21}]
["SP","São Paulo","Corumbataí","ARSESP","COMGÁS","Industrial","Mensal",2000000.01,null,{"$f":"Cálculo!$G$91","v":3.2330000000000001},{"$f":"Cálculo!$H$91","v":316707.87}]
["SP","São Paulo","Corumbataí","ARSESP","COMGÁS","GNV","Faixa Única",null,null,{"$f":"Cálculo!$G$94","v":3.2148460000000001}]
["SP","São Paulo","Cosmópolis","ARSESP","COMGÁS","Residencial","Mensal",0,1,{"$f":"Cálculo!$G$66","v":3.2869999999999999},{"$f":"Cálculo!$H$66","v":11.39}]
["SP","São Paulo","Cosmópolis","ARSESP","COMGÁS","Residencial","Mensal",1.01,3,{"$f":"Cálculo!$G$67","v":10.834},{"$f":"Cálculo!$H$67","v":14.87}]
["SP","São Paulo","Cosmópolis","ARSESP","COMGÁS","Residencial","Mensal",3.01,7,{"$f":"Cálculo!$G$68","v":5.6470000000000002},{"$f":"Cálculo!$H$68","v":14.87}]
["SP","São Paulo","Cosmópolis","ARSESP","COMGÁS","Residencial","Mensal",7.01,14,{"$f":"Cálculo!$G$69","v":9.3699999999999992},{"$f":"Cálculo!$H$69","v":16.739999999999998}]
["SP","São Paulo","Cosmópolis","ARSESP","COMGÁS","Residencial","Mensal",14.01,34,{"$f":"Cálculo!$G$70","v":11.132},{"$f":"Cálculo!$H$70","v":18.600000000000001}]
["SP","São Paulo","Cosmópolis","ARSESP","COMGÁS","Residencial","Mensal",34.01,600,{"$f":"Cálculo!$G$71","v":11.92},{"$f":"Cálculo!$H$71","v":18.600000000000001}]
["SP","São Paulo","Cosmópolis","ARSESP","COMGÁS","Residencial","Mensal",600.01,1000,{"$f":"Cálculo!$G$72","v":10.324},{"$f":"Cálculo!$H$72","v":18.600000000000001}]
["SP","São Paulo","Cosmópolis","ARSESP","COMGÁS","Residencial","Mensal",1000.01,null,{"$f":"Cálculo!$G$73","v":7.2949999999999999},{"$f":"Cálculo!$H$73","v":18.600000000000001}]
["SP","São Paulo","Cosmópolis","ARSESP","COMGÁS","Comercial","Mensal",0,0,{"$f":"Cálculo!$G$76","v":0},{"$f":"Cálculo!$H$76","v":0}]
["SP","São Paulo","Cosmópolis","ARSESP","COMGÁS","Comercial","Mensal",0.01,50,{"$f":"Cálculo!$G$77","v":9.2490000000000006},{"$f":"Cálculo!$H$77","v":60.76}]
["SP","São Paulo","Cosmópolis","ARSESP","COMGÁS","Comercial","Mensal",50.01,150,{"$f":"Cálculo!$G$78","v":8.49},{"$f":"Cálculo!$H$78","v":98.73}]
["SP","São Paulo","Cosmópolis","ARSESP","COMGÁS","Comercial","Mensal",150.01,500,{"$f":"Cálculo!$G$79","v":7.9859999999999998},{"$f":"Cálculo!$H$79","v":174.66}]
["SP","São Paulo","Cosmópolis","ARSESP","COMGÁS","Comercial","Mensal",500.01,2000,{"$f":"Cálculo!$G$80","v":7.5380000000000003},{"$f":"Cálculo!$H$80","v":398.71}]
["SP","São Paulo","Cosmópolis","ARSESP","COMGÁS","Comercial","Mensal",2000.01,3500,{"$f":"Cálculo!$G$81","v":6.819},{"$f":"Cálculo!$H$81","v":1837.86}]
["SP","São Paulo","Cosmópolis","ARSESP","COMGÁS","Comercial","Mensal",3500.01,50000,{"$f":"Cálculo!$G$82","v":5.3760000000000003},{"$f":"Cálculo!$H$82","v":6892.16}]
["SP","São Paulo","Cosmópolis","ARSESP","COMGÁS","Comercial","Mensal",50000.01,null,{"$f":"Cálculo!$G$83","v":5.1479999999999997},{"$f":"Cálculo!$H$83","v":18284.09}]
["SP","São Paulo","Cosmópolis","ARSESP","COMGÁS","Industrial","Mensal",0,50000,{"$f":"Cálculo!$G$86","v":4.726},{"$f":"Cálculo!$H$86","v":387.36}]
["SP","São Paulo","Cosmópolis","ARSESP","COMGÁS","Industrial","Mensal",50000.01,300000,{"$f":"Cálculo!$G$87","v":3.5019999999999998},{"$f":"Cálculo!$H$87","v":61597.41}]
["SP","São Paulo","Cosmópolis","ARSESP","COMGÁS","Industrial","Mensal",300000.01,500000,{"$f":"Cálculo!$G$88","v":3.36},{"$f":"Cálculo!$H$88","v":110975.06}]
["SP","São Paulo","Cosmópolis","ARSESP","COMGÁS","Industrial","Mensal",500000.01,1000000,{"$f":"Cálculo!$G$89","v":3.3340000000000001},{"$f":"Cálculo!$H$89","v":124035.06}]
["SP","São Paulo","Cosmópolis","ARSESP","COMGÁS","Industrial","Mensal",1000000.01,2000000,{"$f":"Cálculo!$G$90","v":3.2810000000000001},{"$f":"Cálculo!$H$90","v":177422.21}]
["SP","São Paulo","Cosmópolis","ARSESP","COMGÁS","Industrial","Mensal",2000000.01,null,{"$f":"Cálculo!$G$91","v":3.2330000000000001},{"$f":"Cálculo!$H$91","v":316707.87}]
["SP","São Paulo","Cosmópolis","ARSESP","COMGÁS","GNV","Faixa Única",null,null,{"$f":"Cálculo!$G$94","v":3.2148460000000001}]
["SP","São Paulo","Cotia","ARSESP","COMGÁS","Residencial","Mensal",0,1,{"$f":"Cálculo!$G$66","v":3.2869999999999999},{"$f":"Cálculo!$H$66","v":11.39}]
["SP","São Paulo","Cotia","ARSESP","COMGÁS","Residencial","Mensal",1.01,3,{"$f":"Cálculo!$G$67","v":10.834},{"$f":"Cálculo!$H$67","v":14.87}]
["SP","São Paulo","Cotia","ARSESP","COMGÁS","Residencial","Mensal",3.01,7,{"$f":"Cálculo!$G$68","v":5.6470000000000002},{"$f":"Cálculo!$H$68","v":14.87}]
["SP","São Paulo","Cotia","ARSESP","COMGÁS","Residencial","Mensal",7.01,14,{"$f":"Cálculo!$G$69","v":9.3699999999999992},{"$f":"Cálculo!$H$69","v":16.739999999999998}]
["SP","São Paulo","Cotia","ARSESP","COMGÁS","Residencial","Mensal",14.01,34,{"$f":"Cálculo!$G$70","v":11.132},{"$f":"Cálculo!$H$70","v":18.600000000000001}]
["SP","São Paulo","Cotia","ARSESP","COMGÁS","Residencial","Mensal",34.01,600,{"$f":"Cálculo!$G$71","v":11.92},{"$f":"Cálculo!$H$71","v":18.600000000000001}]
["SP","São Paulo","Cotia","ARSESP","COMGÁS","Residencial","Mensal",600.01,1000,{"$f":"Cálculo!$G$72","v":10.324},{"$f":"Cálculo!$H$72","v":18.600000000000001}]
["SP","São Paulo","Cotia","ARSESP","COMGÁS","Residencial","Mensal",1000.01,null,{"$f":"Cálculo!$G$73","v":7.2949999999999999},{"$f":"Cálculo!$H$73","v":18.600000000000001}]
["SP","São Paulo","Cotia","ARSESP","COMGÁS","Comercial","Mensal",0,0,{"$f":"Cálculo!$G$76","v":0},{"$f":"Cálculo!$H$76","v":0}]
["SP","São Paulo","Cotia","ARSESP","COMGÁS","Comercial","Mensal",0.01,50,{"$f":"Cálculo!$G$77","v":9.2490000000000006},{"$f":"Cálculo!$H$77","v":60.76}]
["SP","São Paulo","Cotia","ARSESP","COMGÁS","Comercial","Mensal",50.01,150,{"$f":"Cálculo!$G$78","v":8.49},{"$f":"Cálculo!$H$78","v":98.73}]
["SP","São Paulo","Cotia","ARSESP","COMGÁS","Comercial","Mensal",150.01,500,{"$f":"Cálculo!$G$79","v":7.9859999999999998},{"$f":"Cálculo!$H$79","v":174.66}]
["SP","São Paulo","Cotia","ARSESP","COMGÁS","Comercial","Mensal",500.01,2000,{"$f":"Cálculo!$G$80","v":7.5380000000000003},{"$f":"Cálculo!$H$80","v":398.71}]
["SP","São Paulo","Cotia","ARSESP","COMGÁS","Comercial","Mensal",2000.01,3500,{"$f":"Cálculo!$G$81","v":6.819},{"$f":"Cálculo!$H$81","v":1837.86}]
["SP","São Paulo","Cotia","ARSESP","COMGÁS","Comercial","Mensal",3500.01,50000,{"$f":"Cálculo!$G$82","v":5.3760000000000003},{"$f":"Cálculo!$H$82","v":6892.16}]
["SP","São Paulo","Cotia","ARSESP","COMGÁS","Comercial","Mensal",50000.01,null,{"$f":"Cálculo!$G$83","v":5.1479999999999997},{"$f":"Cálculo!$H$83","v":18284.09}]
["SP","São Paulo","Cotia","ARSESP","COMGÁS","Industrial","Mensal",0,50000,{"$f":"Cálculo!$G$86","v":4.726},{"$f":"Cálculo!$H$86","v":387.36}]
["SP","São Paulo","Cotia","ARSESP","COMGÁS","Industrial","Mensal",50000.01,300000,{"$f":"Cálculo!$G$87","v":3.5019999999999998},{"$f":"Cálculo!$H$87","v":61597.41}]
["SP","São Paulo","Cotia","ARSESP","COMGÁS","Industrial","Mensal",300000.01,500000,{"$f":"Cálculo!$G$88","v":3.36},{"$f":"Cálculo!$H$88","v":110975.06}]
["SP","São Paulo","Cotia","ARSESP","COMGÁS","Industrial","Mensal",500000.01,1000000,{"$f":"Cálculo!$G$89","v":3.3340000000000001},{"$f":"Cálculo!$H$89","v":124035.06}]
["SP","São Paulo","Cotia","ARSESP","COMGÁS","Industrial","Mensal",1000000.01,2000000,{"$f":"Cálculo!$G$90","v":3.2810000000000001},{"$f":"Cálculo!$H$90","v":177422.21}]
["SP","São Paulo","Cotia","ARSESP","COMGÁS","Industrial","Mensal",2000000.01,null,{"$f":"Cálculo!$G$91","v":3.2330000000000001},{"$f":"Cálculo!$H$91","v":316707.87}]
["SP","São Paulo","Cotia","ARSESP","COMGÁS","GNV","Faixa Única",null,null,{"$f":"Cálculo!$G$94","v":3.2148460000000001}]
["SP","São Paulo","Cruzeiro","ARSESP","COMGÁS","Residencial","Mensal",0,1,{"$f":"Cálculo!$G$66","v":3.2869999999999999},{"$f":"Cálculo!$H$66","v":11.39}]
["SP","São Paulo","Cruzeiro","ARSESP","COMGÁS","Residencial","Mensal",1.01,3,{"$f":"Cálculo!$G$67","v":10.834},{"$f":"Cálculo!$H$67","v":14.87}]
["SP","São Paulo","Cruzeiro","ARSESP","COMGÁS","Residencial","Mensal",3.01,7,{"$f":"Cálculo!$G$68","v":5.6470000000000002},{"$f":"Cálculo!$H$68","v":14.87}]
["SP","São Paulo","Cruzeiro","ARSESP","COMGÁS","Residencial","Mensal",7.01,14,{"$f":"Cálculo!$G$69","v":9.3699999999999992},{"$f":"Cálculo!$H$69","v":16.739999999999998}]
["SP","São Paulo","Cruzeiro","ARSESP","COMGÁS","Residencial","Mensal",14.01,34,{"$f":"Cálculo!$G$70","v":11.132},{"$f":"Cálculo!$H$70","v":18.600000000000001}]
["SP","São Paulo","Cruzeiro","ARSESP","COMGÁS","Residencial","Mensal",34.01,600,{"$f":"Cálculo!$G$71","v":11.92},{"$f":"Cálculo!$H$71","v":18.600000000000001}]
["SP","São Paulo","Cruzeiro","ARSESP","COMGÁS","Residencial","Mensal",600.01,1000,{"$f":"Cálculo!$G$72","v":10.324},{"$f":"Cálculo!$H$72","v":18.600000000000001}]
["SP","São Paulo","Cruzeiro","ARSESP","COMGÁS","Residencial","Mensal",1000.01,null,{"$f":"Cálculo!$G$73","v":7.2949999999999999},{"$f":"Cálculo!$H$73","v":18.600000000000001}]
["SP","São Paulo","Cruzeiro","ARSESP","COMGÁS","Comercial","Mensal",0,0,{"$f":"Cálculo!$G$76","v":0},{"$f":"Cálculo!$H$76","v":0}]
["SP","São Paulo","Cruzeiro","ARSESP","COMGÁS","Comercial","Mensal",0.01,50,{"$f":"Cálculo!$G$77","v":9.2490000000000006},{"$f":"Cálculo!$H$77","v":60.76}]
["SP","São Paulo","Cruzeiro","ARSESP","COMGÁS","Comercial","Mensal",50.01,150,{"$f":"Cálculo!$G$78","v":8.49},{"$f":"Cálculo!$H$78","v":98.73}]
["SP","São Paulo","Cruzeiro","ARSESP","COMGÁS","Comercial","Mensal",150.01,500,{"$f":"Cálculo!$G$79","v":7.9859999999999998},{"$f":"Cálculo!$H$79","v":174.66}]
["SP","São Paulo","Cruzeiro","ARSESP","COMGÁS","Comercial","Mensal",500.01,2000,{"$f":"Cálculo!$G$80","v":7.5380000000000003},{"$f":"Cálculo!$H$80","v":398.71}]
["SP","São Paulo","Cruzeiro","ARSESP","COMGÁS","Comercial","Mensal",2000.01,3500,{"$f":"Cálculo!$G$81","v":6.819},{"$f":"Cálculo!$H$81","v":1837.86}]
["SP","São Paulo","Cruzeiro","ARSESP","COMGÁS","Comercial","Mensal",3500.01,50000,{"$f":"Cálculo!$G$82","v":5.3760000000000003},{"$f":"Cálculo!$H$82","v":6892.16}]
["SP","São Paulo","Cruzeiro","ARSESP","COMGÁS","Comercial","Mensal",50000.01,null,{"$f":"Cálculo!$G$83","v":5.1479999999999997},{"$f":"Cálculo!$H$83","v":18284.09}]
["SP","São Paulo","Cruzeiro","ARSESP","COMGÁS","Industrial","Mensal",0,50000,{"$f":"Cálculo!$G$86","v":4.726},{"$f":"Cálculo!$H$86","v":387.36}]
["SP","São Paulo","Cruzeiro","ARSESP","COMGÁS","Industrial","Mensal",50000.01,300000,{"$f":"Cálculo!$G$87","v":3.5019999999999998},{"$f":"Cálculo!$H$87","v":61597.41}]
["SP","São Paulo","Cruzeiro","ARSESP","COMGÁS","Industrial","Mensal",300000.01,500000,{"$f":"Cálculo!$G$88","v":3.36},{"$f":"Cálculo!$H$88","v":110975.06}]
["SP","São Paulo","Cruzeiro","ARSESP","COMGÁS","Industrial","Mensal",500000.01,1000000,{"$f":"Cálculo!$G$89","v":3.3340000000000001},{"$f":"Cálculo!$H$89","v":124035.06}]
["SP","São Paulo","Cruzeiro","ARSESP","COMGÁS","Industrial","Mensal",1000000.01,2000000,{"$f":"Cálculo!$G$90","v":3.2810000000000001},{"$f":"Cálculo!$H$90","v":177422.21}]
["SP","São Paulo","Cruzeiro","ARSESP","COMGÁS","Industrial","Mensal",2000000.01,null,{"$f":"Cálculo!$G$91","v":3.2330000000000001},{"$f":"Cálculo!$H$91","v":316707.87}]
["SP","São Paulo","Cruzeiro","ARSESP","COMGÁS","GNV","Faixa Única",null,null,{"$f":"Cálculo!$G$94","v":3.2148460000000001}]
["SP","São Paulo","Cubatão","ARSESP","COMGÁS","Residencial","Mensal",0,1,{"$f":"Cálculo!$G$66","v":3.2869999999999999},{"$f":"Cálculo!$H$66","v":11.39}]
["SP","São Paulo","Cubatão","ARSESP","COMGÁS","Residencial","Mensal",1.01,3,{"$f":"Cálculo!$G$67","v":10.834},{"$f":"Cálculo!$H$67","v":14.87}]
["SP","São Paulo","Cubatão","ARSESP","COMGÁS","Residencial","Mensal",3.01,7,{"$f":"Cálculo!$G$68","v":5.6470000000000002},{"$f":"Cálculo!$H$68","v":14.87}]
["SP","São Paulo","Cubatão","ARSESP","COMGÁS","Residencial","Mensal",7.01,14,{"$f":"Cálculo!$G$69","v":9.3699999999999992},{"$f":"Cálculo!$H$69","v":16.739999999999998}]
["SP","São Paulo","Cubatão","ARSESP","COMGÁS","Residencial","Mensal",14.01,34,{"$f":"Cálculo!$G$70","v":11.132},{"$f":"Cálculo!$H$70","v":18.600000000000001}]
["SP","São Paulo","Cubatão","ARSESP","COMGÁS","Residencial","Mensal",34.01,600,{"$f":"Cálculo!$G$71","v":11.92},{"$f":"Cálculo!$H$71","v":18.600000000000001}]
["SP","São Paulo","Cubatão","ARSESP","COMGÁS","Residencial","Mensal",600.01,1000,{"$f":"Cálculo!$G$72","v":10.324},{"$f":"Cálculo!$H$72","v":18.600000000000001}]
["SP","São Paulo","Cubatão","ARSESP","COMGÁS","Residencial","Mensal",1000.01,null,{"$f":"Cálculo!$G$73","v":7.2949999999999999},{"$f":"Cálculo!$H$73","v":18.600000000000001}]
["SP","São Paulo","Cubatão","ARSESP","COMGÁS","Comercial","Mensal",0,0,{"$f":"Cálculo!$G$76","v":0},{"$f":"Cálculo!$H$76","v":0}]
["SP","São Paulo","Cubatão","ARSESP","COMGÁS","Comercial","Mensal",0.01,50,{"$f":"Cálculo!$G$77","v":9.2490000000000006},{"$f":"Cálculo!$H$77","v":60.76}]
["SP","São Paulo","Cubatão","ARSESP","COMGÁS","Comercial","Mensal",50.01,150,{"$f":"Cálculo!$G$78","v":8.49},{"$f":"Cálculo!$H$78","v":98.73}]
["SP","São Paulo","Cubatão","ARSESP","COMGÁS","Comercial","Mensal",150.01,500,{"$f":"Cálculo!$G$79","v":7.9859999999999998},{"$f":"Cálculo!$H$79","v":174.66}]
["SP","São Paulo","Cubatão","ARSESP","COMGÁS","Comercial","Mensal",500.01,2000,{"$f":"Cálculo!$G$80","v":7.5380000000000003},{"$f":"Cálculo!$H$80","v":398.71}]
["SP","São Paulo","Cubatão","ARSESP","COMGÁS","Comercial","Mensal",2000.01,3500,{"$f":"Cálculo!$G$81","v":6.819},{"$f":"Cálculo!$H$81","v":1837.86}]
["SP","São Paulo","Cubatão","ARSESP","COMGÁS","Comercial","Mensal",3500.01,50000,{"$f":"Cálculo!$G$82","v":5.3760000000000003},{"$f":"Cálculo!$H$82","v":6892.16}]
["SP","São Paulo","Cubatão","ARSESP","COMGÁS","Comercial","Mensal",50000.01,null,{"$f":"Cálculo!$G$83","v":5.1479999999999997},{"$f":"Cálculo!$H$83","v":18284.09}]
["SP","São Paulo","Cubatão","ARSESP","COMGÁS","Industrial","Mensal",0,50000,{"$f":"Cálculo!$G$86","v":4.726},{"$f":"Cálculo!$H$86","v":387.36}]
["SP","São Paulo","Cubatão","ARSESP","COMGÁS","Industrial","Mensal",50000.01,300000,{"$f":"Cálculo!$G$87","v":3.5019999999999998},{"$f":"Cálculo!$H$87","v":61597.41}]
["SP","São Paulo","Cubatão","ARSESP","COMGÁS","Industrial","Mensal",300000.01,500000,{"$f":"Cálculo!$G$88","v":3.36},{"$f":"Cálculo!$H$88","v":110975.06}]
["SP","São Paulo","Cubatão","ARSESP","COMGÁS","Industrial","Mensal",500000.01,1000000,{"$f":"Cálculo!$G$89","v":3.3340000000000001},{"$f":"Cálculo!$H$89","v":124035.06}]
["SP","São Paulo","Cubatão","ARSESP","COMGÁS","Industrial","Mensal",1000000.01,2000000,{"$f":"Cálculo!$G$90","v":3.2810000000000001},{"$f":"Cálculo!$H$90","v":177422.21}]
["SP","São Paulo","Cubatão","ARSESP","COMGÁS","Industrial","Mensal",2000000.01,null,{"$f":"Cálculo!$G$91","v":3.2330000000000001},{"$f":"Cálculo!$H$91","v":316707.87}]
["SP","São Paulo","Cubatão","ARSESP","COMGÁS","GNV","Faixa Única",null,null,{"$f":"Cálculo!$G$94","v":3.2148460000000001}]
["SP","São Paulo","Cunha","ARSESP","COMGÁS","Residencial","Mensal",0,1,{"$f":"Cálculo!$G$66","v":3.2869999999999999},{"$f":"Cálculo!$H$66","v":11.39}]
["SP","São Paulo","Cunha","ARSESP","COMGÁS","Residencial","Mensal",1.01,3,{"$f":"Cálculo!$G$67","v":10.834},{"$f":"Cálculo!$H$67","v":14.87}]
["SP","São Paulo","Cunha","ARSESP","COMGÁS","Residencial","Mensal",3.01,7,{"$f":"Cálculo!$G$68","v":5.6470000000000002},{"$f":"Cálculo!$H$68","v":14.87}]
["SP","São Paulo","Cunha","ARSESP","COMGÁS","Residencial","Mensal",7.01,14,{"$f":"Cálculo!$G$69","v":9.3699999999999992},{"$f":"Cálculo!$H$69","v":16.739999999999998}]
["SP","São Paulo","Cunha","ARSESP","COMGÁS","Residencial","Mensal",14.01,34,{"$f":"Cálculo!$G$70","v":11.132},{"$f":"Cálculo!$H$70","v":18.600000000000001}]
["SP","São Paulo","Cunha","ARSESP","COMGÁS","Residencial","Mensal",34.01,600,{"$f":"Cálculo!$G$71","v":11.92},{"$f":"Cálculo!$H$71","v":18.600000000000001}]
["SP","São Paulo","Cunha","ARSESP","COMGÁS","Residencial","Mensal",600.01,1000,{"$f":"Cálculo!$G$72","v":10.324},{"$f":"Cálculo!$H$72","v":18.600000000000001}]
["SP","São Paulo","Cunha","ARSESP","COMGÁS","Residencial","Mensal",1000.01,null,{"$f":"Cálculo!$G$73","v":7.2949999999999999},{"$f":"Cálculo!$H$73","v":18.600000000000001}]
["SP","São Paulo","Cunha","ARSESP","COMGÁS","Comercial","Mensal",0,0,{"$f":"Cálculo!$G$76","v":0},{"$f":"Cálculo!$H$76","v":0}]
["SP","São Paulo","Cunha","ARSESP","COMGÁS","Comercial","Mensal",0.01,50,{"$f":"Cálculo!$G$77","v":9.2490000000000006},{"$f":"Cálculo!$H$77","v":60.76}]
["SP","São Paulo","Cunha","ARSESP","COMGÁS","Comercial","Mensal",50.01,150,{"$f":"Cálculo!$G$78","v":8.49},{"$f":"Cálculo!$H$78","v":98.73}]
["SP","São Paulo","Cunha","ARSESP","COMGÁS","Comercial","Mensal",150.01,500,{"$f":"Cálculo!$G$79","v":7.9859999999999998},{"$f":"Cálculo!$H$79","v":174.66}]
["SP","São Paulo","Cunha","ARSESP","COMGÁS","Comercial","Mensal",500.01,2000,{"$f":"Cálculo!$G$80","v":7.5380000000000003},{"$f":"Cálculo!$H$80","v":398.71}]
["SP","São Paulo","Cunha","ARSESP","COMGÁS","Comercial","Mensal",2000.01,3500,{"$f":"Cálculo!$G$81","v":6.819},{"$f":"Cálculo!$H$81","v":1837.86}]
["SP","São Paulo","Cunha","ARSESP","COMGÁS","Comercial","Mensal",3500.01,50000,{"$f":"Cálculo!$G$82","v":5.3760000000000003},{"$f":"Cálculo!$H$82","v":6892.16}]
["SP","São Paulo","Cunha","ARSESP","COMGÁS","Comercial","Mensal",50000.01,null,{"$f":"Cálculo!$G$83","v":5.1479999999999997},{"$f":"Cálculo!$H$83","v":18284.09}]
["SP","São Paulo","Cunha","ARSESP","COMGÁS","Industrial","Mensal",0,50000,{"$f":"Cálculo!$G$86","v":4.726},{"$f":"Cálculo!$H$86","v":387.36}]
["SP","São Paulo","Cunha","ARSESP","COMGÁS","Industrial","Mensal",50000.01,300000,{"$f":"Cálculo!$G$87","v":3.5019999999999998},{"$f":"Cálculo!$H$87","v":61597.41}]
["SP","São Paulo","Cunha","ARSESP","COMGÁS","Industrial","Mensal",300000.01,500000,{"$f":"Cálculo!$G$88","v":3.36},{"$f":"Cálculo!$H$88","v":110975.06}]
["SP","São Paulo","Cunha","ARSESP","COMGÁS","Industrial","Mensal",500000.01,1000000,{"$f":"Cálculo!$G$89","v":3.3340000000000001},{"$f":"Cálculo!$H$89","v":124035.06}]
["SP","São Paulo","Cunha","ARSESP","COMGÁS","Industrial","Mensal",1000000.01,2000000,{"$f":"Cálculo!$G$90","v":3.2810000000000001},{"$f":"Cálculo!$H$90","v":177422.21}]
["SP","São Paulo","Cunha","ARSESP","COMGÁS","Industrial","Mensal",2000000.01,null,{"$f":"Cálculo!$G$91","v":3.2330000000000001},{"$f":"Cálculo!$H$91","v":316707.87}]
["SP","São Paulo","Cunha","ARSESP","COMGÁS","GNV","Faixa Única",null,null,{"$f":"Cálculo!$G$94","v":3.2148460000000001}]
["SP","São Paulo","Diadema","ARSESP","COMGÁS","Residencial","Mensal",0,1,{"$f":"Cálculo!$G$66","v":3.2869999999999999},{"$f":"Cálculo!$H$66","v":11.39}]
["SP","São Paulo","Diadema","ARSESP","COMGÁS","Residencial","Mensal",1.01,3,{"$f":"Cálculo!$G$67","v":10.834},{"$f":"Cálculo!$H$67","v":14.87}]
["SP","São Paulo","Diadema","ARSESP","COMGÁS","Residencial","Mensal",3.01,7,{"$f":"Cálculo!$G$68","v":5.6470000000000002},{"$f":"Cálculo!$H$68","v":14.87}]
["SP","São Paulo","Diadema","ARSESP","COMGÁS","Residencial","Mensal",7.01,14,{"$f":"Cálculo!$G$69","v":9.3699999999999992},{"$f":"Cálculo!$H$69","v":16.739999999999998}]
["SP","São Paulo","Diadema","ARSESP","COMGÁS","Residencial","Mensal",14.01,34,{"$f":"Cálculo!$G$70","v":11.132},{"$f":"Cálculo!$H$70","v":18.600000000000001}]
["SP","São Paulo","Diadema","ARSESP","COMGÁS","Residencial","Mensal",34.01,600,{"$f":"Cálculo!$G$71","v":11.92},{"$f":"Cálculo!$H$71","v":18.600000000000001}]
["SP","São Paulo","Diadema","ARSESP","COMGÁS","Residencial","Mensal",600.01,1000,{"$f":"Cálculo!$G$72","v":10.324},{"$f":"Cálculo!$H$72","v":18.600000000000001}]
["SP","São Paulo","Diadema","ARSESP","COMGÁS","Residencial","Mensal",1000.01,null,{"$f":"Cálculo!$G$73","v":7.2949999999999999},{"$f":"Cálculo!$H$73","v":18.600000000000001}]
["SP","São Paulo","Diadema","ARSESP","COMGÁS","Comercial","Mensal",0,0,{"$f":"Cálculo!$G$76","v":0},{"$f":"Cálculo!$H$76","v":0}]
["SP","São Paulo","Diadema","ARSESP","COMGÁS","Comercial","Mensal",0.01,50,{"$f":"Cálculo!$G$77","v":9.2490000000000006},{"$f":"Cálculo!$H$77","v":60.76}]
["SP","São Paulo","Diadema","ARSESP","COMGÁS","Comercial","Mensal",50.01,150,{"$f":"Cálculo!$G$78","v":8.49},{"$f":"Cálculo!$H$78","v":98.73}]
["SP","São Paulo","Diadema","ARSESP","COMGÁS","Comercial","Mensal",150.01,500,{"$f":"Cálculo!$G$79","v":7.9859999999999998},{"$f":"Cálculo!$H$79","v":174.66}]
["SP","São Paulo","Diadema","ARSESP","COMGÁS","Comercial","Mensal",500.01,2000,{"$f":"Cálculo!$G$80","v":7.5380000000000003},{"$f":"Cálculo!$H$80","v":398.71}]
["SP","São Paulo","Diadema","ARSESP","COMGÁS","Comercial","Mensal",2000.01,3500,{"$f":"Cálculo!$G$81","v":6.819},{"$f":"Cálculo!$H$81","v":1837.86}]
["SP","São Paulo","Diadema","ARSESP","COMGÁS","Comercial","Mensal",3500.01,50000,{"$f":"Cálculo!$G$82","v":5.3760000000000003},{"$f":"Cálculo!$H$82","v":6892.16}]
["SP","São Paulo","Diadema","ARSESP","COMGÁS","Comercial","Mensal",50000.01,null,{"$f":"Cálculo!$G$83","v":5.1479999999999997},{"$f":"Cálculo!$H$83","v":18284.09}]
["SP","São Paulo","Diadema","ARSESP","COMGÁS","Industrial","Mensal",0,50000,{"$f":"Cálculo!$G$86","v":4.726},{"$f":"Cálculo!$H$86","v":387.36}]
["SP","São Paulo","Diadema","ARSESP","COMGÁS","Industrial","Mensal",50000.01,300000,{"$f":"Cálculo!$G$87","v":3.5019999999999998},{"$f":"Cálculo!$H$87","v":61597.41}]
["SP","São Paulo","Diadema","ARSESP","COMGÁS","Industrial","Mensal",300000.01,500000,{"$f":"Cálculo!$G$88","v":3.36},{"$f":"Cálculo!$H$88","v":110975.06}]
["SP","São Paulo","Diadema","ARSESP","COMGÁS","Industrial","Mensal",500000.01,1000000,{"$f":"Cálculo!$G$89","v":3.3340000000000001},{"$f":"Cálculo!$H$89","v":124035.06}]
["SP","São Paulo","Diadema","ARSESP","COMGÁS","Industrial","Mensal",1000000.01,2000000,{"$f":"Cálculo!$G$90","v":3.2810000000000001},{"$f":"Cálculo!$H$90","v":177422.21}]
["SP","São Paulo","Diadema","ARSESP","COMGÁS","Industrial","Mensal",2000000.01,null,{"$f":"Cálculo!$G$91","v":3.2330000000000001},{"$f":"Cálculo!$H$91","v":316707.87}]
["SP","São Paulo","Diadema","ARSESP","COMGÁS","GNV","Faixa Única",null,null,{"$f":"Cálculo!$G$94","v":3.2148460000000001}]
["SP","São Paulo","Divinolândia","ARSESP","COMGÁS","Residencial","Mensal",0,1,{"$f":"Cálculo!$G$66","v":3.2869999999999999},{"$f":"Cálculo!$H$66","v":11.39}]
["SP","São Paulo","Divinolândia","ARSESP","COMGÁS","Residencial","Mensal",1.01,3,{"$f":"Cálculo!$G$67","v":10.834},{"$f":"Cálculo!$H$67","v":14.87}]
["SP","São Paulo","Divinolândia","ARSESP","COMGÁS","Residencial","Mensal",3.01,7,{"$f":"Cálculo!$G$68","v":5.6470000000000002},{"$f":"Cálculo!$H$68","v":14.87}]
["SP","São Paulo","Divinolândia","ARSESP","COMGÁS","Residencial","Mensal",7.01,14,{"$f":"Cálculo!$G$69","v":9.3699999999999992},{"$f":"Cálculo!$H$69","v":16.739999999999998}]
["SP","São Paulo","Divinolândia","ARSESP","COMGÁS","Residencial","Mensal",14.01,34,{"$f":"Cálculo!$G$70","v":11.132},{"$f":"Cálculo!$H$70","v":18.600000000000001}]
["SP","São Paulo","Divinolândia","ARSESP","COMGÁS","Residencial","Mensal",34.01,600,{"$f":"Cálculo!$G$71","v":11.92},{"$f":"Cálculo!$H$71","v":18.600000000000001}]
["SP","São Paulo","Divinolândia","ARSESP","COMGÁS","Residencial","Mensal",600.01,1000,{"$f":"Cálculo!$G$72","v":10.324},{"$f":"Cálculo!$H$72","v":18.600000000000001}]
["SP","São Paulo","Divinolândia","ARSESP","COMGÁS","Residencial","Mensal",1000.01,null,{"$f":"Cálculo!$G$73","v":7.2949999999999999},{"$f":"Cálculo!$H$73","v":18.600000000000001}]
["SP","São Paulo","Divinolândia","ARSESP","COMGÁS","Comercial","Mensal",0,0,{"$f":"Cálculo!$G$76","v":0},{"$f":"Cálculo!$H$76","v":0}]
["SP","São Paulo","Divinolândia","ARSESP","COMGÁS","Comercial","Mensal",0.01,50,{"$f":"Cálculo!$G$77","v":9.2490000000000006},{"$f":"Cálculo!$H$77","v":60.76}]
["SP","São Paulo","Divinolândia","ARSESP","COMGÁS","Comercial","Mensal",50.01,150,{"$f":"Cálculo!$G$78","v":8.49},{"$f":"Cálculo!$H$78","v":98.73}]
["SP","São Paulo","Divinolândia","ARSESP","COMGÁS","Comercial","Mensal",150.01,500,{"$f":"Cálculo!$G$79","v":7.9859999999999998},{"$f":"Cálculo!$H$79","v":174.66}]
["SP","São Paulo","Divinolândia","ARSESP","COMGÁS","Comercial","Mensal",500.01,2000,{"$f":"Cálculo!$G$80","v":7.5380000000000003},{"$f":"Cálculo!$H$80","v":398.71}]
["SP","São Paulo","Divinolândia","ARSESP","COMGÁS","Comercial","Mensal",2000.01,3500,{"$f":"Cálculo!$G$81","v":6.819},{"$f":"Cálculo!$H$81","v":1837.86}]
["SP","São Paulo","Divinolândia","ARSESP","COMGÁS","Comercial","Mensal",3500.01,50000,{"$f":"Cálculo!$G$82","v":5.3760000000000003},{"$f":"Cálculo!$H$82","v":6892.16}]
["SP","São Paulo","Divinolândia","ARSESP","COMGÁS","Comercial","Mensal",50000.01,null,{"$f":"Cálculo!$G$83","v":5.1479999999999997},{"$f":"Cálculo!$H$83","v":18284.09}]
["SP","São Paulo","Divinolândia","ARSESP","COMGÁS","Industrial","Mensal",0,50000,{"$f":"Cálculo!$G$86","v":4.726},{"$f":"Cálculo!$H$86","v":387.36}]
["SP","São Paulo","Divinolândia","ARSESP","COMGÁS","Industrial","Mensal",50000.01,300000,{"$f":"Cálculo!$G$87","v":3.5019999999999998},{"$f":"Cálculo!$H$87","v":61597.41}]
["SP","São Paulo","Divinolândia","ARSESP","COMGÁS","Industrial","Mensal",300000.01,500000,{"$f":"Cálculo!$G$88","v":3.36},{"$f":"Cálculo!$H$88","v":110975.06}]
["SP","São Paulo","Divinolândia","ARSESP","COMGÁS","Industrial","Mensal",500000.01,1000000,{"$f":"Cálculo!$G$89","v":3.3340000000000001},{"$f":"Cálculo!$H$89","v":124035.06}]
["SP","São Paulo","Divinolândia","ARSESP","COMGÁS","Industrial","Mensal",1000000.01,2000000,{"$f":"Cálculo!$G$90","v":3.2810000000000001},{"$f":"Cálculo!$H$90","v":177422.21}]
["SP","São Paulo","Divinolândia","ARSESP","COMGÁS","Industrial","Mensal",2000000.01,null,{"$f":"Cálculo!$G$91","v":3.2330000000000001},{"$f":"Cálculo!$H$91","v":316707.87}]
["SP","São Paulo","Divinolândia","ARSESP","COMGÁS","GNV","Faixa Única",null,null,{"$f":"Cálculo!$G$94","v":3.2148460000000001}]
["SP","São Paulo","Elias Fausto","ARSESP","COMGÁS","Residencial","Mensal",0,1,{"$f":"Cálculo!$G$66","v":3.2869999999999999},{"$f":"Cálculo!$H$66","v":11.39}]
["SP","São Paulo","Elias Fausto","ARSESP","COMGÁS","Residencial","Mensal",1.01,3,{"$f":"Cálculo!$G$67","v":10.834},{"$f":"Cálculo!$H$67","v":14.87}]
["SP","São Paulo","Elias Fausto","ARSESP","COMGÁS","Residencial","Mensal",3.01,7,{"$f":"Cálculo!$G$68","v":5.6470000000000002},{"$f":"Cálculo!$H$68","v":14.87}]
["SP","São Paulo","Elias Fausto","ARSESP","COMGÁS","Residencial","Mensal",7.01,14,{"$f":"Cálculo!$G$69","v":9.3699999999999992},{"$f":"Cálculo!$H$69","v":16.739999999999998}]
["SP","São Paulo","Elias Fausto","ARSESP","COMGÁS","Residencial","Mensal",14.01,34,{"$f":"Cálculo!$G$70","v":11.132},{"$f":"Cálculo!$H$70","v":18.600000000000001}]
["SP","São Paulo","Elias Fausto","ARSESP","COMGÁS","Residencial","Mensal",34.01,600,{"$f":"Cálculo!$G$71","v":11.92},{"$f":"Cálculo!$H$71","v":18.600000000000001}]
["SP","São Paulo","Elias Fausto","ARSESP","COMGÁS","Residencial","Mensal",600.01,1000,{"$f":"Cálculo!$G$72","v":10.324},{"$f":"Cálculo!$H$72","v":18.600000000000001}]
["SP","São Paulo","Elias Fausto","ARSESP","COMGÁS","Residencial","Mensal",1000.01,null,{"$f":"Cálculo!$G$73","v":7.2949999999999999},{"$f":"Cálculo!$H$73","v":18.600000000000001}]
["SP","São Paulo","Elias Fausto","ARSESP","COMGÁS","Comercial","Mensal",0,0,{"$f":"Cálculo!$G$76","v":0},{"$f":"Cálculo!$H$76","v":0}]
["SP","São Paulo","Elias Fausto","ARSESP","COMGÁS","Comercial","Mensal",0.01,50,{"$f":"Cálculo!$G$77","v":9.2490000000000006},{"$f":"Cálculo!$H$77","v":60.76}]
["SP","São Paulo","Elias Fausto","ARSESP","COMGÁS","Comercial","Mensal",50.01,150,{"$f":"Cálculo!$G$78","v":8.49},{"$f":"Cálculo!$H$78","v":98.73}]
["SP","São Paulo","Elias Fausto","ARSESP","COMGÁS","Comercial","Mensal",150.01,500,{"$f":"Cálculo!$G$79","v":7.9859999999999998},{"$f":"Cálculo!$H$79","v":174.66}]
["SP","São Paulo","Elias Fausto","ARSESP","COMGÁS","Comercial","Mensal",500.01,2000,{"$f":"Cálculo!$G$80","v":7.5380000000000003},{"$f":"Cálculo!$H$80","v":398.71}]
["SP","São Paulo","Elias Fausto","ARSESP","COMGÁS","Comercial","Mensal",2000.01,3500,{"$f":"Cálculo!$G$81","v":6.819},{"$f":"Cálculo!$H$81","v":1837.86}]
["SP","São Paulo","Elias Fausto","ARSESP","COMGÁS","Comercial","Mensal",3500.01,50000,{"$f":"Cálculo!$G$82","v":5.3760000000000003},{"$f":"Cálculo!$H$82","v":6892.16}]
["SP","São Paulo","Elias Fausto","ARSESP","COMGÁS","Comercial","Mensal",50000.01,null,{"$f":"Cálculo!$G$83","v":5.1479999999999997},{"$f":"Cálculo!$H$83","v":18284.09}]
["SP","São Paulo","Elias Fausto","ARSESP","COMGÁS","Industrial","Mensal",0,50000,{"$f":"Cálculo!$G$86","v":4.726},{"$f":"Cálculo!$H$86","v":387.36}]
["SP","São Paulo","Elias Fausto","ARSESP","COMGÁS","Industrial","Mensal",50000.01,300000,{"$f":"Cálculo!$G$87","v":3.5019999999999998},{"$f":"Cálculo!$H$87","v":61597.41}]
["SP","São Paulo","Elias Fausto","ARSESP","COMGÁS","Industrial","Mensal",300000.01,500000,{"$f":"Cálculo!$G$88","v":3.36},{"$f":"Cálculo!$H$88","v":110975.06}]
["SP","São Paulo","Elias Fausto","ARSESP","COMGÁS","Industrial","Mensal",500000.01,1000000,{"$f":"Cálculo!$G$89","v":3.3340000000000001},{"$f":"Cálculo!$H$89","v":124035.06}]
["SP","São Paulo","Elias Fausto","ARSESP","COMGÁS","Industrial","Mensal",1000000.01,2000000,{"$f":"Cálculo!$G$90","v":3.2810000000000001},{"$f":"Cálculo!$H$90","v":177422.21}]
["SP","São Paulo","Elias Fausto","ARSESP","COMGÁS","Industrial","Mensal",2000000.01,null,{"$f":"Cálculo!$G$91","v":3.2330000000000001},{"$f":"Cálculo!$H$91","v":316707.87}]
["SP","São Paulo","Elias Fausto","ARSESP","COMGÁS","GNV","Faixa Única",null,null,{"$f":"Cálculo!$G$94","v":3.2148460000000001}]
["SP","São Paulo","Embú","ARSESP","COMGÁS","Residencial","Mensal",0,1,{"$f":"Cálculo!$G$66","v":3.2869999999999999},{"$f":"Cálculo!$H$66","v":11.39}]
["SP","São Paulo","Embú","ARSESP","COMGÁS","Residencial","Mensal",1.01,3,{"$f":"Cálculo!$G$67","v":10.834},{"$f":"Cálculo!$H$67","v":14.87}]
["SP","São Paulo","Embú","ARSESP","COMGÁS","Residencial","Mensal",3.01,7,{"$f":"Cálculo!$G$68","v":5.6470000000000002},{"$f":"Cálculo!$H$68","v":14.87}]
["SP","São Paulo","Embú","ARSESP","COMGÁS","Residencial","Mensal",7.01,14,{"$f":"Cálculo!$G$69","v":9.3699999999999992},{"$f":"Cálculo!$H$69","v":16.739999999999998}]
["SP","São Paulo","Embú","ARSESP","COMGÁS","Residencial","Mensal",14.01,34,{"$f":"Cálculo!$G$70","v":11.132},{"$f":"Cálculo!$H$70","v":18.600000000000001}]
["SP","São Paulo","Embú","ARSESP","COMGÁS","Residencial","Mensal",34.01,600,{"$f":"Cálculo!$G$71","v":11.92},{"$f":"Cálculo!$H$71","v":18.600000000000001}]
["SP","São Paulo","Embú","ARSESP","COMGÁS","Residencial","Mensal",600.01,1000,{"$f":"Cálculo!$G$72","v":10.324},{"$f":"Cálculo!$H$72","v":18.600000000000001}]
["SP","São Paulo","Embú","ARSESP","COMGÁS","Residencial","Mensal",1000.01,null,{"$f":"Cálculo!$G$73","v":7.2949999999999999},{"$f":"Cálculo!$H$73","v":18.600000000000001}]
["SP","São Paulo","Embú","ARSESP","COMGÁS","Comercial","Mensal",0,0,{"$f":"Cálculo!$G$76","v":0},{"$f":"Cálculo!$H$76","v":0}]
["SP","São Paulo","Embú","ARSESP","COMGÁS","Comercial","Mensal",0.01,50,{"$f":"Cálculo!$G$77","v":9.2490000000000006},{"$f":"Cálculo!$H$77","v":60.76}]
["SP","São Paulo","Embú","ARSESP","COMGÁS","Comercial","Mensal",50.01,150,{"$f":"Cálculo!$G$78","v":8.49},{"$f":"Cálculo!$H$78","v":98.73}]
["SP","São Paulo","Embú","ARSESP","COMGÁS","Comercial","Mensal",150.01,500,{"$f":"Cálculo!$G$79","v":7.9859999999999998},{"$f":"Cálculo!$H$79","v":174.66}]
["SP","São Paulo","Embú","ARSESP","COMGÁS","Comercial","Mensal",500.01,2000,{"$f":"Cálculo!$G$80","v":7.5380000000000003},{"$f":"Cálculo!$H$80","v":398.71}]
["SP","São Paulo","Embú","ARSESP","COMGÁS","Comercial","Mensal",2000.01,3500,{"$f":"Cálculo!$G$81","v":6.819},{"$f":"Cálculo!$H$81","v":1837.86}]
["SP","São Paulo","Embú","ARSESP","COMGÁS","Comercial","Mensal",3500.01,50000,{"$f":"Cálculo!$G$82","v":5.3760000000000003},{"$f":"Cálculo!$H$82","v":6892.16}]
["SP","São Paulo","Embú","ARSESP","COMGÁS","Comercial","Mensal",50000.01,null,{"$f":"Cálculo!$G$83","v":5.1479999999999997},{"$f":"Cálculo!$H$83","v":18284.09}]
["SP","São Paulo","Embú","ARSESP","COMGÁS","Industrial","Mensal",0,50000,{"$f":"Cálculo!$G$86","v":4.726},{"$f":"Cálculo!$H$86","v":387.36}]
["SP","São Paulo","Embú","ARSESP","COMGÁS","Industrial","Mensal",50000.01,300000,{"$f":"Cálculo!$G$87","v":3.5019999999999998},{"$f":"Cálculo!$H$87","v":61597.41}]
["SP","São Paulo","Embú","ARSESP","COMGÁS","Industrial","Mensal",300000.01,500000,{"$f":"Cálculo!$G$88","v":3.36},{"$f":"Cálculo!$H$88","v":110975.06}]
["SP","São Paulo","Embú","ARSESP","COMGÁS","Industrial","Mensal",500000.01,1000000,{"$f":"Cálculo!$G$89","v":3.3340000000000001},{"$f":"Cálculo!$H$89","v":124035.06}]
["SP","São Paulo","Embú","ARSESP","COMGÁS","Industrial","Mensal",1000000.01,2000000,{"$f":"Cálculo!$G$90","v":3.2810000000000001},{"$f":"Cálculo!$H$90","v":177422.21}]
["SP","São Paulo","Embú","ARSESP","COMGÁS","Industrial","Mensal",2000000.01,null,{"$f":"Cálculo!$G$91","v":3.2330000000000001},{"$f":"Cálculo!$H$91","v":316707.87}]
["SP","São Paulo","Embú","ARSESP","COMGÁS","GNV","Faixa Única",null,null,{"$f":"Cálculo!$G$94","v":3.2148460000000001}]
["SP","São Paulo","Embú-Guaçú","ARSESP","COMGÁS","Residencial","Mensal",0,1,{"$f":"Cálculo!$G$66","v":3.2869999999999999},{"$f":"Cálculo!$H$66","v":11.39}]
["SP","São Paulo","Embú-Guaçú","ARSESP","COMGÁS","Residencial","Mensal",1.01,3,{"$f":"Cálculo!$G$67","v":10.834},{"$f":"Cálculo!$H$67","v":14.87}]
["SP","São Paulo","Embú-Guaçú","ARSESP","COMGÁS","Residencial","Mensal",3.01,7,{"$f":"Cálculo!$G$68","v":5.6470000000000002},{"$f":"Cálculo!$H$68","v":14.87}]
["SP","São Paulo","Embú-Guaçú","ARSESP","COMGÁS","Residencial","Mensal",7.01,14,{"$f":"Cálculo!$G$69","v":9.3699999999999992},{"$f":"Cálculo!$H$69","v":16.739999999999998}]
["SP","São Paulo","Embú-Guaçú","ARSESP","COMGÁS","Residencial","Mensal",14.01,34,{"$f":"Cálculo!$G$70","v":11.132},{"$f":"Cálculo!$H$70","v":18.600000000000001}]
["SP","São Paulo","Embú-Guaçú","ARSESP","COMGÁS","Residencial","Mensal",34.01,600,{"$f":"Cálculo!$G$71","v":11.92},{"$f":"Cálculo!$H$71","v":18.600000000000001}]
["SP","São Paulo","Embú-Guaçú","ARSESP","COMGÁS","Residencial","Mensal",600.01,1000,{"$f":"Cálculo!$G$72","v":10.324},{"$f":"Cálculo!$H$72","v":18.600000000000001}]
["SP","São Paulo","Embú-Guaçú","ARSESP","COMGÁS","Residencial","Mensal",1000.01,null,{"$f":"Cálculo!$G$73","v":7.2949999999999999},{"$f":"Cálculo!$H$73","v":18.600000000000001}]
["SP","São Paulo","Embú-Guaçú","ARSESP","COMGÁS","Comercial","Mensal",0,0,{"$f":"Cálculo!$G$76","v":0},{"$f":"Cálculo!$H$76","v":0}]
["SP","São Paulo","Embú-Guaçú","ARSESP","COMGÁS","Comercial","Mensal",0.01,50,{"$f":"Cálculo!$G$77","v":9.2490000000000006},{"$f":"Cálculo!$H$77","v":60.76}]
["SP","São Paulo","Embú-Guaçú","ARSESP","COMGÁS","Comercial","Mensal",50.01,150,{"$f":"Cálculo!$G$78","v":8.49},{"$f":"Cálculo!$H$78","v":98.73}]
["SP","São Paulo","Embú-Guaçú","ARSESP","COMGÁS","Comercial","Mensal",150.01,500,{"$f":"Cálculo!$G$79","v":7.9859999999999998},{"$f":"Cálculo!$H$79","v":174.66}]
["SP","São Paulo","Embú-Guaçú","ARSESP","COMGÁS","Comercial","Mensal",500.01,2000,{"$f":"Cálculo!$G$80","v":7.5380000000000003},{"$f":"Cálculo!$H$80","v":398.71}]
["SP","São Paulo","Embú-Guaçú","ARSESP","COMGÁS","Comercial","Mensal",2000.01,3500,{"$f":"Cálculo!$G$81","v":6.819},{"$f":"Cálculo!$H$81","v":1837.86}]
["SP","São Paulo","Embú-Guaçú","ARSESP","COMGÁS","Comercial","Mensal",3500.01,50000,{"$f":"Cálculo!$G$82","v":5.3760000000000003},{"$f":"Cálculo!$H$82","v":6892.16}]
["SP","São Paulo","Embú-Guaçú","ARSESP","COMGÁS","Comercial","Mensal",50000.01,null,{"$f":"Cálculo!$G$83","v":5.1479999999999997},{"$f":"Cálculo!$H$83","v":18284.09}]
["SP","São Paulo","Embú-Guaçú","ARSESP","COMGÁS","Industrial","Mensal",0,50000,{"$f":"Cálculo!$G$86","v":4.726},{"$f":"Cálculo!$H$86","v":387.36}]
["SP","São Paulo","Embú-Guaçú","ARSESP","COMGÁS","Industrial","Mensal",50000.01,300000,{"$f":"Cálculo!$G$87","v":3.5019999999999998},{"$f":"Cálculo!$H$87","v":61597.41}]
["SP","São Paulo","Embú-Guaçú","ARSESP","COMGÁS","Industrial","Mensal",300000.01,500000,{"$f":"Cálculo!$G$88","v":3.36},{"$f":"Cálculo!$H$88","v":110975.06}]
["SP","São Paulo","Embú-Guaçú","ARSESP","COMGÁS","Industrial","Mensal",500000.01,1000000,{"$f":"Cálculo!$G$89","v":3.3340000000000001},{"$f":"Cálculo!$H$89","v":124035.06}]
["SP","São Paulo","Embú-Guaçú","ARSESP","COMGÁS","Industrial","Mensal",1000000.01,2000000,{"$f":"Cálculo!$G$90","v":3.2810000000000001},{"$f":"Cálculo!$H$90","v":177422.21}]
["SP","São Paulo","Embú-Guaçú","ARSESP","COMGÁS","Industrial","Mensal",2000000.01,null,{"$f":"Cálculo!$G$91","v":3.2330000000000001},{"$f":"Cálculo!$H$91","v":316707.87}]
["SP","São Paulo","Embú-Guaçú","ARSESP","COMGÁS","GNV","Faixa Única",null,null,{"$f":"Cálculo!$G$94","v":3.2148460000000001}]
["SP","São Paulo","Engenheiro Coelho","ARSESP","COMGÁS","Residencial","Mensal",0,1,{"$f":"Cálculo!$G$66","v":3.2869999999999999},{"$f":"Cálculo!$H$66","v":11.39}]
["SP","São Paulo","Engenheiro Coelho","ARSESP","COMGÁS","Residencial","Mensal",1.01,3,{"$f":"Cálculo!$G$67","v":10.834},{"$f":"Cálculo!$H$67","v":14.87}]
["SP","São Paulo","Engenheiro Coelho","ARSESP","COMGÁS","Residencial","Mensal",3.01,7,{"$f":"Cálculo!$G$68","v":5.6470000000000002},{"$f":"Cálculo!$H$68","v":14.87}]
["SP","São Paulo","Engenheiro Coelho","ARSESP","COMGÁS","Residencial","Mensal",7.01,14,{"$f":"Cálculo!$G$69","v":9.3699999999999992},{"$f":"Cálculo!$H$69","v":16.739999999999998}]
["SP","São Paulo","Engenheiro Coelho","ARSESP","COMGÁS","Residencial","Mensal",14.01,34,{"$f":"Cálculo!$G$70","v":11.132},{"$f":"Cálculo!$H$70","v":18.600000000000001}]
["SP","São Paulo","Engenheiro Coelho","ARSESP","COMGÁS","Residencial","Mensal",34.01,600,{"$f":"Cálculo!$G$71","v":11.92},{"$f":"Cálculo!$H$71","v":18.600000000000001}]
["SP","São Paulo","Engenheiro Coelho","ARSESP","COMGÁS","Residencial","Mensal",600.01,1000,{"$f":"Cálculo!$G$72","v":10.324},{"$f":"Cálculo!$H$72","v":18.600000000000001}]
["SP","São Paulo","Engenheiro Coelho","ARSESP","COMGÁS","Residencial","Mensal",1000.01,null,{"$f":"Cálculo!$G$73","v":7.2949999999999999},{"$f":"Cálculo!$H$73","v":18.600000000000001}]
["SP","São Paulo","Engenheiro Coelho","ARSESP","COMGÁS","Comercial","Mensal",0,0,{"$f":"Cálculo!$G$76","v":0},{"$f":"Cálculo!$H$76","v":0}]
["SP","São Paulo","Engenheiro Coelho","ARSESP","COMGÁS","Comercial","Mensal",0.01,50,{"$f":"Cálculo!$G$77","v":9.2490000000000006},{"$f":"Cálculo!$H$77","v":60.76}]
["SP","São Paulo","Engenheiro Coelho","ARSESP","COMGÁS","Comercial","Mensal",50.01,150,{"$f":"Cálculo!$G$78","v":8.49},{"$f":"Cálculo!$H$78","v":98.73}]
["SP","São Paulo","Engenheiro Coelho","ARSESP","COMGÁS","Comercial","Mensal",150.01,500,{"$f":"Cálculo!$G$79","v":7.9859999999999998},{"$f":"Cálculo!$H$79","v":174.66}]
["SP","São Paulo","Engenheiro Coelho","ARSESP","COMGÁS","Comercial","Mensal",500.01,2000,{"$f":"Cálculo!$G$80","v":7.5380000000000003},{"$f":"Cálculo!$H$80","v":398.71}]
["SP","São Paulo","Engenheiro Coelho","ARSESP","COMGÁS","Comercial","Mensal",2000.01,3500,{"$f":"Cálculo!$G$81","v":6.819},{"$f":"Cálculo!$H$81","v":1837.86}]
["SP","São Paulo","Engenheiro Coelho","ARSESP","COMGÁS","Comercial","Mensal",3500.01,50000,{"$f":"Cálculo!$G$82","v":5.3760000000000003},{"$f":"Cálculo!$H$82","v":6892.16}]
["SP","São Paulo","Engenheiro Coelho","ARSESP","COMGÁS","Comercial","Mensal",50000.01,null,{"$f":"Cálculo!$G$83","v":5.1479999999999997},{"$f":"Cálculo!$H$83","v":18284.09}]
["SP","São Paulo","Engenheiro Coelho","ARSESP","COMGÁS","Industrial","Mensal",0,50000,{"$f":"Cálculo!$G$86","v":4.726},{"$f":"Cálculo!$H$86","v":387.36}]
["SP","São Paulo","Engenheiro Coelho","ARSESP","COMGÁS","Industrial","Mensal",50000.01,300000,{"$f":"Cálculo!$G$87","v":3.5019999999999998},{"$f":"Cálculo!$H$87","v":61597.41}]
["SP","São Paulo","Engenheiro Coelho","ARSESP","COMGÁS","Industrial","Mensal",300000.01,500000,{"$f":"Cálculo!$G$88","v":3.36},{"$f":"Cálculo!$H$88","v":110975.06}]
["SP","São Paulo","Engenheiro Coelho","ARSESP","COMGÁS","Industrial","Mensal",500000.01,1000000,{"$f":"Cálculo!$G$89","v":3.3340000000000001},{"$f":"Cálculo!$H$89","v":124035.06}]
["SP","São Paulo","Engenheiro Coelho","ARSESP","COMGÁS","Industrial","Mensal",1000000.01,2000000,{"$f":"Cálculo!$G$90","v":3.2810000000000001},{"$f":"Cálculo!$H$90","v":177422.21}]
["SP","São Paulo","Engenheiro Coelho","ARSESP","COMGÁS","Industrial","Mensal",2000000.01,null,{"$f":"Cálculo!$G$91","v":3.2330000000000001},{"$f":"Cálculo!$H$91","v":316707.87}]
["SP","São Paulo","Engenheiro Coelho","ARSESP","COMGÁS","GNV","Faixa Única",null,null,{"$f":"Cálculo!$G$94","v":3.2148460000000001}]
["SP","São Paulo","Espírito Santo do Pinhal","ARSESP","COMGÁS","Residencial","Mensal",0,1,{"$f":"Cálculo!$G$66","v":3.2869999999999999},{"$f":"Cálculo!$H$66","v":11.39}]
["SP","São Paulo","Espírito Santo do Pinhal","ARSESP","COMGÁS","Residencial","Mensal",1.01,3,{"$f":"Cálculo!$G$67","v":10.834},{"$f":"Cálculo!$H$67","v":14.87}]
["SP","São Paulo","Espírito Santo do Pinhal","ARSESP","COMGÁS","Residencial","Mensal",3.01,7,{"$f":"Cálculo!$G$68","v":5.6470000000000002},{"$f":"Cálculo!$H$68","v":14.87}]
["SP","São Paulo","Espírito Santo do Pinhal","ARSESP","COMGÁS","Residencial","Mensal",7.01,14,{"$f":"Cálculo!$G$69","v":9.3699999999999992},{"$f":"Cálculo!$H$69","v":16.739999999999998}]
["SP","São Paulo","Espírito Santo do Pinhal","ARSESP","COMGÁS","Residencial","Mensal",14.01,34,{"$f":"Cálculo!$G$70","v":11.132},{"$f":"Cálculo!$H$70","v":18.600000000000001}]
["SP","São Paulo","Espírito Santo do Pinhal","ARSESP","COMGÁS","Residencial","Mensal",34.01,600,{"$f":"Cálculo!$G$71","v":11.92},{"$f":"Cálculo!$H$71","v":18.600000000000001}]
["SP","São Paulo","Espírito Santo do Pinhal","ARSESP","COMGÁS","Residencial","Mensal",600.01,1000,{"$f":"Cálculo!$G$72","v":10.324},{"$f":"Cálculo!$H$72","v":18.600000000000001}]
["SP","São Paulo","Espírito Santo do Pinhal","ARSESP","COMGÁS","Residencial","Mensal",1000.01,null,{"$f":"Cálculo!$G$73","v":7.2949999999999999},{"$f":"Cálculo!$H$73","v":18.600000000000001}]
["SP","São Paulo","Espírito Santo do Pinhal","ARSESP","COMGÁS","Comercial","Mensal",0,0,{"$f":"Cálculo!$G$76","v":0},{"$f":"Cálculo!$H$76","v":0}]
["SP","São Paulo","Espírito Santo do Pinhal","ARSESP","COMGÁS","Comercial","Mensal",0.01,50,{"$f":"Cálculo!$G$77","v":9.2490000000000006},{"$f":"Cálculo!$H$77","v":60.76}]
["SP","São Paulo","Espírito Santo do Pinhal","ARSESP","COMGÁS","Comercial","Mensal",50.01,150,{"$f":"Cálculo!$G$78","v":8.49},{"$f":"Cálculo!$H$78","v":98.73}]
["SP","São Paulo","Espírito Santo do Pinhal","ARSESP","COMGÁS","Comercial","Mensal",150.01,500,{"$f":"Cálculo!$G$79","v":7.9859999999999998},{"$f":"Cálculo!$H$79","v":174.66}]
["SP","São Paulo","Espírito Santo do Pinhal","ARSESP","COMGÁS","Comercial","Mensal",500.01,2000,{"$f":"Cálculo!$G$80","v":7.5380000000000003},{"$f":"Cálculo!$H$80","v":398.71}]
["SP","São Paulo","Espírito Santo do Pinhal","ARSESP","COMGÁS","Comercial","Mensal",2000.01,3500,{"$f":"Cálculo!$G$81","v":6.819},{"$f":"Cálculo!$H$81","v":1837.86}]
["SP","São Paulo","Espírito Santo do Pinhal","ARSESP","COMGÁS","Comercial","Mensal",3500.01,50000,{"$f":"Cálculo!$G$82","v":5.3760000000000003},{"$f":"Cálculo!$H$82","v":6892.16}]
["SP","São Paulo","Espírito Santo do Pinhal","ARSESP","COMGÁS","Comercial","Mensal",50000.01,null,{"$f":"Cálculo!$G$83","v":5.1479999999999997},{"$f":"Cálculo!$H$83","v":18284.09}]
["SP","São Paulo","Espírito Santo do Pinhal","ARSESP","COMGÁS","Industrial","Mensal",0,50000,{"$f":"Cálculo!$G$86","v":4.726},{"$f":"Cálculo!$H$86","v":387.36}]
["SP","São Paulo","Espírito Santo do Pinhal","ARSESP","COMGÁS","Industrial","Mensal",50000.01,300000,{"$f":"Cálculo!$G$87","v":3.5019999999999998},{"$f":"Cálculo!$H$87","v":61597.41}]
["SP","São Paulo","Espírito Santo do Pinhal","ARSESP","COMGÁS","Industrial","Mensal",300000.01,500000,{"$f":"Cálculo!$G$88","v":3.36},{"$f":"Cálculo!$H$88","v":110975.06}]
["SP","São Paulo","Espírito Santo do Pinhal","ARSESP","COMGÁS","Industrial","Mensal",500000.01,1000000,{"$f":"Cálculo!$G$89","v":3.3340000000000001},{"$f":"Cálculo!$H$89","v":124035.06}]
["SP","São Paulo","Espírito Santo do Pinhal","ARSESP","COMGÁS","Industrial","Mensal",1000000.01,2000000,{"$f":"Cálculo!$G$90","v":3.2810000000000001},{"$f":"Cálculo!$H$90","v":177422.21}]
["SP","São Paulo","Espírito Santo do Pinhal","ARSESP","COMGÁS","Industrial","Mensal",2000000.01,null,{"$f":"Cálculo!$G$91","v":3.2330000000000001},{"$f":"Cálculo!$H$91","v":316707.87}]
["SP","São Paulo","Espírito Santo do Pinhal","ARSESP","COMGÁS","GNV","Faixa Única",null,null,{"$f":"Cálculo!$G$94","v":3.2148460000000001}]
["SP","São Paulo","Estiva Gerbi","ARSESP","COMGÁS","Residencial","Mensal",0,1,{"$f":"Cálculo!$G$66","v":3.2869999999999999},{"$f":"Cálculo!$H$66","v":11.39}]
["SP","São Paulo","Estiva Gerbi","ARSESP","COMGÁS","Residencial","Mensal",1.01,3,{"$f":"Cálculo!$G$67","v":10.834},{"$f":"Cálculo!$H$67","v":14.87}]
["SP","São Paulo","Estiva Gerbi","ARSESP","COMGÁS","Residencial","Mensal",3.01,7,{"$f":"Cálculo!$G$68","v":5.6470000000000002},{"$f":"Cálculo!$H$68","v":14.87}]
["SP","São Paulo","Estiva Gerbi","ARSESP","COMGÁS","Residencial","Mensal",7.01,14,{"$f":"Cálculo!$G$69","v":9.3699999999999992},{"$f":"Cálculo!$H$69","v":16.739999999999998}]
["SP","São Paulo","Estiva Gerbi","ARSESP","COMGÁS","Residencial","Mensal",14.01,34,{"$f":"Cálculo!$G$70","v":11.132},{"$f":"Cálculo!$H$70","v":18.600000000000001}]
["SP","São Paulo","Estiva Gerbi","ARSESP","COMGÁS","Residencial","Mensal",34.01,600,{"$f":"Cálculo!$G$71","v":11.92},{"$f":"Cálculo!$H$71","v":18.600000000000001}]
["SP","São Paulo","Estiva Gerbi","ARSESP","COMGÁS","Residencial","Mensal",600.01,1000,{"$f":"Cálculo!$G$72","v":10.324},{"$f":"Cálculo!$H$72","v":18.600000000000001}]
["SP","São Paulo","Estiva Gerbi","ARSESP","COMGÁS","Residencial","Mensal",1000.01,null,{"$f":"Cálculo!$G$73","v":7.2949999999999999},{"$f":"Cálculo!$H$73","v":18.600000000000001}]
["SP","São Paulo","Estiva Gerbi","ARSESP","COMGÁS","Comercial","Mensal",0,0,{"$f":"Cálculo!$G$76","v":0},{"$f":"Cálculo!$H$76","v":0}]
["SP","São Paulo","Estiva Gerbi","ARSESP","COMGÁS","Comercial","Mensal",0.01,50,{"$f":"Cálculo!$G$77","v":9.2490000000000006},{"$f":"Cálculo!$H$77","v":60.76}]
["SP","São Paulo","Estiva Gerbi","ARSESP","COMGÁS","Comercial","Mensal",50.01,150,{"$f":"Cálculo!$G$78","v":8.49},{"$f":"Cálculo!$H$78","v":98.73}]
["SP","São Paulo","Estiva Gerbi","ARSESP","COMGÁS","Comercial","Mensal",150.01,500,{"$f":"Cálculo!$G$79","v":7.9859999999999998},{"$f":"Cálculo!$H$79","v":174.66}]
["SP","São Paulo","Estiva Gerbi","ARSESP","COMGÁS","Comercial","Mensal",500.01,2000,{"$f":"Cálculo!$G$80","v":7.5380000000000003},{"$f":"Cálculo!$H$80","v":398.71}]
["SP","São Paulo","Estiva Gerbi","ARSESP","COMGÁS","Comercial","Mensal",2000.01,3500,{"$f":"Cálculo!$G$81","v":6.819},{"$f":"Cálculo!$H$81","v":1837.86}]
["SP","São Paulo","Estiva Gerbi","ARSESP","COMGÁS","Comercial","Mensal",3500.01,50000,{"$f":"Cálculo!$G$82","v":5.3760000000000003},{"$f":"Cálculo!$H$82","v":6892.16}]
["SP","São Paulo","Estiva Gerbi","ARSESP","COMGÁS","Comercial","Mensal",50000.01,null,{"$f":"Cálculo!$G$83","v":5.1479999999999997},{"$f":"Cálculo!$H$83","v":18284.09}]
["SP","São Paulo","Estiva Gerbi","ARSESP","COMGÁS","Industrial","Mensal",0,50000,{"$f":"Cálculo!$G$86","v":4.726},{"$f":"Cálculo!$H$86","v":387.36}]
["SP","São Paulo","Estiva Gerbi","ARSESP","COMGÁS","Industrial","Mensal",50000.01,300000,{"$f":"Cálculo!$G$87","v":3.5019999999999998},{"$f":"Cálculo!$H$87","v":61597.41}]
["SP","São Paulo","Estiva Gerbi","ARSESP","COMGÁS","Industrial","Mensal",300000.01,500000,{"$f":"Cálculo!$G$88","v":3.36},{"$f":"Cálculo!$H$88","v":110975.06}]
["SP","São Paulo","Estiva Gerbi","ARSESP","COMGÁS","Industrial","Mensal",500000.01,1000000,{"$f":"Cálculo!$G$89","v":3.3340000000000001},{"$f":"Cálculo!$H$89","v":124035.06}]
["SP","São Paulo","Estiva Gerbi","ARSESP","COMGÁS","Industrial","Mensal",1000000.01,2000000,{"$f":"Cálculo!$G$90","v":3.2810000000000001},{"$f":"Cálculo!$H$90","v":177422.21}]
["SP","São Paulo","Estiva Gerbi","ARSESP","COMGÁS","Industrial","Mensal",2000000.01,null,{"$f":"Cálculo!$G$91","v":3.2330000000000001},{"$f":"Cálculo!$H$91","v":316707.87}]
["SP","São Paulo","Estiva Gerbi","ARSESP","COMGÁS","GNV","Faixa Única",null,null,{"$f":"Cálculo!$G$94","v":3.2148460000000001}]
["SP","São Paulo","Ferraz de Vasconcelos","ARSESP","COMGÁS","Residencial","Mensal",0,1,{"$f":"Cálculo!$G$66","v":3.2869999999999999},{"$f":"Cálculo!$H$66","v":11.39}]
["SP","São Paulo","Ferraz de Vasconcelos","ARSESP","COMGÁS","Residencial","Mensal",1.01,3,{"$f":"Cálculo!$G$67","v":10.834},{"$f":"Cálculo!$H$67","v":14.87}]
["SP","São Paulo","Ferraz de Vasconcelos","ARSESP","COMGÁS","Residencial","Mensal",3.01,7,{"$f":"Cálculo!$G$68","v":5.6470000000000002},{"$f":"Cálculo!$H$68","v":14.87}]
["SP","São Paulo","Ferraz de Vasconcelos","ARSESP","COMGÁS","Residencial","Mensal",7.01,14,{"$f":"Cálculo!$G$69","v":9.3699999999999992},{"$f":"Cálculo!$H$69","v":16.739999999999998}]
["SP","São Paulo","Ferraz de Vasconcelos","ARSESP","COMGÁS","Residencial","Mensal",14.01,34,{"$f":"Cálculo!$G$70","v":11.132},{"$f":"Cálculo!$H$70","v":18.600000000000001}]
["SP","São Paulo","Ferraz de Vasconcelos","ARSESP","COMGÁS","Residencial","Mensal",34.01,600,{"$f":"Cálculo!$G$71","v":11.92},{"$f":"Cálculo!$H$71","v":18.600000000000001}]
["SP","São Paulo","Ferraz de Vasconcelos","ARSESP","COMGÁS","Residencial","Mensal",600.01,1000,{"$f":"Cálculo!$G$72","v":10.324},{"$f":"Cálculo!$H$72","v":18.600000000000001}]
["SP","São Paulo","Ferraz de Vasconcelos","ARSESP","COMGÁS","Residencial","Mensal",1000.01,null,{"$f":"Cálculo!$G$73","v":7.2949999999999999},{"$f":"Cálculo!$H$73","v":18.600000000000001}]
["SP","São Paulo","Ferraz de Vasconcelos","ARSESP","COMGÁS","Comercial","Mensal",0,0,{"$f":"Cálculo!$G$76","v":0},{"$f":"Cálculo!$H$76","v":0}]
["SP","São Paulo","Ferraz de Vasconcelos","ARSESP","COMGÁS","Comercial","Mensal",0.01,50,{"$f":"Cálculo!$G$77","v":9.2490000000000006},{"$f":"Cálculo!$H$77","v":60.76}]
["SP","São Paulo","Ferraz de Vasconcelos","ARSESP","COMGÁS","Comercial","Mensal",50.01,150,{"$f":"Cálculo!$G$78","v":8.49},{"$f":"Cálculo!$H$78","v":98.73}]
["SP","São Paulo","Ferraz de Vasconcelos","ARSESP","COMGÁS","Comercial","Mensal",150.01,500,{"$f":"Cálculo!$G$79","v":7.9859999999999998},{"$f":"Cálculo!$H$79","v":174.66}]
["SP","São Paulo","Ferraz de Vasconcelos","ARSESP","COMGÁS","Comercial","Mensal",500.01,2000,{"$f":"Cálculo!$G$80","v":7.5380000000000003},{"$f":"Cálculo!$H$80","v":398.71}]
["SP","São Paulo","Ferraz de Vasconcelos","ARSESP","COMGÁS","Comercial","Mensal",2000.01,3500,{"$f":"Cálculo!$G$81","v":6.819},{"$f":"Cálculo!$H$81","v":1837.86}]
["SP","São Paulo","Ferraz de Vasconcelos","ARSESP","COMGÁS","Comercial","Mensal",3500.01,50000,{"$f":"Cálculo!$G$82","v":5.3760000000000003},{"$f":"Cálculo!$H$82","v":6892.16}]
["SP","São Paulo","Ferraz de Vasconcelos","ARSESP","COMGÁS","Comercial","Mensal",50000.01,null,{"$f":"Cálculo!$G$83","v":5.1479999999999997},{"$f":"Cálculo!$H$83","v":18284.09}]
["SP","São Paulo","Ferraz de Vasconcelos","ARSESP","COMGÁS","Industrial","Mensal",0,50000,{"$f":"Cálculo!$G$86","v":4.726},{"$f":"Cálculo!$H$86","v":387.36}]
["SP","São Paulo","Ferraz de Vasconcelos","ARSESP","COMGÁS","Industrial","Mensal",50000.01,300000,{"$f":"Cálculo!$G$87","v":3.5019999999999998},{"$f":"Cálculo!$H$87","v":61597.41}]
["SP","São Paulo","Ferraz de Vasconcelos","ARSESP","COMGÁS","Industrial","Mensal",300000.01,500000,{"$f":"Cálculo!$G$88","v":3.36},{"$f":"Cálculo!$H$88","v":110975.06}]
["SP","São Paulo","Ferraz de Vasconcelos","ARSESP","COMGÁS","Industrial","Mensal",500000.01,1000000,{"$f":"Cálculo!$G$89","v":3.3340000000000001},{"$f":"Cálculo!$H$89","v":124035.06}]
["SP","São Paulo","Ferraz de Vasconcelos","ARSESP","COMGÁS","Industrial","Mensal",1000000.01,2000000,{"$f":"Cálculo!$G$90","v":3.2810000000000001},{"$f":"Cálculo!$H$90","v":177422.21}]
["SP","São Paulo","Ferraz de Vasconcelos","ARSESP","COMGÁS","Industrial","Mensal",2000000.01,null,{"$f":"Cálculo!$G$91","v":3.2330000000000001},{"$f":"Cálculo!$H$91","v":316707.87}]
["SP","São Paulo","Ferraz de Vasconcelos","ARSESP","COMGÁS","GNV","Faixa Única",null,null,{"$f":"Cálculo!$G$94","v":3.2148460000000001}]
["SP","São Paulo","Francisco Morato","ARSESP","COMGÁS","Residencial","Mensal",0,1,{"$f":"Cálculo!$G$66","v":3.2869999999999999},{"$f":"Cálculo!$H$66","v":11.39}]
["SP","São Paulo","Francisco Morato","ARSESP","COMGÁS","Residencial","Mensal",1.01,3,{"$f":"Cálculo!$G$67","v":10.834},{"$f":"Cálculo!$H$67","v":14.87}]
["SP","São Paulo","Francisco Morato","ARSESP","COMGÁS","Residencial","Mensal",3.01,7,{"$f":"Cálculo!$G$68","v":5.6470000000000002},{"$f":"Cálculo!$H$68","v":14.87}]
["SP","São Paulo","Francisco Morato","ARSESP","COMGÁS","Residencial","Mensal",7.01,14,{"$f":"Cálculo!$G$69","v":9.3699999999999992},{"$f":"Cálculo!$H$69","v":16.739999999999998}]
["SP","São Paulo","Francisco Morato","ARSESP","COMGÁS","Residencial","Mensal",14.01,34,{"$f":"Cálculo!$G$70","v":11.132},{"$f":"Cálculo!$H$70","v":18.600000000000001}]
["SP","São Paulo","Francisco Morato","ARSESP","COMGÁS","Residencial","Mensal",34.01,600,{"$f":"Cálculo!$G$71","v":11.92},{"$f":"Cálculo!$H$71","v":18.600000000000001}]
["SP","São Paulo","Francisco Morato","ARSESP","COMGÁS","Residencial","Mensal",600.01,1000,{"$f":"Cálculo!$G$72","v":10.324},{"$f":"Cálculo!$H$72","v":18.600000000000001}]
["SP","São Paulo","Francisco Morato","ARSESP","COMGÁS","Residencial","Mensal",1000.01,null,{"$f":"Cálculo!$G$73","v":7.2949999999999999},{"$f":"Cálculo!$H$73","v":18.600000000000001}]
["SP","São Paulo","Francisco Morato","ARSESP","COMGÁS","Comercial","Mensal",0,0,{"$f":"Cálculo!$G$76","v":0},{"$f":"Cálculo!$H$76","v":0}]
["SP","São Paulo","Francisco Morato","ARSESP","COMGÁS","Comercial","Mensal",0.01,50,{"$f":"Cálculo!$G$77","v":9.2490000000000006},{"$f":"Cálculo!$H$77","v":60.76}]
["SP","São Paulo","Francisco Morato","ARSESP","COMGÁS","Comercial","Mensal",50.01,150,{"$f":"Cálculo!$G$78","v":8.49},{"$f":"Cálculo!$H$78","v":98.73}]
["SP","São Paulo","Francisco Morato","ARSESP","COMGÁS","Comercial","Mensal",150.01,500,{"$f":"Cálculo!$G$79","v":7.9859999999999998},{"$f":"Cálculo!$H$79","v":174.66}]
["SP","São Paulo","Francisco Morato","ARSESP","COMGÁS","Comercial","Mensal",500.01,2000,{"$f":"Cálculo!$G$80","v":7.5380000000000003},{"$f":"Cálculo!$H$80","v":398.71}]
["SP","São Paulo","Francisco Morato","ARSESP","COMGÁS","Comercial","Mensal",2000.01,3500,{"$f":"Cálculo!$G$81","v":6.819},{"$f":"Cálculo!$H$81","v":1837.86}]
["SP","São Paulo","Francisco Morato","ARSESP","COMGÁS","Comercial","Mensal",3500.01,50000,{"$f":"Cálculo!$G$82","v":5.3760000000000003},{"$f":"Cálculo!$H$82","v":6892.16}]
["SP","São Paulo","Francisco Morato","ARSESP","COMGÁS","Comercial","Mensal",50000.01,null,{"$f":"Cálculo!$G$83","v":5.1479999999999997},{"$f":"Cálculo!$H$83","v":18284.09}]
["SP","São Paulo","Francisco Morato","ARSESP","COMGÁS","Industrial","Mensal",0,50000,{"$f":"Cálculo!$G$86","v":4.726},{"$f":"Cálculo!$H$86","v":387.36}]
["SP","São Paulo","Francisco Morato","ARSESP","COMGÁS","Industrial","Mensal",50000.01,300000,{"$f":"Cálculo!$G$87","v":3.5019999999999998},{"$f":"Cálculo!$H$87","v":61597.41}]
["SP","São Paulo","Francisco Morato","ARSESP","COMGÁS","Industrial","Mensal",300000.01,500000,{"$f":"Cálculo!$G$88","v":3.36},{"$f":"Cálculo!$H$88","v":110975.06}]
["SP","São Paulo","Francisco Morato","ARSESP","COMGÁS","Industrial","Mensal",500000.01,1000000,{"$f":"Cálculo!$G$89","v":3.3340000000000001},{"$f":"Cálculo!$H$89","v":124035.06}]
["SP","São Paulo","Francisco Morato","ARSESP","COMGÁS","Industrial","Mensal",1000000.01,2000000,{"$f":"Cálculo!$G$90","v":3.2810000000000001},{"$f":"Cálculo!$H$90","v":177422.21}]
["SP","São Paulo","Francisco Morato","ARSESP","COMGÁS","Industrial","Mensal",2000000.01,null,{"$f":"Cálculo!$G$91","v":3.2330000000000001},{"$f":"Cálculo!$H$91","v":316707.87}]
["SP","São Paulo","Francisco Morato","ARSESP","COMGÁS","GNV","Faixa Única",null,null,{"$f":"Cálculo!$G$94","v":3.2148460000000001}]
["SP","São Paulo","Franco da Rocha","ARSESP","COMGÁS","Residencial","Mensal",0,1,{"$f":"Cálculo!$G$66","v":3.2869999999999999},{"$f":"Cálculo!$H$66","v":11.39}]
["SP","São Paulo","Franco da Rocha","ARSESP","COMGÁS","Residencial","Mensal",1.01,3,{"$f":"Cálculo!$G$67","v":10.834},{"$f":"Cálculo!$H$67","v":14.87}]
["SP","São Paulo","Franco da Rocha","ARSESP","COMGÁS","Residencial","Mensal",3.01,7,{"$f":"Cálculo!$G$68","v":5.6470000000000002},{"$f":"Cálculo!$H$68","v":14.87}]
["SP","São Paulo","Franco da Rocha","ARSESP","COMGÁS","Residencial","Mensal",7.01,14,{"$f":"Cálculo!$G$69","v":9.3699999999999992},{"$f":"Cálculo!$H$69","v":16.739999999999998}]
["SP","São Paulo","Franco da Rocha","ARSESP","COMGÁS","Residencial","Mensal",14.01,34,{"$f":"Cálculo!$G$70","v":11.132},{"$f":"Cálculo!$H$70","v":18.600000000000001}]
["SP","São Paulo","Franco da Rocha","ARSESP","COMGÁS","Residencial","Mensal",34.01,600,{"$f":"Cálculo!$G$71","v":11.92},{"$f":"Cálculo!$H$71","v":18.600000000000001}]
["SP","São Paulo","Franco da Rocha","ARSESP","COMGÁS","Residencial","Mensal",600.01,1000,{"$f":"Cálculo!$G$72","v":10.324},{"$f":"Cálculo!$H$72","v":18.600000000000001}]
["SP","São Paulo","Franco da Rocha","ARSESP","COMGÁS","Residencial","Mensal",1000.01,null,{"$f":"Cálculo!$G$73","v":7.2949999999999999},{"$f":"Cálculo!$H$73","v":18.600000000000001}]
["SP","São Paulo","Franco da Rocha","ARSESP","COMGÁS","Comercial","Mensal",0,0,{"$f":"Cálculo!$G$76","v":0},{"$f":"Cálculo!$H$76","v":0}]
["SP","São Paulo","Franco da Rocha","ARSESP","COMGÁS","Comercial","Mensal",0.01,50,{"$f":"Cálculo!$G$77","v":9.2490000000000006},{"$f":"Cálculo!$H$77","v":60.76}]
["SP","São Paulo","Franco da Rocha","ARSESP","COMGÁS","Comercial","Mensal",50.01,150,{"$f":"Cálculo!$G$78","v":8.49},{"$f":"Cálculo!$H$78","v":98.73}]
["SP","São Paulo","Franco da Rocha","ARSESP","COMGÁS","Comercial","Mensal",150.01,500,{"$f":"Cálculo!$G$79","v":7.9859999999999998},{"$f":"Cálculo!$H$79","v":174.66}]
["SP","São Paulo","Franco da Rocha","ARSESP","COMGÁS","Comercial","Mensal",500.01,2000,{"$f":"Cálculo!$G$80","v":7.5380000000000003},{"$f":"Cálculo!$H$80","v":398.71}]
["SP","São Paulo","Franco da Rocha","ARSESP","COMGÁS","Comercial","Mensal",2000.01,3500,{"$f":"Cálculo!$G$81","v":6.819},{"$f":"Cálculo!$H$81","v":1837.86}]
["SP","São Paulo","Franco da Rocha","ARSESP","COMGÁS","Comercial","Mensal",3500.01,50000,{"$f":"Cálculo!$G$82","v":5.3760000000000003},{"$f":"Cálculo!$H$82","v":6892.16}]
["SP","São Paulo","Franco da Rocha","ARSESP","COMGÁS","Comercial","Mensal",50000.01,null,{"$f":"Cálculo!$G$83","v":5.1479999999999997},{"$f":"Cálculo!$H$83","v":18284.09}]
["SP","São Paulo","Franco da Rocha","ARSESP","COMGÁS","Industrial","Mensal",0,50000,{"$f":"Cálculo!$G$86","v":4.726},{"$f":"Cálculo!$H$86","v":387.36}]
["SP","São Paulo","Franco da Rocha","ARSESP","COMGÁS","Industrial","Mensal",50000.01,300000,{"$f":"Cálculo!$G$87","v":3.5019999999999998},{"$f":"Cálculo!$H$87","v":61597.41}]
["SP","São Paulo","Franco da Rocha","ARSESP","COMGÁS","Industrial","Mensal",300000.01,500000,{"$f":"Cálculo!$G$88","v":3.36},{"$f":"Cálculo!$H$88","v":110975.06}]
["SP","São Paulo","Franco da Rocha","ARSESP","COMGÁS","Industrial","Mensal",500000.01,1000000,{"$f":"Cálculo!$G$89","v":3.3340000000000001},{"$f":"Cálculo!$H$89","v":124035.06}]
["SP","São Paulo","Franco da Rocha","ARSESP","COMGÁS","Industrial","Mensal",1000000.01,2000000,{"$f":"Cálculo!$G$90","v":3.2810000000000001},{"$f":"Cálculo!$H$90","v":177422.21}]
["SP","São Paulo","Franco da Rocha","ARSESP","COMGÁS","Industrial","Mensal",2000000.01,null,{"$f":"Cálculo!$G$91","v":3.2330000000000001},{"$f":"Cálculo!$H$91","v":316707.87}]
["SP","São Paulo","Franco da Rocha","ARSESP","COMGÁS","GNV","Faixa Única",null,null,{"$f":"Cálculo!$G$94","v":3.2148460000000001}]
["SP","São Paulo","Guararema","ARSESP","COMGÁS","Residencial","Mensal",0,1,{"$f":"Cálculo!$G$66","v":3.2869999999999999},{"$f":"Cálculo!$H$66","v":11.39}]
["SP","São Paulo","Guararema","ARSESP","COMGÁS","Residencial","Mensal",1.01,3,{"$f":"Cálculo!$G$67","v":10.834},{"$f":"Cálculo!$H$67","v":14.87}]
["SP","São Paulo","Guararema","ARSESP","COMGÁS","Residencial","Mensal",3.01,7,{"$f":"Cálculo!$G$68","v":5.6470000000000002},{"$f":"Cálculo!$H$68","v":14.87}]
["SP","São Paulo","Guararema","ARSESP","COMGÁS","Residencial","Mensal",7.01,14,{"$f":"Cálculo!$G$69","v":9.3699999999999992},{"$f":"Cálculo!$H$69","v":16.739999999999998}]
["SP","São Paulo","Guararema","ARSESP","COMGÁS","Residencial","Mensal",14.01,34,{"$f":"Cálculo!$G$70","v":11.132},{"$f":"Cálculo!$H$70","v":18.600000000000001}]
["SP","São Paulo","Guararema","ARSESP","COMGÁS","Residencial","Mensal",34.01,600,{"$f":"Cálculo!$G$71","v":11.92},{"$f":"Cálculo!$H$71","v":18.600000000000001}]
["SP","São Paulo","Guararema","ARSESP","COMGÁS","Residencial","Mensal",600.01,1000,{"$f":"Cálculo!$G$72","v":10.324},{"$f":"Cálculo!$H$72","v":18.600000000000001}]
["SP","São Paulo","Guararema","ARSESP","COMGÁS","Residencial","Mensal",1000.01,null,{"$f":"Cálculo!$G$73","v":7.2949999999999999},{"$f":"Cálculo!$H$73","v":18.600000000000001}]
["SP","São Paulo","Guararema","ARSESP","COMGÁS","Comercial","Mensal",0,0,{"$f":"Cálculo!$G$76","v":0},{"$f":"Cálculo!$H$76","v":0}]
["SP","São Paulo","Guararema","ARSESP","COMGÁS","Comercial","Mensal",0.01,50,{"$f":"Cálculo!$G$77","v":9.2490000000000006},{"$f":"Cálculo!$H$77","v":60.76}]
["SP","São Paulo","Guararema","ARSESP","COMGÁS","Comercial","Mensal",50.01,150,{"$f":"Cálculo!$G$78","v":8.49},{"$f":"Cálculo!$H$78","v":98.73}]
["SP","São Paulo","Guararema","ARSESP","COMGÁS","Comercial","Mensal",150.01,500,{"$f":"Cálculo!$G$79","v":7.9859999999999998},{"$f":"Cálculo!$H$79","v":174.66}]
["SP","São Paulo","Guararema","ARSESP","COMGÁS","Comercial","Mensal",500.01,2000,{"$f":"Cálculo!$G$80","v":7.5380000000000003},{"$f":"Cálculo!$H$80","v":398.71}]
["SP","São Paulo","Guararema","ARSESP","COMGÁS","Comercial","Mensal",2000.01,3500,{"$f":"Cálculo!$G$81","v":6.819},{"$f":"Cálculo!$H$81","v":1837.86}]
["SP","São Paulo","Guararema","ARSESP","COMGÁS","Comercial","Mensal",3500.01,50000,{"$f":"Cálculo!$G$82","v":5.3760000000000003},{"$f":"Cálculo!$H$82","v":6892.16}]
["SP","São Paulo","Guararema","ARSESP","COMGÁS","Comercial","Mensal",50000.01,null,{"$f":"Cálculo!$G$83","v":5.1479999999999997},{"$f":"Cálculo!$H$83","v":18284.09}]
["SP","São Paulo","Guararema","ARSESP","COMGÁS","Industrial","Mensal",0,50000,{"$f":"Cálculo!$G$86","v":4.726},{"$f":"Cálculo!$H$86","v":387.36}]
["SP","São Paulo","Guararema","ARSESP","COMGÁS","Industrial","Mensal",50000.01,300000,{"$f":"Cálculo!$G$87","v":3.5019999999999998},{"$f":"Cálculo!$H$87","v":61597.41}]
["SP","São Paulo","Guararema","ARSESP","COMGÁS","Industrial","Mensal",300000.01,500000,{"$f":"Cálculo!$G$88","v":3.36},{"$f":"Cálculo!$H$88","v":110975.06}]
["SP","São Paulo","Guararema","ARSESP","COMGÁS","Industrial","Mensal",500000.01,1000000,{"$f":"Cálculo!$G$89","v":3.3340000000000001},{"$f":"Cálculo!$H$89","v":124035.06}]
["SP","São Paulo","Guararema","ARSESP","COMGÁS","Industrial","Mensal",1000000.01,2000000,{"$f":"Cálculo!$G$90","v":3.2810000000000001},{"$f":"Cálculo!$H$90","v":177422.21}]
["SP","São Paulo","Guararema","ARSESP","COMGÁS","Industrial","Mensal",2000000.01,null,{"$f":"Cálculo!$G$91","v":3.2330000000000001},{"$f":"Cálculo!$H$91","v":316707.87}]
["SP","São Paulo","Guararema","ARSESP","COMGÁS","GNV","Faixa Única",null,null,{"$f":"Cálculo!$G$94","v":3.2148460000000001}]
["SP","São Paulo","Guaratinguetá","ARSESP","COMGÁS","Residencial","Mensal",0,1,{"$f":"Cálculo!$G$66","v":3.2869999999999999},{"$f":"Cálculo!$H$66","v":11.39}]
["SP","São Paulo","Guaratinguetá","ARSESP","COMGÁS","Residencial","Mensal",1.01,3,{"$f":"Cálculo!$G$67","v":10.834},{"$f":"Cálculo!$H$67","v":14.87}]
["SP","São Paulo","Guaratinguetá","ARSESP","COMGÁS","Residencial","Mensal",3.01,7,{"$f":"Cálculo!$G$68","v":5.6470000000000002},{"$f":"Cálculo!$H$68","v":14.87}]
["SP","São Paulo","Guaratinguetá","ARSESP","COMGÁS","Residencial","Mensal",7.01,14,{"$f":"Cálculo!$G$69","v":9.3699999999999992},{"$f":"Cálculo!$H$69","v":16.739999999999998}]
["SP","São Paulo","Guaratinguetá","ARSESP","COMGÁS","Residencial","Mensal",14.01,34,{"$f":"Cálculo!$G$70","v":11.132},{"$f":"Cálculo!$H$70","v":18.600000000000001}]
["SP","São Paulo","Guaratinguetá","ARSESP","COMGÁS","Residencial","Mensal",34.01,600,{"$f":"Cálculo!$G$71","v":11.92},{"$f":"Cálculo!$H$71","v":18.600000000000001}]
["SP","São Paulo","Guaratinguetá","ARSESP","COMGÁS","Residencial","Mensal",600.01,1000,{"$f":"Cálculo!$G$72","v":10.324},{"$f":"Cálculo!$H$72","v":18.600000000000001}]
["SP","São Paulo","Guaratinguetá","ARSESP","COMGÁS","Residencial","Mensal",1000.01,null,{"$f":"Cálculo!$G$73","v":7.2949999999999999},{"$f":"Cálculo!$H$73","v":18.600000000000001}]
["SP","São Paulo","Guaratinguetá","ARSESP","COMGÁS","Comercial","Mensal",0,0,{"$f":"Cálculo!$G$76","v":0},{"$f":"Cálculo!$H$76","v":0}]
["SP","São Paulo","Guaratinguetá","ARSESP","COMGÁS","Comercial","Mensal",0.01,50,{"$f":"Cálculo!$G$77","v":9.2490000000000006},{"$f":"Cálculo!$H$77","v":60.76}]
["SP","São Paulo","Guaratinguetá","ARSESP","COMGÁS","Comercial","Mensal",50.01,150,{"$f":"Cálculo!$G$78","v":8.49},{"$f":"Cálculo!$H$78","v":98.73}]
["SP","São Paulo","Guaratinguetá","ARSESP","COMGÁS","Comercial","Mensal",150.01,500,{"$f":"Cálculo!$G$79","v":7.9859999999999998},{"$f":"Cálculo!$H$79","v":174.66}]
["SP","São Paulo","Guaratinguetá","ARSESP","COMGÁS","Comercial","Mensal",500.01,2000,{"$f":"Cálculo!$G$80","v":7.5380000000000003},{"$f":"Cálculo!$H$80","v":398.71}]
["SP","São Paulo","Guaratinguetá","ARSESP","COMGÁS","Comercial","Mensal",2000.01,3500,{"$f":"Cálculo!$G$81","v":6.819},{"$f":"Cálculo!$H$81","v":1837.86}]
["SP","São Paulo","Guaratinguetá","ARSESP","COMGÁS","Comercial","Mensal",3500.01,50000,{"$f":"Cálculo!$G$82","v":5.3760000000000003},{"$f":"Cálculo!$H$82","v":6892.16}]
["SP","São Paulo","Guaratinguetá","ARSESP","COMGÁS","Comercial","Mensal",50000.01,null,{"$f":"Cálculo!$G$83","v":5.1479999999999997},{"$f":"Cálculo!$H$83","v":18284.09}]
["SP","São Paulo","Guaratinguetá","ARSESP","COMGÁS","Industrial","Mensal",0,50000,{"$f":"Cálculo!$G$86","v":4.726},{"$f":"Cálculo!$H$86","v":387.36}]
["SP","São Paulo","Guaratinguetá","ARSESP","COMGÁS","Industrial","Mensal",50000.01,300000,{"$f":"Cálculo!$G$87","v":3.5019999999999998},{"$f":"Cálculo!$H$87","v":61597.41}]
["SP","São Paulo","Guaratinguetá","ARSESP","COMGÁS","Industrial","Mensal",300000.01,500000,{"$f":"Cálculo!$G$88","v":3.36},{"$f":"Cálculo!$H$88","v":110975.06}]
["SP","São Paulo","Guaratinguetá","ARSESP","COMGÁS","Industrial","Mensal",500000.01,1000000,{"$f":"Cálculo!$G$89","v":3.3340000000000001},{"$f":"Cálculo!$H$89","v":124035.06}]
["SP","São Paulo","Guaratinguetá","ARSESP","COMGÁS","Industrial","Mensal",1000000.01,2000000,{"$f":"Cálculo!$G$90","v":3.2810000000000001},{"$f":"Cálculo!$H$90","v":177422.21}]
["SP","São Paulo","Guaratinguetá","ARSESP","COMGÁS","Industrial","Mensal",2000000.01,null,{"$f":"Cálculo!$G$91","v":3.2330000000000001},{"$f":"Cálculo!$H$91","v":316707.87}]
["SP","São Paulo","Guaratinguetá","ARSESP","COMGÁS","GNV","Faixa Única",null,null,{"$f":"Cálculo!$G$94","v":3.2148460000000001}]
["SP","São Paulo","Guarujá","ARSESP","COMGÁS","Residencial","Mensal",0,1,{"$f":"Cálculo!$G$66","v":3.2869999999999999},{"$f":"Cálculo!$H$66","v":11.39}]
["SP","São Paulo","Guarujá","ARSESP","COMGÁS","Residencial","Mensal",1.01,3,{"$f":"Cálculo!$G$67","v":10.834},{"$f":"Cálculo!$H$67","v":14.87}]
["SP","São Paulo","Guarujá","ARSESP","COMGÁS","Residencial","Mensal",3.01,7,{"$f":"Cálculo!$G$68","v":5.6470000000000002},{"$f":"Cálculo!$H$68","v":14.87}]
["SP","São Paulo","Guarujá","ARSESP","COMGÁS","Residencial","Mensal",7.01,14,{"$f":"Cálculo!$G$69","v":9.3699999999999992},{"$f":"Cálculo!$H$69","v":16.739999999999998}]
["SP","São Paulo","Guarujá","ARSESP","COMGÁS","Residencial","Mensal",14.01,34,{"$f":"Cálculo!$G$70","v":11.132},{"$f":"Cálculo!$H$70","v":18.600000000000001}]
["SP","São Paulo","Guarujá","ARSESP","COMGÁS","Residencial","Mensal",34.01,600,{"$f":"Cálculo!$G$71","v":11.92},{"$f":"Cálculo!$H$71","v":18.600000000000001}]
["SP","São Paulo","Guarujá","ARSESP","COMGÁS","Residencial","Mensal",600.01,1000,{"$f":"Cálculo!$G$72","v":10.324},{"$f":"Cálculo!$H$72","v":18.600000000000001}]
["SP","São Paulo","Guarujá","ARSESP","COMGÁS","Residencial","Mensal",1000.01,null,{"$f":"Cálculo!$G$73","v":7.2949999999999999},{"$f":"Cálculo!$H$73","v":18.600000000000001}]
["SP","São Paulo","Guarujá","ARSESP","COMGÁS","Comercial","Mensal",0,0,{"$f":"Cálculo!$G$76","v":0},{"$f":"Cálculo!$H$76","v":0}]
["SP","São Paulo","Guarujá","ARSESP","COMGÁS","Comercial","Mensal",0.01,50,{"$f":"Cálculo!$G$77","v":9.2490000000000006},{"$f":"Cálculo!$H$77","v":60.76}]
["SP","São Paulo","Guarujá","ARSESP","COMGÁS","Comercial","Mensal",50.01,150,{"$f":"Cálculo!$G$78","v":8.49},{"$f":"Cálculo!$H$78","v":98.73}]
["SP","São Paulo","Guarujá","ARSESP","COMGÁS","Comercial","Mensal",150.01,500,{"$f":"Cálculo!$G$79","v":7.9859999999999998},{"$f":"Cálculo!$H$79","v":174.66}]
["SP","São Paulo","Guarujá","ARSESP","COMGÁS","Comercial","Mensal",500.01,2000,{"$f":"Cálculo!$G$80","v":7.5380000000000003},{"$f":"Cálculo!$H$80","v":398.71}]
["SP","São Paulo","Guarujá","ARSESP","COMGÁS","Comercial","Mensal",2000.01,3500,{"$f":"Cálculo!$G$81","v":6.819},{"$f":"Cálculo!$H$81","v":1837.86}]
["SP","São Paulo","Guarujá","ARSESP","COMGÁS","Comercial","Mensal",3500.01,50000,{"$f":"Cálculo!$G$82","v":5.3760000000000003},{"$f":"Cálculo!$H$82","v":6892.16}]
["SP","São Paulo","Guarujá","ARSESP","COMGÁS","Comercial","Mensal",50000.01,null,{"$f":"Cálculo!$G$83","v":5.1479999999999997},{"$f":"Cálculo!$H$83","v":18284.09}]
["SP","São Paulo","Guarujá","ARSESP","COMGÁS","Industrial","Mensal",0,50000,{"$f":"Cálculo!$G$86","v":4.726},{"$f":"Cálculo!$H$86","v":387.36}]
["SP","São Paulo","Guarujá","ARSESP","COMGÁS","Industrial","Mensal",50000.01,300000,{"$f":"Cálculo!$G$87","v":3.5019999999999998},{"$f":"Cálculo!$H$87","v":61597.41}]
["SP","São Paulo","Guarujá","ARSESP","COMGÁS","Industrial","Mensal",300000.01,500000,{"$f":"Cálculo!$G$88","v":3.36},{"$f":"Cálculo!$H$88","v":110975.06}]
["SP","São Paulo","Guarujá","ARSESP","COMGÁS","Industrial","Mensal",500000.01,1000000,{"$f":"Cálculo!$G$89","v":3.3340000000000001},{"$f":"Cálculo!$H$89","v":124035.06}]
["SP","São Paulo","Guarujá","ARSESP","COMGÁS","Industrial","Mensal",1000000.01,2000000,{"$f":"Cálculo!$G$90","v":3.2810000000000001},{"$f":"Cálculo!$H$90","v":177422.21}]
["SP","São Paulo","Guarujá","ARSESP","COMGÁS","Industrial","Mensal",2000000.01,null,{"$f":"Cálculo!$G$91","v":3.2330000000000001},{"$f":"Cálculo!$H$91","v":316707.87}]
["SP","São Paulo","Guarujá","ARSESP","COMGÁS","GNV","Faixa Única",null,null,{"$f":"Cálculo!$G$94","v":3.2148460000000001}]
["SP","São Paulo","Guarulhos","ARSESP","COMGÁS","Residencial","Mensal",0,1,{"$f":"Cálculo!$G$66","v":3.2869999999999999},{"$f":"Cálculo!$H$66","v":11.39}]
["SP","São Paulo","Guarulhos","ARSESP","COMGÁS","Residencial","Mensal",1.01,3,{"$f":"Cálculo!$G$67","v":10.834},{"$f":"Cálculo!$H$67","v":14.87}]
["SP","São Paulo","Guarulhos","ARSESP","COMGÁS","Residencial","Mensal",3.01,7,{"$f":"Cálculo!$G$68","v":5.6470000000000002},{"$f":"Cálculo!$H$68","v":14.87}]
["SP","São Paulo","Guarulhos","ARSESP","COMGÁS","Residencial","Mensal",7.01,14,{"$f":"Cálculo!$G$69","v":9.3699999999999992},{"$f":"Cálculo!$H$69","v":16.739999999999998}]
["SP","São Paulo","Guarulhos","ARSESP","COMGÁS","Residencial","Mensal",14.01,34,{"$f":"Cálculo!$G$70","v":11.132},{"$f":"Cálculo!$H$70","v":18.600000000000001}]
["SP","São Paulo","Guarulhos","ARSESP","COMGÁS","Residencial","Mensal",34.01,600,{"$f":"Cálculo!$G$71","v":11.92},{"$f":"Cálculo!$H$71","v":18.600000000000001}]
["SP","São Paulo","Guarulhos","ARSESP","COMGÁS","Residencial","Mensal",600.01,1000,{"$f":"Cálculo!$G$72","v":10.324},{"$f":"Cálculo!$H$72","v":18.600000000000001}]
["SP","São Paulo","Guarulhos","ARSESP","COMGÁS","Residencial","Mensal",1000.01,null,{"$f":"Cálculo!$G$73","v":7.2949999999999999},{"$f":"Cálculo!$H$73","v":18.600000000000001}]
["SP","São Paulo","Guarulhos","ARSESP","COMGÁS","Comercial","Mensal",0,0,{"$f":"Cálculo!$G$76","v":0},{"$f":"Cálculo!$H$76","v":0}]
["SP","São Paulo","Guarulhos","ARSESP","COMGÁS","Comercial","Mensal",0.01,50,{"$f":"Cálculo!$G$77","v":9.2490000000000006},{"$f":"Cálculo!$H$77","v":60.76}]
["SP","São Paulo","Guarulhos","ARSESP","COMGÁS","Comercial","Mensal",50.01,150,{"$f":"Cálculo!$G$78","v":8.49},{"$f":"Cálculo!$H$78","v":98.73}]
["SP","São Paulo","Guarulhos","ARSESP","COMGÁS","Comercial","Mensal",150.01,500,{"$f":"Cálculo!$G$79","v":7.9859999999999998},{"$f":"Cálculo!$H$79","v":174.66}]
["SP","São Paulo","Guarulhos","ARSESP","COMGÁS","Comercial","Mensal",500.01,2000,{"$f":"Cálculo!$G$80","v":7.5380000000000003},{"$f":"Cálculo!$H$80","v":398.71}]
["SP","São Paulo","Guarulhos","ARSESP","COMGÁS","Comercial","Mensal",2000.01,3500,{"$f":"Cálculo!$G$81","v":6.819},{"$f":"Cálculo!$H$81","v":1837.86}]
["SP","São Paulo","Guarulhos","ARSESP","COMGÁS","Comercial","Mensal",3500.01,50000,{"$f":"Cálculo!$G$82","v":5.3760000000000003},{"$f":"Cálculo!$H$82","v":6892.16}]
["SP","São Paulo","Guarulhos","ARSESP","COMGÁS","Comercial","Mensal",50000.01,null,{"$f":"Cálculo!$G$83","v":5.1479999999999997},{"$f":"Cálculo!$H$83","v":18284.09}]
["SP","São Paulo","Guarulhos","ARSESP","COMGÁS","Industrial","Mensal",0,50000,{"$f":"Cálculo!$G$86","v":4.726},{"$f":"Cálculo!$H$86","v":387.36}]
["SP","São Paulo","Guarulhos","ARSESP","COMGÁS","Industrial","Mensal",50000.01,300000,{"$f":"Cálculo!$G$87","v":3.5019999999999998},{"$f":"Cálculo!$H$87","v":61597.41}]
["SP","São Paulo","Guarulhos","ARSESP","COMGÁS","Industrial","Mensal",300000.01,500000,{"$f":"Cálculo!$G$88","v":3.36},{"$f":"Cálculo!$H$88","v":110975.06}]
["SP","São Paulo","Guarulhos","ARSESP","COMGÁS","Industrial","Mensal",500000.01,1000000,{"$f":"Cálculo!$G$89","v":3.3340000000000001},{"$f":"Cálculo!$H$89","v":124035.06}]
["SP","São Paulo","Guarulhos","ARSESP","COMGÁS","Industrial","Mensal",1000000.01,2000000,{"$f":"Cálculo!$G$90","v":3.2810000000000001},{"$f":"Cálculo!$H$90","v":177422.21}]
["SP","São Paulo","Guarulhos","ARSESP","COMGÁS","Industrial","Mensal",2000000.01,null,{"$f":"Cálculo!$G$91","v":3.2330000000000001},{"$f":"Cálculo!$H$91","v":316707.87}]
["SP","São Paulo","Guarulhos","ARSESP","COMGÁS","GNV","Faixa Única",null,null,{"$f":"Cálculo!$G$94","v":3.2148460000000001}]
["SP","São Paulo","Holambra","ARSESP","COMGÁS","Residencial","Mensal",0,1,{"$f":"Cálculo!$G$66","v":3.2869999999999999},{"$f":"Cálculo!$H$66","v":11.39}]
["SP","São Paulo","Holambra","ARSESP","COMGÁS","Residencial","Mensal",1.01,3,{"$f":"Cálculo!$G$67","v":10.834},{"$f":"Cálculo!$H$67","v":14.87}]
["SP","São Paulo","Holambra","ARSESP","COMGÁS","Residencial","Mensal",3.01,7,{"$f":"Cálculo!$G$68","v":5.6470000000000002},{"$f":"Cálculo!$H$68","v":14.87}]
["SP","São Paulo","Holambra","ARSESP","COMGÁS","Residencial","Mensal",7.01,14,{"$f":"Cálculo!$G$69","v":9.3699999999999992},{"$f":"Cálculo!$H$69","v":16.739999999999998}]
["SP","São Paulo","Holambra","ARSESP","COMGÁS","Residencial","Mensal",14.01,34,{"$f":"Cálculo!$G$70","v":11.132},{"$f":"Cálculo!$H$70","v":18.600000000000001}]
["SP","São Paulo","Holambra","ARSESP","COMGÁS","Residencial","Mensal",34.01,600,{"$f":"Cálculo!$G$71","v":11.92},{"$f":"Cálculo!$H$71","v":18.600000000000001}]
["SP","São Paulo","Holambra","ARSESP","COMGÁS","Residencial","Mensal",600.01,1000,{"$f":"Cálculo!$G$72","v":10.324},{"$f":"Cálculo!$H$72","v":18.600000000000001}]
["SP","São Paulo","Holambra","ARSESP","COMGÁS","Residencial","Mensal",1000.01,null,{"$f":"Cálculo!$G$73","v":7.2949999999999999},{"$f":"Cálculo!$H$73","v":18.600000000000001}]
["SP","São Paulo","Holambra","ARSESP","COMGÁS","Comercial","Mensal",0,0,{"$f":"Cálculo!$G$76","v":0},{"$f":"Cálculo!$H$76","v":0}]
["SP","São Paulo","Holambra","ARSESP","COMGÁS","Comercial","Mensal",0.01,50,{"$f":"Cálculo!$G$77","v":9.2490000000000006},{"$f":"Cálculo!$H$77","v":60.76}]
["SP","São Paulo","Holambra","ARSESP","COMGÁS","Comercial","Mensal",50.01,150,{"$f":"Cálculo!$G$78","v":8.49},{"$f":"Cálculo!$H$78","v":98.73}]
["SP","São Paulo","Holambra","ARSESP","COMGÁS","Comercial","Mensal",150.01,500,{"$f":"Cálculo!$G$79","v":7.9859999999999998},{"$f":"Cálculo!$H$79","v":174.66}]
["SP","São Paulo","Holambra","ARSESP","COMGÁS","Comercial","Mensal",500.01,2000,{"$f":"Cálculo!$G$80","v":7.5380000000000003},{"$f":"Cálculo!$H$80","v":398.71}]
["SP","São Paulo","Holambra","ARSESP","COMGÁS","Comercial","Mensal",2000.01,3500,{"$f":"Cálculo!$G$81","v":6.819},{"$f":"Cálculo!$H$81","v":1837.86}]
["SP","São Paulo","Holambra","ARSESP","COMGÁS","Comercial","Mensal",3500.01,50000,{"$f":"Cálculo!$G$82","v":5.3760000000000003},{"$f":"Cálculo!$H$82","v":6892.16}]
["SP","São Paulo","Holambra","ARSESP","COMGÁS","Comercial","Mensal",50000.01,null,{"$f":"Cálculo!$G$83","v":5.1479999999999997},{"$f":"Cálculo!$H$83","v":18284.09}]
["SP","São Paulo","Holambra","ARSESP","COMGÁS","Industrial","Mensal",0,50000,{"$f":"Cálculo!$G$86","v":4.726},{"$f":"Cálculo!$H$86","v":387.36}]
["SP","São Paulo","Holambra","ARSESP","COMGÁS","Industrial","Mensal",50000.01,300000,{"$f":"Cálculo!$G$87","v":3.5019999999999998},{"$f":"Cálculo!$H$87","v":61597.41}]
["SP","São Paulo","Holambra","ARSESP","COMGÁS","Industrial","Mensal",300000.01,500000,{"$f":"Cálculo!$G$88","v":3.36},{"$f":"Cálculo!$H$88","v":110975.06}]
["SP","São Paulo","Holambra","ARSESP","COMGÁS","Industrial","Mensal",500000.01,1000000,{"$f":"Cálculo!$G$89","v":3.3340000000000001},{"$f":"Cálculo!$H$89","v":124035.06}]
["SP","São Paulo","Holambra","ARSESP","COMGÁS","Industrial","Mensal",1000000.01,2000000,{"$f":"Cálculo!$G$90","v":3.2810000000000001},{"$f":"Cálculo!$H$90","v":177422.21}]
["SP","São Paulo","Holambra","ARSESP","COMGÁS","Industrial","Mensal",2000000.01,null,{"$f":"Cálculo!$G$91","v":3.2330000000000001},{"$f":"Cálculo!$H$91","v":316707.87}]
["SP","São Paulo","Holambra","ARSESP","COMGÁS","GNV","Faixa Única",null,null,{"$f":"Cálculo!$G$94","v":3.2148460000000001}]
["SP","São Paulo","Hortolândia","ARSESP","COMGÁS","Residencial","Mensal",0,1,{"$f":"Cálculo!$G$66","v":3.2869999999999999},{"$f":"Cálculo!$H$66","v":11.39}]
["SP","São Paulo","Hortolândia","ARSESP","COMGÁS","Residencial","Mensal",1.01,3,{"$f":"Cálculo!$G$67","v":10.834},{"$f":"Cálculo!$H$67","v":14.87}]
["SP","São Paulo","Hortolândia","ARSESP","COMGÁS","Residencial","Mensal",3.01,7,{"$f":"Cálculo!$G$68","v":5.6470000000000002},{"$f":"Cálculo!$H$68","v":14.87}]
["SP","São Paulo","Hortolândia","ARSESP","COMGÁS","Residencial","Mensal",7.01,14,{"$f":"Cálculo!$G$69","v":9.3699999999999992},{"$f":"Cálculo!$H$69","v":16.739999999999998}]
["SP","São Paulo","Hortolândia","ARSESP","COMGÁS","Residencial","Mensal",14.01,34,{"$f":"Cálculo!$G$70","v":11.132},{"$f":"Cálculo!$H$70","v":18.600000000000001}]
["SP","São Paulo","Hortolândia","ARSESP","COMGÁS","Residencial","Mensal",34.01,600,{"$f":"Cálculo!$G$71","v":11.92},{"$f":"Cálculo!$H$71","v":18.600000000000001}]
["SP","São Paulo","Hortolândia","ARSESP","COMGÁS","Residencial","Mensal",600.01,1000,{"$f":"Cálculo!$G$72","v":10.324},{"$f":"Cálculo!$H$72","v":18.600000000000001}]
["SP","São Paulo","Hortolândia","ARSESP","COMGÁS","Residencial","Mensal",1000.01,null,{"$f":"Cálculo!$G$73","v":7.2949999999999999},{"$f":"Cálculo!$H$73","v":18.600000000000001}]
["SP","São Paulo","Hortolândia","ARSESP","COMGÁS","Comercial","Mensal",0,0,{"$f":"Cálculo!$G$76","v":0},{"$f":"Cálculo!$H$76","v":0}]
["SP","São Paulo","Hortolândia","ARSESP","COMGÁS","Comercial","Mensal",0.01,50,{"$f":"Cálculo!$G$77","v":9.2490000000000006},{"$f":"Cálculo!$H$77","v":60.76}]
["SP","São Paulo","Hortolândia","ARSESP","COMGÁS","Comercial","Mensal",50.01,150,{"$f":"Cálculo!$G$78","v":8.49},{"$f":"Cálculo!$H$78","v":98.73}]
["SP","São Paulo","Hortolândia","ARSESP","COMGÁS","Comercial","Mensal",150.01,500,{"$f":"Cálculo!$G$79","v":7.9859999999999998},{"$f":"Cálculo!$H$79","v":174.66}]
["SP","São Paulo","Hortolândia","ARSESP","COMGÁS","Comercial","Mensal",500.01,2000,{"$f":"Cálculo!$G$80","v":7.5380000000000003},{"$f":"Cálculo!$H$80","v":398.71}]
["SP","São Paulo","Hortolândia","ARSESP","COMGÁS","Comercial","Mensal",2000.01,3500,{"$f":"Cálculo!$G$81","v":6.819},{"$f":"Cálculo!$H$81","v":1837.86}]
["SP","São Paulo","Hortolândia","ARSESP","COMGÁS","Comercial","Mensal",3500.01,50000,{"$f":"Cálculo!$G$82","v":5.3760000000000003},{"$f":"Cálculo!$H$82","v":6892.16}]
["SP","São Paulo","Hortolândia","ARSESP","COMGÁS","Comercial","Mensal",50000.01,null,{"$f":"Cálculo!$G$83","v":5.1479999999999997},{"$f":"Cálculo!$H$83","v":18284.09}]
["SP","São Paulo","Hortolândia","ARSESP","COMGÁS","Industrial","Mensal",0,50000,{"$f":"Cálculo!$G$86","v":4.726},{"$f":"Cálculo!$H$86","v":387.36}]
["SP","São Paulo","Hortolândia","ARSESP","COMGÁS","Industrial","Mensal",50000.01,300000,{"$f":"Cálculo!$G$87","v":3.5019999999999998},{"$f":"Cálculo!$H$87","v":61597.41}]
["SP","São Paulo","Hortolândia","ARSESP","COMGÁS","Industrial","Mensal",300000.01,500000,{"$f":"Cálculo!$G$88","v":3.36},{"$f":"Cálculo!$H$88","v":110975.06}]
["SP","São Paulo","Hortolândia","ARSESP","COMGÁS","Industrial","Mensal",500000.01,1000000,{"$f":"Cálculo!$G$89","v":3.3340000000000001},{"$f":"Cálculo!$H$89","v":124035.06}]
["SP","São Paulo","Hortolândia","ARSESP","COMGÁS","Industrial","Mensal",1000000.01,2000000,{"$f":"Cálculo!$G$90","v":3.2810000000000001},{"$f":"Cálculo!$H$90","v":177422.21}]
["SP","São Paulo","Hortolândia","ARSESP","COMGÁS","Industrial","Mensal",2000000.01,null,{"$f":"Cálculo!$G$91","v":3.2330000000000001},{"$f":"Cálculo!$H$91","v":316707.87}]
["SP","São Paulo","Hortolândia","ARSESP","COMGÁS","GNV","Faixa Única",null,null,{"$f":"Cálculo!$G$94","v":3.2148460000000001}]
["SP","São Paulo","Igaratá","ARSESP","COMGÁS","Residencial","Mensal",0,1,{"$f":"Cálculo!$G$66","v":3.2869999999999999},{"$f":"Cálculo!$H$66","v":11.39}]
["SP","São Paulo","Igaratá","ARSESP","COMGÁS","Residencial","Mensal",1.01,3,{"$f":"Cálculo!$G$67","v":10.834},{"$f":"Cálculo!$H$67","v":14.87}]
["SP","São Paulo","Igaratá","ARSESP","COMGÁS","Residencial","Mensal",3.01,7,{"$f":"Cálculo!$G$68","v":5.6470000000000002},{"$f":"Cálculo!$H$68","v":14.87}]
["SP","São Paulo","Igaratá","ARSESP","COMGÁS","Residencial","Mensal",7.01,14,{"$f":"Cálculo!$G$69","v":9.3699999999999992},{"$f":"Cálculo!$H$69","v":16.739999999999998}]
["SP","São Paulo","Igaratá","ARSESP","COMGÁS","Residencial","Mensal",14.01,34,{"$f":"Cálculo!$G$70","v":11.132},{"$f":"Cálculo!$H$70","v":18.600000000000001}]
["SP","São Paulo","Igaratá","ARSESP","COMGÁS","Residencial","Mensal",34.01,600,{"$f":"Cálculo!$G$71","v":11.92},{"$f":"Cálculo!$H$71","v":18.600000000000001}]
["SP","São Paulo","Igaratá","ARSESP","COMGÁS","Residencial","Mensal",600.01,1000,{"$f":"Cálculo!$G$72","v":10.324},{"$f":"Cálculo!$H$72","v":18.600000000000001}]
["SP","São Paulo","Igaratá","ARSESP","COMGÁS","Residencial","Mensal",1000.01,null,{"$f":"Cálculo!$G$73","v":7.2949999999999999},{"$f":"Cálculo!$H$73","v":18.600000000000001}]
["SP","São Paulo","Igaratá","ARSESP","COMGÁS","Comercial","Mensal",0,0,{"$f":"Cálculo!$G$76","v":0},{"$f":"Cálculo!$H$76","v":0}]
["SP","São Paulo","Igaratá","ARSESP","COMGÁS","Comercial","Mensal",0.01,50,{"$f":"Cálculo!$G$77","v":9.2490000000000006},{"$f":"Cálculo!$H$77","v":60.76}]
["SP","São Paulo","Igaratá","ARSESP","COMGÁS","Comercial","Mensal",50.01,150,{"$f":"Cálculo!$G$78","v":8.49},{"$f":"Cálculo!$H$78","v":98.73}]
["SP","São Paulo","Igaratá","ARSESP","COMGÁS","Comercial","Mensal",150.01,500,{"$f":"Cálculo!$G$79","v":7.9859999999999998},{"$f":"Cálculo!$H$79","v":174.66}]
["SP","São Paulo","Igaratá","ARSESP","COMGÁS","Comercial","Mensal",500.01,2000,{"$f":"Cálculo!$G$80","v":7.5380000000000003},{"$f":"Cálculo!$H$80","v":398.71}]
["SP","São Paulo","Igaratá","ARSESP","COMGÁS","Comercial","Mensal",2000.01,3500,{"$f":"Cálculo!$G$81","v":6.819},{"$f":"Cálculo!$H$81","v":1837.86}]
["SP","São Paulo","Igaratá","ARSESP","COMGÁS","Comercial","Mensal",3500.01,50000,{"$f":"Cálculo!$G$82","v":5.3760000000000003},{"$f":"Cálculo!$H$82","v":6892.16}]
["SP","São Paulo","Igaratá","ARSESP","COMGÁS","Comercial","Mensal",50000.01,null,{"$f":"Cálculo!$G$83","v":5.1479999999999997},{"$f":"Cálculo!$H$83","v":18284.09}]
["SP","São Paulo","Igaratá","ARSESP","COMGÁS","Industrial","Mensal",0,50000,{"$f":"Cálculo!$G$86","v":4.726},{"$f":"Cálculo!$H$86","v":387.36}]
["SP","São Paulo","Igaratá","ARSESP","COMGÁS","Industrial","Mensal",50000.01,300000,{"$f":"Cálculo!$G$87","v":3.5019999999999998},{"$f":"Cálculo!$H$87","v":61597.41}]
["SP","São Paulo","Igaratá","ARSESP","COMGÁS","Industrial","Mensal",300000.01,500000,{"$f":"Cálculo!$G$88","v":3.36},{"$f":"Cálculo!$H$88","v":110975.06}]
["SP","São Paulo","Igaratá","ARSESP","COMGÁS","Industrial","Mensal",500000.01,1000000,{"$f":"Cálculo!$G$89","v":3.3340000000000001},{"$f":"Cálculo!$H$89","v":124035.06}]
["SP","São Paulo","Igaratá","ARSESP","COMGÁS","Industrial","Mensal",1000000.01,2000000,{"$f":"Cálculo!$G$90","v":3.2810000000000001},{"$f":"Cálculo!$H$90","v":177422.21}]
["SP","São Paulo","Igaratá","ARSESP","COMGÁS","Industrial","Mensal",2000000.01,null,{"$f":"Cálculo!$G$91","v":3.2330000000000001},{"$f":"Cálculo!$H$91","v":316707.87}]
["SP","São Paulo","Igaratá","ARSESP","COMGÁS","GNV","Faixa Única",null,null,{"$f":"Cálculo!$G$94","v":3.2148460000000001}]
["SP","São Paulo","Ilha Bela","ARSESP","COMGÁS","Residencial","Mensal",0,1,{"$f":"Cálculo!$G$66","v":3.2869999999999999},{"$f":"Cálculo!$H$66","v":11.39}]
["SP","São Paulo","Ilha Bela","ARSESP","COMGÁS","Residencial","Mensal",1.01,3,{"$f":"Cálculo!$G$67","v":10.834},{"$f":"Cálculo!$H$67","v":14.87}]
["SP","São Paulo","Ilha Bela","ARSESP","COMGÁS","Residencial","Mensal",3.01,7,{"$f":"Cálculo!$G$68","v":5.6470000000000002},{"$f":"Cálculo!$H$68","v":14.87}]
["SP","São Paulo","Ilha Bela","ARSESP","COMGÁS","Residencial","Mensal",7.01,14,{"$f":"Cálculo!$G$69","v":9.3699999999999992},{"$f":"Cálculo!$H$69","v":16.739999999999998}]
["SP","São Paulo","Ilha Bela","ARSESP","COMGÁS","Residencial","Mensal",14.01,34,{"$f":"Cálculo!$G$70","v":11.132},{"$f":"Cálculo!$H$70","v":18.600000000000001}]
["SP","São Paulo","Ilha Bela","ARSESP","COMGÁS","Residencial","Mensal",34.01,600,{"$f":"Cálculo!$G$71","v":11.92},{"$f":"Cálculo!$H$71","v":18.600000000000001}]
["SP","São Paulo","Ilha Bela","ARSESP","COMGÁS","Residencial","Mensal",600.01,1000,{"$f":"Cálculo!$G$72","v":10.324},{"$f":"Cálculo!$H$72","v":18.600000000000001}]
["SP","São Paulo","Ilha Bela","ARSESP","COMGÁS","Residencial","Mensal",1000.01,null,{"$f":"Cálculo!$G$73","v":7.2949999999999999},{"$f":"Cálculo!$H$73","v":18.600000000000001}]
["SP","São Paulo","Ilha Bela","ARSESP","COMGÁS","Comercial","Mensal",0,0,{"$f":"Cálculo!$G$76","v":0},{"$f":"Cálculo!$H$76","v":0}]
["SP","São Paulo","Ilha Bela","ARSESP","COMGÁS","Comercial","Mensal",0.01,50,{"$f":"Cálculo!$G$77","v":9.2490000000000006},{"$f":"Cálculo!$H$77","v":60.76}]
["SP","São Paulo","Ilha Bela","ARSESP","COMGÁS","Comercial","Mensal",50.01,150,{"$f":"Cálculo!$G$78","v":8.49},{"$f":"Cálculo!$H$78","v":98.73}]
["SP","São Paulo","Ilha Bela","ARSESP","COMGÁS","Comercial","Mensal",150.01,500,{"$f":"Cálculo!$G$79","v":7.9859999999999998},{"$f":"Cálculo!$H$79","v":174.66}]
["SP","São Paulo","Ilha Bela","ARSESP","COMGÁS","Comercial","Mensal",500.01,2000,{"$f":"Cálculo!$G$80","v":7.5380000000000003},{"$f":"Cálculo!$H$80","v":398.71}]
["SP","São Paulo","Ilha Bela","ARSESP","COMGÁS","Comercial","Mensal",2000.01,3500,{"$f":"Cálculo!$G$81","v":6.819},{"$f":"Cálculo!$H$81","v":1837.86}]
["SP","São Paulo","Ilha Bela","ARSESP","COMGÁS","Comercial","Mensal",3500.01,50000,{"$f":"Cálculo!$G$82","v":5.3760000000000003},{"$f":"Cálculo!$H$82","v":6892.16}]
["SP","São Paulo","Ilha Bela","ARSESP","COMGÁS","Comercial","Mensal",50000.01,null,{"$f":"Cálculo!$G$83","v":5.1479999999999997},{"$f":"Cálculo!$H$83","v":18284.09}]
["SP","São Paulo","Ilha Bela","ARSESP","COMGÁS","Industrial","Mensal",0,50000,{"$f":"Cálculo!$G$86","v":4.726},{"$f":"Cálculo!$H$86","v":387.36}]
["SP","São Paulo","Ilha Bela","ARSESP","COMGÁS","Industrial","Mensal",50000.01,300000,{"$f":"Cálculo!$G$87","v":3.5019999999999998},{"$f":"Cálculo!$H$87","v":61597.41}]
["SP","São Paulo","Ilha Bela","ARSESP","COMGÁS","Industrial","Mensal",300000.01,500000,{"$f":"Cálculo!$G$88","v":3.36},{"$f":"Cálculo!$H$88","v":110975.06}]
["SP","São Paulo","Ilha Bela","ARSESP","COMGÁS","Industrial","Mensal",500000.01,1000000,{"$f":"Cálculo!$G$89","v":3.3340000000000001},{"$f":"Cálculo!$H$89","v":124035.06}]
["SP","São Paulo","Ilha Bela","ARSESP","COMGÁS","Industrial","Mensal",1000000.01,2000000,{"$f":"Cálculo!$G$90","v":3.2810000000000001},{"$f":"Cálculo!$H$90","v":177422.21}]
["SP","São Paulo","Ilha Bela","ARSESP","COMGÁS","Industrial","Mensal",2000000.01,null,{"$f":"Cálculo!$G$91","v":3.2330000000000001},{"$f":"Cálculo!$H$91","v":316707.87}]
["SP","São Paulo","Ilha Bela","ARSESP","COMGÁS","GNV","Faixa Única",null,null,{"$f":"Cálculo!$G$94","v":3.2148460000000001}]
["SP","São Paulo","Indaiatuba","ARSESP","COMGÁS","Residencial","Mensal",0,1,{"$f":"Cálculo!$G$66","v":3.2869999999999999},{"$f":"Cálculo!$H$66","v":11.39}]
["SP","São Paulo","Indaiatuba","ARSESP","COMGÁS","Residencial","Mensal",1.01,3,{"$f":"Cálculo!$G$67","v":10.834},{"$f":"Cálculo!$H$67","v":14.87}]
["SP","São Paulo","Indaiatuba","ARSESP","COMGÁS","Residencial","Mensal",3.01,7,{"$f":"Cálculo!$G$68","v":5.6470000000000002},{"$f":"Cálculo!$H$68","v":14.87}]
["SP","São Paulo","Indaiatuba","ARSESP","COMGÁS","Residencial","Mensal",7.01,14,{"$f":"Cálculo!$G$69","v":9.3699999999999992},{"$f":"Cálculo!$H$69","v":16.739999999999998}]
["SP","São Paulo","Indaiatuba","ARSESP","COMGÁS","Residencial","Mensal",14.01,34,{"$f":"Cálculo!$G$70","v":11.132},{"$f":"Cálculo!$H$70","v":18.600000000000001}]
["SP","São Paulo","Indaiatuba","ARSESP","COMGÁS","Residencial","Mensal",34.01,600,{"$f":"Cálculo!$G$71","v":11.92},{"$f":"Cálculo!$H$71","v":18.600000000000001}]
["SP","São Paulo","Indaiatuba","ARSESP","COMGÁS","Residencial","Mensal",600.01,1000,{"$f":"Cálculo!$G$72","v":10.324},{"$f":"Cálculo!$H$72","v":18.600000000000001}]
["SP","São Paulo","Indaiatuba","ARSESP","COMGÁS","Residencial","Mensal",1000.01,null,{"$f":"Cálculo!$G$73","v":7.2949999999999999},{"$f":"Cálculo!$H$73","v":18.600000000000001}]
["SP","São Paulo","Indaiatuba","ARSESP","COMGÁS","Comercial","Mensal",0,0,{"$f":"Cálculo!$G$76","v":0},{"$f":"Cálculo!$H$76","v":0}]
["SP","São Paulo","Indaiatuba","ARSESP","COMGÁS","Comercial","Mensal",0.01,50,{"$f":"Cálculo!$G$77","v":9.2490000000000006},{"$f":"Cálculo!$H$77","v":60.76}]
["SP","São Paulo","Indaiatuba","ARSESP","COMGÁS","Comercial","Mensal",50.01,150,{"$f":"Cálculo!$G$78","v":8.49},{"$f":"Cálculo!$H$78","v":98.73}]
["SP","São Paulo","Indaiatuba","ARSESP","COMGÁS","Comercial","Mensal",150.01,500,{"$f":"Cálculo!$G$79","v":7.9859999999999998},{"$f":"Cálculo!$H$79","v":174.66}]
["SP","São Paulo","Indaiatuba","ARSESP","COMGÁS","Comercial","Mensal",500.01,2000,{"$f":"Cálculo!$G$80","v":7.5380000000000003},{"$f":"Cálculo!$H$80","v":398.71}]
["SP","São Paulo","Indaiatuba","ARSESP","COMGÁS","Comercial","Mensal",2000.01,3500,{"$f":"Cálculo!$G$81","v":6.819},{"$f":"Cálculo!$H$81","v":1837.86}]
["SP","São Paulo","Indaiatuba","ARSESP","COMGÁS","Comercial","Mensal",3500.01,50000,{"$f":"Cálculo!$G$82","v":5.3760000000000003},{"$f":"Cálculo!$H$82","v":6892.16}]
["SP","São Paulo","Indaiatuba","ARSESP","COMGÁS","Comercial","Mensal",50000.01,null,{"$f":"Cálculo!$G$83","v":5.1479999999999997},{"$f":"Cálculo!$H$83","v":18284.09}]
["SP","São Paulo","Indaiatuba","ARSESP","COMGÁS","Industrial","Mensal",0,50000,{"$f":"Cálculo!$G$86","v":4.726},{"$f":"Cálculo!$H$86","v":387.36}]
["SP","São Paulo","Indaiatuba","ARSESP","COMGÁS","Industrial","Mensal",50000.01,300000,{"$f":"Cálculo!$G$87","v":3.5019999999999998},{"$f":"Cálculo!$H$87","v":61597.41}]
["SP","São Paulo","Indaiatuba","ARSESP","COMGÁS","Industrial","Mensal",300000.01,500000,{"$f":"Cálculo!$G$88","v":3.36},{"$f":"Cálculo!$H$88","v":110975.06}]
["SP","São Paulo","Indaiatuba","ARSESP","COMGÁS","Industrial","Mensal",500000.01,1000000,{"$f":"Cálculo!$G$89","v":3.3340000000000001},{"$f":"Cálculo!$H$89","v":124035.06}]
["SP","São Paulo","Indaiatuba","ARSESP","COMGÁS","Industrial","Mensal",1000000.01,2000000,{"$f":"Cálculo!$G$90","v":3.2810000000000001},{"$f":"Cálculo!$H$90","v":177422.21}]
["SP","São Paulo","Indaiatuba","ARSESP","COMGÁS","Industrial","Mensal",2000000.01,null,{"$f":"Cálculo!$G$91","v":3.2330000000000001},{"$f":"Cálculo!$H$91","v":316707.87}]
["SP","São Paulo","Indaiatuba","ARSESP","COMGÁS","GNV","Faixa Única",null,null,{"$f":"Cálculo!$G$94","v":3.2148460000000001}]
["SP","São Paulo","Ipeúna","ARSESP","COMGÁS","Residencial","Mensal",0,1,{"$f":"Cálculo!$G$66","v":3.2869999999999999},{"$f":"Cálculo!$H$66","v":11.39}]
["SP","São Paulo","Ipeúna","ARSESP","COMGÁS","Residencial","Mensal",1.01,3,{"$f":"Cálculo!$G$67","v":10.834},{"$f":"Cálculo!$H$67","v":14.87}]
["SP","São Paulo","Ipeúna","ARSESP","COMGÁS","Residencial","Mensal",3.01,7,{"$f":"Cálculo!$G$68","v":5.6470000000000002},{"$f":"Cálculo!$H$68","v":14.87}]
["SP","São Paulo","Ipeúna","ARSESP","COMGÁS","Residencial","Mensal",7.01,14,{"$f":"Cálculo!$G$69","v":9.3699999999999992},{"$f":"Cálculo!$H$69","v":16.739999999999998}]
["SP","São Paulo","Ipeúna","ARSESP","COMGÁS","Residencial","Mensal",14.01,34,{"$f":"Cálculo!$G$70","v":11.132},{"$f":"Cálculo!$H$70","v":18.600000000000001}]
["SP","São Paulo","Ipeúna","ARSESP","COMGÁS","Residencial","Mensal",34.01,600,{"$f":"Cálculo!$G$71","v":11.92},{"$f":"Cálculo!$H$71","v":18.600000000000001}]
["SP","São Paulo","Ipeúna","ARSESP","COMGÁS","Residencial","Mensal",600.01,1000,{"$f":"Cálculo!$G$72","v":10.324},{"$f":"Cálculo!$H$72","v":18.600000000000001}]
["SP","São Paulo","Ipeúna","ARSESP","COMGÁS","Residencial","Mensal",1000.01,null,{"$f":"Cálculo!$G$73","v":7.2949999999999999},{"$f":"Cálculo!$H$73","v":18.600000000000001}]
["SP","São Paulo","Ipeúna","ARSESP","COMGÁS","Comercial","Mensal",0,0,{"$f":"Cálculo!$G$76","v":0},{"$f":"Cálculo!$H$76","v":0}]
["SP","São Paulo","Ipeúna","ARSESP","COMGÁS","Comercial","Mensal",0.01,50,{"$f":"Cálculo!$G$77","v":9.2490000000000006},{"$f":"Cálculo!$H$77","v":60.76}]
["SP","São Paulo","Ipeúna","ARSESP","COMGÁS","Comercial","Mensal",50.01,150,{"$f":"Cálculo!$G$78","v":8.49},{"$f":"Cálculo!$H$78","v":98.73}]
["SP","São Paulo","Ipeúna","ARSESP","COMGÁS","Comercial","Mensal",150.01,500,{"$f":"Cálculo!$G$79","v":7.9859999999999998},{"$f":"Cálculo!$H$79","v":174.66}]
["SP","São Paulo","Ipeúna","ARSESP","COMGÁS","Comercial","Mensal",500.01,2000,{"$f":"Cálculo!$G$80","v":7.5380000000000003},{"$f":"Cálculo!$H$80","v":398.71}]
["SP","São Paulo","Ipeúna","ARSESP","COMGÁS","Comercial","Mensal",2000.01,3500,{"$f":"Cálculo!$G$81","v":6.819},{"$f":"Cálculo!$H$81","v":1837.86}]
["SP","São Paulo","Ipeúna","ARSESP","COMGÁS","Comercial","Mensal",3500.01,50000,{"$f":"Cálculo!$G$82","v":5.3760000000000003},{"$f":"Cálculo!$H$82","v":6892.16}]
["SP","São Paulo","Ipeúna","ARSESP","COMGÁS","Comercial","Mensal",50000.01,null,{"$f":"Cálculo!$G$83","v":5.1479999999999997},{"$f":"Cálculo!$H$83","v":18284.09}]
["SP","São Paulo","Ipeúna","ARSESP","COMGÁS","Industrial","Mensal",0,50000,{"$f":"Cálculo!$G$86","v":4.726},{"$f":"Cálculo!$H$86","v":387.36}]
["SP","São Paulo","Ipeúna","ARSESP","COMGÁS","Industrial","Mensal",50000.01,300000,{"$f":"Cálculo!$G$87","v":3.5019999999999998},{"$f":"Cálculo!$H$87","v":61597.41}]
["SP","São Paulo","Ipeúna","ARSESP","COMGÁS","Industrial","Mensal",300000.01,500000,{"$f":"Cálculo!$G$88","v":3.36},{"$f":"Cálculo!$H$88","v":110975.06}]
["SP","São Paulo","Ipeúna","ARSESP","COMGÁS","Industrial","Mensal",500000.01,1000000,{"$f":"Cálculo!$G$89","v":3.3340000000000001},{"$f":"Cálculo!$H$89","v":124035.06}]
["SP","São Paulo","Ipeúna","ARSESP","COMGÁS","Industrial","Mensal",1000000.01,2000000,{"$f":"Cálculo!$G$90","v":3.2810000000000001},{"$f":"Cálculo!$H$90","v":177422.21}]
["SP","São Paulo","Ipeúna","ARSESP","COMGÁS","Industrial","Mensal",2000000.01,null,{"$f":"Cálculo!$G$91","v":3.2330000000000001},{"$f":"Cálculo!$H$91","v":316707.87}]
["SP","São Paulo","Ipeúna","ARSESP","COMGÁS","GNV","Faixa Única",null,null,{"$f":"Cálculo!$G$94","v":3.2148460000000001}]
["SP","São Paulo","Iracemápolis","ARSESP","COMGÁS","Residencial","Mensal",0,1,{"$f":"Cálculo!$G$66","v":3.2869999999999999},{"$f":"Cálculo!$H$66","v":11.39}]
["SP","São Paulo","Iracemápolis","ARSESP","COMGÁS","Residencial","Mensal",1.01,3,{"$f":"Cálculo!$G$67","v":10.834},{"$f":"Cálculo!$H$67","v":14.87}]
["SP","São Paulo","Iracemápolis","ARSESP","COMGÁS","Residencial","Mensal",3.01,7,{"$f":"Cálculo!$G$68","v":5.6470000000000002},{"$f":"Cálculo!$H$68","v":14.87}]
["SP","São Paulo","Iracemápolis","ARSESP","COMGÁS","Residencial","Mensal",7.01,14,{"$f":"Cálculo!$G$69","v":9.3699999999999992},{"$f":"Cálculo!$H$69","v":16.739999999999998}]
["SP","São Paulo","Iracemápolis","ARSESP","COMGÁS","Residencial","Mensal",14.01,34,{"$f":"Cálculo!$G$70","v":11.132},{"$f":"Cálculo!$H$70","v":18.600000000000001}]
["SP","São Paulo","Iracemápolis","ARSESP","COMGÁS","Residencial","Mensal",34.01,600,{"$f":"Cálculo!$G$71","v":11.92},{"$f":"Cálculo!$H$71","v":18.600000000000001}]
["SP","São Paulo","Iracemápolis","ARSESP","COMGÁS","Residencial","Mensal",600.01,1000,{"$f":"Cálculo!$G$72","v":10.324},{"$f":"Cálculo!$H$72","v":18.600000000000001}]
["SP","São Paulo","Iracemápolis","ARSESP","COMGÁS","Residencial","Mensal",1000.01,null,{"$f":"Cálculo!$G$73","v":7.2949999999999999},{"$f":"Cálculo!$H$73","v":18.600000000000001}]
["SP","São Paulo","Iracemápolis","ARSESP","COMGÁS","Comercial","Mensal",0,0,{"$f":"Cálculo!$G$76","v":0},{"$f":"Cálculo!$H$76","v":0}]
["SP","São Paulo","Iracemápolis","ARSESP","COMGÁS","Comercial","Mensal",0.01,50,{"$f":"Cálculo!$G$77","v":9.2490000000000006},{"$f":"Cálculo!$H$77","v":60.76}]
["SP","São Paulo","Iracemápolis","ARSESP","COMGÁS","Comercial","Mensal",50.01,150,{"$f":"Cálculo!$G$78","v":8.49},{"$f":"Cálculo!$H$78","v":98.73}]
["SP","São Paulo","Iracemápolis","ARSESP","COMGÁS","Comercial","Mensal",150.01,500,{"$f":"Cálculo!$G$79","v":7.9859999999999998},{"$f":"Cálculo!$H$79","v":174.66}]
["SP","São Paulo","Iracemápolis","ARSESP","COMGÁS","Comercial","Mensal",500.01,2000,{"$f":"Cálculo!$G$80","v":7.5380000000000003},{"$f":"Cálculo!$H$80","v":398.71}]
["SP","São Paulo","Iracemápolis","ARSESP","COMGÁS","Comercial","Mensal",2000.01,3500,{"$f":"Cálculo!$G$81","v":6.819},{"$f":"Cálculo!$H$81","v":1837.86}]
["SP","São Paulo","Iracemápolis","ARSESP","COMGÁS","Comercial","Mensal",3500.01,50000,{"$f":"Cálculo!$G$82","v":5.3760000000000003},{"$f":"Cálculo!$H$82","v":6892.16}]
["SP","São Paulo","Iracemápolis","ARSESP","COMGÁS","Comercial","Mensal",50000.01,null,{"$f":"Cálculo!$G$83","v":5.1479999999999997},{"$f":"Cálculo!$H$83","v":18284.09}]
["SP","São Paulo","Iracemápolis","ARSESP","COMGÁS","Industrial","Mensal",0,50000,{"$f":"Cálculo!$G$86","v":4.726},{"$f":"Cálculo!$H$86","v":387.36}]
["SP","São Paulo","Iracemápolis","ARSESP","COMGÁS","Industrial","Mensal",50000.01,300000,{"$f":"Cálculo!$G$87","v":3.5019999999999998},{"$f":"Cálculo!$H$87","v":61597.41}]
["SP","São Paulo","Iracemápolis","ARSESP","COMGÁS","Industrial","Mensal",300000.01,500000,{"$f":"Cálculo!$G$88","v":3.36},{"$f":"Cálculo!$H$88","v":110975.06}]
["SP","São Paulo","Iracemápolis","ARSESP","COMGÁS","Industrial","Mensal",500000.01,1000000,{"$f":"Cálculo!$G$89","v":3.3340000000000001},{"$f":"Cálculo!$H$89","v":124035.06}]
["SP","São Paulo","Iracemápolis","ARSESP","COMGÁS","Industrial","Mensal",1000000.01,2000000,{"$f":"Cálculo!$G$90","v":3.2810000000000001},{"$f":"Cálculo!$H$90","v":177422.21}]
["SP","São Paulo","Iracemápolis","ARSESP","COMGÁS","Industrial","Mensal",2000000.01,null,{"$f":"Cálculo!$G$91","v":3.2330000000000001},{"$f":"Cálculo!$H$91","v":316707.87}]
["SP","São Paulo","Iracemápolis","ARSESP","COMGÁS","GNV","Faixa Única",null,null,{"$f":"Cálculo!$G$94","v":3.2148460000000001}]
["SP","São Paulo","Itanhaém","ARSESP","COMGÁS","Residencial","Mensal",0,1,{"$f":"Cálculo!$G$66","v":3.2869999999999999},{"$f":"Cálculo!$H$66","v":11.39}]
["SP","São Paulo","Itanhaém","ARSESP","COMGÁS","Residencial","Mensal",1.01,3,{"$f":"Cálculo!$G$67","v":10.834},{"$f":"Cálculo!$H$67","v":14.87}]
["SP","São Paulo","Itanhaém","ARSESP","COMGÁS","Residencial","Mensal",3.01,7,{"$f":"Cálculo!$G$68","v":5.6470000000000002},{"$f":"Cálculo!$H$68","v":14.87}]
["SP","São Paulo","Itanhaém","ARSESP","COMGÁS","Residencial","Mensal",7.01,14,{"$f":"Cálculo!$G$69","v":9.3699999999999992},{"$f":"Cálculo!$H$69","v":16.739999999999998}]
["SP","São Paulo","Itanhaém","ARSESP","COMGÁS","Residencial","Mensal",14.01,34,{"$f":"Cálculo!$G$70","v":11.132},{"$f":"Cálculo!$H$70","v":18.600000000000001}]
["SP","São Paulo","Itanhaém","ARSESP","COMGÁS","Residencial","Mensal",34.01,600,{"$f":"Cálculo!$G$71","v":11.92},{"$f":"Cálculo!$H$71","v":18.600000000000001}]
["SP","São Paulo","Itanhaém","ARSESP","COMGÁS","Residencial","Mensal",600.01,1000,{"$f":"Cálculo!$G$72","v":10.324},{"$f":"Cálculo!$H$72","v":18.600000000000001}]
["SP","São Paulo","Itanhaém","ARSESP","COMGÁS","Residencial","Mensal",1000.01,null,{"$f":"Cálculo!$G$73","v":7.2949999999999999},{"$f":"Cálculo!$H$73","v":18.600000000000001}]
["SP","São Paulo","Itanhaém","ARSESP","COMGÁS","Comercial","Mensal",0,0,{"$f":"Cálculo!$G$76","v":0},{"$f":"Cálculo!$H$76","v":0}]
["SP","São Paulo","Itanhaém","ARSESP","COMGÁS","Comercial","Mensal",0.01,50,{"$f":"Cálculo!$G$77","v":9.2490000000000006},{"$f":"Cálculo!$H$77","v":60.76}]
["SP","São Paulo","Itanhaém","ARSESP","COMGÁS","Comercial","Mensal",50.01,150,{"$f":"Cálculo!$G$78","v":8.49},{"$f":"Cálculo!$H$78","v":98.73}]
["SP","São Paulo","Itanhaém","ARSESP","COMGÁS","Comercial","Mensal",150.01,500,{"$f":"Cálculo!$G$79","v":7.9859999999999998},{"$f":"Cálculo!$H$79","v":174.66}]
["SP","São Paulo","Itanhaém","ARSESP","COMGÁS","Comercial","Mensal",500.01,2000,{"$f":"Cálculo!$G$80","v":7.5380000000000003},{"$f":"Cálculo!$H$80","v":398.71}]
["SP","São Paulo","Itanhaém","ARSESP","COMGÁS","Comercial","Mensal",2000.01,3500,{"$f":"Cálculo!$G$81","v":6.819},{"$f":"Cálculo!$H$81","v":1837.86}]
["SP","São Paulo","Itanhaém","ARSESP","COMGÁS","Comercial","Mensal",3500.01,50000,{"$f":"Cálculo!$G$82","v":5.3760000000000003},{"$f":"Cálculo!$H$82","v":6892.16}]
["SP","São Paulo","Itanhaém","ARSESP","COMGÁS","Comercial","Mensal",50000.01,null,{"$f":"Cálculo!$G$83","v":5.1479999999999997},{"$f":"Cálculo!$H$83","v":18284.09}]
["SP","São Paulo","Itanhaém","ARSESP","COMGÁS","Industrial","Mensal",0,50000,{"$f":"Cálculo!$G$86","v":4.726},{"$f":"Cálculo!$H$86","v":387.36}]
["SP","São Paulo","Itanhaém","ARSESP","COMGÁS","Industrial","Mensal",50000.01,300000,{"$f":"Cálculo!$G$87","v":3.5019999999999998},{"$f":"Cálculo!$H$87","v":61597.41}]
["SP","São Paulo","Itanhaém","ARSESP","COMGÁS","Industrial","Mensal",300000.01,500000,{"$f":"Cálculo!$G$88","v":3.36},{"$f":"Cálculo!$H$88","v":110975.06}]
["SP","São Paulo","Itanhaém","ARSESP","COMGÁS","Industrial","Mensal",500000.01,1000000,{"$f":"Cálculo!$G$89","v":3.3340000000000001},{"$f":"Cálculo!$H$89","v":124035.06}]
["SP","São Paulo","Itanhaém","ARSESP","COMGÁS","Industrial","Mensal",1000000.01,2000000,{"$f":"Cálculo!$G$90","v":3.2810000000000001},{"$f":"Cálculo!$H$90","v":177422.21}]
["SP","São Paulo","Itanhaém","ARSESP","COMGÁS","Industrial","Mensal",2000000.01,null,{"$f":"Cálculo!$G$91","v":3.2330000000000001},{"$f":"Cálculo!$H$91","v":316707.87}]
["SP","São Paulo","Itanhaém","ARSESP","COMGÁS","GNV","Faixa Única",null,null,{"$f":"Cálculo!$G$94","v":3.2148460000000001}]
["SP","São Paulo","Itapecerica da Serra","ARSESP","COMGÁS","Residencial","Mensal",0,1,{"$f":"Cálculo!$G$66","v":3.2869999999999999},{"$f":"Cálculo!$H$66","v":11.39}]
["SP","São Paulo","Itapecerica da Serra","ARSESP","COMGÁS","Residencial","Mensal",1.01,3,{"$f":"Cálculo!$G$67","v":10.834},{"$f":"Cálculo!$H$67","v":14.87}]
["SP","São Paulo","Itapecerica da Serra","ARSESP","COMGÁS","Residencial","Mensal",3.01,7,{"$f":"Cálculo!$G$68","v":5.6470000000000002},{"$f":"Cálculo!$H$68","v":14.87}]
["SP","São Paulo","Itapecerica da Serra","ARSESP","COMGÁS","Residencial","Mensal",7.01,14,{"$f":"Cálculo!$G$69","v":9.3699999999999992},{"$f":"Cálculo!$H$69","v":16.739999999999998}]
["SP","São Paulo","Itapecerica da Serra","ARSESP","COMGÁS","Residencial","Mensal",14.01,34,{"$f":"Cálculo!$G$70","v":11.132},{"$f":"Cálculo!$H$70","v":18.600000000000001}]
["SP","São Paulo","Itapecerica da Serra","ARSESP","COMGÁS","Residencial","Mensal",34.01,600,{"$f":"Cálculo!$G$71","v":11.92},{"$f":"Cálculo!$H$71","v":18.600000000000001}]
["SP","São Paulo","Itapecerica da Serra","ARSESP","COMGÁS","Residencial","Mensal",600.01,1000,{"$f":"Cálculo!$G$72","v":10.324},{"$f":"Cálculo!$H$72","v":18.600000000000001}]
["SP","São Paulo","Itapecerica da Serra","ARSESP","COMGÁS","Residencial","Mensal",1000.01,null,{"$f":"Cálculo!$G$73","v":7.2949999999999999},{"$f":"Cálculo!$H$73","v":18.600000000000001}]
["SP","São Paulo","Itapecerica da Serra","ARSESP","COMGÁS","Comercial","Mensal",0,0,{"$f":"Cálculo!$G$76","v":0},{"$f":"Cálculo!$H$76","v":0}]
["SP","São Paulo","Itapecerica da Serra","ARSESP","COMGÁS","Comercial","Mensal",0.01,50,{"$f":"Cálculo!$G$77","v":9.2490000000000006},{"$f":"Cálculo!$H$77","v":60.76}]
["SP","São Paulo","Itapecerica da Serra","ARSESP","COMGÁS","Comercial","Mensal",50.01,150,{"$f":"Cálculo!$G$78","v":8.49},{"$f":"Cálculo!$H$78","v":98.73}]
["SP","São Paulo","Itapecerica da Serra","ARSESP","COMGÁS","Comercial","Mensal",150.01,500,{"$f":"Cálculo!$G$79","v":7.9859999999999998},{"$f":"Cálculo!$H$79","v":174.66}]
["SP","São Paulo","Itapecerica da Serra","ARSESP","COMGÁS","Comercial","Mensal",500.01,2000,{"$f":"Cálculo!$G$80","v":7.5380000000000003},{"$f":"Cálculo!$H$80","v":398.71}]
["SP","São Paulo","Itapecerica da Serra","ARSESP","COMGÁS","Comercial","Mensal",2000.01,3500,{"$f":"Cálculo!$G$81","v":6.819},{"$f":"Cálculo!$H$81","v":1837.86}]
["SP","São Paulo","Itapecerica da Serra","ARSESP","COMGÁS","Comercial","Mensal",3500.01,50000,{"$f":"Cálculo!$G$82","v":5.3760000000000003},{"$f":"Cálculo!$H$82","v":6892.16}]
["SP","São Paulo","Itapecerica da Serra","ARSESP","COMGÁS","Comercial","Mensal",50000.01,null,{"$f":"Cálculo!$G$83","v":5.1479999999999997},{"$f":"Cálculo!$H$83","v":18284.09}]
["SP","São Paulo","Itapecerica da Serra","ARSESP","COMGÁS","Industrial","Mensal",0,50000,{"$f":"Cálculo!$G$86","v":4.726},{"$f":"Cálculo!$H$86","v":387.36}]
["SP","São Paulo","Itapecerica da Serra","ARSESP","COMGÁS","Industrial","Mensal",50000.01,300000,{"$f":"Cálculo!$G$87","v":3.5019999999999998},{"$f":"Cálculo!$H$87","v":61597.41}]
["SP","São Paulo","Itapecerica da Serra","ARSESP","COMGÁS","Industrial","Mensal",300000.01,500000,{"$f":"Cálculo!$G$88","v":3.36},{"$f":"Cálculo!$H$88","v":110975.06}]
["SP","São Paulo","Itapecerica da Serra","ARSESP","COMGÁS","Industrial","Mensal",500000.01,1000000,{"$f":"Cálculo!$G$89","v":3.3340000000000001},{"$f":"Cálculo!$H$89","v":124035.06}]
["SP","São Paulo","Itapecerica da Serra","ARSESP","COMGÁS","Industrial","Mensal",1000000.01,2000000,{"$f":"Cálculo!$G$90","v":3.2810000000000001},{"$f":"Cálculo!$H$90","v":177422.21}]
["SP","São Paulo","Itapecerica da Serra","ARSESP","COMGÁS","Industrial","Mensal",2000000.01,null,{"$f":"Cálculo!$G$91","v":3.2330000000000001},{"$f":"Cálculo!$H$91","v":316707.87}]
["SP","São Paulo","Itapecerica da Serra","ARSESP","COMGÁS","GNV","Faixa Única",null,null,{"$f":"Cálculo!$G$94","v":3.2148460000000001}]
["SP","São Paulo","Itapevi","ARSESP","COMGÁS","Residencial","Mensal",0,1,{"$f":"Cálculo!$G$66","v":3.2869999999999999},{"$f":"Cálculo!$H$66","v":11.39}]
["SP","São Paulo","Itapevi","ARSESP","COMGÁS","Residencial","Mensal",1.01,3,{"$f":"Cálculo!$G$67","v":10.834},{"$f":"Cálculo!$H$67","v":14.87}]
["SP","São Paulo","Itapevi","ARSESP","COMGÁS","Residencial","Mensal",3.01,7,{"$f":"Cálculo!$G$68","v":5.6470000000000002},{"$f":"Cálculo!$H$68","v":14.87}]
["SP","São Paulo","Itapevi","ARSESP","COMGÁS","Residencial","Mensal",7.01,14,{"$f":"Cálculo!$G$69","v":9.3699999999999992},{"$f":"Cálculo!$H$69","v":16.739999999999998}]
["SP","São Paulo","Itapevi","ARSESP","COMGÁS","Residencial","Mensal",14.01,34,{"$f":"Cálculo!$G$70","v":11.132},{"$f":"Cálculo!$H$70","v":18.600000000000001}]
["SP","São Paulo","Itapevi","ARSESP","COMGÁS","Residencial","Mensal",34.01,600,{"$f":"Cálculo!$G$71","v":11.92},{"$f":"Cálculo!$H$71","v":18.600000000000001}]
["SP","São Paulo","Itapevi","ARSESP","COMGÁS","Residencial","Mensal",600.01,1000,{"$f":"Cálculo!$G$72","v":10.324},{"$f":"Cálculo!$H$72","v":18.600000000000001}]
["SP","São Paulo","Itapevi","ARSESP","COMGÁS","Residencial","Mensal",1000.01,null,{"$f":"Cálculo!$G$73","v":7.2949999999999999},{"$f":"Cálculo!$H$73","v":18.600000000000001}]
["SP","São Paulo","Itapevi","ARSESP","COMGÁS","Comercial","Mensal",0,0,{"$f":"Cálculo!$G$76","v":0},{"$f":"Cálculo!$H$76","v":0}]
["SP","São Paulo","Itapevi","ARSESP","COMGÁS","Comercial","Mensal",0.01,50,{"$f":"Cálculo!$G$77","v":9.2490000000000006},{"$f":"Cálculo!$H$77","v":60.76}]
["SP","São Paulo","Itapevi","ARSESP","COMGÁS","Comercial","Mensal",50.01,150,{"$f":"Cálculo!$G$78","v":8.49},{"$f":"Cálculo!$H$78","v":98.73}]
["SP","São Paulo","Itapevi","ARSESP","COMGÁS","Comercial","Mensal",150.01,500,{"$f":"Cálculo!$G$79","v":7.9859999999999998},{"$f":"Cálculo!$H$79","v":174.66}]
["SP","São Paulo","Itapevi","ARSESP","COMGÁS","Comercial","Mensal",500.01,2000,{"$f":"Cálculo!$G$80","v":7.5380000000000003},{"$f":"Cálculo!$H$80","v":398.71}]
["SP","São Paulo","Itapevi","ARSESP","COMGÁS","Comercial","Mensal",2000.01,3500,{"$f":"Cálculo!$G$81","v":6.819},{"$f":"Cálculo!$H$81","v":1837.86}]
["SP","São Paulo","Itapevi","ARSESP","COMGÁS","Comercial","Mensal",3500.01,50000,{"$f":"Cálculo!$G$82","v":5.3760000000000003},{"$f":"Cálculo!$H$82","v":6892.16}]
["SP","São Paulo","Itapevi","ARSESP","COMGÁS","Comercial","Mensal",50000.01,null,{"$f":"Cálculo!$G$83","v":5.1479999999999997},{"$f":"Cálculo!$H$83","v":18284.09}]
["SP","São Paulo","Itapevi","ARSESP","COMGÁS","Industrial","Mensal",0,50000,{"$f":"Cálculo!$G$86","v":4.726},{"$f":"Cálculo!$H$86","v":387.36}]
["SP","São Paulo","Itapevi","ARSESP","COMGÁS","Industrial","Mensal",50000.01,300000,{"$f":"Cálculo!$G$87","v":3.5019999999999998},{"$f":"Cálculo!$H$87","v":61597.41}]
["SP","São Paulo","Itapevi","ARSESP","COMGÁS","Industrial","Mensal",300000.01,500000,{"$f":"Cálculo!$G$88","v":3.36},{"$f":"Cálculo!$H$88","v":110975.06}]
["SP","São Paulo","Itapevi","ARSESP","COMGÁS","Industrial","Mensal",500000.01,1000000,{"$f":"Cálculo!$G$89","v":3.3340000000000001},{"$f":"Cálculo!$H$89","v":124035.06}]
["SP","São Paulo","Itapevi","ARSESP","COMGÁS","Industrial","Mensal",1000000.01,2000000,{"$f":"Cálculo!$G$90","v":3.2810000000000001},{"$f":"Cálculo!$H$90","v":177422.21}]
["SP","São Paulo","Itapevi","ARSESP","COMGÁS","Industrial","Mensal",2000000.01,null,{"$f":"Cálculo!$G$91","v":3.2330000000000001},{"$f":"Cálculo!$H$91","v":316707.87}]
["SP","São Paulo","Itapevi","ARSESP","COMGÁS","GNV","Faixa Única",null,null,{"$f":"Cálculo!$G$94","v":3.2148460000000001}]
["SP","São Paulo","Itapira","ARSESP","COMGÁS","Residencial","Mensal",0,1,{"$f":"Cálculo!$G$66","v":3.2869999999999999},{"$f":"Cálculo!$H$66","v":11.39}]
["SP","São Paulo","Itapira","ARSESP","COMGÁS","Residencial","Mensal",1.01,3,{"$f":"Cálculo!$G$67","v":10.834},{"$f":"Cálculo!$H$67","v":14.87}]
["SP","São Paulo","Itapira","ARSESP","COMGÁS","Residencial","Mensal",3.01,7,{"$f":"Cálculo!$G$68","v":5.6470000000000002},{"$f":"Cálculo!$H$68","v":14.87}]
["SP","São Paulo","Itapira","ARSESP","COMGÁS","Residencial","Mensal",7.01,14,{"$f":"Cálculo!$G$69","v":9.3699999999999992},{"$f":"Cálculo!$H$69","v":16.739999999999998}]
["SP","São Paulo","Itapira","ARSESP","COMGÁS","Residencial","Mensal",14.01,34,{"$f":"Cálculo!$G$70","v":11.132},{"$f":"Cálculo!$H$70","v":18.600000000000001}]
["SP","São Paulo","Itapira","ARSESP","COMGÁS","Residencial","Mensal",34.01,600,{"$f":"Cálculo!$G$71","v":11.92},{"$f":"Cálculo!$H$71","v":18.600000000000001}]
["SP","São Paulo","Itapira","ARSESP","COMGÁS","Residencial","Mensal",600.01,1000,{"$f":"Cálculo!$G$72","v":10.324},{"$f":"Cálculo!$H$72","v":18.600000000000001}]
["SP","São Paulo","Itapira","ARSESP","COMGÁS","Residencial","Mensal",1000.01,null,{"$f":"Cálculo!$G$73","v":7.2949999999999999},{"$f":"Cálculo!$H$73","v":18.600000000000001}]
["SP","São Paulo","Itapira","ARSESP","COMGÁS","Comercial","Mensal",0,0,{"$f":"Cálculo!$G$76","v":0},{"$f":"Cálculo!$H$76","v":0}]
["SP","São Paulo","Itapira","ARSESP","COMGÁS","Comercial","Mensal",0.01,50,{"$f":"Cálculo!$G$77","v":9.2490000000000006},{"$f":"Cálculo!$H$77","v":60.76}]
["SP","São Paulo","Itapira","ARSESP","COMGÁS","Comercial","Mensal",50.01,150,{"$f":"Cálculo!$G$78","v":8.49},{"$f":"Cálculo!$H$78","v":98.73}]
["SP","São Paulo","Itapira","ARSESP","COMGÁS","Comercial","Mensal",150.01,500,{"$f":"Cálculo!$G$79","v":7.9859999999999998},{"$f":"Cálculo!$H$79","v":174.66}]
["SP","São Paulo","Itapira","ARSESP","COMGÁS","Comercial","Mensal",500.01,2000,{"$f":"Cálculo!$G$80","v":7.5380000000000003},{"$f":"Cálculo!$H$80","v":398.71}]
["SP","São Paulo","Itapira","ARSESP","COMGÁS","Comercial","Mensal",2000.01,3500,{"$f":"Cálculo!$G$81","v":6.819},{"$f":"Cálculo!$H$81","v":1837.86}]
["SP","São Paulo","Itapira","ARSESP","COMGÁS","Comercial","Mensal",3500.01,50000,{"$f":"Cálculo!$G$82","v":5.3760000000000003},{"$f":"Cálculo!$H$82","v":6892.16}]
["SP","São Paulo","Itapira","ARSESP","COMGÁS","Comercial","Mensal",50000.01,null,{"$f":"Cálculo!$G$83","v":5.1479999999999997},{"$f":"Cálculo!$H$83","v":18284.09}]
["SP","São Paulo","Itapira","ARSESP","COMGÁS","Industrial","Mensal",0,50000,{"$f":"Cálculo!$G$86","v":4.726},{"$f":"Cálculo!$H$86","v":387.36}]
["SP","São Paulo","Itapira","ARSESP","COMGÁS","Industrial","Mensal",50000.01,300000,{"$f":"Cálculo!$G$87","v":3.5019999999999998},{"$f":"Cálculo!$H$87","v":61597.41}]
["SP","São Paulo","Itapira","ARSESP","COMGÁS","Industrial","Mensal",300000.01,500000,{"$f":"Cálculo!$G$88","v":3.36},{"$f":"Cálculo!$H$88","v":110975.06}]
["SP","São Paulo","Itapira","ARSESP","COMGÁS","Industrial","Mensal",500000.01,1000000,{"$f":"Cálculo!$G$89","v":3.3340000000000001},{"$f":"Cálculo!$H$89","v":124035.06}]
["SP","São Paulo","Itapira","ARSESP","COMGÁS","Industrial","Mensal",1000000.01,2000000,{"$f":"Cálculo!$G$90","v":3.2810000000000001},{"$f":"Cálculo!$H$90","v":177422.21}]
["SP","São Paulo","Itapira","ARSESP","COMGÁS","Industrial","Mensal",2000000.01,null,{"$f":"Cálculo!$G$91","v":3.2330000000000001},{"$f":"Cálculo!$H$91","v":316707.87}]
["SP","São Paulo","Itapira","ARSESP","COMGÁS","GNV","Faixa Única",null,null,{"$f":"Cálculo!$G$94","v":3.2148460000000001}]
["SP","São Paulo","Itaquaquecetuba","ARSESP","COMGÁS","Residencial","Mensal",0,1,{"$f":"Cálculo!$G$66","v":3.2869999999999999},{"$f":"Cálculo!$H$66","v":11.39}]
["SP","São Paulo","Itaquaquecetuba","ARSESP","COMGÁS","Residencial","Mensal",1.01,3,{"$f":"Cálculo!$G$67","v":10.834},{"$f":"Cálculo!$H$67","v":14.87}]
["SP","São Paulo","Itaquaquecetuba","ARSESP","COMGÁS","Residencial","Mensal",3.01,7,{"$f":"Cálculo!$G$68","v":5.6470000000000002},{"$f":"Cálculo!$H$68","v":14.87}]
["SP","São Paulo","Itaquaquecetuba","ARSESP","COMGÁS","Residencial","Mensal",7.01,14,{"$f":"Cálculo!$G$69","v":9.3699999999999992},{"$f":"Cálculo!$H$69","v":16.739999999999998}]
["SP","São Paulo","Itaquaquecetuba","ARSESP","COMGÁS","Residencial","Mensal",14.01,34,{"$f":"Cálculo!$G$70","v":11.132},{"$f":"Cálculo!$H$70","v":18.600000000000001}]
["SP","São Paulo","Itaquaquecetuba","ARSESP","COMGÁS","Residencial","Mensal",34.01,600,{"$f":"Cálculo!$G$71","v":11.92},{"$f":"Cálculo!$H$71","v":18.600000000000001}]
["SP","São Paulo","Itaquaquecetuba","ARSESP","COMGÁS","Residencial","Mensal",600.01,1000,{"$f":"Cálculo!$G$72","v":10.324},{"$f":"Cálculo!$H$72","v":18.600000000000001}]
["SP","São Paulo","Itaquaquecetuba","ARSESP","COMGÁS","Residencial","Mensal",1000.01,null,{"$f":"Cálculo!$G$73","v":7.2949999999999999},{"$f":"Cálculo!$H$73","v":18.600000000000001}]
["SP","São Paulo","Itaquaquecetuba","ARSESP","COMGÁS","Comercial","Mensal",0,0,{"$f":"Cálculo!$G$76","v":0},{"$f":"Cálculo!$H$76","v":0}]
["SP","São Paulo","Itaquaquecetuba","ARSESP","COMGÁS","Comercial","Mensal",0.01,50,{"$f":"Cálculo!$G$77","v":9.2490000000000006},{"$f":"Cálculo!$H$77","v":60.76}]
["SP","São Paulo","Itaquaquecetuba","ARSESP","COMGÁS","Comercial","Mensal",50.01,150,{"$f":"Cálculo!$G$78","v":8.49},{"$f":"Cálculo!$H$78","v":98.73}]
["SP","São Paulo","Itaquaquecetuba","ARSESP","COMGÁS","Comercial","Mensal",150.01,500,{"$f":"Cálculo!$G$79","v":7.9859999999999998},{"$f":"Cálculo!$H$79","v":174.66}]
["SP","São Paulo","Itaquaquecetuba","ARSESP","COMGÁS","Comercial","Mensal",500.01,2000,{"$f":"Cálculo!$G$80","v":7.5380000000000003},{"$f":"Cálculo!$H$80","v":398.71}]
["SP","São Paulo","Itaquaquecetuba","ARSESP","COMGÁS","Comercial","Mensal",2000.01,3500,{"$f":"Cálculo!$G$81","v":6.819},{"$f":"Cálculo!$H$81","v":1837.86}]
["SP","São Paulo","Itaquaquecetuba","ARSESP","COMGÁS","Comercial","Mensal",3500.01,50000,{"$f":"Cálculo!$G$82","v":5.3760000000000003},{"$f":"Cálculo!$H$82","v":6892.16}]
["SP","São Paulo","Itaquaquecetuba","ARSESP","COMGÁS","Comercial","Mensal",50000.01,null,{"$f":"Cálculo!$G$83","v":5.1479999999999997},{"$f":"Cálculo!$H$83","v":18284.09}]
["SP","São Paulo","Itaquaquecetuba","ARSESP","COMGÁS","Industrial","Mensal",0,50000,{"$f":"Cálculo!$G$86","v":4.726},{"$f":"Cálculo!$H$86","v":387.36}]
["SP","São Paulo","Itaquaquecetuba","ARSESP","COMGÁS","Industrial","Mensal",50000.01,300000,{"$f":"Cálculo!$G$87","v":3.5019999999999998},{"$f":"Cálculo!$H$87","v":61597.41}]
["SP","São Paulo","Itaquaquecetuba","ARSESP","COMGÁS","Industrial","Mensal",300000.01,500000,{"$f":"Cálculo!$G$88","v":3.36},{"$f":"Cálculo!$H$88","v":110975.06}]
["SP","São Paulo","Itaquaquecetuba","ARSESP","COMGÁS","Industrial","Mensal",500000.01,1000000,{"$f":"Cálculo!$G$89","v":3.3340000000000001},{"$f":"Cálculo!$H$89","v":124035.06}]
["SP","São Paulo","Itaquaquecetuba","ARSESP","COMGÁS","Industrial","Mensal",1000000.01,2000000,{"$f":"Cálculo!$G$90","v":3.2810000000000001},{"$f":"Cálculo!$H$90","v":177422.21}]
["SP","São Paulo","Itaquaquecetuba","ARSESP","COMGÁS","Industrial","Mensal",2000000.01,null,{"$f":"Cálculo!$G$91","v":3.2330000000000001},{"$f":"Cálculo!$H$91","v":316707.87}]
["SP","São Paulo","Itaquaquecetuba","ARSESP","COMGÁS","GNV","Faixa Única",null,null,{"$f":"Cálculo!$G$94","v":3.2148460000000001}]
["SP","São Paulo","Itatiba","ARSESP","COMGÁS","Residencial","Mensal",0,1,{"$f":"Cálculo!$G$66","v":3.2869999999999999},{"$f":"Cálculo!$H$66","v":11.39}]
["SP","São Paulo","Itatiba","ARSESP","COMGÁS","Residencial","Mensal",1.01,3,{"$f":"Cálculo!$G$67","v":10.834},{"$f":"Cálculo!$H$67","v":14.87}]
["SP","São Paulo","Itatiba","ARSESP","COMGÁS","Residencial","Mensal",3.01,7,{"$f":"Cálculo!$G$68","v":5.6470000000000002},{"$f":"Cálculo!$H$68","v":14.87}]
["SP","São Paulo","Itatiba","ARSESP","COMGÁS","Residencial","Mensal",7.01,14,{"$f":"Cálculo!$G$69","v":9.3699999999999992},{"$f":"Cálculo!$H$69","v":16.739999999999998}]
["SP","São Paulo","Itatiba","ARSESP","COMGÁS","Residencial","Mensal",14.01,34,{"$f":"Cálculo!$G$70","v":11.132},{"$f":"Cálculo!$H$70","v":18.600000000000001}]
["SP","São Paulo","Itatiba","ARSESP","COMGÁS","Residencial","Mensal",34.01,600,{"$f":"Cálculo!$G$71","v":11.92},{"$f":"Cálculo!$H$71","v":18.600000000000001}]
["SP","São Paulo","Itatiba","ARSESP","COMGÁS","Residencial","Mensal",600.01,1000,{"$f":"Cálculo!$G$72","v":10.324},{"$f":"Cálculo!$H$72","v":18.600000000000001}]
["SP","São Paulo","Itatiba","ARSESP","COMGÁS","Residencial","Mensal",1000.01,null,{"$f":"Cálculo!$G$73","v":7.2949999999999999},{"$f":"Cálculo!$H$73","v":18.600000000000001}]
["SP","São Paulo","Itatiba","ARSESP","COMGÁS","Comercial","Mensal",0,0,{"$f":"Cálculo!$G$76","v":0},{"$f":"Cálculo!$H$76","v":0}]
["SP","São Paulo","Itatiba","ARSESP","COMGÁS","Comercial","Mensal",0.01,50,{"$f":"Cálculo!$G$77","v":9.2490000000000006},{"$f":"Cálculo!$H$77","v":60.76}]
["SP","São Paulo","Itatiba","ARSESP","COMGÁS","Comercial","Mensal",50.01,150,{"$f":"Cálculo!$G$78","v":8.49},{"$f":"Cálculo!$H$78","v":98.73}]
["SP","São Paulo","Itatiba","ARSESP","COMGÁS","Comercial","Mensal",150.01,500,{"$f":"Cálculo!$G$79","v":7.9859999999999998},{"$f":"Cálculo!$H$79","v":174.66}]
["SP","São Paulo","Itatiba","ARSESP","COMGÁS","Comercial","Mensal",500.01,2000,{"$f":"Cálculo!$G$80","v":7.5380000000000003},{"$f":"Cálculo!$H$80","v":398.71}]
["SP","São Paulo","Itatiba","ARSESP","COMGÁS","Comercial","Mensal",2000.01,3500,{"$f":"Cálculo!$G$81","v":6.819},{"$f":"Cálculo!$H$81","v":1837.86}]
["SP","São Paulo","Itatiba","ARSESP","COMGÁS","Comercial","Mensal",3500.01,50000,{"$f":"Cálculo!$G$82","v":5.3760000000000003},{"$f":"Cálculo!$H$82","v":6892.16}]
["SP","São Paulo","Itatiba","ARSESP","COMGÁS","Comercial","Mensal",50000.01,null,{"$f":"Cálculo!$G$83","v":5.1479999999999997},{"$f":"Cálculo!$H$83","v":18284.09}]
["SP","São Paulo","Itatiba","ARSESP","COMGÁS","Industrial","Mensal",0,50000,{"$f":"Cálculo!$G$86","v":4.726},{"$f":"Cálculo!$H$86","v":387.36}]
["SP","São Paulo","Itatiba","ARSESP","COMGÁS","Industrial","Mensal",50000.01,300000,{"$f":"Cálculo!$G$87","v":3.5019999999999998},{"$f":"Cálculo!$H$87","v":61597.41}]
["SP","São Paulo","Itatiba","ARSESP","COMGÁS","Industrial","Mensal",300000.01,500000,{"$f":"Cálculo!$G$88","v":3.36},{"$f":"Cálculo!$H$88","v":110975.06}]
["SP","São Paulo","Itatiba","ARSESP","COMGÁS","Industrial","Mensal",500000.01,1000000,{"$f":"Cálculo!$G$89","v":3.3340000000000001},{"$f":"Cálculo!$H$89","v":124035.06}]
["SP","São Paulo","Itatiba","ARSESP","COMGÁS","Industrial","Mensal",1000000.01,2000000,{"$f":"Cálculo!$G$90","v":3.2810000000000001},{"$f":"Cálculo!$H$90","v":177422.21}]
["SP","São Paulo","Itatiba","ARSESP","COMGÁS","Industrial","Mensal",2000000.01,null,{"$f":"Cálculo!$G$91","v":3.2330000000000001},{"$f":"Cálculo!$H$91","v":316707.87}]
["SP","São Paulo","Itatiba","ARSESP","COMGÁS","GNV","Faixa Única",null,null,{"$f":"Cálculo!$G$94","v":3.2148460000000001}]
["SP","São Paulo","Itirapina","ARSESP","COMGÁS","Residencial","Mensal",0,1,{"$f":"Cálculo!$G$66","v":3.2869999999999999},{"$f":"Cálculo!$H$66","v":11.39}]
["SP","São Paulo","Itirapina","ARSESP","COMGÁS","Residencial","Mensal",1.01,3,{"$f":"Cálculo!$G$67","v":10.834},{"$f":"Cálculo!$H$67","v":14.87}]
["SP","São Paulo","Itirapina","ARSESP","COMGÁS","Residencial","Mensal",3.01,7,{"$f":"Cálculo!$G$68","v":5.6470000000000002},{"$f":"Cálculo!$H$68","v":14.87}]
["SP","São Paulo","Itirapina","ARSESP","COMGÁS","Residencial","Mensal",7.01,14,{"$f":"Cálculo!$G$69","v":9.3699999999999992},{"$f":"Cálculo!$H$69","v":16.739999999999998}]
["SP","São Paulo","Itirapina","ARSESP","COMGÁS","Residencial","Mensal",14.01,34,{"$f":"Cálculo!$G$70","v":11.132},{"$f":"Cálculo!$H$70","v":18.600000000000001}]
["SP","São Paulo","Itirapina","ARSESP","COMGÁS","Residencial","Mensal",34.01,600,{"$f":"Cálculo!$G$71","v":11.92},{"$f":"Cálculo!$H$71","v":18.600000000000001}]
["SP","São Paulo","Itirapina","ARSESP","COMGÁS","Residencial","Mensal",600.01,1000,{"$f":"Cálculo!$G$72","v":10.324},{"$f":"Cálculo!$H$72","v":18.600000000000001}]
["SP","São Paulo","Itirapina","ARSESP","COMGÁS","Residencial","Mensal",1000.01,null,{"$f":"Cálculo!$G$73","v":7.2949999999999999},{"$f":"Cálculo!$H$73","v":18.600000000000001}]
["SP","São Paulo","Itirapina","ARSESP","COMGÁS","Comercial","Mensal",0,0,{"$f":"Cálculo!$G$76","v":0},{"$f":"Cálculo!$H$76","v":0}]
["SP","São Paulo","Itirapina","ARSESP","COMGÁS","Comercial","Mensal",0.01,50,{"$f":"Cálculo!$G$77","v":9.2490000000000006},{"$f":"Cálculo!$H$77","v":60.76}]
["SP","São Paulo","Itirapina","ARSESP","COMGÁS","Comercial","Mensal",50.01,150,{"$f":"Cálculo!$G$78","v":8.49},{"$f":"Cálculo!$H$78","v":98.73}]
["SP","São Paulo","Itirapina","ARSESP","COMGÁS","Comercial","Mensal",150.01,500,{"$f":"Cálculo!$G$79","v":7.9859999999999998},{"$f":"Cálculo!$H$79","v":174.66}]
["SP","São Paulo","Itirapina","ARSESP","COMGÁS","Comercial","Mensal",500.01,2000,{"$f":"Cálculo!$G$80","v":7.5380000000000003},{"$f":"Cálculo!$H$80","v":398.71}]
["SP","São Paulo","Itirapina","ARSESP","COMGÁS","Comercial","Mensal",2000.01,3500,{"$f":"Cálculo!$G$81","v":6.819},{"$f":"Cálculo!$H$81","v":1837.86}]
["SP","São Paulo","Itirapina","ARSESP","COMGÁS","Comercial","Mensal",3500.01,50000,{"$f":"Cálculo!$G$82","v":5.3760000000000003},{"$f":"Cálculo!$H$82","v":6892.16}]
["SP","São Paulo","Itirapina","ARSESP","COMGÁS","Comercial","Mensal",50000.01,null,{"$f":"Cálculo!$G$83","v":5.1479999999999997},{"$f":"Cálculo!$H$83","v":18284.09}]
["SP","São Paulo","Itirapina","ARSESP","COMGÁS","Industrial","Mensal",0,50000,{"$f":"Cálculo!$G$86","v":4.726},{"$f":"Cálculo!$H$86","v":387.36}]
["SP","São Paulo","Itirapina","ARSESP","COMGÁS","Industrial","Mensal",50000.01,300000,{"$f":"Cálculo!$G$87","v":3.5019999999999998},{"$f":"Cálculo!$H$87","v":61597.41}]
["SP","São Paulo","Itirapina","ARSESP","COMGÁS","Industrial","Mensal",300000.01,500000,{"$f":"Cálculo!$G$88","v":3.36},{"$f":"Cálculo!$H$88","v":110975.06}]
["SP","São Paulo","Itirapina","ARSESP","COMGÁS","Industrial","Mensal",500000.01,1000000,{"$f":"Cálculo!$G$89","v":3.3340000000000001},{"$f":"Cálculo!$H$89","v":124035.06}]
["SP","São Paulo","Itirapina","ARSESP","COMGÁS","Industrial","Mensal",1000000.01,2000000,{"$f":"Cálculo!$G$90","v":3.2810000000000001},{"$f":"Cálculo!$H$90","v":177422.21}]
["SP","São Paulo","Itirapina","ARSESP","COMGÁS","Industrial","Mensal",2000000.01,null,{"$f":"Cálculo!$G$91","v":3.2330000000000001},{"$f":"Cálculo!$H$91","v":316707.87}]
["SP","São Paulo","Itirapina","ARSESP","COMGÁS","GNV","Faixa Única",null,null,{"$f":"Cálculo!$G$94","v":3.2148460000000001}]
["SP","São Paulo","Itobi","ARSESP","COMGÁS","Residencial","Mensal",0,1,{"$f":"Cálculo!$G$66","v":3.2869999999999999},{"$f":"Cálculo!$H$66","v":11.39}]
["SP","São Paulo","Itobi","ARSESP","COMGÁS","Residencial","Mensal",1.01,3,{"$f":"Cálculo!$G$67","v":10.834},{"$f":"Cálculo!$H$67","v":14.87}]
["SP","São Paulo","Itobi","ARSESP","COMGÁS","Residencial","Mensal",3.01,7,{"$f":"Cálculo!$G$68","v":5.6470000000000002},{"$f":"Cálculo!$H$68","v":14.87}]
["SP","São Paulo","Itobi","ARSESP","COMGÁS","Residencial","Mensal",7.01,14,{"$f":"Cálculo!$G$69","v":9.3699999999999992},{"$f":"Cálculo!$H$69","v":16.739999999999998}]
["SP","São Paulo","Itobi","ARSESP","COMGÁS","Residencial","Mensal",14.01,34,{"$f":"Cálculo!$G$70","v":11.132},{"$f":"Cálculo!$H$70","v":18.600000000000001}]
["SP","São Paulo","Itobi","ARSESP","COMGÁS","Residencial","Mensal",34.01,600,{"$f":"Cálculo!$G$71","v":11.92},{"$f":"Cálculo!$H$71","v":18.600000000000001}]
["SP","São Paulo","Itobi","ARSESP","COMGÁS","Residencial","Mensal",600.01,1000,{"$f":"Cálculo!$G$72","v":10.324},{"$f":"Cálculo!$H$72","v":18.600000000000001}]
["SP","São Paulo","Itobi","ARSESP","COMGÁS","Residencial","Mensal",1000.01,null,{"$f":"Cálculo!$G$73","v":7.2949999999999999},{"$f":"Cálculo!$H$73","v":18.600000000000001}]
["SP","São Paulo","Itobi","ARSESP","COMGÁS","Comercial","Mensal",0,0,{"$f":"Cálculo!$G$76","v":0},{"$f":"Cálculo!$H$76","v":0}]
["SP","São Paulo","Itobi","ARSESP","COMGÁS","Comercial","Mensal",0.01,50,{"$f":"Cálculo!$G$77","v":9.2490000000000006},{"$f":"Cálculo!$H$77","v":60.76}]
["SP","São Paulo","Itobi","ARSESP","COMGÁS","Comercial","Mensal",50.01,150,{"$f":"Cálculo!$G$78","v":8.49},{"$f":"Cálculo!$H$78","v":98.73}]
["SP","São Paulo","Itobi","ARSESP","COMGÁS","Comercial","Mensal",150.01,500,{"$f":"Cálculo!$G$79","v":7.9859999999999998},{"$f":"Cálculo!$H$79","v":174.66}]
["SP","São Paulo","Itobi","ARSESP","COMGÁS","Comercial","Mensal",500.01,2000,{"$f":"Cálculo!$G$80","v":7.5380000000000003},{"$f":"Cálculo!$H$80","v":398.71}]
["SP","São Paulo","Itobi","ARSESP","COMGÁS","Comercial","Mensal",2000.01,3500,{"$f":"Cálculo!$G$81","v":6.819},{"$f":"Cálculo!$H$81","v":1837.86}]
["SP","São Paulo","Itobi","ARSESP","COMGÁS","Comercial","Mensal",3500.01,50000,{"$f":"Cálculo!$G$82","v":5.3760000000000003},{"$f":"Cálculo!$H$82","v":6892.16}]
["SP","São Paulo","Itobi","ARSESP","COMGÁS","Comercial","Mensal",50000.01,null,{"$f":"Cálculo!$G$83","v":5.1479999999999997},{"$f":"Cálculo!$H$83","v":18284.09}]
["SP","São Paulo","Itobi","ARSESP","COMGÁS","Industrial","Mensal",0,50000,{"$f":"Cálculo!$G$86","v":4.726},{"$f":"Cálculo!$H$86","v":387.36}]
["SP","São Paulo","Itobi","ARSESP","COMGÁS","Industrial","Mensal",50000.01,300000,{"$f":"Cálculo!$G$87","v":3.5019999999999998},{"$f":"Cálculo!$H$87","v":61597.41}]
["SP","São Paulo","Itobi","ARSESP","COMGÁS","Industrial","Mensal",300000.01,500000,{"$f":"Cálculo!$G$88","v":3.36},{"$f":"Cálculo!$H$88","v":110975.06}]
["SP","São Paulo","Itobi","ARSESP","COMGÁS","Industrial","Mensal",500000.01,1000000,{"$f":"Cálculo!$G$89","v":3.3340000000000001},{"$f":"Cálculo!$H$89","v":124035.06}]
["SP","São Paulo","Itobi","ARSESP","COMGÁS","Industrial","Mensal",1000000.01,2000000,{"$f":"Cálculo!$G$90","v":3.2810000000000001},{"$f":"Cálculo!$H$90","v":177422.21}]
["SP","São Paulo","Itobi","ARSESP","COMGÁS","Industrial","Mensal",2000000.01,null,{"$f":"Cálculo!$G$91","v":3.2330000000000001},{"$f":"Cálculo!$H$91","v":316707.87}]
["SP","São Paulo","Itobi","ARSESP","COMGÁS","GNV","Faixa Única",null,null,{"$f":"Cálculo!$G$94","v":3.2148460000000001}]
["SP","São Paulo","Itupeva","ARSESP","COMGÁS","Residencial","Mensal",0,1,{"$f":"Cálculo!$G$66","v":3.2869999999999999},{"$f":"Cálculo!$H$66","v":11.39}]
["SP","São Paulo","Itupeva","ARSESP","COMGÁS","Residencial","Mensal",1.01,3,{"$f":"Cálculo!$G$67","v":10.834},{"$f":"Cálculo!$H$67","v":14.87}]
["SP","São Paulo","Itupeva","ARSESP","COMGÁS","Residencial","Mensal",3.01,7,{"$f":"Cálculo!$G$68","v":5.6470000000000002},{"$f":"Cálculo!$H$68","v":14.87}]
["SP","São Paulo","Itupeva","ARSESP","COMGÁS","Residencial","Mensal",7.01,14,{"$f":"Cálculo!$G$69","v":9.3699999999999992},{"$f":"Cálculo!$H$69","v":16.739999999999998}]
["SP","São Paulo","Itupeva","ARSESP","COMGÁS","Residencial","Mensal",14.01,34,{"$f":"Cálculo!$G$70","v":11.132},{"$f":"Cálculo!$H$70","v":18.600000000000001}]
["SP","São Paulo","Itupeva","ARSESP","COMGÁS","Residencial","Mensal",34.01,600,{"$f":"Cálculo!$G$71","v":11.92},{"$f":"Cálculo!$H$71","v":18.600000000000001}]
["SP","São Paulo","Itupeva","ARSESP","COMGÁS","Residencial","Mensal",600.01,1000,{"$f":"Cálculo!$G$72","v":10.324},{"$f":"Cálculo!$H$72","v":18.600000000000001}]
["SP","São Paulo","Itupeva","ARSESP","COMGÁS","Residencial","Mensal",1000.01,null,{"$f":"Cálculo!$G$73","v":7.2949999999999999},{"$f":"Cálculo!$H$73","v":18.600000000000001}]
["SP","São Paulo","Itupeva","ARSESP","COMGÁS","Comercial","Mensal",0,0,{"$f":"Cálculo!$G$76","v":0},{"$f":"Cálculo!$H$76","v":0}]
["SP","São Paulo","Itupeva","ARSESP","COMGÁS","Comercial","Mensal",0.01,50,{"$f":"Cálculo!$G$77","v":9.2490000000000006},{"$f":"Cálculo!$H$77","v":60.76}]
["SP","São Paulo","Itupeva","ARSESP","COMGÁS","Comercial","Mensal",50.01,150,{"$f":"Cálculo!$G$78","v":8.49},{"$f":"Cálculo!$H$78","v":98.73}]
["SP","São Paulo","Itupeva","ARSESP","COMGÁS","Comercial","Mensal",150.01,500,{"$f":"Cálculo!$G$79","v":7.9859999999999998},{"$f":"Cálculo!$H$79","v":174.66}]
["SP","São Paulo","Itupeva","ARSESP","COMGÁS","Comercial","Mensal",500.01,2000,{"$f":"Cálculo!$G$80","v":7.5380000000000003},{"$f":"Cálculo!$H$80","v":398.71}]
["SP","São Paulo","Itupeva","ARSESP","COMGÁS","Comercial","Mensal",2000.01,3500,{"$f":"Cálculo!$G$81","v":6.819},{"$f":"Cálculo!$H$81","v":1837.86}]
["SP","São Paulo","Itupeva","ARSESP","COMGÁS","Comercial","Mensal",3500.01,50000,{"$f":"Cálculo!$G$82","v":5.3760000000000003},{"$f":"Cálculo!$H$82","v":6892.16}]
["SP","São Paulo","Itupeva","ARSESP","COMGÁS","Comercial","Mensal",50000.01,null,{"$f":"Cálculo!$G$83","v":5.1479999999999997},{"$f":"Cálculo!$H$83","v":18284.09}]
["SP","São Paulo","Itupeva","ARSESP","COMGÁS","Industrial","Mensal",0,50000,{"$f":"Cálculo!$G$86","v":4.726},{"$f":"Cálculo!$H$86","v":387.36}]
["SP","São Paulo","Itupeva","ARSESP","COMGÁS","Industrial","Mensal",50000.01,300000,{"$f":"Cálculo!$G$87","v":3.5019999999999998},{"$f":"Cálculo!$H$87","v":61597.41}]
["SP","São Paulo","Itupeva","ARSESP","COMGÁS","Industrial","Mensal",300000.01,500000,{"$f":"Cálculo!$G$88","v":3.36},{"$f":"Cálculo!$H$88","v":110975.06}]
["SP","São Paulo","Itupeva","ARSESP","COMGÁS","Industrial","Mensal",500000.01,1000000,{"$f":"Cálculo!$G$89","v":3.3340000000000001},{"$f":"Cálculo!$H$89","v":124035.06}]
["SP","São Paulo","Itupeva","ARSESP","COMGÁS","Industrial","Mensal",1000000.01,2000000,{"$f":"Cálculo!$G$90","v":3.2810000000000001},{"$f":"Cálculo!$H$90","v":177422.21}]
["SP","São Paulo","Itupeva","ARSESP","COMGÁS","Industrial","Mensal",2000000.01,null,{"$f":"Cálculo!$G$91","v":3.2330000000000001},{"$f":"Cálculo!$H$91","v":316707.87}]
["SP","São Paulo","Itupeva","ARSESP","COMGÁS","GNV","Faixa Única",null,null,{"$f":"Cálculo!$G$94","v":3.2148460000000001}]
["SP","São Paulo","Jacareí","ARSESP","COMGÁS","Residencial","Mensal",0,1,{"$f":"Cálculo!$G$66","v":3.2869999999999999},{"$f":"Cálculo!$H$66","v":11.39}]
["SP","São Paulo","Jacareí","ARSESP","COMGÁS","Residencial","Mensal",1.01,3,{"$f":"Cálculo!$G$67","v":10.834},{"$f":"Cálculo!$H$67","v":14.87}]
["SP","São Paulo","Jacareí","ARSESP","COMGÁS","Residencial","Mensal",3.01,7,{"$f":"Cálculo!$G$68","v":5.6470000000000002},{"$f":"Cálculo!$H$68","v":14.87}]
["SP","São Paulo","Jacareí","ARSESP","COMGÁS","Residencial","Mensal",7.01,14,{"$f":"Cálculo!$G$69","v":9.3699999999999992},{"$f":"Cálculo!$H$69","v":16.739999999999998}]
["SP","São Paulo","Jacareí","ARSESP","COMGÁS","Residencial","Mensal",14.01,34,{"$f":"Cálculo!$G$70","v":11.132},{"$f":"Cálculo!$H$70","v":18.600000000000001}]
["SP","São Paulo","Jacareí","ARSESP","COMGÁS","Residencial","Mensal",34.01,600,{"$f":"Cálculo!$G$71","v":11.92},{"$f":"Cálculo!$H$71","v":18.600000000000001}]
["SP","São Paulo","Jacareí","ARSESP","COMGÁS","Residencial","Mensal",600.01,1000,{"$f":"Cálculo!$G$72","v":10.324},{"$f":"Cálculo!$H$72","v":18.600000000000001}]
["SP","São Paulo","Jacareí","ARSESP","COMGÁS","Residencial","Mensal",1000.01,null,{"$f":"Cálculo!$G$73","v":7.2949999999999999},{"$f":"Cálculo!$H$73","v":18.600000000000001}]
["SP","São Paulo","Jacareí","ARSESP","COMGÁS","Comercial","Mensal",0,0,{"$f":"Cálculo!$G$76","v":0},{"$f":"Cálculo!$H$76","v":0}]
["SP","São Paulo","Jacareí","ARSESP","COMGÁS","Comercial","Mensal",0.01,50,{"$f":"Cálculo!$G$77","v":9.2490000000000006},{"$f":"Cálculo!$H$77","v":60.76}]
["SP","São Paulo","Jacareí","ARSESP","COMGÁS","Comercial","Mensal",50.01,150,{"$f":"Cálculo!$G$78","v":8.49},{"$f":"Cálculo!$H$78","v":98.73}]
["SP","São Paulo","Jacareí","ARSESP","COMGÁS","Comercial","Mensal",150.01,500,{"$f":"Cálculo!$G$79","v":7.9859999999999998},{"$f":"Cálculo!$H$79","v":174.66}]
["SP","São Paulo","Jacareí","ARSESP","COMGÁS","Comercial","Mensal",500.01,2000,{"$f":"Cálculo!$G$80","v":7.5380000000000003},{"$f":"Cálculo!$H$80","v":398.71}]
["SP","São Paulo","Jacareí","ARSESP","COMGÁS","Comercial","Mensal",2000.01,3500,{"$f":"Cálculo!$G$81","v":6.819},{"$f":"Cálculo!$H$81","v":1837.86}]
["SP","São Paulo","Jacareí","ARSESP","COMGÁS","Comercial","Mensal",3500.01,50000,{"$f":"Cálculo!$G$82","v":5.3760000000000003},{"$f":"Cálculo!$H$82","v":6892.16}]
["SP","São Paulo","Jacareí","ARSESP","COMGÁS","Comercial","Mensal",50000.01,null,{"$f":"Cálculo!$G$83","v":5.1479999999999997},{"$f":"Cálculo!$H$83","v":18284.09}]
["SP","São Paulo","Jacareí","ARSESP","COMGÁS","Industrial","Mensal",0,50000,{"$f":"Cálculo!$G$86","v":4.726},{"$f":"Cálculo!$H$86","v":387.36}]
["SP","São Paulo","Jacareí","ARSESP","COMGÁS","Industrial","Mensal",50000.01,300000,{"$f":"Cálculo!$G$87","v":3.5019999999999998},{"$f":"Cálculo!$H$87","v":61597.41}]
["SP","São Paulo","Jacareí","ARSESP","COMGÁS","Industrial","Mensal",300000.01,500000,{"$f":"Cálculo!$G$88","v":3.36},{"$f":"Cálculo!$H$88","v":110975.06}]
["SP","São Paulo","Jacareí","ARSESP","COMGÁS","Industrial","Mensal",500000.01,1000000,{"$f":"Cálculo!$G$89","v":3.3340000000000001},{"$f":"Cálculo!$H$89","v":124035.06}]
["SP","São Paulo","Jacareí","ARSESP","COMGÁS","Industrial","Mensal",1000000.01,2000000,{"$f":"Cálculo!$G$90","v":3.2810000000000001},{"$f":"Cálculo!$H$90","v":177422.21}]
["SP","São Paulo","Jacareí","ARSESP","COMGÁS","Industrial","Mensal",2000000.01,null,{"$f":"Cálculo!$G$91","v":3.2330000000000001},{"$f":"Cálculo!$H$91","v":316707.87}]
["SP","São Paulo","Jacareí","ARSESP","COMGÁS","GNV","Faixa Única",null,null,{"$f":"Cálculo!$G$94","v":3.2148460000000001}]
["SP","São Paulo","Jaguariúna","ARSESP","COMGÁS","Residencial","Mensal",0,1,{"$f":"Cálculo!$G$66","v":3.2869999999999999},{"$f":"Cálculo!$H$66","v":11.39}]
["SP","São Paulo","Jaguariúna","ARSESP","COMGÁS","Residencial","Mensal",1.01,3,{"$f":"Cálculo!$G$67","v":10.834},{"$f":"Cálculo!$H$67","v":14.87}]
["SP","São Paulo","Jaguariúna","ARSESP","COMGÁS","Residencial","Mensal",3.01,7,{"$f":"Cálculo!$G$68","v":5.6470000000000002},{"$f":"Cálculo!$H$68","v":14.87}]
["SP","São Paulo","Jaguariúna","ARSESP","COMGÁS","Residencial","Mensal",7.01,14,{"$f":"Cálculo!$G$69","v":9.3699999999999992},{"$f":"Cálculo!$H$69","v":16.739999999999998}]
["SP","São Paulo","Jaguariúna","ARSESP","COMGÁS","Residencial","Mensal",14.01,34,{"$f":"Cálculo!$G$70","v":11.132},{"$f":"Cálculo!$H$70","v":18.600000000000001}]
["SP","São Paulo","Jaguariúna","ARSESP","COMGÁS","Residencial","Mensal",34.01,600,{"$f":"Cálculo!$G$71","v":11.92},{"$f":"Cálculo!$H$71","v":18.600000000000001}]
["SP","São Paulo","Jaguariúna","ARSESP","COMGÁS","Residencial","Mensal",600.01,1000,{"$f":"Cálculo!$G$72","v":10.324},{"$f":"Cálculo!$H$72","v":18.600000000000001}]
["SP","São Paulo","Jaguariúna","ARSESP","COMGÁS","Residencial","Mensal",1000.01,null,{"$f":"Cálculo!$G$73","v":7.2949999999999999},{"$f":"Cálculo!$H$73","v":18.600000000000001}]
["SP","São Paulo","Jaguariúna","ARSESP","COMGÁS","Comercial","Mensal",0,0,{"$f":"Cálculo!$G$76","v":0},{"$f":"Cálculo!$H$76","v":0}]
["SP","São Paulo","Jaguariúna","ARSESP","COMGÁS","Comercial","Mensal",0.01,50,{"$f":"Cálculo!$G$77","v":9.2490000000000006},{"$f":"Cálculo!$H$77","v":60.76}]
["SP","São Paulo","Jaguariúna","ARSESP","COMGÁS","Comercial","Mensal",50.01,150,{"$f":"Cálculo!$G$78","v":8.49},{"$f":"Cálculo!$H$78","v":98.73}]
["SP","São Paulo","Jaguariúna","ARSESP","COMGÁS","Comercial","Mensal",150.01,500,{"$f":"Cálculo!$G$79","v":7.9859999999999998},{"$f":"Cálculo!$H$79","v":174.66}]
["SP","São Paulo","Jaguariúna","ARSESP","COMGÁS","Comercial","Mensal",500.01,2000,{"$f":"Cálculo!$G$80","v":7.5380000000000003},{"$f":"Cálculo!$H$80","v":398.71}]
["SP","São Paulo","Jaguariúna","ARSESP","COMGÁS","Comercial","Mensal",2000.01,3500,{"$f":"Cálculo!$G$81","v":6.819},{"$f":"Cálculo!$H$81","v":1837.86}]
["SP","São Paulo","Jaguariúna","ARSESP","COMGÁS","Comercial","Mensal",3500.01,50000,{"$f":"Cálculo!$G$82","v":5.3760000000000003},{"$f":"Cálculo!$H$82","v":6892.16}]
["SP","São Paulo","Jaguariúna","ARSESP","COMGÁS","Comercial","Mensal",50000.01,null,{"$f":"Cálculo!$G$83","v":5.1479999999999997},{"$f":"Cálculo!$H$83","v":18284.09}]
["SP","São Paulo","Jaguariúna","ARSESP","COMGÁS","Industrial","Mensal",0,50000,{"$f":"Cálculo!$G$86","v":4.726},{"$f":"Cálculo!$H$86","v":387.36}]
["SP","São Paulo","Jaguariúna","ARSESP","COMGÁS","Industrial","Mensal",50000.01,300000,{"$f":"Cálculo!$G$87","v":3.5019999999999998},{"$f":"Cálculo!$H$87","v":61597.41}]
["SP","São Paulo","Jaguariúna","ARSESP","COMGÁS","Industrial","Mensal",300000.01,500000,{"$f":"Cálculo!$G$88","v":3.36},{"$f":"Cálculo!$H$88","v":110975.06}]
["SP","São Paulo","Jaguariúna","ARSESP","COMGÁS","Industrial","Mensal",500000.01,1000000,{"$f":"Cálculo!$G$89","v":3.3340000000000001},{"$f":"Cálculo!$H$89","v":124035.06}]
["SP","São Paulo","Jaguariúna","ARSESP","COMGÁS","Industrial","Mensal",1000000.01,2000000,{"$f":"Cálculo!$G$90","v":3.2810000000000001},{"$f":"Cálculo!$H$90","v":177422.21}]
["SP","São Paulo","Jaguariúna","ARSESP","COMGÁS","Industrial","Mensal",2000000.01,null,{"$f":"Cálculo!$G$91","v":3.2330000000000001},{"$f":"Cálculo!$H$91","v":316707.87}]
["SP","São Paulo","Jaguariúna","ARSESP","COMGÁS","GNV","Faixa Única",null,null,{"$f":"Cálculo!$G$94","v":3.2148460000000001}]
["SP","São Paulo","Jambeiro","ARSESP","COMGÁS","Residencial","Mensal",0,1,{"$f":"Cálculo!$G$66","v":3.2869999999999999},{"$f":"Cálculo!$H$66","v":11.39}]
["SP","São Paulo","Jambeiro","ARSESP","COMGÁS","Residencial","Mensal",1.01,3,{"$f":"Cálculo!$G$67","v":10.834},{"$f":"Cálculo!$H$67","v":14.87}]
["SP","São Paulo","Jambeiro","ARSESP","COMGÁS","Residencial","Mensal",3.01,7,{"$f":"Cálculo!$G$68","v":5.6470000000000002},{"$f":"Cálculo!$H$68","v":14.87}]
["SP","São Paulo","Jambeiro","ARSESP","COMGÁS","Residencial","Mensal",7.01,14,{"$f":"Cálculo!$G$69","v":9.3699999999999992},{"$f":"Cálculo!$H$69","v":16.739999999999998}]
["SP","São Paulo","Jambeiro","ARSESP","COMGÁS","Residencial","Mensal",14.01,34,{"$f":"Cálculo!$G$70","v":11.132},{"$f":"Cálculo!$H$70","v":18.600000000000001}]
["SP","São Paulo","Jambeiro","ARSESP","COMGÁS","Residencial","Mensal",34.01,600,{"$f":"Cálculo!$G$71","v":11.92},{"$f":"Cálculo!$H$71","v":18.600000000000001}]
["SP","São Paulo","Jambeiro","ARSESP","COMGÁS","Residencial","Mensal",600.01,1000,{"$f":"Cálculo!$G$72","v":10.324},{"$f":"Cálculo!$H$72","v":18.600000000000001}]
["SP","São Paulo","Jambeiro","ARSESP","COMGÁS","Residencial","Mensal",1000.01,null,{"$f":"Cálculo!$G$73","v":7.2949999999999999},{"$f":"Cálculo!$H$73","v":18.600000000000001}]
["SP","São Paulo","Jambeiro","ARSESP","COMGÁS","Comercial","Mensal",0,0,{"$f":"Cálculo!$G$76","v":0},{"$f":"Cálculo!$H$76","v":0}]
["SP","São Paulo","Jambeiro","ARSESP","COMGÁS","Comercial","Mensal",0.01,50,{"$f":"Cálculo!$G$77","v":9.2490000000000006},{"$f":"Cálculo!$H$77","v":60.76}]
["SP","São Paulo","Jambeiro","ARSESP","COMGÁS","Comercial","Mensal",50.01,150,{"$f":"Cálculo!$G$78","v":8.49},{"$f":"Cálculo!$H$78","v":98.73}]
["SP","São Paulo","Jambeiro","ARSESP","COMGÁS","Comercial","Mensal",150.01,500,{"$f":"Cálculo!$G$79","v":7.9859999999999998},{"$f":"Cálculo!$H$79","v":174.66}]
["SP","São Paulo","Jambeiro","ARSESP","COMGÁS","Comercial","Mensal",500.01,2000,{"$f":"Cálculo!$G$80","v":7.5380000000000003},{"$f":"Cálculo!$H$80","v":398.71}]
["SP","São Paulo","Jambeiro","ARSESP","COMGÁS","Comercial","Mensal",2000.01,3500,{"$f":"Cálculo!$G$81","v":6.819},{"$f":"Cálculo!$H$81","v":1837.86}]
["SP","São Paulo","Jambeiro","ARSESP","COMGÁS","Comercial","Mensal",3500.01,50000,{"$f":"Cálculo!$G$82","v":5.3760000000000003},{"$f":"Cálculo!$H$82","v":6892.16}]
["SP","São Paulo","Jambeiro","ARSESP","COMGÁS","Comercial","Mensal",50000.01,null,{"$f":"Cálculo!$G$83","v":5.1479999999999997},{"$f":"Cálculo!$H$83","v":18284.09}]
["SP","São Paulo","Jambeiro","ARSESP","COMGÁS","Industrial","Mensal",0,50000,{"$f":"Cálculo!$G$86","v":4.726},{"$f":"Cálculo!$H$86","v":387.36}]
["SP","São Paulo","Jambeiro","ARSESP","COMGÁS","Industrial","Mensal",50000.01,300000,{"$f":"Cálculo!$G$87","v":3.5019999999999998},{"$f":"Cálculo!$H$87","v":61597.41}]
["SP","São Paulo","Jambeiro","ARSESP","COMGÁS","Industrial","Mensal",300000.01,500000,{"$f":"Cálculo!$G$88","v":3.36},{"$f":"Cálculo!$H$88","v":110975.06}]
["SP","São Paulo","Jambeiro","ARSESP","COMGÁS","Industrial","Mensal",500000.01,1000000,{"$f":"Cálculo!$G$89","v":3.3340000000000001},{"$f":"Cálculo!$H$89","v":124035.06}]
["SP","São Paulo","Jambeiro","ARSESP","COMGÁS","Industrial","Mensal",1000000.01,2000000,{"$f":"Cálculo!$G$90","v":3.2810000000000001},{"$f":"Cálculo!$H$90","v":177422.21}]
["SP","São Paulo","Jambeiro","ARSESP","COMGÁS","Industrial","Mensal",2000000.01,null,{"$f":"Cálculo!$G$91","v":3.2330000000000001},{"$f":"Cálculo!$H$91","v":316707.87}]
["SP","São Paulo","Jambeiro","ARSESP","COMGÁS","GNV","Faixa Única",null,null,{"$f":"Cálculo!$G$94","v":3.2148460000000001}]
["SP","São Paulo","Jandira","ARSESP","COMGÁS","Residencial","Mensal",0,1,{"$f":"Cálculo!$G$66","v":3.2869999999999999},{"$f":"Cálculo!$H$66","v":11.39}]
["SP","São Paulo","Jandira","ARSESP","COMGÁS","Residencial","Mensal",1.01,3,{"$f":"Cálculo!$G$67","v":10.834},{"$f":"Cálculo!$H$67","v":14.87}]
["SP","São Paulo","Jandira","ARSESP","COMGÁS","Residencial","Mensal",3.01,7,{"$f":"Cálculo!$G$68","v":5.6470000000000002},{"$f":"Cálculo!$H$68","v":14.87}]
["SP","São Paulo","Jandira","ARSESP","COMGÁS","Residencial","Mensal",7.01,14,{"$f":"Cálculo!$G$69","v":9.3699999999999992},{"$f":"Cálculo!$H$69","v":16.739999999999998}]
["SP","São Paulo","Jandira","ARSESP","COMGÁS","Residencial","Mensal",14.01,34,{"$f":"Cálculo!$G$70","v":11.132},{"$f":"Cálculo!$H$70","v":18.600000000000001}]
["SP","São Paulo","Jandira","ARSESP","COMGÁS","Residencial","Mensal",34.01,600,{"$f":"Cálculo!$G$71","v":11.92},{"$f":"Cálculo!$H$71","v":18.600000000000001}]
["SP","São Paulo","Jandira","ARSESP","COMGÁS","Residencial","Mensal",600.01,1000,{"$f":"Cálculo!$G$72","v":10.324},{"$f":"Cálculo!$H$72","v":18.600000000000001}]
["SP","São Paulo","Jandira","ARSESP","COMGÁS","Residencial","Mensal",1000.01,null,{"$f":"Cálculo!$G$73","v":7.2949999999999999},{"$f":"Cálculo!$H$73","v":18.600000000000001}]
["SP","São Paulo","Jandira","ARSESP","COMGÁS","Comercial","Mensal",0,0,{"$f":"Cálculo!$G$76","v":0},{"$f":"Cálculo!$H$76","v":0}]
["SP","São Paulo","Jandira","ARSESP","COMGÁS","Comercial","Mensal",0.01,50,{"$f":"Cálculo!$G$77","v":9.2490000000000006},{"$f":"Cálculo!$H$77","v":60.76}]
["SP","São Paulo","Jandira","ARSESP","COMGÁS","Comercial","Mensal",50.01,150,{"$f":"Cálculo!$G$78","v":8.49},{"$f":"Cálculo!$H$78","v":98.73}]
["SP","São Paulo","Jandira","ARSESP","COMGÁS","Comercial","Mensal",150.01,500,{"$f":"Cálculo!$G$79","v":7.9859999999999998},{"$f":"Cálculo!$H$79","v":174.66}]
["SP","São Paulo","Jandira","ARSESP","COMGÁS","Comercial","Mensal",500.01,2000,{"$f":"Cálculo!$G$80","v":7.5380000000000003},{"$f":"Cálculo!$H$80","v":398.71}]
["SP","São Paulo","Jandira","ARSESP","COMGÁS","Comercial","Mensal",2000.01,3500,{"$f":"Cálculo!$G$81","v":6.819},{"$f":"Cálculo!$H$81","v":1837.86}]
["SP","São Paulo","Jandira","ARSESP","COMGÁS","Comercial","Mensal",3500.01,50000,{"$f":"Cálculo!$G$82","v":5.3760000000000003},{"$f":"Cálculo!$H$82","v":6892.16}]
["SP","São Paulo","Jandira","ARSESP","COMGÁS","Comercial","Mensal",50000.01,null,{"$f":"Cálculo!$G$83","v":5.1479999999999997},{"$f":"Cálculo!$H$83","v":18284.09}]
["SP","São Paulo","Jandira","ARSESP","COMGÁS","Industrial","Mensal",0,50000,{"$f":"Cálculo!$G$86","v":4.726},{"$f":"Cálculo!$H$86","v":387.36}]
["SP","São Paulo","Jandira","ARSESP","COMGÁS","Industrial","Mensal",50000.01,300000,{"$f":"Cálculo!$G$87","v":3.5019999999999998},{"$f":"Cálculo!$H$87","v":61597.41}]
["SP","São Paulo","Jandira","ARSESP","COMGÁS","Industrial","Mensal",300000.01,500000,{"$f":"Cálculo!$G$88","v":3.36},{"$f":"Cálculo!$H$88","v":110975.06}]
["SP","São Paulo","Jandira","ARSESP","COMGÁS","Industrial","Mensal",500000.01,1000000,{"$f":"Cálculo!$G$89","v":3.3340000000000001},{"$f":"Cálculo!$H$89","v":124035.06}]
["SP","São Paulo","Jandira","ARSESP","COMGÁS","Industrial","Mensal",1000000.01,2000000,{"$f":"Cálculo!$G$90","v":3.2810000000000001},{"$f":"Cálculo!$H$90","v":177422.21}]
["SP","São Paulo","Jandira","ARSESP","COMGÁS","Industrial","Mensal",2000000.01,null,{"$f":"Cálculo!$G$91","v":3.2330000000000001},{"$f":"Cálculo!$H$91","v":316707.87}]
["SP","São Paulo","Jandira","ARSESP","COMGÁS","GNV","Faixa Única",null,null,{"$f":"Cálculo!$G$94","v":3.2148460000000001}]
["SP","São Paulo","Jarinu","ARSESP","COMGÁS","Residencial","Mensal",0,1,{"$f":"Cálculo!$G$66","v":3.2869999999999999},{"$f":"Cálculo!$H$66","v":11.39}]
["SP","São Paulo","Jarinu","ARSESP","COMGÁS","Residencial","Mensal",1.01,3,{"$f":"Cálculo!$G$67","v":10.834},{"$f":"Cálculo!$H$67","v":14.87}]
["SP","São Paulo","Jarinu","ARSESP","COMGÁS","Residencial","Mensal",3.01,7,{"$f":"Cálculo!$G$68","v":5.6470000000000002},{"$f":"Cálculo!$H$68","v":14.87}]
["SP","São Paulo","Jarinu","ARSESP","COMGÁS","Residencial","Mensal",7.01,14,{"$f":"Cálculo!$G$69","v":9.3699999999999992},{"$f":"Cálculo!$H$69","v":16.739999999999998}]
["SP","São Paulo","Jarinu","ARSESP","COMGÁS","Residencial","Mensal",14.01,34,{"$f":"Cálculo!$G$70","v":11.132},{"$f":"Cálculo!$H$70","v":18.600000000000001}]
["SP","São Paulo","Jarinu","ARSESP","COMGÁS","Residencial","Mensal",34.01,600,{"$f":"Cálculo!$G$71","v":11.92},{"$f":"Cálculo!$H$71","v":18.600000000000001}]
["SP","São Paulo","Jarinu","ARSESP","COMGÁS","Residencial","Mensal",600.01,1000,{"$f":"Cálculo!$G$72","v":10.324},{"$f":"Cálculo!$H$72","v":18.600000000000001}]
["SP","São Paulo","Jarinu","ARSESP","COMGÁS","Residencial","Mensal",1000.01,null,{"$f":"Cálculo!$G$73","v":7.2949999999999999},{"$f":"Cálculo!$H$73","v":18.600000000000001}]
["SP","São Paulo","Jarinu","ARSESP","COMGÁS","Comercial","Mensal",0,0,{"$f":"Cálculo!$G$76","v":0},{"$f":"Cálculo!$H$76","v":0}]
["SP","São Paulo","Jarinu","ARSESP","COMGÁS","Comercial","Mensal",0.01,50,{"$f":"Cálculo!$G$77","v":9.2490000000000006},{"$f":"Cálculo!$H$77","v":60.76}]
["SP","São Paulo","Jarinu","ARSESP","COMGÁS","Comercial","Mensal",50.01,150,{"$f":"Cálculo!$G$78","v":8.49},{"$f":"Cálculo!$H$78","v":98.73}]
["SP","São Paulo","Jarinu","ARSESP","COMGÁS","Comercial","Mensal",150.01,500,{"$f":"Cálculo!$G$79","v":7.9859999999999998},{"$f":"Cálculo!$H$79","v":174.66}]
["SP","São Paulo","Jarinu","ARSESP","COMGÁS","Comercial","Mensal",500.01,2000,{"$f":"Cálculo!$G$80","v":7.5380000000000003},{"$f":"Cálculo!$H$80","v":398.71}]
["SP","São Paulo","Jarinu","ARSESP","COMGÁS","Comercial","Mensal",2000.01,3500,{"$f":"Cálculo!$G$81","v":6.819},{"$f":"Cálculo!$H$81","v":1837.86}]
["SP","São Paulo","Jarinu","ARSESP","COMGÁS","Comercial","Mensal",3500.01,50000,{"$f":"Cálculo!$G$82","v":5.3760000000000003},{"$f":"Cálculo!$H$82","v":6892.16}]
["SP","São Paulo","Jarinu","ARSESP","COMGÁS","Comercial","Mensal",50000.01,null,{"$f":"Cálculo!$G$83","v":5.1479999999999997},{"$f":"Cálculo!$H$83","v":18284.09}]
["SP","São Paulo","Jarinu","ARSESP","COMGÁS","Industrial","Mensal",0,50000,{"$f":"Cálculo!$G$86","v":4.726},{"$f":"Cálculo!$H$86","v":387.36}]
["SP","São Paulo","Jarinu","ARSESP","COMGÁS","Industrial","Mensal",50000.01,300000,{"$f":"Cálculo!$G$87","v":3.5019999999999998},{"$f":"Cálculo!$H$87","v":61597.41}]
["SP","São Paulo","Jarinu","ARSESP","COMGÁS","Industrial","Mensal",300000.01,500000,{"$f":"Cálculo!$G$88","v":3.36},{"$f":"Cálculo!$H$88","v":110975.06}]
["SP","São Paulo","Jarinu","ARSESP","COMGÁS","Industrial","Mensal",500000.01,1000000,{"$f":"Cálculo!$G$89","v":3.3340000000000001},{"$f":"Cálculo!$H$89","v":124035.06}]
["SP","São Paulo","Jarinu","ARSESP","COMGÁS","Industrial","Mensal",1000000.01,2000000,{"$f":"Cálculo!$G$90","v":3.2810000000000001},{"$f":"Cálculo!$H$90","v":177422.21}]
["SP","São Paulo","Jarinu","ARSESP","COMGÁS","Industrial","Mensal",2000000.01,null,{"$f":"Cálculo!$G$91","v":3.2330000000000001},{"$f":"Cálculo!$H$91","v":316707.87}]
["SP","São Paulo","Jarinu","ARSESP","COMGÁS","GNV","Faixa Única",null,null,{"$f":"Cálculo!$G$94","v":3.2148460000000001}]
["SP","São Paulo","Joanópolis","ARSESP","COMGÁS","Residencial","Mensal",0,1,{"$f":"Cálculo!$G$66","v":3.2869999999999999},{"$f":"Cálculo!$H$66","v":11.39}]
["SP","São Paulo","Joanópolis","ARSESP","COMGÁS","Residencial","Mensal",1.01,3,{"$f":"Cálculo!$G$67","v":10.834},{"$f":"Cálculo!$H$67","v":14.87}]
["SP","São Paulo","Joanópolis","ARSESP","COMGÁS","Residencial","Mensal",3.01,7,{"$f":"Cálculo!$G$68","v":5.6470000000000002},{"$f":"Cálculo!$H$68","v":14.87}]
["SP","São Paulo","Joanópolis","ARSESP","COMGÁS","Residencial","Mensal",7.01,14,{"$f":"Cálculo!$G$69","v":9.3699999999999992},{"$f":"Cálculo!$H$69","v":16.739999999999998}]
["SP","São Paulo","Joanópolis","ARSESP","COMGÁS","Residencial","Mensal",14.01,34,{"$f":"Cálculo!$G$70","v":11.132},{"$f":"Cálculo!$H$70","v":18.600000000000001}]
["SP","São Paulo","Joanópolis","ARSESP","COMGÁS","Residencial","Mensal",34.01,600,{"$f":"Cálculo!$G$71","v":11.92},{"$f":"Cálculo!$H$71","v":18.600000000000001}]
["SP","São Paulo","Joanópolis","ARSESP","COMGÁS","Residencial","Mensal",600.01,1000,{"$f":"Cálculo!$G$72","v":10.324},{"$f":"Cálculo!$H$72","v":18.600000000000001}]
["SP","São Paulo","Joanópolis","ARSESP","COMGÁS","Residencial","Mensal",1000.01,null,{"$f":"Cálculo!$G$73","v":7.2949999999999999},{"$f":"Cálculo!$H$73","v":18.600000000000001}]
["SP","São Paulo","Joanópolis","ARSESP","COMGÁS","Comercial","Mensal",0,0,{"$f":"Cálculo!$G$76","v":0},{"$f":"Cálculo!$H$76","v":0}]
["SP","São Paulo","Joanópolis","ARSESP","COMGÁS","Comercial","Mensal",0.01,50,{"$f":"Cálculo!$G$77","v":9.2490000000000006},{"$f":"Cálculo!$H$77","v":60.76}]
["SP","São Paulo","Joanópolis","ARSESP","COMGÁS","Comercial","Mensal",50.01,150,{"$f":"Cálculo!$G$78","v":8.49},{"$f":"Cálculo!$H$78","v":98.73}]
["SP","São Paulo","Joanópolis","ARSESP","COMGÁS","Comercial","Mensal",150.01,500,{"$f":"Cálculo!$G$79","v":7.9859999999999998},{"$f":"Cálculo!$H$79","v":174.66}]
["SP","São Paulo","Joanópolis","ARSESP","COMGÁS","Comercial","Mensal",500.01,2000,{"$f":"Cálculo!$G$80","v":7.5380000000000003},{"$f":"Cálculo!$H$80","v":398.71}]
["SP","São Paulo","Joanópolis","ARSESP","COMGÁS","Comercial","Mensal",2000.01,3500,{"$f":"Cálculo!$G$81","v":6.819},{"$f":"Cálculo!$H$81","v":1837.86}]
["SP","São Paulo","Joanópolis","ARSESP","COMGÁS","Comercial","Mensal",3500.01,50000,{"$f":"Cálculo!$G$82","v":5.3760000000000003},{"$f":"Cálculo!$H$82","v":6892.16}]
["SP","São Paulo","Joanópolis","ARSESP","COMGÁS","Comercial","Mensal",50000.01,null,{"$f":"Cálculo!$G$83","v":5.1479999999999997},{"$f":"Cálculo!$H$83","v":18284.09}]
["SP","São Paulo","Joanópolis","ARSESP","COMGÁS","Industrial","Mensal",0,50000,{"$f":"Cálculo!$G$86","v":4.726},{"$f":"Cálculo!$H$86","v":387.36}]
["SP","São Paulo","Joanópolis","ARSESP","COMGÁS","Industrial","Mensal",50000.01,300000,{"$f":"Cálculo!$G$87","v":3.5019999999999998},{"$f":"Cálculo!$H$87","v":61597.41}]
["SP","São Paulo","Joanópolis","ARSESP","COMGÁS","Industrial","Mensal",300000.01,500000,{"$f":"Cálculo!$G$88","v":3.36},{"$f":"Cálculo!$H$88","v":110975.06}]
["SP","São Paulo","Joanópolis","ARSESP","COMGÁS","Industrial","Mensal",500000.01,1000000,{"$f":"Cálculo!$G$89","v":3.3340000000000001},{"$f":"Cálculo!$H$89","v":124035.06}]
["SP","São Paulo","Joanópolis","ARSESP","COMGÁS","Industrial","Mensal",1000000.01,2000000,{"$f":"Cálculo!$G$90","v":3.2810000000000001},{"$f":"Cálculo!$H$90","v":177422.21}]
["SP","São Paulo","Joanópolis","ARSESP","COMGÁS","Industrial","Mensal",2000000.01,null,{"$f":"Cálculo!$G$91","v":3.2330000000000001},{"$f":"Cálculo!$H$91","v":316707.87}]
["SP","São Paulo","Joanópolis","ARSESP","COMGÁS","GNV","Faixa Única",null,null,{"$f":"Cálculo!$G$94","v":3.2148460000000001}]
["SP","São Paulo","Jundiaí","ARSESP","COMGÁS","Residencial","Mensal",0,1,{"$f":"Cálculo!$G$66","v":3.2869999999999999},{"$f":"Cálculo!$H$66","v":11.39}]
["SP","São Paulo","Jundiaí","ARSESP","COMGÁS","Residencial","Mensal",1.01,3,{"$f":"Cálculo!$G$67","v":10.834},{"$f":"Cálculo!$H$67","v":14.87}]
["SP","São Paulo","Jundiaí","ARSESP","COMGÁS","Residencial","Mensal",3.01,7,{"$f":"Cálculo!$G$68","v":5.6470000000000002},{"$f":"Cálculo!$H$68","v":14.87}]
["SP","São Paulo","Jundiaí","ARSESP","COMGÁS","Residencial","Mensal",7.01,14,{"$f":"Cálculo!$G$69","v":9.3699999999999992},{"$f":"Cálculo!$H$69","v":16.739999999999998}]
["SP","São Paulo","Jundiaí","ARSESP","COMGÁS","Residencial","Mensal",14.01,34,{"$f":"Cálculo!$G$70","v":11.132},{"$f":"Cálculo!$H$70","v":18.600000000000001}]
["SP","São Paulo","Jundiaí","ARSESP","COMGÁS","Residencial","Mensal",34.01,600,{"$f":"Cálculo!$G$71","v":11.92},{"$f":"Cálculo!$H$71","v":18.600000000000001}]
["SP","São Paulo","Jundiaí","ARSESP","COMGÁS","Residencial","Mensal",600.01,1000,{"$f":"Cálculo!$G$72","v":10.324},{"$f":"Cálculo!$H$72","v":18.600000000000001}]
["SP","São Paulo","Jundiaí","ARSESP","COMGÁS","Residencial","Mensal",1000.01,null,{"$f":"Cálculo!$G$73","v":7.2949999999999999},{"$f":"Cálculo!$H$73","v":18.600000000000001}]
["SP","São Paulo","Jundiaí","ARSESP","COMGÁS","Comercial","Mensal",0,0,{"$f":"Cálculo!$G$76","v":0},{"$f":"Cálculo!$H$76","v":0}]
["SP","São Paulo","Jundiaí","ARSESP","COMGÁS","Comercial","Mensal",0.01,50,{"$f":"Cálculo!$G$77","v":9.2490000000000006},{"$f":"Cálculo!$H$77","v":60.76}]
["SP","São Paulo","Jundiaí","ARSESP","COMGÁS","Comercial","Mensal",50.01,150,{"$f":"Cálculo!$G$78","v":8.49},{"$f":"Cálculo!$H$78","v":98.73}]
["SP","São Paulo","Jundiaí","ARSESP","COMGÁS","Comercial","Mensal",150.01,500,{"$f":"Cálculo!$G$79","v":7.9859999999999998},{"$f":"Cálculo!$H$79","v":174.66}]
["SP","São Paulo","Jundiaí","ARSESP","COMGÁS","Comercial","Mensal",500.01,2000,{"$f":"Cálculo!$G$80","v":7.5380000000000003},{"$f":"Cálculo!$H$80","v":398.71}]
["SP","São Paulo","Jundiaí","ARSESP","COMGÁS","Comercial","Mensal",2000.01,3500,{"$f":"Cálculo!$G$81","v":6.819},{"$f":"Cálculo!$H$81","v":1837.86}]
["SP","São Paulo","Jundiaí","ARSESP","COMGÁS","Comercial","Mensal",3500.01,50000,{"$f":"Cálculo!$G$82","v":5.3760000000000003},{"$f":"Cálculo!$H$82","v":6892.16}]
["SP","São Paulo","Jundiaí","ARSESP","COMGÁS","Comercial","Mensal",50000.01,null,{"$f":"Cálculo!$G$83","v":5.1479999999999997},{"$f":"Cálculo!$H$83","v":18284.09}]
["SP","São Paulo","Jundiaí","ARSESP","COMGÁS","Industrial","Mensal",0,50000,{"$f":"Cálculo!$G$86","v":4.726},{"$f":"Cálculo!$H$86","v":387.36}]
["SP","São Paulo","Jundiaí","ARSESP","COMGÁS","Industrial","Mensal",50000.01,300000,{"$f":"Cálculo!$G$87","v":3.5019999999999998},{"$f":"Cálculo!$H$87","v":61597.41}]
["SP","São Paulo","Jundiaí","ARSESP","COMGÁS","Industrial","Mensal",300000.01,500000,{"$f":"Cálculo!$G$88","v":3.36},{"$f":"Cálculo!$H$88","v":110975.06}]
["SP","São Paulo","Jundiaí","ARSESP","COMGÁS","Industrial","Mensal",500000.01,1000000,{"$f":"Cálculo!$G$89","v":3.3340000000000001},{"$f":"Cálculo!$H$89","v":124035.06}]
["SP","São Paulo","Jundiaí","ARSESP","COMGÁS","Industrial","Mensal",1000000.01,2000000,{"$f":"Cálculo!$G$90","v":3.2810000000000001},{"$f":"Cálculo!$H$90","v":177422.21}]
["SP","São Paulo","Jundiaí","ARSESP","COMGÁS","Industrial","Mensal",2000000.01,null,{"$f":"Cálculo!$G$91","v":3.2330000000000001},{"$f":"Cálculo!$H$91","v":316707.87}]
["SP","São Paulo","Jundiaí","ARSESP","COMGÁS","GNV","Faixa Única",null,null,{"$f":"Cálculo!$G$94","v":3.2148460000000001}]
["SP","São Paulo","Juquitiba","ARSESP","COMGÁS","Residencial","Mensal",0,1,{"$f":"Cálculo!$G$66","v":3.2869999999999999},{"$f":"Cálculo!$H$66","v":11.39}]
["SP","São Paulo","Juquitiba","ARSESP","COMGÁS","Residencial","Mensal",1.01,3,{"$f":"Cálculo!$G$67","v":10.834},{"$f":"Cálculo!$H$67","v":14.87}]
["SP","São Paulo","Juquitiba","ARSESP","COMGÁS","Residencial","Mensal",3.01,7,{"$f":"Cálculo!$G$68","v":5.6470000000000002},{"$f":"Cálculo!$H$68","v":14.87}]
["SP","São Paulo","Juquitiba","ARSESP","COMGÁS","Residencial","Mensal",7.01,14,{"$f":"Cálculo!$G$69","v":9.3699999999999992},{"$f":"Cálculo!$H$69","v":16.739999999999998}]
["SP","São Paulo","Juquitiba","ARSESP","COMGÁS","Residencial","Mensal",14.01,34,{"$f":"Cálculo!$G$70","v":11.132},{"$f":"Cálculo!$H$70","v":18.600000000000001}]
["SP","São Paulo","Juquitiba","ARSESP","COMGÁS","Residencial","Mensal",34.01,600,{"$f":"Cálculo!$G$71","v":11.92},{"$f":"Cálculo!$H$71","v":18.600000000000001}]
["SP","São Paulo","Juquitiba","ARSESP","COMGÁS","Residencial","Mensal",600.01,1000,{"$f":"Cálculo!$G$72","v":10.324},{"$f":"Cálculo!$H$72","v":18.600000000000001}]
["SP","São Paulo","Juquitiba","ARSESP","COMGÁS","Residencial","Mensal",1000.01,null,{"$f":"Cálculo!$G$73","v":7.2949999999999999},{"$f":"Cálculo!$H$73","v":18.600000000000001}]
["SP","São Paulo","Juquitiba","ARSESP","COMGÁS","Comercial","Mensal",0,0,{"$f":"Cálculo!$G$76","v":0},{"$f":"Cálculo!$H$76","v":0}]
["SP","São Paulo","Juquitiba","ARSESP","COMGÁS","Comercial","Mensal",0.01,50,{"$f":"Cálculo!$G$77","v":9.2490000000000006},{"$f":"Cálculo!$H$77","v":60.76}]
["SP","São Paulo","Juquitiba","ARSESP","COMGÁS","Comercial","Mensal",50.01,150,{"$f":"Cálculo!$G$78","v":8.49},{"$f":"Cálculo!$H$78","v":98.73}]
["SP","São Paulo","Juquitiba","ARSESP","COMGÁS","Comercial","Mensal",150.01,500,{"$f":"Cálculo!$G$79","v":7.9859999999999998},{"$f":"Cálculo!$H$79","v":174.66}]
["SP","São Paulo","Juquitiba","ARSESP","COMGÁS","Comercial","Mensal",500.01,2000,{"$f":"Cálculo!$G$80","v":7.5380000000000003},{"$f":"Cálculo!$H$80","v":398.71}]
["SP","São Paulo","Juquitiba","ARSESP","COMGÁS","Comercial","Mensal",2000.01,3500,{"$f":"Cálculo!$G$81","v":6.819},{"$f":"Cálculo!$H$81","v":1837.86}]
["SP","São Paulo","Juquitiba","ARSESP","COMGÁS","Comercial","Mensal",3500.01,50000,{"$f":"Cálculo!$G$82","v":5.3760000000000003},{"$f":"Cálculo!$H$82","v":6892.16}]
["SP","São Paulo","Juquitiba","ARSESP","COMGÁS","Comercial","Mensal",50000.01,null,{"$f":"Cálculo!$G$83","v":5.1479999999999997},{"$f":"Cálculo!$H$83","v":18284.09}]
["SP","São Paulo","Juquitiba","ARSESP","COMGÁS","Industrial","Mensal",0,50000,{"$f":"Cálculo!$G$86","v":4.726},{"$f":"Cálculo!$H$86","v":387.36}]
["SP","São Paulo","Juquitiba","ARSESP","COMGÁS","Industrial","Mensal",50000.01,300000,{"$f":"Cálculo!$G$87","v":3.5019999999999998},{"$f":"Cálculo!$H$87","v":61597.41}]
["SP","São Paulo","Juquitiba","ARSESP","COMGÁS","Industrial","Mensal",300000.01,500000,{"$f":"Cálculo!$G$88","v":3.36},{"$f":"Cálculo!$H$88","v":110975.06}]
["SP","São Paulo","Juquitiba","ARSESP","COMGÁS","Industrial","Mensal",500000.01,1000000,{"$f":"Cálculo!$G$89","v":3.3340000000000001},{"$f":"Cálculo!$H$89","v":124035.06}]
["SP","São Paulo","Juquitiba","ARSESP","COMGÁS","Industrial","Mensal",1000000.01,2000000,{"$f":"Cálculo!$G$90","v":3.2810000000000001},{"$f":"Cálculo!$H$90","v":177422.21}]
["SP","São Paulo","Juquitiba","ARSESP","COMGÁS","Industrial","Mensal",2000000.01,null,{"$f":"Cálculo!$G$91","v":3.2330000000000001},{"$f":"Cálculo!$H$91","v":316707.87}]
["SP","São Paulo","Juquitiba","ARSESP","COMGÁS","GNV","Faixa Única",null,null,{"$f":"Cálculo!$G$94","v":3.2148460000000001}]
["SP","São Paulo","Lagoinha","ARSESP","COMGÁS","Residencial","Mensal",0,1,{"$f":"Cálculo!$G$66","v":3.2869999999999999},{"$f":"Cálculo!$H$66","v":11.39}]
["SP","São Paulo","Lagoinha","ARSESP","COMGÁS","Residencial","Mensal",1.01,3,{"$f":"Cálculo!$G$67","v":10.834},{"$f":"Cálculo!$H$67","v":14.87}]
["SP","São Paulo","Lagoinha","ARSESP","COMGÁS","Residencial","Mensal",3.01,7,{"$f":"Cálculo!$G$68","v":5.6470000000000002},{"$f":"Cálculo!$H$68","v":14.87}]
["SP","São Paulo","Lagoinha","ARSESP","COMGÁS","Residencial","Mensal",7.01,14,{"$f":"Cálculo!$G$69","v":9.3699999999999992},{"$f":"Cálculo!$H$69","v":16.739999999999998}]
["SP","São Paulo","Lagoinha","ARSESP","COMGÁS","Residencial","Mensal",14.01,34,{"$f":"Cálculo!$G$70","v":11.132},{"$f":"Cálculo!$H$70","v":18.600000000000001}]
["SP","São Paulo","Lagoinha","ARSESP","COMGÁS","Residencial","Mensal",34.01,600,{"$f":"Cálculo!$G$71","v":11.92},{"$f":"Cálculo!$H$71","v":18.600000000000001}]
["SP","São Paulo","Lagoinha","ARSESP","COMGÁS","Residencial","Mensal",600.01,1000,{"$f":"Cálculo!$G$72","v":10.324},{"$f":"Cálculo!$H$72","v":18.600000000000001}]
["SP","São Paulo","Lagoinha","ARSESP","COMGÁS","Residencial","Mensal",1000.01,null,{"$f":"Cálculo!$G$73","v":7.2949999999999999},{"$f":"Cálculo!$H$73","v":18.600000000000001}]
["SP","São Paulo","Lagoinha","ARSESP","COMGÁS","Comercial","Mensal",0,0,{"$f":"Cálculo!$G$76","v":0},{"$f":"Cálculo!$H$76","v":0}]
["SP","São Paulo","Lagoinha","ARSESP","COMGÁS","Comercial","Mensal",0.01,50,{"$f":"Cálculo!$G$77","v":9.2490000000000006},{"$f":"Cálculo!$H$77","v":60.76}]
["SP","São Paulo","Lagoinha","ARSESP","COMGÁS","Comercial","Mensal",50.01,150,{"$f":"Cálculo!$G$78","v":8.49},{"$f":"Cálculo!$H$78","v":98.73}]
["SP","São Paulo","Lagoinha","ARSESP","COMGÁS","Comercial","Mensal",150.01,500,{"$f":"Cálculo!$G$79","v":7.9859999999999998},{"$f":"Cálculo!$H$79","v":174.66}]
["SP","São Paulo","Lagoinha","ARSESP","COMGÁS","Comercial","Mensal",500.01,2000,{"$f":"Cálculo!$G$80","v":7.5380000000000003},{"$f":"Cálculo!$H$80","v":398.71}]
["SP","São Paulo","Lagoinha","ARSESP","COMGÁS","Comercial","Mensal",2000.01,3500,{"$f":"Cálculo!$G$81","v":6.819},{"$f":"Cálculo!$H$81","v":1837.86}]
["SP","São Paulo","Lagoinha","ARSESP","COMGÁS","Comercial","Mensal",3500.01,50000,{"$f":"Cálculo!$G$82","v":5.3760000000000003},{"$f":"Cálculo!$H$82","v":6892.16}]
["SP","São Paulo","Lagoinha","ARSESP","COMGÁS","Comercial","Mensal",50000.01,null,{"$f":"Cálculo!$G$83","v":5.1479999999999997},{"$f":"Cálculo!$H$83","v":18284.09}]
["SP","São Paulo","Lagoinha","ARSESP","COMGÁS","Industrial","Mensal",0,50000,{"$f":"Cálculo!$G$86","v":4.726},{"$f":"Cálculo!$H$86","v":387.36}]
["SP","São Paulo","Lagoinha","ARSESP","COMGÁS","Industrial","Mensal",50000.01,300000,{"$f":"Cálculo!$G$87","v":3.5019999999999998},{"$f":"Cálculo!$H$87","v":61597.41}]
["SP","São Paulo","Lagoinha","ARSESP","COMGÁS","Industrial","Mensal",300000.01,500000,{"$f":"Cálculo!$G$88","v":3.36},{"$f":"Cálculo!$H$88","v":110975.06}]
["SP","São Paulo","Lagoinha","ARSESP","COMGÁS","Industrial","Mensal",500000.01,1000000,{"$f":"Cálculo!$G$89","v":3.3340000000000001},{"$f":"Cálculo!$H$89","v":124035.06}]
["SP","São Paulo","Lagoinha","ARSESP","COMGÁS","Industrial","Mensal",1000000.01,2000000,{"$f":"Cálculo!$G$90","v":3.2810000000000001},{"$f":"Cálculo!$H$90","v":177422.21}]
["SP","São Paulo","Lagoinha","ARSESP","COMGÁS","Industrial","Mensal",2000000.01,null,{"$f":"Cálculo!$G$91","v":3.2330000000000001},{"$f":"Cálculo!$H$91","v":316707.87}]
["SP","São Paulo","Lagoinha","ARSESP","COMGÁS","GNV","Faixa Única",null,null,{"$f":"Cálculo!$G$94","v":3.2148460000000001}]
["SP","São Paulo","Lavrinhas","ARSESP","COMGÁS","Residencial","Mensal",0,1,{"$f":"Cálculo!$G$66","v":3.2869999999999999},{"$f":"Cálculo!$H$66","v":11.39}]
["SP","São Paulo","Lavrinhas","ARSESP","COMGÁS","Residencial","Mensal",1.01,3,{"$f":"Cálculo!$G$67","v":10.834},{"$f":"Cálculo!$H$67","v":14.87}]
["SP","São Paulo","Lavrinhas","ARSESP","COMGÁS","Residencial","Mensal",3.01,7,{"$f":"Cálculo!$G$68","v":5.6470000000000002},{"$f":"Cálculo!$H$68","v":14.87}]
["SP","São Paulo","Lavrinhas","ARSESP","COMGÁS","Residencial","Mensal",7.01,14,{"$f":"Cálculo!$G$69","v":9.3699999999999992},{"$f":"Cálculo!$H$69","v":16.739999999999998}]
["SP","São Paulo","Lavrinhas","ARSESP","COMGÁS","Residencial","Mensal",14.01,34,{"$f":"Cálculo!$G$70","v":11.132},{"$f":"Cálculo!$H$70","v":18.600000000000001}]
["SP","São Paulo","Lavrinhas","ARSESP","COMGÁS","Residencial","Mensal",34.01,600,{"$f":"Cálculo!$G$71","v":11.92},{"$f":"Cálculo!$H$71","v":18.600000000000001}]
["SP","São Paulo","Lavrinhas","ARSESP","COMGÁS","Residencial","Mensal",600.01,1000,{"$f":"Cálculo!$G$72","v":10.324},{"$f":"Cálculo!$H$72","v":18.600000000000001}]
["SP","São Paulo","Lavrinhas","ARSESP","COMGÁS","Residencial","Mensal",1000.01,null,{"$f":"Cálculo!$G$73","v":7.2949999999999999},{"$f":"Cálculo!$H$73","v":18.600000000000001}]
["SP","São Paulo","Lavrinhas","ARSESP","COMGÁS","Comercial","Mensal",0,0,{"$f":"Cálculo!$G$76","v":0},{"$f":"Cálculo!$H$76","v":0}]
["SP","São Paulo","Lavrinhas","ARSESP","COMGÁS","Comercial","Mensal",0.01,50,{"$f":"Cálculo!$G$77","v":9.2490000000000006},{"$f":"Cálculo!$H$77","v":60.76}]
["SP","São Paulo","Lavrinhas","ARSESP","COMGÁS","Comercial","Mensal",50.01,150,{"$f":"Cálculo!$G$78","v":8.49},{"$f":"Cálculo!$H$78","v":98.73}]
["SP","São Paulo","Lavrinhas","ARSESP","COMGÁS","Comercial","Mensal",150.01,500,{"$f":"Cálculo!$G$79","v":7.9859999999999998},{"$f":"Cálculo!$H$79","v":174.66}]
["SP","São Paulo","Lavrinhas","ARSESP","COMGÁS","Comercial","Mensal",500.01,2000,{"$f":"Cálculo!$G$80","v":7.5380000000000003},{"$f":"Cálculo!$H$80","v":398.71}]
["SP","São Paulo","Lavrinhas","ARSESP","COMGÁS","Comercial","Mensal",2000.01,3500,{"$f":"Cálculo!$G$81","v":6.819},{"$f":"Cálculo!$H$81","v":1837.86}]
["SP","São Paulo","Lavrinhas","ARSESP","COMGÁS","Comercial","Mensal",3500.01,50000,{"$f":"Cálculo!$G$82","v":5.3760000000000003},{"$f":"Cálculo!$H$82","v":6892.16}]
["SP","São Paulo","Lavrinhas","ARSESP","COMGÁS","Comercial","Mensal",50000.01,null,{"$f":"Cálculo!$G$83","v":5.1479999999999997},{"$f":"Cálculo!$H$83","v":18284.09}]
["SP","São Paulo","Lavrinhas","ARSESP","COMGÁS","Industrial","Mensal",0,50000,{"$f":"Cálculo!$G$86","v":4.726},{"$f":"Cálculo!$H$86","v":387.36}]
["SP","São Paulo","Lavrinhas","ARSESP","COMGÁS","Industrial","Mensal",50000.01,300000,{"$f":"Cálculo!$G$87","v":3.5019999999999998},{"$f":"Cálculo!$H$87","v":61597.41}]
["SP","São Paulo","Lavrinhas","ARSESP","COMGÁS","Industrial","Mensal",300000.01,500000,{"$f":"Cálculo!$G$88","v":3.36},{"$f":"Cálculo!$H$88","v":110975.06}]
["SP","São Paulo","Lavrinhas","ARSESP","COMGÁS","Industrial","Mensal",500000.01,1000000,{"$f":"Cálculo!$G$89","v":3.3340000000000001},{"$f":"Cálculo!$H$89","v":124035.06}]
["SP","São Paulo","Lavrinhas","ARSESP","COMGÁS","Industrial","Mensal",1000000.01,2000000,{"$f":"Cálculo!$G$90","v":3.2810000000000001},{"$f":"Cálculo!$H$90","v":177422.21}]
["SP","São Paulo","Lavrinhas","ARSESP","COMGÁS","Industrial","Mensal",2000000.01,null,{"$f":"Cálculo!$G$91","v":3.2330000000000001},{"$f":"Cálculo!$H$91","v":316707.87}]
["SP","São Paulo","Lavrinhas","ARSESP","COMGÁS","GNV","Faixa Única",null,null,{"$f":"Cálculo!$G$94","v":3.2148460000000001}]
["SP","São Paulo","Leme","ARSESP","COMGÁS","Residencial","Mensal",0,1,{"$f":"Cálculo!$G$66","v":3.2869999999999999},{"$f":"Cálculo!$H$66","v":11.39}]
["SP","São Paulo","Leme","ARSESP","COMGÁS","Residencial","Mensal",1.01,3,{"$f":"Cálculo!$G$67","v":10.834},{"$f":"Cálculo!$H$67","v":14.87}]
["SP","São Paulo","Leme","ARSESP","COMGÁS","Residencial","Mensal",3.01,7,{"$f":"Cálculo!$G$68","v":5.6470000000000002},{"$f":"Cálculo!$H$68","v":14.87}]
["SP","São Paulo","Leme","ARSESP","COMGÁS","Residencial","Mensal",7.01,14,{"$f":"Cálculo!$G$69","v":9.3699999999999992},{"$f":"Cálculo!$H$69","v":16.739999999999998}]
["SP","São Paulo","Leme","ARSESP","COMGÁS","Residencial","Mensal",14.01,34,{"$f":"Cálculo!$G$70","v":11.132},{"$f":"Cálculo!$H$70","v":18.600000000000001}]
["SP","São Paulo","Leme","ARSESP","COMGÁS","Residencial","Mensal",34.01,600,{"$f":"Cálculo!$G$71","v":11.92},{"$f":"Cálculo!$H$71","v":18.600000000000001}]
["SP","São Paulo","Leme","ARSESP","COMGÁS","Residencial","Mensal",600.01,1000,{"$f":"Cálculo!$G$72","v":10.324},{"$f":"Cálculo!$H$72","v":18.600000000000001}]
["SP","São Paulo","Leme","ARSESP","COMGÁS","Residencial","Mensal",1000.01,null,{"$f":"Cálculo!$G$73","v":7.2949999999999999},{"$f":"Cálculo!$H$73","v":18.600000000000001}]
["SP","São Paulo","Leme","ARSESP","COMGÁS","Comercial","Mensal",0,0,{"$f":"Cálculo!$G$76","v":0},{"$f":"Cálculo!$H$76","v":0}]
["SP","São Paulo","Leme","ARSESP","COMGÁS","Comercial","Mensal",0.01,50,{"$f":"Cálculo!$G$77","v":9.2490000000000006},{"$f":"Cálculo!$H$77","v":60.76}]
["SP","São Paulo","Leme","ARSESP","COMGÁS","Comercial","Mensal",50.01,150,{"$f":"Cálculo!$G$78","v":8.49},{"$f":"Cálculo!$H$78","v":98.73}]
["SP","São Paulo","Leme","ARSESP","COMGÁS","Comercial","Mensal",150.01,500,{"$f":"Cálculo!$G$79","v":7.9859999999999998},{"$f":"Cálculo!$H$79","v":174.66}]
["SP","São Paulo","Leme","ARSESP","COMGÁS","Comercial","Mensal",500.01,2000,{"$f":"Cálculo!$G$80","v":7.5380000000000003},{"$f":"Cálculo!$H$80","v":398.71}]
["SP","São Paulo","Leme","ARSESP","COMGÁS","Comercial","Mensal",2000.01,3500,{"$f":"Cálculo!$G$81","v":6.819},{"$f":"Cálculo!$H$81","v":1837.86}]
["SP","São Paulo","Leme","ARSESP","COMGÁS","Comercial","Mensal",3500.01,50000,{"$f":"Cálculo!$G$82","v":5.3760000000000003},{"$f":"Cálculo!$H$82","v":6892.16}]
["SP","São Paulo","Leme","ARSESP","COMGÁS","Comercial","Mensal",50000.01,null,{"$f":"Cálculo!$G$83","v":5.1479999999999997},{"$f":"Cálculo!$H$83","v":18284.09}]
["SP","São Paulo","Leme","ARSESP","COMGÁS","Industrial","Mensal",0,50000,{"$f":"Cálculo!$G$86","v":4.726},{"$f":"Cálculo!$H$86","v":387.36}]
["SP","São Paulo","Leme","ARSESP","COMGÁS","Industrial","Mensal",50000.01,300000,{"$f":"Cálculo!$G$87","v":3.5019999999999998},{"$f":"Cálculo!$H$87","v":61597.41}]
["SP","São Paulo","Leme","ARSESP","COMGÁS","Industrial","Mensal",300000.01,500000,{"$f":"Cálculo!$G$88","v":3.36},{"$f":"Cálculo!$H$88","v":110975.06}]
["SP","São Paulo","Leme","ARSESP","COMGÁS","Industrial","Mensal",500000.01,1000000,{"$f":"Cálculo!$G$89","v":3.3340000000000001},{"$f":"Cálculo!$H$89","v":124035.06}]
["SP","São Paulo","Leme","ARSESP","COMGÁS","Industrial","Mensal",1000000.01,2000000,{"$f":"Cálculo!$G$90","v":3.2810000000000001},{"$f":"Cálculo!$H$90","v":177422.21}]
["SP","São Paulo","Leme","ARSESP","COMGÁS","Industrial","Mensal",2000000.01,null,{"$f":"Cálculo!$G$91","v":3.2330000000000001},{"$f":"Cálculo!$H$91","v":316707.87}]
["SP","São Paulo","Leme","ARSESP","COMGÁS","GNV","Faixa Única",null,null,{"$f":"Cálculo!$G$94","v":3.2148460000000001}]
["SP","São Paulo","Limeira","ARSESP","COMGÁS","Residencial","Mensal",0,1,{"$f":"Cálculo!$G$66","v":3.2869999999999999},{"$f":"Cálculo!$H$66","v":11.39}]
["SP","São Paulo","Limeira","ARSESP","COMGÁS","Residencial","Mensal",1.01,3,{"$f":"Cálculo!$G$67","v":10.834},{"$f":"Cálculo!$H$67","v":14.87}]
["SP","São Paulo","Limeira","ARSESP","COMGÁS","Residencial","Mensal",3.01,7,{"$f":"Cálculo!$G$68","v":5.6470000000000002},{"$f":"Cálculo!$H$68","v":14.87}]
["SP","São Paulo","Limeira","ARSESP","COMGÁS","Residencial","Mensal",7.01,14,{"$f":"Cálculo!$G$69","v":9.3699999999999992},{"$f":"Cálculo!$H$69","v":16.739999999999998}]
["SP","São Paulo","Limeira","ARSESP","COMGÁS","Residencial","Mensal",14.01,34,{"$f":"Cálculo!$G$70","v":11.132},{"$f":"Cálculo!$H$70","v":18.600000000000001}]
["SP","São Paulo","Limeira","ARSESP","COMGÁS","Residencial","Mensal",34.01,600,{"$f":"Cálculo!$G$71","v":11.92},{"$f":"Cálculo!$H$71","v":18.600000000000001}]
["SP","São Paulo","Limeira","ARSESP","COMGÁS","Residencial","Mensal",600.01,1000,{"$f":"Cálculo!$G$72","v":10.324},{"$f":"Cálculo!$H$72","v":18.600000000000001}]
["SP","São Paulo","Limeira","ARSESP","COMGÁS","Residencial","Mensal",1000.01,null,{"$f":"Cálculo!$G$73","v":7.2949999999999999},{"$f":"Cálculo!$H$73","v":18.600000000000001}]
["SP","São Paulo","Limeira","ARSESP","COMGÁS","Comercial","Mensal",0,0,{"$f":"Cálculo!$G$76","v":0},{"$f":"Cálculo!$H$76","v":0}]
["SP","São Paulo","Limeira","ARSESP","COMGÁS","Comercial","Mensal",0.01,50,{"$f":"Cálculo!$G$77","v":9.2490000000000006},{"$f":"Cálculo!$H$77","v":60.76}]
["SP","São Paulo","Limeira","ARSESP","COMGÁS","Comercial","Mensal",50.01,150,{"$f":"Cálculo!$G$78","v":8.49},{"$f":"Cálculo!$H$78","v":98.73}]
["SP","São Paulo","Limeira","ARSESP","COMGÁS","Comercial","Mensal",150.01,500,{"$f":"Cálculo!$G$79","v":7.9859999999999998},{"$f":"Cálculo!$H$79","v":174.66}]
["SP","São Paulo","Limeira","ARSESP","COMGÁS","Comercial","Mensal",500.01,2000,{"$f":"Cálculo!$G$80","v":7.5380000000000003},{"$f":"Cálculo!$H$80","v":398.71}]
["SP","São Paulo","Limeira","ARSESP","COMGÁS","Comercial","Mensal",2000.01,3500,{"$f":"Cálculo!$G$81","v":6.819},{"$f":"Cálculo!$H$81","v":1837.86}]
["SP","São Paulo","Limeira","ARSESP","COMGÁS","Comercial","Mensal",3500.01,50000,{"$f":"Cálculo!$G$82","v":5.3760000000000003},{"$f":"Cálculo!$H$82","v":6892.16}]
["SP","São Paulo","Limeira","ARSESP","COMGÁS","Comercial","Mensal",50000.01,null,{"$f":"Cálculo!$G$83","v":5.1479999999999997},{"$f":"Cálculo!$H$83","v":18284.09}]
["SP","São Paulo","Limeira","ARSESP","COMGÁS","Industrial","Mensal",0,50000,{"$f":"Cálculo!$G$86","v":4.726},{"$f":"Cálculo!$H$86","v":387.36}]
["SP","São Paulo","Limeira","ARSESP","COMGÁS","Industrial","Mensal",50000.01,300000,{"$f":"Cálculo!$G$87","v":3.5019999999999998},{"$f":"Cálculo!$H$87","v":61597.41}]
["SP","São Paulo","Limeira","ARSESP","COMGÁS","Industrial","Mensal",300000.01,500000,{"$f":"Cálculo!$G$88","v":3.36},{"$f":"Cálculo!$H$88","v":110975.06}]
["SP","São Paulo","Limeira","ARSESP","COMGÁS","Industrial","Mensal",500000.01,1000000,{"$f":"Cálculo!$G$89","v":3.3340000000000001},{"$f":"Cálculo!$H$89","v":124035.06}]
["SP","São Paulo","Limeira","ARSESP","COMGÁS","Industrial","Mensal",1000000.01,2000000,{"$f":"Cálculo!$G$90","v":3.2810000000000001},{"$f":"Cálculo!$H$90","v":177422.21}]
["SP","São Paulo","Limeira","ARSESP","COMGÁS","Industrial","Mensal",2000000.01,null,{"$f":"Cálculo!$G$91","v":3.2330000000000001},{"$f":"Cálculo!$H$91","v":316707.87}]
["SP","São Paulo","Limeira","ARSESP","COMGÁS","GNV","Faixa Única",null,null,{"$f":"Cálculo!$G$94","v":3.2148460000000001}]
["SP","São Paulo","Lindóia","ARSESP","COMGÁS","Residencial","Mensal",0,1,{"$f":"Cálculo!$G$66","v":3.2869999999999999},{"$f":"Cálculo!$H$66","v":11.39}]
["SP","São Paulo","Lindóia","ARSESP","COMGÁS","Residencial","Mensal",1.01,3,{"$f":"Cálculo!$G$67","v":10.834},{"$f":"Cálculo!$H$67","v":14.87}]
["SP","São Paulo","Lindóia","ARSESP","COMGÁS","Residencial","Mensal",3.01,7,{"$f":"Cálculo!$G$68","v":5.6470000000000002},{"$f":"Cálculo!$H$68","v":14.87}]
["SP","São Paulo","Lindóia","ARSESP","COMGÁS","Residencial","Mensal",7.01,14,{"$f":"Cálculo!$G$69","v":9.3699999999999992},{"$f":"Cálculo!$H$69","v":16.739999999999998}]
["SP","São Paulo","Lindóia","ARSESP","COMGÁS","Residencial","Mensal",14.01,34,{"$f":"Cálculo!$G$70","v":11.132},{"$f":"Cálculo!$H$70","v":18.600000000000001}]
["SP","São Paulo","Lindóia","ARSESP","COMGÁS","Residencial","Mensal",34.01,600,{"$f":"Cálculo!$G$71","v":11.92},{"$f":"Cálculo!$H$71","v":18.600000000000001}]
["SP","São Paulo","Lindóia","ARSESP","COMGÁS","Residencial","Mensal",600.01,1000,{"$f":"Cálculo!$G$72","v":10.324},{"$f":"Cálculo!$H$72","v":18.600000000000001}]
["SP","São Paulo","Lindóia","ARSESP","COMGÁS","Residencial","Mensal",1000.01,null,{"$f":"Cálculo!$G$73","v":7.2949999999999999},{"$f":"Cálculo!$H$73","v":18.600000000000001}]
["SP","São Paulo","Lindóia","ARSESP","COMGÁS","Comercial","Mensal",0,0,{"$f":"Cálculo!$G$76","v":0},{"$f":"Cálculo!$H$76","v":0}]
["SP","São Paulo","Lindóia","ARSESP","COMGÁS","Comercial","Mensal",0.01,50,{"$f":"Cálculo!$G$77","v":9.2490000000000006},{"$f":"Cálculo!$H$77","v":60.76}]
["SP","São Paulo","Lindóia","ARSESP","COMGÁS","Comercial","Mensal",50.01,150,{"$f":"Cálculo!$G$78","v":8.49},{"$f":"Cálculo!$H$78","v":98.73}]
["SP","São Paulo","Lindóia","ARSESP","COMGÁS","Comercial","Mensal",150.01,500,{"$f":"Cálculo!$G$79","v":7.9859999999999998},{"$f":"Cálculo!$H$79","v":174.66}]
["SP","São Paulo","Lindóia","ARSESP","COMGÁS","Comercial","Mensal",500.01,2000,{"$f":"Cálculo!$G$80","v":7.5380000000000003},{"$f":"Cálculo!$H$80","v":398.71}]
["SP","São Paulo","Lindóia","ARSESP","COMGÁS","Comercial","Mensal",2000.01,3500,{"$f":"Cálculo!$G$81","v":6.819},{"$f":"Cálculo!$H$81","v":1837.86}]
["SP","São Paulo","Lindóia","ARSESP","COMGÁS","Comercial","Mensal",3500.01,50000,{"$f":"Cálculo!$G$82","v":5.3760000000000003},{"$f":"Cálculo!$H$82","v":6892.16}]
["SP","São Paulo","Lindóia","ARSESP","COMGÁS","Comercial","Mensal",50000.01,null,{"$f":"Cálculo!$G$83","v":5.1479999999999997},{"$f":"Cálculo!$H$83","v":18284.09}]
["SP","São Paulo","Lindóia","ARSESP","COMGÁS","Industrial","Mensal",0,50000,{"$f":"Cálculo!$G$86","v":4.726},{"$f":"Cálculo!$H$86","v":387.36}]
["SP","São Paulo","Lindóia","ARSESP","COMGÁS","Industrial","Mensal",50000.01,300000,{"$f":"Cálculo!$G$87","v":3.5019999999999998},{"$f":"Cálculo!$H$87","v":61597.41}]
["SP","São Paulo","Lindóia","ARSESP","COMGÁS","Industrial","Mensal",300000.01,500000,{"$f":"Cálculo!$G$88","v":3.36},{"$f":"Cálculo!$H$88","v":110975.06}]
["SP","São Paulo","Lindóia","ARSESP","COMGÁS","Industrial","Mensal",500000.01,1000000,{"$f":"Cálculo!$G$89","v":3.3340000000000001},{"$f":"Cálculo!$H$89","v":124035.06}]
["SP","São Paulo","Lindóia","ARSESP","COMGÁS","Industrial","Mensal",1000000.01,2000000,{"$f":"Cálculo!$G$90","v":3.2810000000000001},{"$f":"Cálculo!$H$90","v":177422.21}]
["SP","São Paulo","Lindóia","ARSESP","COMGÁS","Industrial","Mensal",2000000.01,null,{"$f":"Cálculo!$G$91","v":3.2330000000000001},{"$f":"Cálculo!$H$91","v":316707.87}]
["SP","São Paulo","Lindóia","ARSESP","COMGÁS","GNV","Faixa Única",null,null,{"$f":"Cálculo!$G$94","v":3.2148460000000001}]
["SP","São Paulo","Lorena","ARSESP","COMGÁS","Residencial","Mensal",0,1,{"$f":"Cálculo!$G$66","v":3.2869999999999999},{"$f":"Cálculo!$H$66","v":11.39}]
["SP","São Paulo","Lorena","ARSESP","COMGÁS","Residencial","Mensal",1.01,3,{"$f":"Cálculo!$G$67","v":10.834},{"$f":"Cálculo!$H$67","v":14.87}]
["SP","São Paulo","Lorena","ARSESP","COMGÁS","Residencial","Mensal",3.01,7,{"$f":"Cálculo!$G$68","v":5.6470000000000002},{"$f":"Cálculo!$H$68","v":14.87}]
["SP","São Paulo","Lorena","ARSESP","COMGÁS","Residencial","Mensal",7.01,14,{"$f":"Cálculo!$G$69","v":9.3699999999999992},{"$f":"Cálculo!$H$69","v":16.739999999999998}]
["SP","São Paulo","Lorena","ARSESP","COMGÁS","Residencial","Mensal",14.01,34,{"$f":"Cálculo!$G$70","v":11.132},{"$f":"Cálculo!$H$70","v":18.600000000000001}]
["SP","São Paulo","Lorena","ARSESP","COMGÁS","Residencial","Mensal",34.01,600,{"$f":"Cálculo!$G$71","v":11.92},{"$f":"Cálculo!$H$71","v":18.600000000000001}]
["SP","São Paulo","Lorena","ARSESP","COMGÁS","Residencial","Mensal",600.01,1000,{"$f":"Cálculo!$G$72","v":10.324},{"$f":"Cálculo!$H$72","v":18.600000000000001}]
["SP","São Paulo","Lorena","ARSESP","COMGÁS","Residencial","Mensal",1000.01,null,{"$f":"Cálculo!$G$73","v":7.2949999999999999},{"$f":"Cálculo!$H$73","v":18.600000000000001}]
["SP","São Paulo","Lorena","ARSESP","COMGÁS","Comercial","Mensal",0,0,{"$f":"Cálculo!$G$76","v":0},{"$f":"Cálculo!$H$76","v":0}]
["SP","São Paulo","Lorena","ARSESP","COMGÁS","Comercial","Mensal",0.01,50,{"$f":"Cálculo!$G$77","v":9.2490000000000006},{"$f":"Cálculo!$H$77","v":60.76}]
["SP","São Paulo","Lorena","ARSESP","COMGÁS","Comercial","Mensal",50.01,150,{"$f":"Cálculo!$G$78","v":8.49},{"$f":"Cálculo!$H$78","v":98.73}]
["SP","São Paulo","Lorena","ARSESP","COMGÁS","Comercial","Mensal",150.01,500,{"$f":"Cálculo!$G$79","v":7.9859999999999998},{"$f":"Cálculo!$H$79","v":174.66}]
["SP","São Paulo","Lorena","ARSESP","COMGÁS","Comercial","Mensal",500.01,2000,{"$f":"Cálculo!$G$80","v":7.5380000000000003},{"$f":"Cálculo!$H$80","v":398.71}]
["SP","São Paulo","Lorena","ARSESP","COMGÁS","Comercial","Mensal",2000.01,3500,{"$f":"Cálculo!$G$81","v":6.819},{"$f":"Cálculo!$H$81","v":1837.86}]
["SP","São Paulo","Lorena","ARSESP","COMGÁS","Comercial","Mensal",3500.01,50000,{"$f":"Cálculo!$G$82","v":5.3760000000000003},{"$f":"Cálculo!$H$82","v":6892.16}]
["SP","São Paulo","Lorena","ARSESP","COMGÁS","Comercial","Mensal",50000.01,null,{"$f":"Cálculo!$G$83","v":5.1479999999999997},{"$f":"Cálculo!$H$83","v":18284.09}]
["SP","São Paulo","Lorena","ARSESP","COMGÁS","Industrial","Mensal",0,50000,{"$f":"Cálculo!$G$86","v":4.726},{"$f":"Cálculo!$H$86","v":387.36}]
["SP","São Paulo","Lorena","ARSESP","COMGÁS","Industrial","Mensal",50000.01,300000,{"$f":"Cálculo!$G$87","v":3.5019999999999998},{"$f":"Cálculo!$H$87","v":61597.41}]
["SP","São Paulo","Lorena","ARSESP","COMGÁS","Industrial","Mensal",300000.01,500000,{"$f":"Cálculo!$G$88","v":3.36},{"$f":"Cálculo!$H$88","v":110975.06}]
["SP","São Paulo","Lorena","ARSESP","COMGÁS","Industrial","Mensal",500000.01,1000000,{"$f":"Cálculo!$G$89","v":3.3340000000000001},{"$f":"Cálculo!$H$89","v":124035.06}]
["SP","São Paulo","Lorena","ARSESP","COMGÁS","Industrial","Mensal",1000000.01,2000000,{"$f":"Cálculo!$G$90","v":3.2810000000000001},{"$f":"Cálculo!$H$90","v":177422.21}]
["SP","São Paulo","Lorena","ARSESP","COMGÁS","Industrial","Mensal",2000000.01,null,{"$f":"Cálculo!$G$91","v":3.2330000000000001},{"$f":"Cálculo!$H$91","v":316707.87}]
["SP","São Paulo","Lorena","ARSESP","COMGÁS","GNV","Faixa Única",null,null,{"$f":"Cálculo!$G$94","v":3.2148460000000001}]
["SP","São Paulo","Louveira","ARSESP","COMGÁS","Residencial","Mensal",0,1,{"$f":"Cálculo!$G$66","v":3.2869999999999999},{"$f":"Cálculo!$H$66","v":11.39}]
["SP","São Paulo","Louveira","ARSESP","COMGÁS","Residencial","Mensal",1.01,3,{"$f":"Cálculo!$G$67","v":10.834},{"$f":"Cálculo!$H$67","v":14.87}]
["SP","São Paulo","Louveira","ARSESP","COMGÁS","Residencial","Mensal",3.01,7,{"$f":"Cálculo!$G$68","v":5.6470000000000002},{"$f":"Cálculo!$H$68","v":14.87}]
["SP","São Paulo","Louveira","ARSESP","COMGÁS","Residencial","Mensal",7.01,14,{"$f":"Cálculo!$G$69","v":9.3699999999999992},{"$f":"Cálculo!$H$69","v":16.739999999999998}]
["SP","São Paulo","Louveira","ARSESP","COMGÁS","Residencial","Mensal",14.01,34,{"$f":"Cálculo!$G$70","v":11.132},{"$f":"Cálculo!$H$70","v":18.600000000000001}]
["SP","São Paulo","Louveira","ARSESP","COMGÁS","Residencial","Mensal",34.01,600,{"$f":"Cálculo!$G$71","v":11.92},{"$f":"Cálculo!$H$71","v":18.600000000000001}]
["SP","São Paulo","Louveira","ARSESP","COMGÁS","Residencial","Mensal",600.01,1000,{"$f":"Cálculo!$G$72","v":10.324},{"$f":"Cálculo!$H$72","v":18.600000000000001}]
["SP","São Paulo","Louveira","ARSESP","COMGÁS","Residencial","Mensal",1000.01,null,{"$f":"Cálculo!$G$73","v":7.2949999999999999},{"$f":"Cálculo!$H$73","v":18.600000000000001}]
["SP","São Paulo","Louveira","ARSESP","COMGÁS","Comercial","Mensal",0,0,{"$f":"Cálculo!$G$76","v":0},{"$f":"Cálculo!$H$76","v":0}]
["SP","São Paulo","Louveira","ARSESP","COMGÁS","Comercial","Mensal",0.01,50,{"$f":"Cálculo!$G$77","v":9.2490000000000006},{"$f":"Cálculo!$H$77","v":60.76}]
["SP","São Paulo","Louveira","ARSESP","COMGÁS","Comercial","Mensal",50.01,150,{"$f":"Cálculo!$G$78","v":8.49},{"$f":"Cálculo!$H$78","v":98.73}]
["SP","São Paulo","Louveira","ARSESP","COMGÁS","Comercial","Mensal",150.01,500,{"$f":"Cálculo!$G$79","v":7.9859999999999998},{"$f":"Cálculo!$H$79","v":174.66}]
["SP","São Paulo","Louveira","ARSESP","COMGÁS","Comercial","Mensal",500.01,2000,{"$f":"Cálculo!$G$80","v":7.5380000000000003},{"$f":"Cálculo!$H$80","v":398.71}]
["SP","São Paulo","Louveira","ARSESP","COMGÁS","Comercial","Mensal",2000.01,3500,{"$f":"Cálculo!$G$81","v":6.819},{"$f":"Cálculo!$H$81","v":1837.86}]
["SP","São Paulo","Louveira","ARSESP","COMGÁS","Comercial","Mensal",3500.01,50000,{"$f":"Cálculo!$G$82","v":5.3760000000000003},{"$f":"Cálculo!$H$82","v":6892.16}]
["SP","São Paulo","Louveira","ARSESP","COMGÁS","Comercial","Mensal",50000.01,null,{"$f":"Cálculo!$G$83","v":5.1479999999999997},{"$f":"Cálculo!$H$83","v":18284.09}]
["SP","São Paulo","Louveira","ARSESP","COMGÁS","Industrial","Mensal",0,50000,{"$f":"Cálculo!$G$86","v":4.726},{"$f":"Cálculo!$H$86","v":387.36}]
["SP","São Paulo","Louveira","ARSESP","COMGÁS","Industrial","Mensal",50000.01,300000,{"$f":"Cálculo!$G$87","v":3.5019999999999998},{"$f":"Cálculo!$H$87","v":61597.41}]
["SP","São Paulo","Louveira","ARSESP","COMGÁS","Industrial","Mensal",300000.01,500000,{"$f":"Cálculo!$G$88","v":3.36},{"$f":"Cálculo!$H$88","v":110975.06}]
["SP","São Paulo","Louveira","ARSESP","COMGÁS","Industrial","Mensal",500000.01,1000000,{"$f":"Cálculo!$G$89","v":3.3340000000000001},{"$f":"Cálculo!$H$89","v":124035.06}]
["SP","São Paulo","Louveira","ARSESP","COMGÁS","Industrial","Mensal",1000000.01,2000000,{"$f":"Cálculo!$G$90","v":3.2810000000000001},{"$f":"Cálculo!$H$90","v":177422.21}]
["SP","São Paulo","Louveira","ARSESP","COMGÁS","Industrial","Mensal",2000000.01,null,{"$f":"Cálculo!$G$91","v":3.2330000000000001},{"$f":"Cálculo!$H$91","v":316707.87}]
["SP","São Paulo","Louveira","ARSESP","COMGÁS","GNV","Faixa Única",null,null,{"$f":"Cálculo!$G$94","v":3.2148460000000001}]
["SP","São Paulo","Mairiporã","ARSESP","COMGÁS","Residencial","Mensal",0,1,{"$f":"Cálculo!$G$66","v":3.2869999999999999},{"$f":"Cálculo!$H$66","v":11.39}]
["SP","São Paulo","Mairiporã","ARSESP","COMGÁS","Residencial","Mensal",1.01,3,{"$f":"Cálculo!$G$67","v":10.834},{"$f":"Cálculo!$H$67","v":14.87}]
["SP","São Paulo","Mairiporã","ARSESP","COMGÁS","Residencial","Mensal",3.01,7,{"$f":"Cálculo!$G$68","v":5.6470000000000002},{"$f":"Cálculo!$H$68","v":14.87}]
["SP","São Paulo","Mairiporã","ARSESP","COMGÁS","Residencial","Mensal",7.01,14,{"$f":"Cálculo!$G$69","v":9.3699999999999992},{"$f":"Cálculo!$H$69","v":16.739999999999998}]
["SP","São Paulo","Mairiporã","ARSESP","COMGÁS","Residencial","Mensal",14.01,34,{"$f":"Cálculo!$G$70","v":11.132},{"$f":"Cálculo!$H$70","v":18.600000000000001}]
["SP","São Paulo","Mairiporã","ARSESP","COMGÁS","Residencial","Mensal",34.01,600,{"$f":"Cálculo!$G$71","v":11.92},{"$f":"Cálculo!$H$71","v":18.600000000000001}]
["SP","São Paulo","Mairiporã","ARSESP","COMGÁS","Residencial","Mensal",600.01,1000,{"$f":"Cálculo!$G$72","v":10.324},{"$f":"Cálculo!$H$72","v":18.600000000000001}]
["SP","São Paulo","Mairiporã","ARSESP","COMGÁS","Residencial","Mensal",1000.01,null,{"$f":"Cálculo!$G$73","v":7.2949999999999999},{"$f":"Cálculo!$H$73","v":18.600000000000001}]
["SP","São Paulo","Mairiporã","ARSESP","COMGÁS","Comercial","Mensal",0,0,{"$f":"Cálculo!$G$76","v":0},{"$f":"Cálculo!$H$76","v":0}]
["SP","São Paulo","Mairiporã","ARSESP","COMGÁS","Comercial","Mensal",0.01,50,{"$f":"Cálculo!$G$77","v":9.2490000000000006},{"$f":"Cálculo!$H$77","v":60.76}]
["SP","São Paulo","Mairiporã","ARSESP","COMGÁS","Comercial","Mensal",50.01,150,{"$f":"Cálculo!$G$78","v":8.49},{"$f":"Cálculo!$H$78","v":98.73}]
["SP","São Paulo","Mairiporã","ARSESP","COMGÁS","Comercial","Mensal",150.01,500,{"$f":"Cálculo!$G$79","v":7.9859999999999998},{"$f":"Cálculo!$H$79","v":174.66}]
["SP","São Paulo","Mairiporã","ARSESP","COMGÁS","Comercial","Mensal",500.01,2000,{"$f":"Cálculo!$G$80","v":7.5380000000000003},{"$f":"Cálculo!$H$80","v":398.71}]
["SP","São Paulo","Mairiporã","ARSESP","COMGÁS","Comercial","Mensal",2000.01,3500,{"$f":"Cálculo!$G$81","v":6.819},{"$f":"Cálculo!$H$81","v":1837.86}]
["SP","São Paulo","Mairiporã","ARSESP","COMGÁS","Comercial","Mensal",3500.01,50000,{"$f":"Cálculo!$G$82","v":5.3760000000000003},{"$f":"Cálculo!$H$82","v":6892.16}]
["SP","São Paulo","Mairiporã","ARSESP","COMGÁS","Comercial","Mensal",50000.01,null,{"$f":"Cálculo!$G$83","v":5.1479999999999997},{"$f":"Cálculo!$H$83","v":18284.09}]
["SP","São Paulo","Mairiporã","ARSESP","COMGÁS","Industrial","Mensal",0,50000,{"$f":"Cálculo!$G$86","v":4.726},{"$f":"Cálculo!$H$86","v":387.36}]
["SP","São Paulo","Mairiporã","ARSESP","COMGÁS","Industrial","Mensal",50000.01,300000,{"$f":"Cálculo!$G$87","v":3.5019999999999998},{"$f":"Cálculo!$H$87","v":61597.41}]
["SP","São Paulo","Mairiporã","ARSESP","COMGÁS","Industrial","Mensal",300000.01,500000,{"$f":"Cálculo!$G$88","v":3.36},{"$f":"Cálculo!$H$88","v":110975.06}]
["SP","São Paulo","Mairiporã","ARSESP","COMGÁS","Industrial","Mensal",500000.01,1000000,{"$f":"Cálculo!$G$89","v":3.3340000000000001},{"$f":"Cálculo!$H$89","v":124035.06}]
["SP","São Paulo","Mairiporã","ARSESP","COMGÁS","Industrial","Mensal",1000000.01,2000000,{"$f":"Cálculo!$G$90","v":3.2810000000000001},{"$f":"Cálculo!$H$90","v":177422.21}]
["SP","São Paulo","Mairiporã","ARSESP","COMGÁS","Industrial","Mensal",2000000.01,null,{"$f":"Cálculo!$G$91","v":3.2330000000000001},{"$f":"Cálculo!$H$91","v":316707.87}]
["SP","São Paulo","Mairiporã","ARSESP","COMGÁS","GNV","Faixa Única",null,null,{"$f":"Cálculo!$G$94","v":3.2148460000000001}]
["SP","São Paulo","Mauá","ARSESP","COMGÁS","Residencial","Mensal",0,1,{"$f":"Cálculo!$G$66","v":3.2869999999999999},{"$f":"Cálculo!$H$66","v":11.39}]
["SP","São Paulo","Mauá","ARSESP","COMGÁS","Residencial","Mensal",1.01,3,{"$f":"Cálculo!$G$67","v":10.834},{"$f":"Cálculo!$H$67","v":14.87}]
["SP","São Paulo","Mauá","ARSESP","COMGÁS","Residencial","Mensal",3.01,7,{"$f":"Cálculo!$G$68","v":5.6470000000000002},{"$f":"Cálculo!$H$68","v":14.87}]
["SP","São Paulo","Mauá","ARSESP","COMGÁS","Residencial","Mensal",7.01,14,{"$f":"Cálculo!$G$69","v":9.3699999999999992},{"$f":"Cálculo!$H$69","v":16.739999999999998}]
["SP","São Paulo","Mauá","ARSESP","COMGÁS","Residencial","Mensal",14.01,34,{"$f":"Cálculo!$G$70","v":11.132},{"$f":"Cálculo!$H$70","v":18.600000000000001}]
["SP","São Paulo","Mauá","ARSESP","COMGÁS","Residencial","Mensal",34.01,600,{"$f":"Cálculo!$G$71","v":11.92},{"$f":"Cálculo!$H$71","v":18.600000000000001}]
["SP","São Paulo","Mauá","ARSESP","COMGÁS","Residencial","Mensal",600.01,1000,{"$f":"Cálculo!$G$72","v":10.324},{"$f":"Cálculo!$H$72","v":18.600000000000001}]
["SP","São Paulo","Mauá","ARSESP","COMGÁS","Residencial","Mensal",1000.01,null,{"$f":"Cálculo!$G$73","v":7.2949999999999999},{"$f":"Cálculo!$H$73","v":18.600000000000001}]
["SP","São Paulo","Mauá","ARSESP","COMGÁS","Comercial","Mensal",0,0,{"$f":"Cálculo!$G$76","v":0},{"$f":"Cálculo!$H$76","v":0}]
["SP","São Paulo","Mauá","ARSESP","COMGÁS","Comercial","Mensal",0.01,50,{"$f":"Cálculo!$G$77","v":9.2490000000000006},{"$f":"Cálculo!$H$77","v":60.76}]
["SP","São Paulo","Mauá","ARSESP","COMGÁS","Comercial","Mensal",50.01,150,{"$f":"Cálculo!$G$78","v":8.49},{"$f":"Cálculo!$H$78","v":98.73}]
["SP","São Paulo","Mauá","ARSESP","COMGÁS","Comercial","Mensal",150.01,500,{"$f":"Cálculo!$G$79","v":7.9859999999999998},{"$f":"Cálculo!$H$79","v":174.66}]
["SP","São Paulo","Mauá","ARSESP","COMGÁS","Comercial","Mensal",500.01,2000,{"$f":"Cálculo!$G$80","v":7.5380000000000003},{"$f":"Cálculo!$H$80","v":398.71}]
["SP","São Paulo","Mauá","ARSESP","COMGÁS","Comercial","Mensal",2000.01,3500,{"$f":"Cálculo!$G$81","v":6.819},{"$f":"Cálculo!$H$81","v":1837.86}]
["SP","São Paulo","Mauá","ARSESP","COMGÁS","Comercial","Mensal",3500.01,50000,{"$f":"Cálculo!$G$82","v":5.3760000000000003},{"$f":"Cálculo!$H$82","v":6892.16}]
["SP","São Paulo","Mauá","ARSESP","COMGÁS","Comercial","Mensal",50000.01,null,{"$f":"Cálculo!$G$83","v":5.1479999999999997},{"$f":"Cálculo!$H$83","v":18284.09}]
["SP","São Paulo","Mauá","ARSESP","COMGÁS","Industrial","Mensal",0,50000,{"$f":"Cálculo!$G$86","v":4.726},{"$f":"Cálculo!$H$86","v":387.36}]
["SP","São Paulo","Mauá","ARSESP","COMGÁS","Industrial","Mensal",50000.01,300000,{"$f":"Cálculo!$G$87","v":3.5019999999999998},{"$f":"Cálculo!$H$87","v":61597.41}]
["SP","São Paulo","Mauá","ARSESP","COMGÁS","Industrial","Mensal",300000.01,500000,{"$f":"Cálculo!$G$88","v":3.36},{"$f":"Cálculo!$H$88","v":110975.06}]
["SP","São Paulo","Mauá","ARSESP","COMGÁS","Industrial","Mensal",500000.01,1000000,{"$f":"Cálculo!$G$89","v":3.3340000000000001},{"$f":"Cálculo!$H$89","v":124035.06}]
["SP","São Paulo","Mauá","ARSESP","COMGÁS","Industrial","Mensal",1000000.01,2000000,{"$f":"Cálculo!$G$90","v":3.2810000000000001},{"$f":"Cálculo!$H$90","v":177422.21}]
["SP","São Paulo","Mauá","ARSESP","COMGÁS","Industrial","Mensal",2000000.01,null,{"$f":"Cálculo!$G$91","v":3.2330000000000001},{"$f":"Cálculo!$H$91","v":316707.87}]
["SP","São Paulo","Mauá","ARSESP","COMGÁS","GNV","Faixa Única",null,null,{"$f":"Cálculo!$G$94","v":3.2148460000000001}]
["SP","São Paulo","Mococa","ARSESP","COMGÁS","Residencial","Mensal",0,1,{"$f":"Cálculo!$G$66","v":3.2869999999999999},{"$f":"Cálculo!$H$66","v":11.39}]
["SP","São Paulo","Mococa","ARSESP","COMGÁS","Residencial","Mensal",1.01,3,{"$f":"Cálculo!$G$67","v":10.834},{"$f":"Cálculo!$H$67","v":14.87}]
["SP","São Paulo","Mococa","ARSESP","COMGÁS","Residencial","Mensal",3.01,7,{"$f":"Cálculo!$G$68","v":5.6470000000000002},{"$f":"Cálculo!$H$68","v":14.87}]
["SP","São Paulo","Mococa","ARSESP","COMGÁS","Residencial","Mensal",7.01,14,{"$f":"Cálculo!$G$69","v":9.3699999999999992},{"$f":"Cálculo!$H$69","v":16.739999999999998}]
["SP","São Paulo","Mococa","ARSESP","COMGÁS","Residencial","Mensal",14.01,34,{"$f":"Cálculo!$G$70","v":11.132},{"$f":"Cálculo!$H$70","v":18.600000000000001}]
["SP","São Paulo","Mococa","ARSESP","COMGÁS","Residencial","Mensal",34.01,600,{"$f":"Cálculo!$G$71","v":11.92},{"$f":"Cálculo!$H$71","v":18.600000000000001}]
["SP","São Paulo","Mococa","ARSESP","COMGÁS","Residencial","Mensal",600.01,1000,{"$f":"Cálculo!$G$72","v":10.324},{"$f":"Cálculo!$H$72","v":18.600000000000001}]
["SP","São Paulo","Mococa","ARSESP","COMGÁS","Residencial","Mensal",1000.01,null,{"$f":"Cálculo!$G$73","v":7.2949999999999999},{"$f":"Cálculo!$H$73","v":18.600000000000001}]
["SP","São Paulo","Mococa","ARSESP","COMGÁS","Comercial","Mensal",0,0,{"$f":"Cálculo!$G$76","v":0},{"$f":"Cálculo!$H$76","v":0}]
["SP","São Paulo","Mococa","ARSESP","COMGÁS","Comercial","Mensal",0.01,50,{"$f":"Cálculo!$G$77","v":9.2490000000000006},{"$f":"Cálculo!$H$77","v":60.76}]
["SP","São Paulo","Mococa","ARSESP","COMGÁS","Comercial","Mensal",50.01,150,{"$f":"Cálculo!$G$78","v":8.49},{"$f":"Cálculo!$H$78","v":98.73}]
["SP","São Paulo","Mococa","ARSESP","COMGÁS","Comercial","Mensal",150.01,500,{"$f":"Cálculo!$G$79","v":7.9859999999999998},{"$f":"Cálculo!$H$79","v":174.66}]
["SP","São Paulo","Mococa","ARSESP","COMGÁS","Comercial","Mensal",500.01,2000,{"$f":"Cálculo!$G$80","v":7.5380000000000003},{"$f":"Cálculo!$H$80","v":398.71}]
["SP","São Paulo","Mococa","ARSESP","COMGÁS","Comercial","Mensal",2000.01,3500,{"$f":"Cálculo!$G$81","v":6.819},{"$f":"Cálculo!$H$81","v":1837.86}]
["SP","São Paulo","Mococa","ARSESP","COMGÁS","Comercial","Mensal",3500.01,50000,{"$f":"Cálculo!$G$82","v":5.3760000000000003},{"$f":"Cálculo!$H$82","v":6892.16}]
["SP","São Paulo","Mococa","ARSESP","COMGÁS","Comercial","Mensal",50000.01,null,{"$f":"Cálculo!$G$83","v":5.1479999999999997},{"$f":"Cálculo!$H$83","v":18284.09}]
["SP","São Paulo","Mococa","ARSESP","COMGÁS","Industrial","Mensal",0,50000,{"$f":"Cálculo!$G$86","v":4.726},{"$f":"Cálculo!$H$86","v":387.36}]
["SP","São Paulo","Mococa","ARSESP","COMGÁS","Industrial","Mensal",50000.01,300000,{"$f":"Cálculo!$G$87","v":3.5019999999999998},{"$f":"Cálculo!$H$87","v":61597.41}]
["SP","São Paulo","Mococa","ARSESP","COMGÁS","Industrial","Mensal",300000.01,500000,{"$f":"Cálculo!$G$88","v":3.36},{"$f":"Cálculo!$H$88","v":110975.06}]
["SP","São Paulo","Mococa","ARSESP","COMGÁS","Industrial","Mensal",500000.01,1000000,{"$f":"Cálculo!$G$89","v":3.3340000000000001},{"$f":"Cálculo!$H$89","v":124035.06}]
["SP","São Paulo","Mococa","ARSESP","COMGÁS","Industrial","Mensal",1000000.01,2000000,{"$f":"Cálculo!$G$90","v":3.2810000000000001},{"$f":"Cálculo!$H$90","v":177422.21}]
["SP","São Paulo","Mococa","ARSESP","COMGÁS","Industrial","Mensal",2000000.01,null,{"$f":"Cálculo!$G$91","v":3.2330000000000001},{"$f":"Cálculo!$H$91","v":316707.87}]
["SP","São Paulo","Mococa","ARSESP","COMGÁS","GNV","Faixa Única",null,null,{"$f":"Cálculo!$G$94","v":3.2148460000000001}]
["SP","São Paulo","Mogi das Cruzes","ARSESP","COMGÁS","Residencial","Mensal",0,1,{"$f":"Cálculo!$G$66","v":3.2869999999999999},{"$f":"Cálculo!$H$66","v":11.39}]
["SP","São Paulo","Mogi das Cruzes","ARSESP","COMGÁS","Residencial","Mensal",1.01,3,{"$f":"Cálculo!$G$67","v":10.834},{"$f":"Cálculo!$H$67","v":14.87}]
["SP","São Paulo","Mogi das Cruzes","ARSESP","COMGÁS","Residencial","Mensal",3.01,7,{"$f":"Cálculo!$G$68","v":5.6470000000000002},{"$f":"Cálculo!$H$68","v":14.87}]
["SP","São Paulo","Mogi das Cruzes","ARSESP","COMGÁS","Residencial","Mensal",7.01,14,{"$f":"Cálculo!$G$69","v":9.3699999999999992},{"$f":"Cálculo!$H$69","v":16.739999999999998}]
["SP","São Paulo","Mogi das Cruzes","ARSESP","COMGÁS","Residencial","Mensal",14.01,34,{"$f":"Cálculo!$G$70","v":11.132},{"$f":"Cálculo!$H$70","v":18.600000000000001}]
["SP","São Paulo","Mogi das Cruzes","ARSESP","COMGÁS","Residencial","Mensal",34.01,600,{"$f":"Cálculo!$G$71","v":11.92},{"$f":"Cálculo!$H$71","v":18.600000000000001}]
["SP","São Paulo","Mogi das Cruzes","ARSESP","COMGÁS","Residencial","Mensal",600.01,1000,{"$f":"Cálculo!$G$72","v":10.324},{"$f":"Cálculo!$H$72","v":18.600000000000001}]
["SP","São Paulo","Mogi das Cruzes","ARSESP","COMGÁS","Residencial","Mensal",1000.01,null,{"$f":"Cálculo!$G$73","v":7.2949999999999999},{"$f":"Cálculo!$H$73","v":18.600000000000001}]
["SP","São Paulo","Mogi das Cruzes","ARSESP","COMGÁS","Comercial","Mensal",0,0,{"$f":"Cálculo!$G$76","v":0},{"$f":"Cálculo!$H$76","v":0}]
["SP","São Paulo","Mogi das Cruzes","ARSESP","COMGÁS","Comercial","Mensal",0.01,50,{"$f":"Cálculo!$G$77","v":9.2490000000000006},{"$f":"Cálculo!$H$77","v":60.76}]
["SP","São Paulo","Mogi das Cruzes","ARSESP","COMGÁS","Comercial","Mensal",50.01,150,{"$f":"Cálculo!$G$78","v":8.49},{"$f":"Cálculo!$H$78","v":98.73}]
["SP","São Paulo","Mogi das Cruzes","ARSESP","COMGÁS","Comercial","Mensal",150.01,500,{"$f":"Cálculo!$G$79","v":7.9859999999999998},{"$f":"Cálculo!$H$79","v":174.66}]
["SP","São Paulo","Mogi das Cruzes","ARSESP","COMGÁS","Comercial","Mensal",500.01,2000,{"$f":"Cálculo!$G$80","v":7.5380000000000003},{"$f":"Cálculo!$H$80","v":398.71}]
["SP","São Paulo","Mogi das Cruzes","ARSESP","COMGÁS","Comercial","Mensal",2000.01,3500,{"$f":"Cálculo!$G$81","v":6.819},{"$f":"Cálculo!$H$81","v":1837.86}]
["SP","São Paulo","Mogi das Cruzes","ARSESP","COMGÁS","Comercial","Mensal",3500.01,50000,{"$f":"Cálculo!$G$82","v":5.3760000000000003},{"$f":"Cálculo!$H$82","v":6892.16}]
["SP","São Paulo","Mogi das Cruzes","ARSESP","COMGÁS","Comercial","Mensal",50000.01,null,{"$f":"Cálculo!$G$83","v":5.1479999999999997},{"$f":"Cálculo!$H$83","v":18284.09}]
["SP","São Paulo","Mogi das Cruzes","ARSESP","COMGÁS","Industrial","Mensal",0,50000,{"$f":"Cálculo!$G$86","v":4.726},{"$f":"Cálculo!$H$86","v":387.36}]
["SP","São Paulo","Mogi das Cruzes","ARSESP","COMGÁS","Industrial","Mensal",50000.01,300000,{"$f":"Cálculo!$G$87","v":3.5019999999999998},{"$f":"Cálculo!$H$87","v":61597.41}]
["SP","São Paulo","Mogi das Cruzes","ARSESP","COMGÁS","Industrial","Mensal",300000.01,500000,{"$f":"Cálculo!$G$88","v":3.36},{"$f":"Cálculo!$H$88","v":110975.06}]
["SP","São Paulo","Mogi das Cruzes","ARSESP","COMGÁS","Industrial","Mensal",500000.01,1000000,{"$f":"Cálculo!$G$89","v":3.3340000000000001},{"$f":"Cálculo!$H$89","v":124035.06}]
["SP","São Paulo","Mogi das Cruzes","ARSESP","COMGÁS","Industrial","Mensal",1000000.01,2000000,{"$f":"Cálculo!$G$90","v":3.2810000000000001},{"$f":"Cálculo!$H$90","v":177422.21}]
["SP","São Paulo","Mogi das Cruzes","ARSESP","COMGÁS","Industrial","Mensal",2000000.01,null,{"$f":"Cálculo!$G$91","v":3.2330000000000001},{"$f":"Cálculo!$H$91","v":316707.87}]
["SP","São Paulo","Mogi das Cruzes","ARSESP","COMGÁS","GNV","Faixa Única",null,null,{"$f":"Cálculo!$G$94","v":3.2148460000000001}]
["SP","São Paulo","Mogi-Guaçu","ARSESP","COMGÁS","Residencial","Mensal",0,1,{"$f":"Cálculo!$G$66","v":3.2869999999999999},{"$f":"Cálculo!$H$66","v":11.39}]
["SP","São Paulo","Mogi-Guaçu","ARSESP","COMGÁS","Residencial","Mensal",1.01,3,{"$f":"Cálculo!$G$67","v":10.834},{"$f":"Cálculo!$H$67","v":14.87}]
["SP","São Paulo","Mogi-Guaçu","ARSESP","COMGÁS","Residencial","Mensal",3.01,7,{"$f":"Cálculo!$G$68","v":5.6470000000000002},{"$f":"Cálculo!$H$68","v":14.87}]
["SP","São Paulo","Mogi-Guaçu","ARSESP","COMGÁS","Residencial","Mensal",7.01,14,{"$f":"Cálculo!$G$69","v":9.3699999999999992},{"$f":"Cálculo!$H$69","v":16.739999999999998}]
["SP","São Paulo","Mogi-Guaçu","ARSESP","COMGÁS","Residencial","Mensal",14.01,34,{"$f":"Cálculo!$G$70","v":11.132},{"$f":"Cálculo!$H$70","v":18.600000000000001}]
["SP","São Paulo","Mogi-Guaçu","ARSESP","COMGÁS","Residencial","Mensal",34.01,600,{"$f":"Cálculo!$G$71","v":11.92},{"$f":"Cálculo!$H$71","v":18.600000000000001}]
["SP","São Paulo","Mogi-Guaçu","ARSESP","COMGÁS","Residencial","Mensal",600.01,1000,{"$f":"Cálculo!$G$72","v":10.324},{"$f":"Cálculo!$H$72","v":18.600000000000001}]
["SP","São Paulo","Mogi-Guaçu","ARSESP","COMGÁS","Residencial","Mensal",1000.01,null,{"$f":"Cálculo!$G$73","v":7.2949999999999999},{"$f":"Cálculo!$H$73","v":18.600000000000001}]
["SP","São Paulo","Mogi-Guaçu","ARSESP","COMGÁS","Comercial","Mensal",0,0,{"$f":"Cálculo!$G$76","v":0},{"$f":"Cálculo!$H$76","v":0}]
["SP","São Paulo","Mogi-Guaçu","ARSESP","COMGÁS","Comercial","Mensal",0.01,50,{"$f":"Cálculo!$G$77","v":9.2490000000000006},{"$f":"Cálculo!$H$77","v":60.76}]
["SP","São Paulo","Mogi-Guaçu","ARSESP","COMGÁS","Comercial","Mensal",50.01,150,{"$f":"Cálculo!$G$78","v":8.49},{"$f":"Cálculo!$H$78","v":98.73}]
["SP","São Paulo","Mogi-Guaçu","ARSESP","COMGÁS","Comercial","Mensal",150.01,500,{"$f":"Cálculo!$G$79","v":7.9859999999999998},{"$f":"Cálculo!$H$79","v":174.66}]
["SP","São Paulo","Mogi-Guaçu","ARSESP","COMGÁS","Comercial","Mensal",500.01,2000,{"$f":"Cálculo!$G$80","v":7.5380000000000003},{"$f":"Cálculo!$H$80","v":398.71}]
["SP","São Paulo","Mogi-Guaçu","ARSESP","COMGÁS","Comercial","Mensal",2000.01,3500,{"$f":"Cálculo!$G$81","v":6.819},{"$f":"Cálculo!$H$81","v":1837.86}]
["SP","São Paulo","Mogi-Guaçu","ARSESP","COMGÁS","Comercial","Mensal",3500.01,50000,{"$f":"Cálculo!$G$82","v":5.3760000000000003},{"$f":"Cálculo!$H$82","v":6892.16}]
["SP","São Paulo","Mogi-Guaçu","ARSESP","COMGÁS","Comercial","Mensal",50000.01,null,{"$f":"Cálculo!$G$83","v":5.1479999999999997},{"$f":"Cálculo!$H$83","v":18284.09}]
["SP","São Paulo","Mogi-Guaçu","ARSESP","COMGÁS","Industrial","Mensal",0,50000,{"$f":"Cálculo!$G$86","v":4.726},{"$f":"Cálculo!$H$86","v":387.36}]
["SP","São Paulo","Mogi-Guaçu","ARSESP","COMGÁS","Industrial","Mensal",50000.01,300000,{"$f":"Cálculo!$G$87","v":3.5019999999999998},{"$f":"Cálculo!$H$87","v":61597.41}]
["SP","São Paulo","Mogi-Guaçu","ARSESP","COMGÁS","Industrial","Mensal",300000.01,500000,{"$f":"Cálculo!$G$88","v":3.36},{"$f":"Cálculo!$H$88","v":110975.06}]
["SP","São Paulo","Mogi-Guaçu","ARSESP","COMGÁS","Industrial","Mensal",500000.01,1000000,{"$f":"Cálculo!$G$89","v":3.3340000000000001},{"$f":"Cálculo!$H$89","v":124035.06}]
["SP","São Paulo","Mogi-Guaçu","ARSESP","COMGÁS","Industrial","Mensal",1000000.01,2000000,{"$f":"Cálculo!$G$90","v":3.2810000000000001},{"$f":"Cálculo!$H$90","v":177422.21}]
["SP","São Paulo","Mogi-Guaçu","ARSESP","COMGÁS","Industrial","Mensal",2000000.01,null,{"$f":"Cálculo!$G$91","v":3.2330000000000001},{"$f":"Cálculo!$H$91","v":316707.87}]
["SP","São Paulo","Mogi-Guaçu","ARSESP","COMGÁS","GNV","Faixa Única",null,null,{"$f":"Cálculo!$G$94","v":3.2148460000000001}]
["SP","São Paulo","Mogi-Mirim","ARSESP","COMGÁS","Residencial","Mensal",0,1,{"$f":"Cálculo!$G$66","v":3.2869999999999999},{"$f":"Cálculo!$H$66","v":11.39}]
["SP","São Paulo","Mogi-Mirim","ARSESP","COMGÁS","Residencial","Mensal",1.01,3,{"$f":"Cálculo!$G$67","v":10.834},{"$f":"Cálculo!$H$67","v":14.87}]
["SP","São Paulo","Mogi-Mirim","ARSESP","COMGÁS","Residencial","Mensal",3.01,7,{"$f":"Cálculo!$G$68","v":5.6470000000000002},{"$f":"Cálculo!$H$68","v":14.87}]
["SP","São Paulo","Mogi-Mirim","ARSESP","COMGÁS","Residencial","Mensal",7.01,14,{"$f":"Cálculo!$G$69","v":9.3699999999999992},{"$f":"Cálculo!$H$69","v":16.739999999999998}]
["SP","São Paulo","Mogi-Mirim","ARSESP","COMGÁS","Residencial","Mensal",14.01,34,{"$f":"Cálculo!$G$70","v":11.132},{"$f":"Cálculo!$H$70","v":18.600000000000001}]
["SP","São Paulo","Mogi-Mirim","ARSESP","COMGÁS","Residencial","Mensal",34.01,600,{"$f":"Cálculo!$G$71","v":11.92},{"$f":"Cálculo!$H$71","v":18.600000000000001}]
["SP","São Paulo","Mogi-Mirim","ARSESP","COMGÁS","Residencial","Mensal",600.01,1000,{"$f":"Cálculo!$G$72","v":10.324},{"$f":"Cálculo!$H$72","v":18.600000000000001}]
["SP","São Paulo","Mogi-Mirim","ARSESP","COMGÁS","Residencial","Mensal",1000.01,null,{"$f":"Cálculo!$G$73","v":7.2949999999999999},{"$f":"Cálculo!$H$73","v":18.600000000000001}]
["SP","São Paulo","Mogi-Mirim","ARSESP","COMGÁS","Comercial","Mensal",0,0,{"$f":"Cálculo!$G$76","v":0},{"$f":"Cálculo!$H$76","v":0}]
["SP","São Paulo","Mogi-Mirim","ARSESP","COMGÁS","Comercial","Mensal",0.01,50,{"$f":"Cálculo!$G$77","v":9.2490000000000006},{"$f":"Cálculo!$H$77","v":60.76}]
["SP","São Paulo","Mogi-Mirim","ARSESP","COMGÁS","Comercial","Mensal",50.01,150,{"$f":"Cálculo!$G$78","v":8.49},{"$f":"Cálculo!$H$78","v":98.73}]
["SP","São Paulo","Mogi-Mirim","ARSESP","COMGÁS","Comercial","Mensal",150.01,500,{"$f":"Cálculo!$G$79","v":7.9859999999999998},{"$f":"Cálculo!$H$79","v":174.66}]
["SP","São Paulo","Mogi-Mirim","ARSESP","COMGÁS","Comercial","Mensal",500.01,2000,{"$f":"Cálculo!$G$80","v":7.5380000000000003},{"$f":"Cálculo!$H$80","v":398.71}]
["SP","São Paulo","Mogi-Mirim","ARSESP","COMGÁS","Comercial","Mensal",2000.01,3500,{"$f":"Cálculo!$G$81","v":6.819},{"$f":"Cálculo!$H$81","v":1837.86}]
["SP","São Paulo","Mogi-Mirim","ARSESP","COMGÁS","Comercial","Mensal",3500.01,50000,{"$f":"Cálculo!$G$82","v":5.3760000000000003},{"$f":"Cálculo!$H$82","v":6892.16}]
["SP","São Paulo","Mogi-Mirim","ARSESP","COMGÁS","Comercial","Mensal",50000.01,null,{"$f":"Cálculo!$G$83","v":5.1479999999999997},{"$f":"Cálculo!$H$83","v":18284.09}]
["SP","São Paulo","Mogi-Mirim","ARSESP","COMGÁS","Industrial","Mensal",0,50000,{"$f":"Cálculo!$G$86","v":4.726},{"$f":"Cálculo!$H$86","v":387.36}]
["SP","São Paulo","Mogi-Mirim","ARSESP","COMGÁS","Industrial","Mensal",50000.01,300000,{"$f":"Cálculo!$G$87","v":3.5019999999999998},{"$f":"Cálculo!$H$87","v":61597.41}]
["SP","São Paulo","Mogi-Mirim","ARSESP","COMGÁS","Industrial","Mensal",300000.01,500000,{"$f":"Cálculo!$G$88","v":3.36},{"$f":"Cálculo!$H$88","v":110975.06}]
["SP","São Paulo","Mogi-Mirim","ARSESP","COMGÁS","Industrial","Mensal",500000.01,1000000,{"$f":"Cálculo!$G$89","v":3.3340000000000001},{"$f":"Cálculo!$H$89","v":124035.06}]
["SP","São Paulo","Mogi-Mirim","ARSESP","COMGÁS","Industrial","Mensal",1000000.01,2000000,{"$f":"Cálculo!$G$90","v":3.2810000000000001},{"$f":"Cálculo!$H$90","v":177422.21}]
["SP","São Paulo","Mogi-Mirim","ARSESP","COMGÁS","Industrial","Mensal",2000000.01,null,{"$f":"Cálculo!$G$91","v":3.2330000000000001},{"$f":"Cálculo!$H$91","v":316707.87}]
["SP","São Paulo","Mogi-Mirim","ARSESP","COMGÁS","GNV","Faixa Única",null,null,{"$f":"Cálculo!$G$94","v":3.2148460000000001}]
["SP","São Paulo","Mombuca","ARSESP","COMGÁS","Residencial","Mensal",0,1,{"$f":"Cálculo!$G$66","v":3.2869999999999999},{"$f":"Cálculo!$H$66","v":11.39}]
["SP","São Paulo","Mombuca","ARSESP","COMGÁS","Residencial","Mensal",1.01,3,{"$f":"Cálculo!$G$67","v":10.834},{"$f":"Cálculo!$H$67","v":14.87}]
["SP","São Paulo","Mombuca","ARSESP","COMGÁS","Residencial","Mensal",3.01,7,{"$f":"Cálculo!$G$68","v":5.6470000000000002},{"$f":"Cálculo!$H$68","v":14.87}]
["SP","São Paulo","Mombuca","ARSESP","COMGÁS","Residencial","Mensal",7.01,14,{"$f":"Cálculo!$G$69","v":9.3699999999999992},{"$f":"Cálculo!$H$69","v":16.739999999999998}]
["SP","São Paulo","Mombuca","ARSESP","COMGÁS","Residencial","Mensal",14.01,34,{"$f":"Cálculo!$G$70","v":11.132},{"$f":"Cálculo!$H$70","v":18.600000000000001}]
["SP","São Paulo","Mombuca","ARSESP","COMGÁS","Residencial","Mensal",34.01,600,{"$f":"Cálculo!$G$71","v":11.92},{"$f":"Cálculo!$H$71","v":18.600000000000001}]
["SP","São Paulo","Mombuca","ARSESP","COMGÁS","Residencial","Mensal",600.01,1000,{"$f":"Cálculo!$G$72","v":10.324},{"$f":"Cálculo!$H$72","v":18.600000000000001}]
["SP","São Paulo","Mombuca","ARSESP","COMGÁS","Residencial","Mensal",1000.01,null,{"$f":"Cálculo!$G$73","v":7.2949999999999999},{"$f":"Cálculo!$H$73","v":18.600000000000001}]
["SP","São Paulo","Mombuca","ARSESP","COMGÁS","Comercial","Mensal",0,0,{"$f":"Cálculo!$G$76","v":0},{"$f":"Cálculo!$H$76","v":0}]
["SP","São Paulo","Mombuca","ARSESP","COMGÁS","Comercial","Mensal",0.01,50,{"$f":"Cálculo!$G$77","v":9.2490000000000006},{"$f":"Cálculo!$H$77","v":60.76}]
["SP","São Paulo","Mombuca","ARSESP","COMGÁS","Comercial","Mensal",50.01,150,{"$f":"Cálculo!$G$78","v":8.49},{"$f":"Cálculo!$H$78","v":98.73}]
["SP","São Paulo","Mombuca","ARSESP","COMGÁS","Comercial","Mensal",150.01,500,{"$f":"Cálculo!$G$79","v":7.9859999999999998},{"$f":"Cálculo!$H$79","v":174.66}]
["SP","São Paulo","Mombuca","ARSESP","COMGÁS","Comercial","Mensal",500.01,2000,{"$f":"Cálculo!$G$80","v":7.5380000000000003},{"$f":"Cálculo!$H$80","v":398.71}]
["SP","São Paulo","Mombuca","ARSESP","COMGÁS","Comercial","Mensal",2000.01,3500,{"$f":"Cálculo!$G$81","v":6.819},{"$f":"Cálculo!$H$81","v":1837.86}]
["SP","São Paulo","Mombuca","ARSESP","COMGÁS","Comercial","Mensal",3500.01,50000,{"$f":"Cálculo!$G$82","v":5.3760000000000003},{"$f":"Cálculo!$H$82","v":6892.16}]
["SP","São Paulo","Mombuca","ARSESP","COMGÁS","Comercial","Mensal",50000.01,null,{"$f":"Cálculo!$G$83","v":5.1479999999999997},{"$f":"Cálculo!$H$83","v":18284.09}]
["SP","São Paulo","Mombuca","ARSESP","COMGÁS","Industrial","Mensal",0,50000,{"$f":"Cálculo!$G$86","v":4.726},{"$f":"Cálculo!$H$86","v":387.36}]
["SP","São Paulo","Mombuca","ARSESP","COMGÁS","Industrial","Mensal",50000.01,300000,{"$f":"Cálculo!$G$87","v":3.5019999999999998},{"$f":"Cálculo!$H$87","v":61597.41}]
["SP","São Paulo","Mombuca","ARSESP","COMGÁS","Industrial","Mensal",300000.01,500000,{"$f":"Cálculo!$G$88","v":3.36},{"$f":"Cálculo!$H$88","v":110975.06}]
["SP","São Paulo","Mombuca","ARSESP","COMGÁS","Industrial","Mensal",500000.01,1000000,{"$f":"Cálculo!$G$89","v":3.3340000000000001},{"$f":"Cálculo!$H$89","v":124035.06}]
["SP","São Paulo","Mombuca","ARSESP","COMGÁS","Industrial","Mensal",1000000.01,2000000,{"$f":"Cálculo!$G$90","v":3.2810000000000001},{"$f":"Cálculo!$H$90","v":177422.21}]
["SP","São Paulo","Mombuca","ARSESP","COMGÁS","Industrial","Mensal",2000000.01,null,{"$f":"Cálculo!$G$91","v":3.2330000000000001},{"$f":"Cálculo!$H$91","v":316707.87}]
["SP","São Paulo","Mombuca","ARSESP","COMGÁS","GNV","Faixa Única",null,null,{"$f":"Cálculo!$G$94","v":3.2148460000000001}]
["SP","São Paulo","Mongaguá","ARSESP","COMGÁS","Residencial","Mensal",0,1,{"$f":"Cálculo!$G$66","v":3.2869999999999999},{"$f":"Cálculo!$H$66","v":11.39}]
["SP","São Paulo","Mongaguá","ARSESP","COMGÁS","Residencial","Mensal",1.01,3,{"$f":"Cálculo!$G$67","v":10.834},{"$f":"Cálculo!$H$67","v":14.87}]
["SP","São Paulo","Mongaguá","ARSESP","COMGÁS","Residencial","Mensal",3.01,7,{"$f":"Cálculo!$G$68","v":5.6470000000000002},{"$f":"Cálculo!$H$68","v":14.87}]
["SP","São Paulo","Mongaguá","ARSESP","COMGÁS","Residencial","Mensal",7.01,14,{"$f":"Cálculo!$G$69","v":9.3699999999999992},{"$f":"Cálculo!$H$69","v":16.739999999999998}]
["SP","São Paulo","Mongaguá","ARSESP","COMGÁS","Residencial","Mensal",14.01,34,{"$f":"Cálculo!$G$70","v":11.132},{"$f":"Cálculo!$H$70","v":18.600000000000001}]
["SP","São Paulo","Mongaguá","ARSESP","COMGÁS","Residencial","Mensal",34.01,600,{"$f":"Cálculo!$G$71","v":11.92},{"$f":"Cálculo!$H$71","v":18.600000000000001}]
["SP","São Paulo","Mongaguá","ARSESP","COMGÁS","Residencial","Mensal",600.01,1000,{"$f":"Cálculo!$G$72","v":10.324},{"$f":"Cálculo!$H$72","v":18.600000000000001}]
["SP","São Paulo","Mongaguá","ARSESP","COMGÁS","Residencial","Mensal",1000.01,null,{"$f":"Cálculo!$G$73","v":7.2949999999999999},{"$f":"Cálculo!$H$73","v":18.600000000000001}]
["SP","São Paulo","Mongaguá","ARSESP","COMGÁS","Comercial","Mensal",0,0,{"$f":"Cálculo!$G$76","v":0},{"$f":"Cálculo!$H$76","v":0}]
["SP","São Paulo","Mongaguá","ARSESP","COMGÁS","Comercial","Mensal",0.01,50,{"$f":"Cálculo!$G$77","v":9.2490000000000006},{"$f":"Cálculo!$H$77","v":60.76}]
["SP","São Paulo","Mongaguá","ARSESP","COMGÁS","Comercial","Mensal",50.01,150,{"$f":"Cálculo!$G$78","v":8.49},{"$f":"Cálculo!$H$78","v":98.73}]
["SP","São Paulo","Mongaguá","ARSESP","COMGÁS","Comercial","Mensal",150.01,500,{"$f":"Cálculo!$G$79","v":7.9859999999999998},{"$f":"Cálculo!$H$79","v":174.66}]
["SP","São Paulo","Mongaguá","ARSESP","COMGÁS","Comercial","Mensal",500.01,2000,{"$f":"Cálculo!$G$80","v":7.5380000000000003},{"$f":"Cálculo!$H$80","v":398.71}]
["SP","São Paulo","Mongaguá","ARSESP","COMGÁS","Comercial","Mensal",2000.01,3500,{"$f":"Cálculo!$G$81","v":6.819},{"$f":"Cálculo!$H$81","v":1837.86}]
["SP","São Paulo","Mongaguá","ARSESP","COMGÁS","Comercial","Mensal",3500.01,50000,{"$f":"Cálculo!$G$82","v":5.3760000000000003},{"$f":"Cálculo!$H$82","v":6892.16}]
["SP","São Paulo","Mongaguá","ARSESP","COMGÁS","Comercial","Mensal",50000.01,null,{"$f":"Cálculo!$G$83","v":5.1479999999999997},{"$f":"Cálculo!$H$83","v":18284.09}]
["SP","São Paulo","Mongaguá","ARSESP","COMGÁS","Industrial","Mensal",0,50000,{"$f":"Cálculo!$G$86","v":4.726},{"$f":"Cálculo!$H$86","v":387.36}]
["SP","São Paulo","Mongaguá","ARSESP","COMGÁS","Industrial","Mensal",50000.01,300000,{"$f":"Cálculo!$G$87","v":3.5019999999999998},{"$f":"Cálculo!$H$87","v":61597.41}]
["SP","São Paulo","Mongaguá","ARSESP","COMGÁS","Industrial","Mensal",300000.01,500000,{"$f":"Cálculo!$G$88","v":3.36},{"$f":"Cálculo!$H$88","v":110975.06}]
["SP","São Paulo","Mongaguá","ARSESP","COMGÁS","Industrial","Mensal",500000.01,1000000,{"$f":"Cálculo!$G$89","v":3.3340000000000001},{"$f":"Cálculo!$H$89","v":124035.06}]
["SP","São Paulo","Mongaguá","ARSESP","COMGÁS","Industrial","Mensal",1000000.01,2000000,{"$f":"Cálculo!$G$90","v":3.2810000000000001},{"$f":"Cálculo!$H$90","v":177422.21}]
["SP","São Paulo","Mongaguá","ARSESP","COMGÁS","Industrial","Mensal",2000000.01,null,{"$f":"Cálculo!$G$91","v":3.2330000000000001},{"$f":"Cálculo!$H$91","v":316707.87}]
["SP","São Paulo","Mongaguá","ARSESP","COMGÁS","GNV","Faixa Única",null,null,{"$f":"Cálculo!$G$94","v":3.2148460000000001}]
["SP","São Paulo","Monte Alegre do Sul","ARSESP","COMGÁS","Residencial","Mensal",0,1,{"$f":"Cálculo!$G$66","v":3.2869999999999999},{"$f":"Cálculo!$H$66","v":11.39}]
["SP","São Paulo","Monte Alegre do Sul","ARSESP","COMGÁS","Residencial","Mensal",1.01,3,{"$f":"Cálculo!$G$67","v":10.834},{"$f":"Cálculo!$H$67","v":14.87}]
["SP","São Paulo","Monte Alegre do Sul","ARSESP","COMGÁS","Residencial","Mensal",3.01,7,{"$f":"Cálculo!$G$68","v":5.6470000000000002},{"$f":"Cálculo!$H$68","v":14.87}]
["SP","São Paulo","Monte Alegre do Sul","ARSESP","COMGÁS","Residencial","Mensal",7.01,14,{"$f":"Cálculo!$G$69","v":9.3699999999999992},{"$f":"Cálculo!$H$69","v":16.739999999999998}]
["SP","São Paulo","Monte Alegre do Sul","ARSESP","COMGÁS","Residencial","Mensal",14.01,34,{"$f":"Cálculo!$G$70","v":11.132},{"$f":"Cálculo!$H$70","v":18.600000000000001}]
["SP","São Paulo","Monte Alegre do Sul","ARSESP","COMGÁS","Residencial","Mensal",34.01,600,{"$f":"Cálculo!$G$71","v":11.92},{"$f":"Cálculo!$H$71","v":18.600000000000001}]
["SP","São Paulo","Monte Alegre do Sul","ARSESP","COMGÁS","Residencial","Mensal",600.01,1000,{"$f":"Cálculo!$G$72","v":10.324},{"$f":"Cálculo!$H$72","v":18.600000000000001}]
["SP","São Paulo","Monte Alegre do Sul","ARSESP","COMGÁS","Residencial","Mensal",1000.01,null,{"$f":"Cálculo!$G$73","v":7.2949999999999999},{"$f":"Cálculo!$H$73","v":18.600000000000001}]
["SP","São Paulo","Monte Alegre do Sul","ARSESP","COMGÁS","Comercial","Mensal",0,0,{"$f":"Cálculo!$G$76","v":0},{"$f":"Cálculo!$H$76","v":0}]
["SP","São Paulo","Monte Alegre do Sul","ARSESP","COMGÁS","Comercial","Mensal",0.01,50,{"$f":"Cálculo!$G$77","v":9.2490000000000006},{"$f":"Cálculo!$H$77","v":60.76}]
["SP","São Paulo","Monte Alegre do Sul","ARSESP","COMGÁS","Comercial","Mensal",50.01,150,{"$f":"Cálculo!$G$78","v":8.49},{"$f":"Cálculo!$H$78","v":98.73}]
["SP","São Paulo","Monte Alegre do Sul","ARSESP","COMGÁS","Comercial","Mensal",150.01,500,{"$f":"Cálculo!$G$79","v":7.9859999999999998},{"$f":"Cálculo!$H$79","v":174.66}]
["SP","São Paulo","Monte Alegre do Sul","ARSESP","COMGÁS","Comercial","Mensal",500.01,2000,{"$f":"Cálculo!$G$80","v":7.5380000000000003},{"$f":"Cálculo!$H$80","v":398.71}]
["SP","São Paulo","Monte Alegre do Sul","ARSESP","COMGÁS","Comercial","Mensal",2000.01,3500,{"$f":"Cálculo!$G$81","v":6.819},{"$f":"Cálculo!$H$81","v":1837.86}]
["SP","São Paulo","Monte Alegre do Sul","ARSESP","COMGÁS","Comercial","Mensal",3500.01,50000,{"$f":"Cálculo!$G$82","v":5.3760000000000003},{"$f":"Cálculo!$H$82","v":6892.16}]
["SP","São Paulo","Monte Alegre do Sul","ARSESP","COMGÁS","Comercial","Mensal",50000.01,null,{"$f":"Cálculo!$G$83","v":5.1479999999999997},{"$f":"Cálculo!$H$83","v":18284.09}]
["SP","São Paulo","Monte Alegre do Sul","ARSESP","COMGÁS","Industrial","Mensal",0,50000,{"$f":"Cálculo!$G$86","v":4.726},{"$f":"Cálculo!$H$86","v":387.36}]
["SP","São Paulo","Monte Alegre do Sul","ARSESP","COMGÁS","Industrial","Mensal",50000.01,300000,{"$f":"Cálculo!$G$87","v":3.5019999999999998},{"$f":"Cálculo!$H$87","v":61597.41}]
["SP","São Paulo","Monte Alegre do Sul","ARSESP","COMGÁS","Industrial","Mensal",300000.01,500000,{"$f":"Cálculo!$G$88","v":3.36},{"$f":"Cálculo!$H$88","v":110975.06}]
["SP","São Paulo","Monte Alegre do Sul","ARSESP","COMGÁS","Industrial","Mensal",500000.01,1000000,{"$f":"Cálculo!$G$89","v":3.3340000000000001},{"$f":"Cálculo!$H$89","v":124035.06}]
["SP","São Paulo","Monte Alegre do Sul","ARSESP","COMGÁS","Industrial","Mensal",1000000.01,2000000,{"$f":"Cálculo!$G$90","v":3.2810000000000001},{"$f":"Cálculo!$H$90","v":177422.21}]
["SP","São Paulo","Monte Alegre do Sul","ARSESP","COMGÁS","Industrial","Mensal",2000000.01,null,{"$f":"Cálculo!$G$91","v":3.2330000000000001},{"$f":"Cálculo!$H$91","v":316707.87}]
["SP","São Paulo","Monte Alegre do Sul","ARSESP","COMGÁS","GNV","Faixa Única",null,null,{"$f":"Cálculo!$G$94","v":3.2148460000000001}]
["SP","São Paulo","Monte Mor","ARSESP","COMGÁS","Residencial","Mensal",0,1,{"$f":"Cálculo!$G$66","v":3.2869999999999999},{"$f":"Cálculo!$H$66","v":11.39}]
["SP","São Paulo","Monte Mor","ARSESP","COMGÁS","Residencial","Mensal",1.01,3,{"$f":"Cálculo!$G$67","v":10.834},{"$f":"Cálculo!$H$67","v":14.87}]
["SP","São Paulo","Monte Mor","ARSESP","COMGÁS","Residencial","Mensal",3.01,7,{"$f":"Cálculo!$G$68","v":5.6470000000000002},{"$f":"Cálculo!$H$68","v":14.87}]
["SP","São Paulo","Monte Mor","ARSESP","COMGÁS","Residencial","Mensal",7.01,14,{"$f":"Cálculo!$G$69","v":9.3699999999999992},{"$f":"Cálculo!$H$69","v":16.739999999999998}]
["SP","São Paulo","Monte Mor","ARSESP","COMGÁS","Residencial","Mensal",14.01,34,{"$f":"Cálculo!$G$70","v":11.132},{"$f":"Cálculo!$H$70","v":18.600000000000001}]
["SP","São Paulo","Monte Mor","ARSESP","COMGÁS","Residencial","Mensal",34.01,600,{"$f":"Cálculo!$G$71","v":11.92},{"$f":"Cálculo!$H$71","v":18.600000000000001}]
["SP","São Paulo","Monte Mor","ARSESP","COMGÁS","Residencial","Mensal",600.01,1000,{"$f":"Cálculo!$G$72","v":10.324},{"$f":"Cálculo!$H$72","v":18.600000000000001}]
["SP","São Paulo","Monte Mor","ARSESP","COMGÁS","Residencial","Mensal",1000.01,null,{"$f":"Cálculo!$G$73","v":7.2949999999999999},{"$f":"Cálculo!$H$73","v":18.600000000000001}]
["SP","São Paulo","Monte Mor","ARSESP","COMGÁS","Comercial","Mensal",0,0,{"$f":"Cálculo!$G$76","v":0},{"$f":"Cálculo!$H$76","v":0}]
["SP","São Paulo","Monte Mor","ARSESP","COMGÁS","Comercial","Mensal",0.01,50,{"$f":"Cálculo!$G$77","v":9.2490000000000006},{"$f":"Cálculo!$H$77","v":60.76}]
["SP","São Paulo","Monte Mor","ARSESP","COMGÁS","Comercial","Mensal",50.01,150,{"$f":"Cálculo!$G$78","v":8.49},{"$f":"Cálculo!$H$78","v":98.73}]
["SP","São Paulo","Monte Mor","ARSESP","COMGÁS","Comercial","Mensal",150.01,500,{"$f":"Cálculo!$G$79","v":7.9859999999999998},{"$f":"Cálculo!$H$79","v":174.66}]
["SP","São Paulo","Monte Mor","ARSESP","COMGÁS","Comercial","Mensal",500.01,2000,{"$f":"Cálculo!$G$80","v":7.5380000000000003},{"$f":"Cálculo!$H$80","v":398.71}]
["SP","São Paulo","Monte Mor","ARSESP","COMGÁS","Comercial","Mensal",2000.01,3500,{"$f":"Cálculo!$G$81","v":6.819},{"$f":"Cálculo!$H$81","v":1837.86}]
["SP","São Paulo","Monte Mor","ARSESP","COMGÁS","Comercial","Mensal",3500.01,50000,{"$f":"Cálculo!$G$82","v":5.3760000000000003},{"$f":"Cálculo!$H$82","v":6892.16}]
["SP","São Paulo","Monte Mor","ARSESP","COMGÁS","Comercial","Mensal",50000.01,null,{"$f":"Cálculo!$G$83","v":5.1479999999999997},{"$f":"Cálculo!$H$83","v":18284.09}]
["SP","São Paulo","Monte Mor","ARSESP","COMGÁS","Industrial","Mensal",0,50000,{"$f":"Cálculo!$G$86","v":4.726},{"$f":"Cálculo!$H$86","v":387.36}]
["SP","São Paulo","Monte Mor","ARSESP","COMGÁS","Industrial","Mensal",50000.01,300000,{"$f":"Cálculo!$G$87","v":3.5019999999999998},{"$f":"Cálculo!$H$87","v":61597.41}]
["SP","São Paulo","Monte Mor","ARSESP","COMGÁS","Industrial","Mensal",300000.01,500000,{"$f":"Cálculo!$G$88","v":3.36},{"$f":"Cálculo!$H$88","v":110975.06}]
["SP","São Paulo","Monte Mor","ARSESP","COMGÁS","Industrial","Mensal",500000.01,1000000,{"$f":"Cálculo!$G$89","v":3.3340000000000001},{"$f":"Cálculo!$H$89","v":124035.06}]
["SP","São Paulo","Monte Mor","ARSESP","COMGÁS","Industrial","Mensal",1000000.01,2000000,{"$f":"Cálculo!$G$90","v":3.2810000000000001},{"$f":"Cálculo!$H$90","v":177422.21}]
["SP","São Paulo","Monte Mor","ARSESP","COMGÁS","Industrial","Mensal",2000000.01,null,{"$f":"Cálculo!$G$91","v":3.2330000000000001},{"$f":"Cálculo!$H$91","v":316707.87}]
["SP","São Paulo","Monte Mor","ARSESP","COMGÁS","GNV","Faixa Única",null,null,{"$f":"Cálculo!$G$94","v":3.2148460000000001}]
["SP","São Paulo","Monteiro Lobato","ARSESP","COMGÁS","Residencial","Mensal",0,1,{"$f":"Cálculo!$G$66","v":3.2869999999999999},{"$f":"Cálculo!$H$66","v":11.39}]
["SP","São Paulo","Monteiro Lobato","ARSESP","COMGÁS","Residencial","Mensal",1.01,3,{"$f":"Cálculo!$G$67","v":10.834},{"$f":"Cálculo!$H$67","v":14.87}]
["SP","São Paulo","Monteiro Lobato","ARSESP","COMGÁS","Residencial","Mensal",3.01,7,{"$f":"Cálculo!$G$68","v":5.6470000000000002},{"$f":"Cálculo!$H$68","v":14.87}]
["SP","São Paulo","Monteiro Lobato","ARSESP","COMGÁS","Residencial","Mensal",7.01,14,{"$f":"Cálculo!$G$69","v":9.3699999999999992},{"$f":"Cálculo!$H$69","v":16.739999999999998}]
["SP","São Paulo","Monteiro Lobato","ARSESP","COMGÁS","Residencial","Mensal",14.01,34,{"$f":"Cálculo!$G$70","v":11.132},{"$f":"Cálculo!$H$70","v":18.600000000000001}]
["SP","São Paulo","Monteiro Lobato","ARSESP","COMGÁS","Residencial","Mensal",34.01,600,{"$f":"Cálculo!$G$71","v":11.92},{"$f":"Cálculo!$H$71","v":18.600000000000001}]
["SP","São Paulo","Monteiro Lobato","ARSESP","COMGÁS","Residencial","Mensal",600.01,1000,{"$f":"Cálculo!$G$72","v":10.324},{"$f":"Cálculo!$H$72","v":18.600000000000001}]
["SP","São Paulo","Monteiro Lobato","ARSESP","COMGÁS","Residencial","Mensal",1000.01,null,{"$f":"Cálculo!$G$73","v":7.2949999999999999},{"$f":"Cálculo!$H$73","v":18.600000000000001}]
["SP","São Paulo","Monteiro Lobato","ARSESP","COMGÁS","Comercial","Mensal",0,0,{"$f":"Cálculo!$G$76","v":0},{"$f":"Cálculo!$H$76","v":0}]
["SP","São Paulo","Monteiro Lobato","ARSESP","COMGÁS","Comercial","Mensal",0.01,50,{"$f":"Cálculo!$G$77","v":9.2490000000000006},{"$f":"Cálculo!$H$77","v":60.76}]
["SP","São Paulo","Monteiro Lobato","ARSESP","COMGÁS","Comercial","Mensal",50.01,150,{"$f":"Cálculo!$G$78","v":8.49},{"$f":"Cálculo!$H$78","v":98.73}]
["SP","São Paulo","Monteiro Lobato","ARSESP","COMGÁS","Comercial","Mensal",150.01,500,{"$f":"Cálculo!$G$79","v":7.9859999999999998},{"$f":"Cálculo!$H$79","v":174.66}]
["SP","São Paulo","Monteiro Lobato","ARSESP","COMGÁS","Comercial","Mensal",500.01,2000,{"$f":"Cálculo!$G$80","v":7.5380000000000003},{"$f":"Cálculo!$H$80","v":398.71}]
["SP","São Paulo","Monteiro Lobato","ARSESP","COMGÁS","Comercial","Mensal",2000.01,3500,{"$f":"Cálculo!$G$81","v":6.819},{"$f":"Cálculo!$H$81","v":1837.86}]
["SP","São Paulo","Monteiro Lobato","ARSESP","COMGÁS","Comercial","Mensal",3500.01,50000,{"$f":"Cálculo!$G$82","v":5.3760000000000003},{"$f":"Cálculo!$H$82","v":6892.16}]
["SP","São Paulo","Monteiro Lobato","ARSESP","COMGÁS","Comercial","Mensal",50000.01,null,{"$f":"Cálculo!$G$83","v":5.1479999999999997},{"$f":"Cálculo!$H$83","v":18284.09}]
["SP","São Paulo","Monteiro Lobato","ARSESP","COMGÁS","Industrial","Mensal",0,50000,{"$f":"Cálculo!$G$86","v":4.726},{"$f":"Cálculo!$H$86","v":387.36}]
["SP","São Paulo","Monteiro Lobato","ARSESP","COMGÁS","Industrial","Mensal",50000.01,300000,{"$f":"Cálculo!$G$87","v":3.5019999999999998},{"$f":"Cálculo!$H$87","v":61597.41}]
["SP","São Paulo","Monteiro Lobato","ARSESP","COMGÁS","Industrial","Mensal",300000.01,500000,{"$f":"Cálculo!$G$88","v":3.36},{"$f":"Cálculo!$H$88","v":110975.06}]
["SP","São Paulo","Monteiro Lobato","ARSESP","COMGÁS","Industrial","Mensal",500000.01,1000000,{"$f":"Cálculo!$G$89","v":3.3340000000000001},{"$f":"Cálculo!$H$89","v":124035.06}]
["SP","São Paulo","Monteiro Lobato","ARSESP","COMGÁS","Industrial","Mensal",1000000.01,2000000,{"$f":"Cálculo!$G$90","v":3.2810000000000001},{"$f":"Cálculo!$H$90","v":177422.21}]
["SP","São Paulo","Monteiro Lobato","ARSESP","COMGÁS","Industrial","Mensal",2000000.01,null,{"$f":"Cálculo!$G$91","v":3.2330000000000001},{"$f":"Cálculo!$H$91","v":316707.87}]
["SP","São Paulo","Monteiro Lobato","ARSESP","COMGÁS","GNV","Faixa Única",null,null,{"$f":"Cálculo!$G$94","v":3.2148460000000001}]
["SP","São Paulo","Morungaba","ARSESP","COMGÁS","Residencial","Mensal",0,1,{"$f":"Cálculo!$G$66","v":3.2869999999999999},{"$f":"Cálculo!$H$66","v":11.39}]
["SP","São Paulo","Morungaba","ARSESP","COMGÁS","Residencial","Mensal",1.01,3,{"$f":"Cálculo!$G$67","v":10.834},{"$f":"Cálculo!$H$67","v":14.87}]
["SP","São Paulo","Morungaba","ARSESP","COMGÁS","Residencial","Mensal",3.01,7,{"$f":"Cálculo!$G$68","v":5.6470000000000002},{"$f":"Cálculo!$H$68","v":14.87}]
["SP","São Paulo","Morungaba","ARSESP","COMGÁS","Residencial","Mensal",7.01,14,{"$f":"Cálculo!$G$69","v":9.3699999999999992},{"$f":"Cálculo!$H$69","v":16.739999999999998}]
["SP","São Paulo","Morungaba","ARSESP","COMGÁS","Residencial","Mensal",14.01,34,{"$f":"Cálculo!$G$70","v":11.132},{"$f":"Cálculo!$H$70","v":18.600000000000001}]
["SP","São Paulo","Morungaba","ARSESP","COMGÁS","Residencial","Mensal",34.01,600,{"$f":"Cálculo!$G$71","v":11.92},{"$f":"Cálculo!$H$71","v":18.600000000000001}]
["SP","São Paulo","Morungaba","ARSESP","COMGÁS","Residencial","Mensal",600.01,1000,{"$f":"Cálculo!$G$72","v":10.324},{"$f":"Cálculo!$H$72","v":18.600000000000001}]
["SP","São Paulo","Morungaba","ARSESP","COMGÁS","Residencial","Mensal",1000.01,null,{"$f":"Cálculo!$G$73","v":7.2949999999999999},{"$f":"Cálculo!$H$73","v":18.600000000000001}]
["SP","São Paulo","Morungaba","ARSESP","COMGÁS","Comercial","Mensal",0,0,{"$f":"Cálculo!$G$76","v":0},{"$f":"Cálculo!$H$76","v":0}]
["SP","São Paulo","Morungaba","ARSESP","COMGÁS","Comercial","Mensal",0.01,50,{"$f":"Cálculo!$G$77","v":9.2490000000000006},{"$f":"Cálculo!$H$77","v":60.76}]
["SP","São Paulo","Morungaba","ARSESP","COMGÁS","Comercial","Mensal",50.01,150,{"$f":"Cálculo!$G$78","v":8.49},{"$f":"Cálculo!$H$78","v":98.73}]
["SP","São Paulo","Morungaba","ARSESP","COMGÁS","Comercial","Mensal",150.01,500,{"$f":"Cálculo!$G$79","v":7.9859999999999998},{"$f":"Cálculo!$H$79","v":174.66}]
["SP","São Paulo","Morungaba","ARSESP","COMGÁS","Comercial","Mensal",500.01,2000,{"$f":"Cálculo!$G$80","v":7.5380000000000003},{"$f":"Cálculo!$H$80","v":398.71}]
["SP","São Paulo","Morungaba","ARSESP","COMGÁS","Comercial","Mensal",2000.01,3500,{"$f":"Cálculo!$G$81","v":6.819},{"$f":"Cálculo!$H$81","v":1837.86}]
["SP","São Paulo","Morungaba","ARSESP","COMGÁS","Comercial","Mensal",3500.01,50000,{"$f":"Cálculo!$G$82","v":5.3760000000000003},{"$f":"Cálculo!$H$82","v":6892.16}]
["SP","São Paulo","Morungaba","ARSESP","COMGÁS","Comercial","Mensal",50000.01,null,{"$f":"Cálculo!$G$83","v":5.1479999999999997},{"$f":"Cálculo!$H$83","v":18284.09}]
["SP","São Paulo","Morungaba","ARSESP","COMGÁS","Industrial","Mensal",0,50000,{"$f":"Cálculo!$G$86","v":4.726},{"$f":"Cálculo!$H$86","v":387.36}]
["SP","São Paulo","Morungaba","ARSESP","COMGÁS","Industrial","Mensal",50000.01,300000,{"$f":"Cálculo!$G$87","v":3.5019999999999998},{"$f":"Cálculo!$H$87","v":61597.41}]
["SP","São Paulo","Morungaba","ARSESP","COMGÁS","Industrial","Mensal",300000.01,500000,{"$f":"Cálculo!$G$88","v":3.36},{"$f":"Cálculo!$H$88","v":110975.06}]
["SP","São Paulo","Morungaba","ARSESP","COMGÁS","Industrial","Mensal",500000.01,1000000,{"$f":"Cálculo!$G$89","v":3.3340000000000001},{"$f":"Cálculo!$H$89","v":124035.06}]
["SP","São Paulo","Morungaba","ARSESP","COMGÁS","Industrial","Mensal",1000000.01,2000000,{"$f":"Cálculo!$G$90","v":3.2810000000000001},{"$f":"Cálculo!$H$90","v":177422.21}]
["SP","São Paulo","Morungaba","ARSESP","COMGÁS","Industrial","Mensal",2000000.01,null,{"$f":"Cálculo!$G$91","v":3.2330000000000001},{"$f":"Cálculo!$H$91","v":316707.87}]
["SP","São Paulo","Morungaba","ARSESP","COMGÁS","GNV","Faixa Única",null,null,{"$f":"Cálculo!$G$94","v":3.2148460000000001}]
["SP","São Paulo","Natividade da Serra","ARSESP","COMGÁS","Residencial","Mensal",0,1,{"$f":"Cálculo!$G$66","v":3.2869999999999999},{"$f":"Cálculo!$H$66","v":11.39}]
["SP","São Paulo","Natividade da Serra","ARSESP","COMGÁS","Residencial","Mensal",1.01,3,{"$f":"Cálculo!$G$67","v":10.834},{"$f":"Cálculo!$H$67","v":14.87}]
["SP","São Paulo","Natividade da Serra","ARSESP","COMGÁS","Residencial","Mensal",3.01,7,{"$f":"Cálculo!$G$68","v":5.6470000000000002},{"$f":"Cálculo!$H$68","v":14.87}]
["SP","São Paulo","Natividade da Serra","ARSESP","COMGÁS","Residencial","Mensal",7.01,14,{"$f":"Cálculo!$G$69","v":9.3699999999999992},{"$f":"Cálculo!$H$69","v":16.739999999999998}]
["SP","São Paulo","Natividade da Serra","ARSESP","COMGÁS","Residencial","Mensal",14.01,34,{"$f":"Cálculo!$G$70","v":11.132},{"$f":"Cálculo!$H$70","v":18.600000000000001}]
["SP","São Paulo","Natividade da Serra","ARSESP","COMGÁS","Residencial","Mensal",34.01,600,{"$f":"Cálculo!$G$71","v":11.92},{"$f":"Cálculo!$H$71","v":18.600000000000001}]
["SP","São Paulo","Natividade da Serra","ARSESP","COMGÁS","Residencial","Mensal",600.01,1000,{"$f":"Cálculo!$G$72","v":10.324},{"$f":"Cálculo!$H$72","v":18.600000000000001}]
["SP","São Paulo","Natividade da Serra","ARSESP","COMGÁS","Residencial","Mensal",1000.01,null,{"$f":"Cálculo!$G$73","v":7.2949999999999999},{"$f":"Cálculo!$H$73","v":18.600000000000001}]
["SP","São Paulo","Natividade da Serra","ARSESP","COMGÁS","Comercial","Mensal",0,0,{"$f":"Cálculo!$G$76","v":0},{"$f":"Cálculo!$H$76","v":0}]
["SP","São Paulo","Natividade da Serra","ARSESP","COMGÁS","Comercial","Mensal",0.01,50,{"$f":"Cálculo!$G$77","v":9.2490000000000006},{"$f":"Cálculo!$H$77","v":60.76}]
["SP","São Paulo","Natividade da Serra","ARSESP","COMGÁS","Comercial","Mensal",50.01,150,{"$f":"Cálculo!$G$78","v":8.49},{"$f":"Cálculo!$H$78","v":98.73}]
["SP","São Paulo","Natividade da Serra","ARSESP","COMGÁS","Comercial","Mensal",150.01,500,{"$f":"Cálculo!$G$79","v":7.9859999999999998},{"$f":"Cálculo!$H$79","v":174.66}]
["SP","São Paulo","Natividade da Serra","ARSESP","COMGÁS","Comercial","Mensal",500.01,2000,{"$f":"Cálculo!$G$80","v":7.5380000000000003},{"$f":"Cálculo!$H$80","v":398.71}]
["SP","São Paulo","Natividade da Serra","ARSESP","COMGÁS","Comercial","Mensal",2000.01,3500,{"$f":"Cálculo!$G$81","v":6.819},{"$f":"Cálculo!$H$81","v":1837.86}]
["SP","São Paulo","Natividade da Serra","ARSESP","COMGÁS","Comercial","Mensal",3500.01,50000,{"$f":"Cálculo!$G$82","v":5.3760000000000003},{"$f":"Cálculo!$H$82","v":6892.16}]
["SP","São Paulo","Natividade da Serra","ARSESP","COMGÁS","Comercial","Mensal",50000.01,null,{"$f":"Cálculo!$G$83","v":5.1479999999999997},{"$f":"Cálculo!$H$83","v":18284.09}]
["SP","São Paulo","Natividade da Serra","ARSESP","COMGÁS","Industrial","Mensal",0,50000,{"$f":"Cálculo!$G$86","v":4.726},{"$f":"Cálculo!$H$86","v":387.36}]
["SP","São Paulo","Natividade da Serra","ARSESP","COMGÁS","Industrial","Mensal",50000.01,300000,{"$f":"Cálculo!$G$87","v":3.5019999999999998},{"$f":"Cálculo!$H$87","v":61597.41}]
["SP","São Paulo","Natividade da Serra","ARSESP","COMGÁS","Industrial","Mensal",300000.01,500000,{"$f":"Cálculo!$G$88","v":3.36},{"$f":"Cálculo!$H$88","v":110975.06}]
["SP","São Paulo","Natividade da Serra","ARSESP","COMGÁS","Industrial","Mensal",500000.01,1000000,{"$f":"Cálculo!$G$89","v":3.3340000000000001},{"$f":"Cálculo!$H$89","v":124035.06}]
["SP","São Paulo","Natividade da Serra","ARSESP","COMGÁS","Industrial","Mensal",1000000.01,2000000,{"$f":"Cálculo!$G$90","v":3.2810000000000001},{"$f":"Cálculo!$H$90","v":177422.21}]
["SP","São Paulo","Natividade da Serra","ARSESP","COMGÁS","Industrial","Mensal",2000000.01,null,{"$f":"Cálculo!$G$91","v":3.2330000000000001},{"$f":"Cálculo!$H$91","v":316707.87}]
["SP","São Paulo","Natividade da Serra","ARSESP","COMGÁS","GNV","Faixa Única",null,null,{"$f":"Cálculo!$G$94","v":3.2148460000000001}]
["SP","São Paulo","Nazaré Paulista","ARSESP","COMGÁS","Residencial","Mensal",0,1,{"$f":"Cálculo!$G$66","v":3.2869999999999999},{"$f":"Cálculo!$H$66","v":11.39}]
["SP","São Paulo","Nazaré Paulista","ARSESP","COMGÁS","Residencial","Mensal",1.01,3,{"$f":"Cálculo!$G$67","v":10.834},{"$f":"Cálculo!$H$67","v":14.87}]
["SP","São Paulo","Nazaré Paulista","ARSESP","COMGÁS","Residencial","Mensal",3.01,7,{"$f":"Cálculo!$G$68","v":5.6470000000000002},{"$f":"Cálculo!$H$68","v":14.87}]
["SP","São Paulo","Nazaré Paulista","ARSESP","COMGÁS","Residencial","Mensal",7.01,14,{"$f":"Cálculo!$G$69","v":9.3699999999999992},{"$f":"Cálculo!$H$69","v":16.739999999999998}]
["SP","São Paulo","Nazaré Paulista","ARSESP","COMGÁS","Residencial","Mensal",14.01,34,{"$f":"Cálculo!$G$70","v":11.132},{"$f":"Cálculo!$H$70","v":18.600000000000001}]
["SP","São Paulo","Nazaré Paulista","ARSESP","COMGÁS","Residencial","Mensal",34.01,600,{"$f":"Cálculo!$G$71","v":11.92},{"$f":"Cálculo!$H$71","v":18.600000000000001}]
["SP","São Paulo","Nazaré Paulista","ARSESP","COMGÁS","Residencial","Mensal",600.01,1000,{"$f":"Cálculo!$G$72","v":10.324},{"$f":"Cálculo!$H$72","v":18.600000000000001}]
["SP","São Paulo","Nazaré Paulista","ARSESP","COMGÁS","Residencial","Mensal",1000.01,null,{"$f":"Cálculo!$G$73","v":7.2949999999999999},{"$f":"Cálculo!$H$73","v":18.600000000000001}]
["SP","São Paulo","Nazaré Paulista","ARSESP","COMGÁS","Comercial","Mensal",0,0,{"$f":"Cálculo!$G$76","v":0},{"$f":"Cálculo!$H$76","v":0}]
["SP","São Paulo","Nazaré Paulista","ARSESP","COMGÁS","Comercial","Mensal",0.01,50,{"$f":"Cálculo!$G$77","v":9.2490000000000006},{"$f":"Cálculo!$H$77","v":60.76}]
["SP","São Paulo","Nazaré Paulista","ARSESP","COMGÁS","Comercial","Mensal",50.01,150,{"$f":"Cálculo!$G$78","v":8.49},{"$f":"Cálculo!$H$78","v":98.73}]
["SP","São Paulo","Nazaré Paulista","ARSESP","COMGÁS","Comercial","Mensal",150.01,500,{"$f":"Cálculo!$G$79","v":7.9859999999999998},{"$f":"Cálculo!$H$79","v":174.66}]
["SP","São Paulo","Nazaré Paulista","ARSESP","COMGÁS","Comercial","Mensal",500.01,2000,{"$f":"Cálculo!$G$80","v":7.5380000000000003},{"$f":"Cálculo!$H$80","v":398.71}]
["SP","São Paulo","Nazaré Paulista","ARSESP","COMGÁS","Comercial","Mensal",2000.01,3500,{"$f":"Cálculo!$G$81","v":6.819},{"$f":"Cálculo!$H$81","v":1837.86}]
["SP","São Paulo","Nazaré Paulista","ARSESP","COMGÁS","Comercial","Mensal",3500.01,50000,{"$f":"Cálculo!$G$82","v":5.3760000000000003},{"$f":"Cálculo!$H$82","v":6892.16}]
["SP","São Paulo","Nazaré Paulista","ARSESP","COMGÁS","Comercial","Mensal",50000.01,null,{"$f":"Cálculo!$G$83","v":5.1479999999999997},{"$f":"Cálculo!$H$83","v":18284.09}]
["SP","São Paulo","Nazaré Paulista","ARSESP","COMGÁS","Industrial","Mensal",0,50000,{"$f":"Cálculo!$G$86","v":4.726},{"$f":"Cálculo!$H$86","v":387.36}]
["SP","São Paulo","Nazaré Paulista","ARSESP","COMGÁS","Industrial","Mensal",50000.01,300000,{"$f":"Cálculo!$G$87","v":3.5019999999999998},{"$f":"Cálculo!$H$87","v":61597.41}]
["SP","São Paulo","Nazaré Paulista","ARSESP","COMGÁS","Industrial","Mensal",300000.01,500000,{"$f":"Cálculo!$G$88","v":3.36},{"$f":"Cálculo!$H$88","v":110975.06}]
["SP","São Paulo","Nazaré Paulista","ARSESP","COMGÁS","Industrial","Mensal",500000.01,1000000,{"$f":"Cálculo!$G$89","v":3.3340000000000001},{"$f":"Cálculo!$H$89","v":124035.06}]
["SP","São Paulo","Nazaré Paulista","ARSESP","COMGÁS","Industrial","Mensal",1000000.01,2000000,{"$f":"Cálculo!$G$90","v":3.2810000000000001},{"$f":"Cálculo!$H$90","v":177422.21}]
["SP","São Paulo","Nazaré Paulista","ARSESP","COMGÁS","Industrial","Mensal",2000000.01,null,{"$f":"Cálculo!$G$91","v":3.2330000000000001},{"$f":"Cálculo!$H$91","v":316707.87}]
["SP","São Paulo","Nazaré Paulista","ARSESP","COMGÁS","GNV","Faixa Única",null,null,{"$f":"Cálculo!$G$94","v":3.2148460000000001}]
["SP","São Paulo","Nova Odessa","ARSESP","COMGÁS","Residencial","Mensal",0,1,{"$f":"Cálculo!$G$66","v":3.2869999999999999},{"$f":"Cálculo!$H$66","v":11.39}]
["SP","São Paulo","Nova Odessa","ARSESP","COMGÁS","Residencial","Mensal",1.01,3,{"$f":"Cálculo!$G$67","v":10.834},{"$f":"Cálculo!$H$67","v":14.87}]
["SP","São Paulo","Nova Odessa","ARSESP","COMGÁS","Residencial","Mensal",3.01,7,{"$f":"Cálculo!$G$68","v":5.6470000000000002},{"$f":"Cálculo!$H$68","v":14.87}]
["SP","São Paulo","Nova Odessa","ARSESP","COMGÁS","Residencial","Mensal",7.01,14,{"$f":"Cálculo!$G$69","v":9.3699999999999992},{"$f":"Cálculo!$H$69","v":16.739999999999998}]
["SP","São Paulo","Nova Odessa","ARSESP","COMGÁS","Residencial","Mensal",14.01,34,{"$f":"Cálculo!$G$70","v":11.132},{"$f":"Cálculo!$H$70","v":18.600000000000001}]
["SP","São Paulo","Nova Odessa","ARSESP","COMGÁS","Residencial","Mensal",34.01,600,{"$f":"Cálculo!$G$71","v":11.92},{"$f":"Cálculo!$H$71","v":18.600000000000001}]
["SP","São Paulo","Nova Odessa","ARSESP","COMGÁS","Residencial","Mensal",600.01,1000,{"$f":"Cálculo!$G$72","v":10.324},{"$f":"Cálculo!$H$72","v":18.600000000000001}]
["SP","São Paulo","Nova Odessa","ARSESP","COMGÁS","Residencial","Mensal",1000.01,null,{"$f":"Cálculo!$G$73","v":7.2949999999999999},{"$f":"Cálculo!$H$73","v":18.600000000000001}]
["SP","São Paulo","Nova Odessa","ARSESP","COMGÁS","Comercial","Mensal",0,0,{"$f":"Cálculo!$G$76","v":0},{"$f":"Cálculo!$H$76","v":0}]
["SP","São Paulo","Nova Odessa","ARSESP","COMGÁS","Comercial","Mensal",0.01,50,{"$f":"Cálculo!$G$77","v":9.2490000000000006},{"$f":"Cálculo!$H$77","v":60.76}]
["SP","São Paulo","Nova Odessa","ARSESP","COMGÁS","Comercial","Mensal",50.01,150,{"$f":"Cálculo!$G$78","v":8.49},{"$f":"Cálculo!$H$78","v":98.73}]
["SP","São Paulo","Nova Odessa","ARSESP","COMGÁS","Comercial","Mensal",150.01,500,{"$f":"Cálculo!$G$79","v":7.9859999999999998},{"$f":"Cálculo!$H$79","v":174.66}]
["SP","São Paulo","Nova Odessa","ARSESP","COMGÁS","Comercial","Mensal",500.01,2000,{"$f":"Cálculo!$G$80","v":7.5380000000000003},{"$f":"Cálculo!$H$80","v":398.71}]
["SP","São Paulo","Nova Odessa","ARSESP","COMGÁS","Comercial","Mensal",2000.01,3500,{"$f":"Cálculo!$G$81","v":6.819},{"$f":"Cálculo!$H$81","v":1837.86}]
["SP","São Paulo","Nova Odessa","ARSESP","COMGÁS","Comercial","Mensal",3500.01,50000,{"$f":"Cálculo!$G$82","v":5.3760000000000003},{"$f":"Cálculo!$H$82","v":6892.16}]
["SP","São Paulo","Nova Odessa","ARSESP","COMGÁS","Comercial","Mensal",50000.01,null,{"$f":"Cálculo!$G$83","v":5.1479999999999997},{"$f":"Cálculo!$H$83","v":18284.09}]
["SP","São Paulo","Nova Odessa","ARSESP","COMGÁS","Industrial","Mensal",0,50000,{"$f":"Cálculo!$G$86","v":4.726},{"$f":"Cálculo!$H$86","v":387.36}]
["SP","São Paulo","Nova Odessa","ARSESP","COMGÁS","Industrial","Mensal",50000.01,300000,{"$f":"Cálculo!$G$87","v":3.5019999999999998},{"$f":"Cálculo!$H$87","v":61597.41}]
["SP","São Paulo","Nova Odessa","ARSESP","COMGÁS","Industrial","Mensal",300000.01,500000,{"$f":"Cálculo!$G$88","v":3.36},{"$f":"Cálculo!$H$88","v":110975.06}]
["SP","São Paulo","Nova Odessa","ARSESP","COMGÁS","Industrial","Mensal",500000.01,1000000,{"$f":"Cálculo!$G$89","v":3.3340000000000001},{"$f":"Cálculo!$H$89","v":124035.06}]
["SP","São Paulo","Nova Odessa","ARSESP","COMGÁS","Industrial","Mensal",1000000.01,2000000,{"$f":"Cálculo!$G$90","v":3.2810000000000001},{"$f":"Cálculo!$H$90","v":177422.21}]
["SP","São Paulo","Nova Odessa","ARSESP","COMGÁS","Industrial","Mensal",2000000.01,null,{"$f":"Cálculo!$G$91","v":3.2330000000000001},{"$f":"Cálculo!$H$91","v":316707.87}]
["SP","São Paulo","Nova Odessa","ARSESP","COMGÁS","GNV","Faixa Única",null,null,{"$f":"Cálculo!$G$94","v":3.2148460000000001}]
["SP","São Paulo","Osasco","ARSESP","COMGÁS","Residencial","Mensal",0,1,{"$f":"Cálculo!$G$66","v":3.2869999999999999},{"$f":"Cálculo!$H$66","v":11.39}]
["SP","São Paulo","Osasco","ARSESP","COMGÁS","Residencial","Mensal",1.01,3,{"$f":"Cálculo!$G$67","v":10.834},{"$f":"Cálculo!$H$67","v":14.87}]
["SP","São Paulo","Osasco","ARSESP","COMGÁS","Residencial","Mensal",3.01,7,{"$f":"Cálculo!$G$68","v":5.6470000000000002},{"$f":"Cálculo!$H$68","v":14.87}]
["SP","São Paulo","Osasco","ARSESP","COMGÁS","Residencial","Mensal",7.01,14,{"$f":"Cálculo!$G$69","v":9.3699999999999992},{"$f":"Cálculo!$H$69","v":16.739999999999998}]
["SP","São Paulo","Osasco","ARSESP","COMGÁS","Residencial","Mensal",14.01,34,{"$f":"Cálculo!$G$70","v":11.132},{"$f":"Cálculo!$H$70","v":18.600000000000001}]
["SP","São Paulo","Osasco","ARSESP","COMGÁS","Residencial","Mensal",34.01,600,{"$f":"Cálculo!$G$71","v":11.92},{"$f":"Cálculo!$H$71","v":18.600000000000001}]
["SP","São Paulo","Osasco","ARSESP","COMGÁS","Residencial","Mensal",600.01,1000,{"$f":"Cálculo!$G$72","v":10.324},{"$f":"Cálculo!$H$72","v":18.600000000000001}]
["SP","São Paulo","Osasco","ARSESP","COMGÁS","Residencial","Mensal",1000.01,null,{"$f":"Cálculo!$G$73","v":7.2949999999999999},{"$f":"Cálculo!$H$73","v":18.600000000000001}]
["SP","São Paulo","Osasco","ARSESP","COMGÁS","Comercial","Mensal",0,0,{"$f":"Cálculo!$G$76","v":0},{"$f":"Cálculo!$H$76","v":0}]
["SP","São Paulo","Osasco","ARSESP","COMGÁS","Comercial","Mensal",0.01,50,{"$f":"Cálculo!$G$77","v":9.2490000000000006},{"$f":"Cálculo!$H$77","v":60.76}]
["SP","São Paulo","Osasco","ARSESP","COMGÁS","Comercial","Mensal",50.01,150,{"$f":"Cálculo!$G$78","v":8.49},{"$f":"Cálculo!$H$78","v":98.73}]
["SP","São Paulo","Osasco","ARSESP","COMGÁS","Comercial","Mensal",150.01,500,{"$f":"Cálculo!$G$79","v":7.9859999999999998},{"$f":"Cálculo!$H$79","v":174.66}]
["SP","São Paulo","Osasco","ARSESP","COMGÁS","Comercial","Mensal",500.01,2000,{"$f":"Cálculo!$G$80","v":7.5380000000000003},{"$f":"Cálculo!$H$80","v":398.71}]
["SP","São Paulo","Osasco","ARSESP","COMGÁS","Comercial","Mensal",2000.01,3500,{"$f":"Cálculo!$G$81","v":6.819},{"$f":"Cálculo!$H$81","v":1837.86}]
["SP","São Paulo","Osasco","ARSESP","COMGÁS","Comercial","Mensal",3500.01,50000,{"$f":"Cálculo!$G$82","v":5.3760000000000003},{"$f":"Cálculo!$H$82","v":6892.16}]
["SP","São Paulo","Osasco","ARSESP","COMGÁS","Comercial","Mensal",50000.01,null,{"$f":"Cálculo!$G$83","v":5.1479999999999997},{"$f":"Cálculo!$H$83","v":18284.09}]
["SP","São Paulo","Osasco","ARSESP","COMGÁS","Industrial","Mensal",0,50000,{"$f":"Cálculo!$G$86","v":4.726},{"$f":"Cálculo!$H$86","v":387.36}]
["SP","São Paulo","Osasco","ARSESP","COMGÁS","Industrial","Mensal",50000.01,300000,{"$f":"Cálculo!$G$87","v":3.5019999999999998},{"$f":"Cálculo!$H$87","v":61597.41}]
["SP","São Paulo","Osasco","ARSESP","COMGÁS","Industrial","Mensal",300000.01,500000,{"$f":"Cálculo!$G$88","v":3.36},{"$f":"Cálculo!$H$88","v":110975.06}]
["SP","São Paulo","Osasco","ARSESP","COMGÁS","Industrial","Mensal",500000.01,1000000,{"$f":"Cálculo!$G$89","v":3.3340000000000001},{"$f":"Cálculo!$H$89","v":124035.06}]
["SP","São Paulo","Osasco","ARSESP","COMGÁS","Industrial","Mensal",1000000.01,2000000,{"$f":"Cálculo!$G$90","v":3.2810000000000001},{"$f":"Cálculo!$H$90","v":177422.21}]
["SP","São Paulo","Osasco","ARSESP","COMGÁS","Industrial","Mensal",2000000.01,null,{"$f":"Cálculo!$G$91","v":3.2330000000000001},{"$f":"Cálculo!$H$91","v":316707.87}]
["SP","São Paulo","Osasco","ARSESP","COMGÁS","GNV","Faixa Única",null,null,{"$f":"Cálculo!$G$94","v":3.2148460000000001}]
["SP","São Paulo","Paraibuna","ARSESP","COMGÁS","Residencial","Mensal",0,1,{"$f":"Cálculo!$G$66","v":3.2869999999999999},{"$f":"Cálculo!$H$66","v":11.39}]
["SP","São Paulo","Paraibuna","ARSESP","COMGÁS","Residencial","Mensal",1.01,3,{"$f":"Cálculo!$G$67","v":10.834},{"$f":"Cálculo!$H$67","v":14.87}]
["SP","São Paulo","Paraibuna","ARSESP","COMGÁS","Residencial","Mensal",3.01,7,{"$f":"Cálculo!$G$68","v":5.6470000000000002},{"$f":"Cálculo!$H$68","v":14.87}]
["SP","São Paulo","Paraibuna","ARSESP","COMGÁS","Residencial","Mensal",7.01,14,{"$f":"Cálculo!$G$69","v":9.3699999999999992},{"$f":"Cálculo!$H$69","v":16.739999999999998}]
["SP","São Paulo","Paraibuna","ARSESP","COMGÁS","Residencial","Mensal",14.01,34,{"$f":"Cálculo!$G$70","v":11.132},{"$f":"Cálculo!$H$70","v":18.600000000000001}]
["SP","São Paulo","Paraibuna","ARSESP","COMGÁS","Residencial","Mensal",34.01,600,{"$f":"Cálculo!$G$71","v":11.92},{"$f":"Cálculo!$H$71","v":18.600000000000001}]
["SP","São Paulo","Paraibuna","ARSESP","COMGÁS","Residencial","Mensal",600.01,1000,{"$f":"Cálculo!$G$72","v":10.324},{"$f":"Cálculo!$H$72","v":18.600000000000001}]
["SP","São Paulo","Paraibuna","ARSESP","COMGÁS","Residencial","Mensal",1000.01,null,{"$f":"Cálculo!$G$73","v":7.2949999999999999},{"$f":"Cálculo!$H$73","v":18.600000000000001}]
["SP","São Paulo","Paraibuna","ARSESP","COMGÁS","Comercial","Mensal",0,0,{"$f":"Cálculo!$G$76","v":0},{"$f":"Cálculo!$H$76","v":0}]
["SP","São Paulo","Paraibuna","ARSESP","COMGÁS","Comercial","Mensal",0.01,50,{"$f":"Cálculo!$G$77","v":9.2490000000000006},{"$f":"Cálculo!$H$77","v":60.76}]
["SP","São Paulo","Paraibuna","ARSESP","COMGÁS","Comercial","Mensal",50.01,150,{"$f":"Cálculo!$G$78","v":8.49},{"$f":"Cálculo!$H$78","v":98.73}]
["SP","São Paulo","Paraibuna","ARSESP","COMGÁS","Comercial","Mensal",150.01,500,{"$f":"Cálculo!$G$79","v":7.9859999999999998},{"$f":"Cálculo!$H$79","v":174.66}]
["SP","São Paulo","Paraibuna","ARSESP","COMGÁS","Comercial","Mensal",500.01,2000,{"$f":"Cálculo!$G$80","v":7.5380000000000003},{"$f":"Cálculo!$H$80","v":398.71}]
["SP","São Paulo","Paraibuna","ARSESP","COMGÁS","Comercial","Mensal",2000.01,3500,{"$f":"Cálculo!$G$81","v":6.819},{"$f":"Cálculo!$H$81","v":1837.86}]
["SP","São Paulo","Paraibuna","ARSESP","COMGÁS","Comercial","Mensal",3500.01,50000,{"$f":"Cálculo!$G$82","v":5.3760000000000003},{"$f":"Cálculo!$H$82","v":6892.16}]
["SP","São Paulo","Paraibuna","ARSESP","COMGÁS","Comercial","Mensal",50000.01,null,{"$f":"Cálculo!$G$83","v":5.1479999999999997},{"$f":"Cálculo!$H$83","v":18284.09}]
["SP","São Paulo","Paraibuna","ARSESP","COMGÁS","Industrial","Mensal",0,50000,{"$f":"Cálculo!$G$86","v":4.726},{"$f":"Cálculo!$H$86","v":387.36}]
["SP","São Paulo","Paraibuna","ARSESP","COMGÁS","Industrial","Mensal",50000.01,300000,{"$f":"Cálculo!$G$87","v":3.5019999999999998},{"$f":"Cálculo!$H$87","v":61597.41}]
["SP","São Paulo","Paraibuna","ARSESP","COMGÁS","Industrial","Mensal",300000.01,500000,{"$f":"Cálculo!$G$88","v":3.36},{"$f":"Cálculo!$H$88","v":110975.06}]
["SP","São Paulo","Paraibuna","ARSESP","COMGÁS","Industrial","Mensal",500000.01,1000000,{"$f":"Cálculo!$G$89","v":3.3340000000000001},{"$f":"Cálculo!$H$89","v":124035.06}]
["SP","São Paulo","Paraibuna","ARSESP","COMGÁS","Industrial","Mensal",1000000.01,2000000,{"$f":"Cálculo!$G$90","v":3.2810000000000001},{"$f":"Cálculo!$H$90","v":177422.21}]
["SP","São Paulo","Paraibuna","ARSESP","COMGÁS","Industrial","Mensal",2000000.01,null,{"$f":"Cálculo!$G$91","v":3.2330000000000001},{"$f":"Cálculo!$H$91","v":316707.87}]
["SP","São Paulo","Paraibuna","ARSESP","COMGÁS","GNV","Faixa Única",null,null,{"$f":"Cálculo!$G$94","v":3.2148460000000001}]
["SP","São Paulo","Paulínia","ARSESP","COMGÁS","Residencial","Mensal",0,1,{"$f":"Cálculo!$G$66","v":3.2869999999999999},{"$f":"Cálculo!$H$66","v":11.39}]
["SP","São Paulo","Paulínia","ARSESP","COMGÁS","Residencial","Mensal",1.01,3,{"$f":"Cálculo!$G$67","v":10.834},{"$f":"Cálculo!$H$67","v":14.87}]
["SP","São Paulo","Paulínia","ARSESP","COMGÁS","Residencial","Mensal",3.01,7,{"$f":"Cálculo!$G$68","v":5.6470000000000002},{"$f":"Cálculo!$H$68","v":14.87}]
["SP","São Paulo","Paulínia","ARSESP","COMGÁS","Residencial","Mensal",7.01,14,{"$f":"Cálculo!$G$69","v":9.3699999999999992},{"$f":"Cálculo!$H$69","v":16.739999999999998}]
["SP","São Paulo","Paulínia","ARSESP","COMGÁS","Residencial","Mensal",14.01,34,{"$f":"Cálculo!$G$70","v":11.132},{"$f":"Cálculo!$H$70","v":18.600000000000001}]
["SP","São Paulo","Paulínia","ARSESP","COMGÁS","Residencial","Mensal",34.01,600,{"$f":"Cálculo!$G$71","v":11.92},{"$f":"Cálculo!$H$71","v":18.600000000000001}]
["SP","São Paulo","Paulínia","ARSESP","COMGÁS","Residencial","Mensal",600.01,1000,{"$f":"Cálculo!$G$72","v":10.324},{"$f":"Cálculo!$H$72","v":18.600000000000001}]
["SP","São Paulo","Paulínia","ARSESP","COMGÁS","Residencial","Mensal",1000.01,null,{"$f":"Cálculo!$G$73","v":7.2949999999999999},{"$f":"Cálculo!$H$73","v":18.600000000000001}]
["SP","São Paulo","Paulínia","ARSESP","COMGÁS","Comercial","Mensal",0,0,{"$f":"Cálculo!$G$76","v":0},{"$f":"Cálculo!$H$76","v":0}]
["SP","São Paulo","Paulínia","ARSESP","COMGÁS","Comercial","Mensal",0.01,50,{"$f":"Cálculo!$G$77","v":9.2490000000000006},{"$f":"Cálculo!$H$77","v":60.76}]
["SP","São Paulo","Paulínia","ARSESP","COMGÁS","Comercial","Mensal",50.01,150,{"$f":"Cálculo!$G$78","v":8.49},{"$f":"Cálculo!$H$78","v":98.73}]
["SP","São Paulo","Paulínia","ARSESP","COMGÁS","Comercial","Mensal",150.01,500,{"$f":"Cálculo!$G$79","v":7.9859999999999998},{"$f":"Cálculo!$H$79","v":174.66}]
["SP","São Paulo","Paulínia","ARSESP","COMGÁS","Comercial","Mensal",500.01,2000,{"$f":"Cálculo!$G$80","v":7.5380000000000003},{"$f":"Cálculo!$H$80","v":398.71}]
["SP","São Paulo","Paulínia","ARSESP","COMGÁS","Comercial","Mensal",2000.01,3500,{"$f":"Cálculo!$G$81","v":6.819},{"$f":"Cálculo!$H$81","v":1837.86}]
["SP","São Paulo","Paulínia","ARSESP","COMGÁS","Comercial","Mensal",3500.01,50000,{"$f":"Cálculo!$G$82","v":5.3760000000000003},{"$f":"Cálculo!$H$82","v":6892.16}]
["SP","São Paulo","Paulínia","ARSESP","COMGÁS","Comercial","Mensal",50000.01,null,{"$f":"Cálculo!$G$83","v":5.1479999999999997},{"$f":"Cálculo!$H$83","v":18284.09}]
["SP","São Paulo","Paulínia","ARSESP","COMGÁS","Industrial","Mensal",0,50000,{"$f":"Cálculo!$G$86","v":4.726},{"$f":"Cálculo!$H$86","v":387.36}]
["SP","São Paulo","Paulínia","ARSESP","COMGÁS","Industrial","Mensal",50000.01,300000,{"$f":"Cálculo!$G$87","v":3.5019999999999998},{"$f":"Cálculo!$H$87","v":61597.41}]
["SP","São Paulo","Paulínia","ARSESP","COMGÁS","Industrial","Mensal",300000.01,500000,{"$f":"Cálculo!$G$88","v":3.36},{"$f":"Cálculo!$H$88","v":110975.06}]
["SP","São Paulo","Paulínia","ARSESP","COMGÁS","Industrial","Mensal",500000.01,1000000,{"$f":"Cálculo!$G$89","v":3.3340000000000001},{"$f":"Cálculo!$H$89","v":124035.06}]
["SP","São Paulo","Paulínia","ARSESP","COMGÁS","Industrial","Mensal",1000000.01,2000000,{"$f":"Cálculo!$G$90","v":3.2810000000000001},{"$f":"Cálculo!$H$90","v":177422.21}]
["SP","São Paulo","Paulínia","ARSESP","COMGÁS","Industrial","Mensal",2000000.01,null,{"$f":"Cálculo!$G$91","v":3.2330000000000001},{"$f":"Cálculo!$H$91","v":316707.87}]
["SP","São Paulo","Paulínia","ARSESP","COMGÁS","GNV","Faixa Única",null,null,{"$f":"Cálculo!$G$94","v":3.2148460000000001}]
["SP","São Paulo","Pedra Bela","ARSESP","COMGÁS","Residencial","Mensal",0,1,{"$f":"Cálculo!$G$66","v":3.2869999999999999},{"$f":"Cálculo!$H$66","v":11.39}]
["SP","São Paulo","Pedra Bela","ARSESP","COMGÁS","Residencial","Mensal",1.01,3,{"$f":"Cálculo!$G$67","v":10.834},{"$f":"Cálculo!$H$67","v":14.87}]
["SP","São Paulo","Pedra Bela","ARSESP","COMGÁS","Residencial","Mensal",3.01,7,{"$f":"Cálculo!$G$68","v":5.6470000000000002},{"$f":"Cálculo!$H$68","v":14.87}]
["SP","São Paulo","Pedra Bela","ARSESP","COMGÁS","Residencial","Mensal",7.01,14,{"$f":"Cálculo!$G$69","v":9.3699999999999992},{"$f":"Cálculo!$H$69","v":16.739999999999998}]
["SP","São Paulo","Pedra Bela","ARSESP","COMGÁS","Residencial","Mensal",14.01,34,{"$f":"Cálculo!$G$70","v":11.132},{"$f":"Cálculo!$H$70","v":18.600000000000001}]
["SP","São Paulo","Pedra Bela","ARSESP","COMGÁS","Residencial","Mensal",34.01,600,{"$f":"Cálculo!$G$71","v":11.92},{"$f":"Cálculo!$H$71","v":18.600000000000001}]
["SP","São Paulo","Pedra Bela","ARSESP","COMGÁS","Residencial","Mensal",600.01,1000,{"$f":"Cálculo!$G$72","v":10.324},{"$f":"Cálculo!$H$72","v":18.600000000000001}]
["SP","São Paulo","Pedra Bela","ARSESP","COMGÁS","Residencial","Mensal",1000.01,null,{"$f":"Cálculo!$G$73","v":7.2949999999999999},{"$f":"Cálculo!$H$73","v":18.600000000000001}]
["SP","São Paulo","Pedra Bela","ARSESP","COMGÁS","Comercial","Mensal",0,0,{"$f":"Cálculo!$G$76","v":0},{"$f":"Cálculo!$H$76","v":0}]
["SP","São Paulo","Pedra Bela","ARSESP","COMGÁS","Comercial","Mensal",0.01,50,{"$f":"Cálculo!$G$77","v":9.2490000000000006},{"$f":"Cálculo!$H$77","v":60.76}]
["SP","São Paulo","Pedra Bela","ARSESP","COMGÁS","Comercial","Mensal",50.01,150,{"$f":"Cálculo!$G$78","v":8.49},{"$f":"Cálculo!$H$78","v":98.73}]
["SP","São Paulo","Pedra Bela","ARSESP","COMGÁS","Comercial","Mensal",150.01,500,{"$f":"Cálculo!$G$79","v":7.9859999999999998},{"$f":"Cálculo!$H$79","v":174.66}]
["SP","São Paulo","Pedra Bela","ARSESP","COMGÁS","Comercial","Mensal",500.01,2000,{"$f":"Cálculo!$G$80","v":7.5380000000000003},{"$f":"Cálculo!$H$80","v":398.71}]
["SP","São Paulo","Pedra Bela","ARSESP","COMGÁS","Comercial","Mensal",2000.01,3500,{"$f":"Cálculo!$G$81","v":6.819},{"$f":"Cálculo!$H$81","v":1837.86}]
["SP","São Paulo","Pedra Bela","ARSESP","COMGÁS","Comercial","Mensal",3500.01,50000,{"$f":"Cálculo!$G$82","v":5.3760000000000003},{"$f":"Cálculo!$H$82","v":6892.16}]
["SP","São Paulo","Pedra Bela","ARSESP","COMGÁS","Comercial","Mensal",50000.01,null,{"$f":"Cálculo!$G$83","v":5.1479999999999997},{"$f":"Cálculo!$H$83","v":18284.09}]
["SP","São Paulo","Pedra Bela","ARSESP","COMGÁS","Industrial","Mensal",0,50000,{"$f":"Cálculo!$G$86","v":4.726},{"$f":"Cálculo!$H$86","v":387.36}]
["SP","São Paulo","Pedra Bela","ARSESP","COMGÁS","Industrial","Mensal",50000.01,300000,{"$f":"Cálculo!$G$87","v":3.5019999999999998},{"$f":"Cálculo!$H$87","v":61597.41}]
["SP","São Paulo","Pedra Bela","ARSESP","COMGÁS","Industrial","Mensal",300000.01,500000,{"$f":"Cálculo!$G$88","v":3.36},{"$f":"Cálculo!$H$88","v":110975.06}]
["SP","São Paulo","Pedra Bela","ARSESP","COMGÁS","Industrial","Mensal",500000.01,1000000,{"$f":"Cálculo!$G$89","v":3.3340000000000001},{"$f":"Cálculo!$H$89","v":124035.06}]
["SP","São Paulo","Pedra Bela","ARSESP","COMGÁS","Industrial","Mensal",1000000.01,2000000,{"$f":"Cálculo!$G$90","v":3.2810000000000001},{"$f":"Cálculo!$H$90","v":177422.21}]
["SP","São Paulo","Pedra Bela","ARSESP","COMGÁS","Industrial","Mensal",2000000.01,null,{"$f":"Cálculo!$G$91","v":3.2330000000000001},{"$f":"Cálculo!$H$91","v":316707.87}]
["SP","São Paulo","Pedra Bela","ARSESP","COMGÁS","GNV","Faixa Única",null,null,{"$f":"Cálculo!$G$94","v":3.2148460000000001}]
["SP","São Paulo","Pedreira","ARSESP","COMGÁS","Residencial","Mensal",0,1,{"$f":"Cálculo!$G$66","v":3.2869999999999999},{"$f":"Cálculo!$H$66","v":11.39}]
["SP","São Paulo","Pedreira","ARSESP","COMGÁS","Residencial","Mensal",1.01,3,{"$f":"Cálculo!$G$67","v":10.834},{"$f":"Cálculo!$H$67","v":14.87}]
["SP","São Paulo","Pedreira","ARSESP","COMGÁS","Residencial","Mensal",3.01,7,{"$f":"Cálculo!$G$68","v":5.6470000000000002},{"$f":"Cálculo!$H$68","v":14.87}]
["SP","São Paulo","Pedreira","ARSESP","COMGÁS","Residencial","Mensal",7.01,14,{"$f":"Cálculo!$G$69","v":9.3699999999999992},{"$f":"Cálculo!$H$69","v":16.739999999999998}]
["SP","São Paulo","Pedreira","ARSESP","COMGÁS","Residencial","Mensal",14.01,34,{"$f":"Cálculo!$G$70","v":11.132},{"$f":"Cálculo!$H$70","v":18.600000000000001}]
["SP","São Paulo","Pedreira","ARSESP","COMGÁS","Residencial","Mensal",34.01,600,{"$f":"Cálculo!$G$71","v":11.92},{"$f":"Cálculo!$H$71","v":18.600000000000001}]
["SP","São Paulo","Pedreira","ARSESP","COMGÁS","Residencial","Mensal",600.01,1000,{"$f":"Cálculo!$G$72","v":10.324},{"$f":"Cálculo!$H$72","v":18.600000000000001}]
["SP","São Paulo","Pedreira","ARSESP","COMGÁS","Residencial","Mensal",1000.01,null,{"$f":"Cálculo!$G$73","v":7.2949999999999999},{"$f":"Cálculo!$H$73","v":18.600000000000001}]
["SP","São Paulo","Pedreira","ARSESP","COMGÁS","Comercial","Mensal",0,0,{"$f":"Cálculo!$G$76","v":0},{"$f":"Cálculo!$H$76","v":0}]
["SP","São Paulo","Pedreira","ARSESP","COMGÁS","Comercial","Mensal",0.01,50,{"$f":"Cálculo!$G$77","v":9.2490000000000006},{"$f":"Cálculo!$H$77","v":60.76}]
["SP","São Paulo","Pedreira","ARSESP","COMGÁS","Comercial","Mensal",50.01,150,{"$f":"Cálculo!$G$78","v":8.49},{"$f":"Cálculo!$H$78","v":98.73}]
["SP","São Paulo","Pedreira","ARSESP","COMGÁS","Comercial","Mensal",150.01,500,{"$f":"Cálculo!$G$79","v":7.9859999999999998},{"$f":"Cálculo!$H$79","v":174.66}]
["SP","São Paulo","Pedreira","ARSESP","COMGÁS","Comercial","Mensal",500.01,2000,{"$f":"Cálculo!$G$80","v":7.5380000000000003},{"$f":"Cálculo!$H$80","v":398.71}]
["SP","São Paulo","Pedreira","ARSESP","COMGÁS","Comercial","Mensal",2000.01,3500,{"$f":"Cálculo!$G$81","v":6.819},{"$f":"Cálculo!$H$81","v":1837.86}]
["SP","São Paulo","Pedreira","ARSESP","COMGÁS","Comercial","Mensal",3500.01,50000,{"$f":"Cálculo!$G$82","v":5.3760000000000003},{"$f":"Cálculo!$H$82","v":6892.16}]
["SP","São Paulo","Pedreira","ARSESP","COMGÁS","Comercial","Mensal",50000.01,null,{"$f":"Cálculo!$G$83","v":5.1479999999999997},{"$f":"Cálculo!$H$83","v":18284.09}]
["SP","São Paulo","Pedreira","ARSESP","COMGÁS","Industrial","Mensal",0,50000,{"$f":"Cálculo!$G$86","v":4.726},{"$f":"Cálculo!$H$86","v":387.36}]
["SP","São Paulo","Pedreira","ARSESP","COMGÁS","Industrial","Mensal",50000.01,300000,{"$f":"Cálculo!$G$87","v":3.5019999999999998},{"$f":"Cálculo!$H$87","v":61597.41}]
["SP","São Paulo","Pedreira","ARSESP","COMGÁS","Industrial","Mensal",300000.01,500000,{"$f":"Cálculo!$G$88","v":3.36},{"$f":"Cálculo!$H$88","v":110975.06}]
["SP","São Paulo","Pedreira","ARSESP","COMGÁS","Industrial","Mensal",500000.01,1000000,{"$f":"Cálculo!$G$89","v":3.3340000000000001},{"$f":"Cálculo!$H$89","v":124035.06}]
["SP","São Paulo","Pedreira","ARSESP","COMGÁS","Industrial","Mensal",1000000.01,2000000,{"$f":"Cálculo!$G$90","v":3.2810000000000001},{"$f":"Cálculo!$H$90","v":177422.21}]
["SP","São Paulo","Pedreira","ARSESP","COMGÁS","Industrial","Mensal",2000000.01,null,{"$f":"Cálculo!$G$91","v":3.2330000000000001},{"$f":"Cálculo!$H$91","v":316707.87}]
["SP","São Paulo","Pedreira","ARSESP","COMGÁS","GNV","Faixa Única",null,null,{"$f":"Cálculo!$G$94","v":3.2148460000000001}]
["SP","São Paulo","Peruíbe","ARSESP","COMGÁS","Residencial","Mensal",0,1,{"$f":"Cálculo!$G$66","v":3.2869999999999999},{"$f":"Cálculo!$H$66","v":11.39}]
["SP","São Paulo","Peruíbe","ARSESP","COMGÁS","Residencial","Mensal",1.01,3,{"$f":"Cálculo!$G$67","v":10.834},{"$f":"Cálculo!$H$67","v":14.87}]
["SP","São Paulo","Peruíbe","ARSESP","COMGÁS","Residencial","Mensal",3.01,7,{"$f":"Cálculo!$G$68","v":5.6470000000000002},{"$f":"Cálculo!$H$68","v":14.87}]
["SP","São Paulo","Peruíbe","ARSESP","COMGÁS","Residencial","Mensal",7.01,14,{"$f":"Cálculo!$G$69","v":9.3699999999999992},{"$f":"Cálculo!$H$69","v":16.739999999999998}]
["SP","São Paulo","Peruíbe","ARSESP","COMGÁS","Residencial","Mensal",14.01,34,{"$f":"Cálculo!$G$70","v":11.132},{"$f":"Cálculo!$H$70","v":18.600000000000001}]
["SP","São Paulo","Peruíbe","ARSESP","COMGÁS","Residencial","Mensal",34.01,600,{"$f":"Cálculo!$G$71","v":11.92},{"$f":"Cálculo!$H$71","v":18.600000000000001}]
["SP","São Paulo","Peruíbe","ARSESP","COMGÁS","Residencial","Mensal",600.01,1000,{"$f":"Cálculo!$G$72","v":10.324},{"$f":"Cálculo!$H$72","v":18.600000000000001}]
["SP","São Paulo","Peruíbe","ARSESP","COMGÁS","Residencial","Mensal",1000.01,null,{"$f":"Cálculo!$G$73","v":7.2949999999999999},{"$f":"Cálculo!$H$73","v":18.600000000000001}]
["SP","São Paulo","Peruíbe","ARSESP","COMGÁS","Comercial","Mensal",0,0,{"$f":"Cálculo!$G$76","v":0},{"$f":"Cálculo!$H$76","v":0}]
["SP","São Paulo","Peruíbe","ARSESP","COMGÁS","Comercial","Mensal",0.01,50,{"$f":"Cálculo!$G$77","v":9.2490000000000006},{"$f":"Cálculo!$H$77","v":60.76}]
["SP","São Paulo","Peruíbe","ARSESP","COMGÁS","Comercial","Mensal",50.01,150,{"$f":"Cálculo!$G$78","v":8.49},{"$f":"Cálculo!$H$78","v":98.73}]
["SP","São Paulo","Peruíbe","ARSESP","COMGÁS","Comercial","Mensal",150.01,500,{"$f":"Cálculo!$G$79","v":7.9859999999999998},{"$f":"Cálculo!$H$79","v":174.66}]
["SP","São Paulo","Peruíbe","ARSESP","COMGÁS","Comercial","Mensal",500.01,2000,{"$f":"Cálculo!$G$80","v":7.5380000000000003},{"$f":"Cálculo!$H$80","v":398.71}]
["SP","São Paulo","Peruíbe","ARSESP","COMGÁS","Comercial","Mensal",2000.01,3500,{"$f":"Cálculo!$G$81","v":6.819},{"$f":"Cálculo!$H$81","v":1837.86}]
["SP","São Paulo","Peruíbe","ARSESP","COMGÁS","Comercial","Mensal",3500.01,50000,{"$f":"Cálculo!$G$82","v":5.3760000000000003},{"$f":"Cálculo!$H$82","v":6892.16}]
["SP","São Paulo","Peruíbe","ARSESP","COMGÁS","Comercial","Mensal",50000.01,null,{"$f":"Cálculo!$G$83","v":5.1479999999999997},{"$f":"Cálculo!$H$83","v":18284.09}]
["SP","São Paulo","Peruíbe","ARSESP","COMGÁS","Industrial","Mensal",0,50000,{"$f":"Cálculo!$G$86","v":4.726},{"$f":"Cálculo!$H$86","v":387.36}]
["SP","São Paulo","Peruíbe","ARSESP","COMGÁS","Industrial","Mensal",50000.01,300000,{"$f":"Cálculo!$G$87","v":3.5019999999999998},{"$f":"Cálculo!$H$87","v":61597.41}]
["SP","São Paulo","Peruíbe","ARSESP","COMGÁS","Industrial","Mensal",300000.01,500000,{"$f":"Cálculo!$G$88","v":3.36},{"$f":"Cálculo!$H$88","v":110975.06}]
["SP","São Paulo","Peruíbe","ARSESP","COMGÁS","Industrial","Mensal",500000.01,1000000,{"$f":"Cálculo!$G$89","v":3.3340000000000001},{"$f":"Cálculo!$H$89","v":124035.06}]
["SP","São Paulo","Peruíbe","ARSESP","COMGÁS","Industrial","Mensal",1000000.01,2000000,{"$f":"Cálculo!$G$90","v":3.2810000000000001},{"$f":"Cálculo!$H$90","v":177422.21}]
["SP","São Paulo","Peruíbe","ARSESP","COMGÁS","Industrial","Mensal",2000000.01,null,{"$f":"Cálculo!$G$91","v":3.2330000000000001},{"$f":"Cálculo!$H$91","v":316707.87}]
["SP","São Paulo","Peruíbe","ARSESP","COMGÁS","GNV","Faixa Única",null,null,{"$f":"Cálculo!$G$94","v":3.2148460000000001}]
["SP","São Paulo","Pindamonhangaba","ARSESP","COMGÁS","Residencial","Mensal",0,1,{"$f":"Cálculo!$G$66","v":3.2869999999999999},{"$f":"Cálculo!$H$66","v":11.39}]
["SP","São Paulo","Pindamonhangaba","ARSESP","COMGÁS","Residencial","Mensal",1.01,3,{"$f":"Cálculo!$G$67","v":10.834},{"$f":"Cálculo!$H$67","v":14.87}]
["SP","São Paulo","Pindamonhangaba","ARSESP","COMGÁS","Residencial","Mensal",3.01,7,{"$f":"Cálculo!$G$68","v":5.6470000000000002},{"$f":"Cálculo!$H$68","v":14.87}]
["SP","São Paulo","Pindamonhangaba","ARSESP","COMGÁS","Residencial","Mensal",7.01,14,{"$f":"Cálculo!$G$69","v":9.3699999999999992},{"$f":"Cálculo!$H$69","v":16.739999999999998}]
["SP","São Paulo","Pindamonhangaba","ARSESP","COMGÁS","Residencial","Mensal",14.01,34,{"$f":"Cálculo!$G$70","v":11.132},{"$f":"Cálculo!$H$70","v":18.600000000000001}]
["SP","São Paulo","Pindamonhangaba","ARSESP","COMGÁS","Residencial","Mensal",34.01,600,{"$f":"Cálculo!$G$71","v":11.92},{"$f":"Cálculo!$H$71","v":18.600000000000001}]
["SP","São Paulo","Pindamonhangaba","ARSESP","COMGÁS","Residencial","Mensal",600.01,1000,{"$f":"Cálculo!$G$72","v":10.324},{"$f":"Cálculo!$H$72","v":18.600000000000001}]
["SP","São Paulo","Pindamonhangaba","ARSESP","COMGÁS","Residencial","Mensal",1000.01,null,{"$f":"Cálculo!$G$73","v":7.2949999999999999},{"$f":"Cálculo!$H$73","v":18.600000000000001}]
["SP","São Paulo","Pindamonhangaba","ARSESP","COMGÁS","Comercial","Mensal",0,0,{"$f":"Cálculo!$G$76","v":0},{"$f":"Cálculo!$H$76","v":0}]
["SP","São Paulo","Pindamonhangaba","ARSESP","COMGÁS","Comercial","Mensal",0.01,50,{"$f":"Cálculo!$G$77","v":9.2490000000000006},{"$f":"Cálculo!$H$77","v":60.76}]
["SP","São Paulo","Pindamonhangaba","ARSESP","COMGÁS","Comercial","Mensal",50.01,150,{"$f":"Cálculo!$G$78","v":8.49},{"$f":"Cálculo!$H$78","v":98.73}]
["SP","São Paulo","Pindamonhangaba","ARSESP","COMGÁS","Comercial","Mensal",150.01,500,{"$f":"Cálculo!$G$79","v":7.9859999999999998},{"$f":"Cálculo!$H$79","v":174.66}]
["SP","São Paulo","Pindamonhangaba","ARSESP","COMGÁS","Comercial","Mensal",500.01,2000,{"$f":"Cálculo!$G$80","v":7.5380000000000003},{"$f":"Cálculo!$H$80","v":398.71}]
["SP","São Paulo","Pindamonhangaba","ARSESP","COMGÁS","Comercial","Mensal",2000.01,3500,{"$f":"Cálculo!$G$81","v":6.819},{"$f":"Cálculo!$H$81","v":1837.86}]
["SP","São Paulo","Pindamonhangaba","ARSESP","COMGÁS","Comercial","Mensal",3500.01,50000,{"$f":"Cálculo!$G$82","v":5.3760000000000003},{"$f":"Cálculo!$H$82","v":6892.16}]
["SP","São Paulo","Pindamonhangaba","ARSESP","COMGÁS","Comercial","Mensal",50000.01,null,{"$f":"Cálculo!$G$83","v":5.1479999999999997},{"$f":"Cálculo!$H$83","v":18284.09}]
["SP","São Paulo","Pindamonhangaba","ARSESP","COMGÁS","Industrial","Mensal",0,50000,{"$f":"Cálculo!$G$86","v":4.726},{"$f":"Cálculo!$H$86","v":387.36}]
["SP","São Paulo","Pindamonhangaba","ARSESP","COMGÁS","Industrial","Mensal",50000.01,300000,{"$f":"Cálculo!$G$87","v":3.5019999999999998},{"$f":"Cálculo!$H$87","v":61597.41}]
["SP","São Paulo","Pindamonhangaba","ARSESP","COMGÁS","Industrial","Mensal",300000.01,500000,{"$f":"Cálculo!$G$88","v":3.36},{"$f":"Cálculo!$H$88","v":110975.06}]
["SP","São Paulo","Pindamonhangaba","ARSESP","COMGÁS","Industrial","Mensal",500000.01,1000000,{"$f":"Cálculo!$G$89","v":3.3340000000000001},{"$f":"Cálculo!$H$89","v":124035.06}]
["SP","São Paulo","Pindamonhangaba","ARSESP","COMGÁS","Industrial","Mensal",1000000.01,2000000,{"$f":"Cálculo!$G$90","v":3.2810000000000001},{"$f":"Cálculo!$H$90","v":177422.21}]
["SP","São Paulo","Pindamonhangaba","ARSESP","COMGÁS","Industrial","Mensal",2000000.01,null,{"$f":"Cálculo!$G$91","v":3.2330000000000001},{"$f":"Cálculo!$H$91","v":316707.87}]
["SP","São Paulo","Pindamonhangaba","ARSESP","COMGÁS","GNV","Faixa Única",null,null,{"$f":"Cálculo!$G$94","v":3.2148460000000001}]
["SP","São Paulo","Pinhalzinho","ARSESP","COMGÁS","Residencial","Mensal",0,1,{"$f":"Cálculo!$G$66","v":3.2869999999999999},{"$f":"Cálculo!$H$66","v":11.39}]
["SP","São Paulo","Pinhalzinho","ARSESP","COMGÁS","Residencial","Mensal",1.01,3,{"$f":"Cálculo!$G$67","v":10.834},{"$f":"Cálculo!$H$67","v":14.87}]
["SP","São Paulo","Pinhalzinho","ARSESP","COMGÁS","Residencial","Mensal",3.01,7,{"$f":"Cálculo!$G$68","v":5.6470000000000002},{"$f":"Cálculo!$H$68","v":14.87}]
["SP","São Paulo","Pinhalzinho","ARSESP","COMGÁS","Residencial","Mensal",7.01,14,{"$f":"Cálculo!$G$69","v":9.3699999999999992},{"$f":"Cálculo!$H$69","v":16.739999999999998}]
["SP","São Paulo","Pinhalzinho","ARSESP","COMGÁS","Residencial","Mensal",14.01,34,{"$f":"Cálculo!$G$70","v":11.132},{"$f":"Cálculo!$H$70","v":18.600000000000001}]
["SP","São Paulo","Pinhalzinho","ARSESP","COMGÁS","Residencial","Mensal",34.01,600,{"$f":"Cálculo!$G$71","v":11.92},{"$f":"Cálculo!$H$71","v":18.600000000000001}]
["SP","São Paulo","Pinhalzinho","ARSESP","COMGÁS","Residencial","Mensal",600.01,1000,{"$f":"Cálculo!$G$72","v":10.324},{"$f":"Cálculo!$H$72","v":18.600000000000001}]
["SP","São Paulo","Pinhalzinho","ARSESP","COMGÁS","Residencial","Mensal",1000.01,null,{"$f":"Cálculo!$G$73","v":7.2949999999999999},{"$f":"Cálculo!$H$73","v":18.600000000000001}]
["SP","São Paulo","Pinhalzinho","ARSESP","COMGÁS","Comercial","Mensal",0,0,{"$f":"Cálculo!$G$76","v":0},{"$f":"Cálculo!$H$76","v":0}]
["SP","São Paulo","Pinhalzinho","ARSESP","COMGÁS","Comercial","Mensal",0.01,50,{"$f":"Cálculo!$G$77","v":9.2490000000000006},{"$f":"Cálculo!$H$77","v":60.76}]
["SP","São Paulo","Pinhalzinho","ARSESP","COMGÁS","Comercial","Mensal",50.01,150,{"$f":"Cálculo!$G$78","v":8.49},{"$f":"Cálculo!$H$78","v":98.73}]
["SP","São Paulo","Pinhalzinho","ARSESP","COMGÁS","Comercial","Mensal",150.01,500,{"$f":"Cálculo!$G$79","v":7.9859999999999998},{"$f":"Cálculo!$H$79","v":174.66}]
["SP","São Paulo","Pinhalzinho","ARSESP","COMGÁS","Comercial","Mensal",500.01,2000,{"$f":"Cálculo!$G$80","v":7.5380000000000003},{"$f":"Cálculo!$H$80","v":398.71}]
["SP","São Paulo","Pinhalzinho","ARSESP","COMGÁS","Comercial","Mensal",2000.01,3500,{"$f":"Cálculo!$G$81","v":6.819},{"$f":"Cálculo!$H$81","v":1837.86}]
["SP","São Paulo","Pinhalzinho","ARSESP","COMGÁS","Comercial","Mensal",3500.01,50000,{"$f":"Cálculo!$G$82","v":5.3760000000000003},{"$f":"Cálculo!$H$82","v":6892.16}]
["SP","São Paulo","Pinhalzinho","ARSESP","COMGÁS","Comercial","Mensal",50000.01,null,{"$f":"Cálculo!$G$83","v":5.1479999999999997},{"$f":"Cálculo!$H$83","v":18284.09}]
["SP","São Paulo","Pinhalzinho","ARSESP","COMGÁS","Industrial","Mensal",0,50000,{"$f":"Cálculo!$G$86","v":4.726},{"$f":"Cálculo!$H$86","v":387.36}]
["SP","São Paulo","Pinhalzinho","ARSESP","COMGÁS","Industrial","Mensal",50000.01,300000,{"$f":"Cálculo!$G$87","v":3.5019999999999998},{"$f":"Cálculo!$H$87","v":61597.41}]
["SP","São Paulo","Pinhalzinho","ARSESP","COMGÁS","Industrial","Mensal",300000.01,500000,{"$f":"Cálculo!$G$88","v":3.36},{"$f":"Cálculo!$H$88","v":110975.06}]
["SP","São Paulo","Pinhalzinho","ARSESP","COMGÁS","Industrial","Mensal",500000.01,1000000,{"$f":"Cálculo!$G$89","v":3.3340000000000001},{"$f":"Cálculo!$H$89","v":124035.06}]
["SP","São Paulo","Pinhalzinho","ARSESP","COMGÁS","Industrial","Mensal",1000000.01,2000000,{"$f":"Cálculo!$G$90","v":3.2810000000000001},{"$f":"Cálculo!$H$90","v":177422.21}]
["SP","São Paulo","Pinhalzinho","ARSESP","COMGÁS","Industrial","Mensal",2000000.01,null,{"$f":"Cálculo!$G$91","v":3.2330000000000001},{"$f":"Cálculo!$H$91","v":316707.87}]
["SP","São Paulo","Pinhalzinho","ARSESP","COMGÁS","GNV","Faixa Única",null,null,{"$f":"Cálculo!$G$94","v":3.2148460000000001}]
["SP","São Paulo","Piquete","ARSESP","COMGÁS","Residencial","Mensal",0,1,{"$f":"Cálculo!$G$66","v":3.2869999999999999},{"$f":"Cálculo!$H$66","v":11.39}]
["SP","São Paulo","Piquete","ARSESP","COMGÁS","Residencial","Mensal",1.01,3,{"$f":"Cálculo!$G$67","v":10.834},{"$f":"Cálculo!$H$67","v":14.87}]
["SP","São Paulo","Piquete","ARSESP","COMGÁS","Residencial","Mensal",3.01,7,{"$f":"Cálculo!$G$68","v":5.6470000000000002},{"$f":"Cálculo!$H$68","v":14.87}]
["SP","São Paulo","Piquete","ARSESP","COMGÁS","Residencial","Mensal",7.01,14,{"$f":"Cálculo!$G$69","v":9.3699999999999992},{"$f":"Cálculo!$H$69","v":16.739999999999998}]
["SP","São Paulo","Piquete","ARSESP","COMGÁS","Residencial","Mensal",14.01,34,{"$f":"Cálculo!$G$70","v":11.132},{"$f":"Cálculo!$H$70","v":18.600000000000001}]
["SP","São Paulo","Piquete","ARSESP","COMGÁS","Residencial","Mensal",34.01,600,{"$f":"Cálculo!$G$71","v":11.92},{"$f":"Cálculo!$H$71","v":18.600000000000001}]
["SP","São Paulo","Piquete","ARSESP","COMGÁS","Residencial","Mensal",600.01,1000,{"$f":"Cálculo!$G$72","v":10.324},{"$f":"Cálculo!$H$72","v":18.600000000000001}]
["SP","São Paulo","Piquete","ARSESP","COMGÁS","Residencial","Mensal",1000.01,null,{"$f":"Cálculo!$G$73","v":7.2949999999999999},{"$f":"Cálculo!$H$73","v":18.600000000000001}]
["SP","São Paulo","Piquete","ARSESP","COMGÁS","Comercial","Mensal",0,0,{"$f":"Cálculo!$G$76","v":0},{"$f":"Cálculo!$H$76","v":0}]
["SP","São Paulo","Piquete","ARSESP","COMGÁS","Comercial","Mensal",0.01,50,{"$f":"Cálculo!$G$77","v":9.2490000000000006},{"$f":"Cálculo!$H$77","v":60.76}]
["SP","São Paulo","Piquete","ARSESP","COMGÁS","Comercial","Mensal",50.01,150,{"$f":"Cálculo!$G$78","v":8.49},{"$f":"Cálculo!$H$78","v":98.73}]
["SP","São Paulo","Piquete","ARSESP","COMGÁS","Comercial","Mensal",150.01,500,{"$f":"Cálculo!$G$79","v":7.9859999999999998},{"$f":"Cálculo!$H$79","v":174.66}]
["SP","São Paulo","Piquete","ARSESP","COMGÁS","Comercial","Mensal",500.01,2000,{"$f":"Cálculo!$G$80","v":7.5380000000000003},{"$f":"Cálculo!$H$80","v":398.71}]
["SP","São Paulo","Piquete","ARSESP","COMGÁS","Comercial","Mensal",2000.01,3500,{"$f":"Cálculo!$G$81","v":6.819},{"$f":"Cálculo!$H$81","v":1837.86}]
["SP","São Paulo","Piquete","ARSESP","COMGÁS","Comercial","Mensal",3500.01,50000,{"$f":"Cálculo!$G$82","v":5.3760000000000003},{"$f":"Cálculo!$H$82","v":6892.16}]
["SP","São Paulo","Piquete","ARSESP","COMGÁS","Comercial","Mensal",50000.01,null,{"$f":"Cálculo!$G$83","v":5.1479999999999997},{"$f":"Cálculo!$H$83","v":18284.09}]
["SP","São Paulo","Piquete","ARSESP","COMGÁS","Industrial","Mensal",0,50000,{"$f":"Cálculo!$G$86","v":4.726},{"$f":"Cálculo!$H$86","v":387.36}]
["SP","São Paulo","Piquete","ARSESP","COMGÁS","Industrial","Mensal",50000.01,300000,{"$f":"Cálculo!$G$87","v":3.5019999999999998},{"$f":"Cálculo!$H$87","v":61597.41}]
["SP","São Paulo","Piquete","ARSESP","COMGÁS","Industrial","Mensal",300000.01,500000,{"$f":"Cálculo!$G$88","v":3.36},{"$f":"Cálculo!$H$88","v":110975.06}]
["SP","São Paulo","Piquete","ARSESP","COMGÁS","Industrial","Mensal",500000.01,1000000,{"$f":"Cálculo!$G$89","v":3.3340000000000001},{"$f":"Cálculo!$H$89","v":124035.06}]
["SP","São Paulo","Piquete","ARSESP","COMGÁS","Industrial","Mensal",1000000.01,2000000,{"$f":"Cálculo!$G$90","v":3.2810000000000001},{"$f":"Cálculo!$H$90","v":177422.21}]
["SP","São Paulo","Piquete","ARSESP","COMGÁS","Industrial","Mensal",2000000.01,null,{"$f":"Cálculo!$G$91","v":3.2330000000000001},{"$f":"Cálculo!$H$91","v":316707.87}]
["SP","São Paulo","Piquete","ARSESP","COMGÁS","GNV","Faixa Única",null,null,{"$f":"Cálculo!$G$94","v":3.2148460000000001}]
["SP","São Paulo","Piracaia","ARSESP","COMGÁS","Residencial","Mensal",0,1,{"$f":"Cálculo!$G$66","v":3.2869999999999999},{"$f":"Cálculo!$H$66","v":11.39}]
["SP","São Paulo","Piracaia","ARSESP","COMGÁS","Residencial","Mensal",1.01,3,{"$f":"Cálculo!$G$67","v":10.834},{"$f":"Cálculo!$H$67","v":14.87}]
["SP","São Paulo","Piracaia","ARSESP","COMGÁS","Residencial","Mensal",3.01,7,{"$f":"Cálculo!$G$68","v":5.6470000000000002},{"$f":"Cálculo!$H$68","v":14.87}]
["SP","São Paulo","Piracaia","ARSESP","COMGÁS","Residencial","Mensal",7.01,14,{"$f":"Cálculo!$G$69","v":9.3699999999999992},{"$f":"Cálculo!$H$69","v":16.739999999999998}]
["SP","São Paulo","Piracaia","ARSESP","COMGÁS","Residencial","Mensal",14.01,34,{"$f":"Cálculo!$G$70","v":11.132},{"$f":"Cálculo!$H$70","v":18.600000000000001}]
["SP","São Paulo","Piracaia","ARSESP","COMGÁS","Residencial","Mensal",34.01,600,{"$f":"Cálculo!$G$71","v":11.92},{"$f":"Cálculo!$H$71","v":18.600000000000001}]
["SP","São Paulo","Piracaia","ARSESP","COMGÁS","Residencial","Mensal",600.01,1000,{"$f":"Cálculo!$G$72","v":10.324},{"$f":"Cálculo!$H$72","v":18.600000000000001}]
["SP","São Paulo","Piracaia","ARSESP","COMGÁS","Residencial","Mensal",1000.01,null,{"$f":"Cálculo!$G$73","v":7.2949999999999999},{"$f":"Cálculo!$H$73","v":18.600000000000001}]
["SP","São Paulo","Piracaia","ARSESP","COMGÁS","Comercial","Mensal",0,0,{"$f":"Cálculo!$G$76","v":0},{"$f":"Cálculo!$H$76","v":0}]
["SP","São Paulo","Piracaia","ARSESP","COMGÁS","Comercial","Mensal",0.01,50,{"$f":"Cálculo!$G$77","v":9.2490000000000006},{"$f":"Cálculo!$H$77","v":60.76}]
["SP","São Paulo","Piracaia","ARSESP","COMGÁS","Comercial","Mensal",50.01,150,{"$f":"Cálculo!$G$78","v":8.49},{"$f":"Cálculo!$H$78","v":98.73}]
["SP","São Paulo","Piracaia","ARSESP","COMGÁS","Comercial","Mensal",150.01,500,{"$f":"Cálculo!$G$79","v":7.9859999999999998},{"$f":"Cálculo!$H$79","v":174.66}]
["SP","São Paulo","Piracaia","ARSESP","COMGÁS","Comercial","Mensal",500.01,2000,{"$f":"Cálculo!$G$80","v":7.5380000000000003},{"$f":"Cálculo!$H$80","v":398.71}]
["SP","São Paulo","Piracaia","ARSESP","COMGÁS","Comercial","Mensal",2000.01,3500,{"$f":"Cálculo!$G$81","v":6.819},{"$f":"Cálculo!$H$81","v":1837.86}]
["SP","São Paulo","Piracaia","ARSESP","COMGÁS","Comercial","Mensal",3500.01,50000,{"$f":"Cálculo!$G$82","v":5.3760000000000003},{"$f":"Cálculo!$H$82","v":6892.16}]
["SP","São Paulo","Piracaia","ARSESP","COMGÁS","Comercial","Mensal",50000.01,null,{"$f":"Cálculo!$G$83","v":5.1479999999999997},{"$f":"Cálculo!$H$83","v":18284.09}]
["SP","São Paulo","Piracaia","ARSESP","COMGÁS","Industrial","Mensal",0,50000,{"$f":"Cálculo!$G$86","v":4.726},{"$f":"Cálculo!$H$86","v":387.36}]
["SP","São Paulo","Piracaia","ARSESP","COMGÁS","Industrial","Mensal",50000.01,300000,{"$f":"Cálculo!$G$87","v":3.5019999999999998},{"$f":"Cálculo!$H$87","v":61597.41}]
["SP","São Paulo","Piracaia","ARSESP","COMGÁS","Industrial","Mensal",300000.01,500000,{"$f":"Cálculo!$G$88","v":3.36},{"$f":"Cálculo!$H$88","v":110975.06}]
["SP","São Paulo","Piracaia","ARSESP","COMGÁS","Industrial","Mensal",500000.01,1000000,{"$f":"Cálculo!$G$89","v":3.3340000000000001},{"$f":"Cálculo!$H$89","v":124035.06}]
["SP","São Paulo","Piracaia","ARSESP","COMGÁS","Industrial","Mensal",1000000.01,2000000,{"$f":"Cálculo!$G$90","v":3.2810000000000001},{"$f":"Cálculo!$H$90","v":177422.21}]
["SP","São Paulo","Piracaia","ARSESP","COMGÁS","Industrial","Mensal",2000000.01,null,{"$f":"Cálculo!$G$91","v":3.2330000000000001},{"$f":"Cálculo!$H$91","v":316707.87}]
["SP","São Paulo","Piracaia","ARSESP","COMGÁS","GNV","Faixa Única",null,null,{"$f":"Cálculo!$G$94","v":3.2148460000000001}]
["SP","São Paulo","Piracicaba","ARSESP","COMGÁS","Residencial","Mensal",0,1,{"$f":"Cálculo!$G$66","v":3.2869999999999999},{"$f":"Cálculo!$H$66","v":11.39}]
["SP","São Paulo","Piracicaba","ARSESP","COMGÁS","Residencial","Mensal",1.01,3,{"$f":"Cálculo!$G$67","v":10.834},{"$f":"Cálculo!$H$67","v":14.87}]
["SP","São Paulo","Piracicaba","ARSESP","COMGÁS","Residencial","Mensal",3.01,7,{"$f":"Cálculo!$G$68","v":5.6470000000000002},{"$f":"Cálculo!$H$68","v":14.87}]
["SP","São Paulo","Piracicaba","ARSESP","COMGÁS","Residencial","Mensal",7.01,14,{"$f":"Cálculo!$G$69","v":9.3699999999999992},{"$f":"Cálculo!$H$69","v":16.739999999999998}]
["SP","São Paulo","Piracicaba","ARSESP","COMGÁS","Residencial","Mensal",14.01,34,{"$f":"Cálculo!$G$70","v":11.132},{"$f":"Cálculo!$H$70","v":18.600000000000001}]
["SP","São Paulo","Piracicaba","ARSESP","COMGÁS","Residencial","Mensal",34.01,600,{"$f":"Cálculo!$G$71","v":11.92},{"$f":"Cálculo!$H$71","v":18.600000000000001}]
["SP","São Paulo","Piracicaba","ARSESP","COMGÁS","Residencial","Mensal",600.01,1000,{"$f":"Cálculo!$G$72","v":10.324},{"$f":"Cálculo!$H$72","v":18.600000000000001}]
["SP","São Paulo","Piracicaba","ARSESP","COMGÁS","Residencial","Mensal",1000.01,null,{"$f":"Cálculo!$G$73","v":7.2949999999999999},{"$f":"Cálculo!$H$73","v":18.600000000000001}]
["SP","São Paulo","Piracicaba","ARSESP","COMGÁS","Comercial","Mensal",0,0,{"$f":"Cálculo!$G$76","v":0},{"$f":"Cálculo!$H$76","v":0}]
["SP","São Paulo","Piracicaba","ARSESP","COMGÁS","Comercial","Mensal",0.01,50,{"$f":"Cálculo!$G$77","v":9.2490000000000006},{"$f":"Cálculo!$H$77","v":60.76}]
["SP","São Paulo","Piracicaba","ARSESP","COMGÁS","Comercial","Mensal",50.01,150,{"$f":"Cálculo!$G$78","v":8.49},{"$f":"Cálculo!$H$78","v":98.73}]
["SP","São Paulo","Piracicaba","ARSESP","COMGÁS","Comercial","Mensal",150.01,500,{"$f":"Cálculo!$G$79","v":7.9859999999999998},{"$f":"Cálculo!$H$79","v":174.66}]
["SP","São Paulo","Piracicaba","ARSESP","COMGÁS","Comercial","Mensal",500.01,2000,{"$f":"Cálculo!$G$80","v":7.5380000000000003},{"$f":"Cálculo!$H$80","v":398.71}]
["SP","São Paulo","Piracicaba","ARSESP","COMGÁS","Comercial","Mensal",2000.01,3500,{"$f":"Cálculo!$G$81","v":6.819},{"$f":"Cálculo!$H$81","v":1837.86}]
["SP","São Paulo","Piracicaba","ARSESP","COMGÁS","Comercial","Mensal",3500.01,50000,{"$f":"Cálculo!$G$82","v":5.3760000000000003},{"$f":"Cálculo!$H$82","v":6892.16}]
["SP","São Paulo","Piracicaba","ARSESP","COMGÁS","Comercial","Mensal",50000.01,null,{"$f":"Cálculo!$G$83","v":5.1479999999999997},{"$f":"Cálculo!$H$83","v":18284.09}]
["SP","São Paulo","Piracicaba","ARSESP","COMGÁS","Industrial","Mensal",0,50000,{"$f":"Cálculo!$G$86","v":4.726},{"$f":"Cálculo!$H$86","v":387.36}]
["SP","São Paulo","Piracicaba","ARSESP","COMGÁS","Industrial","Mensal",50000.01,300000,{"$f":"Cálculo!$G$87","v":3.5019999999999998},{"$f":"Cálculo!$H$87","v":61597.41}]
["SP","São Paulo","Piracicaba","ARSESP","COMGÁS","Industrial","Mensal",300000.01,500000,{"$f":"Cálculo!$G$88","v":3.36},{"$f":"Cálculo!$H$88","v":110975.06}]
["SP","São Paulo","Piracicaba","ARSESP","COMGÁS","Industrial","Mensal",500000.01,1000000,{"$f":"Cálculo!$G$89","v":3.3340000000000001},{"$f":"Cálculo!$H$89","v":124035.06}]
["SP","São Paulo","Piracicaba","ARSESP","COMGÁS","Industrial","Mensal",1000000.01,2000000,{"$f":"Cálculo!$G$90","v":3.2810000000000001},{"$f":"Cálculo!$H$90","v":177422.21}]
["SP","São Paulo","Piracicaba","ARSESP","COMGÁS","Industrial","Mensal",2000000.01,null,{"$f":"Cálculo!$G$91","v":3.2330000000000001},{"$f":"Cálculo!$H$91","v":316707.87}]
["SP","São Paulo","Piracicaba","ARSESP","COMGÁS","GNV","Faixa Única",null,null,{"$f":"Cálculo!$G$94","v":3.2148460000000001}]
["SP","São Paulo","Pirapora do Bom Jesus","ARSESP","COMGÁS","Residencial","Mensal",0,1,{"$f":"Cálculo!$G$66","v":3.2869999999999999},{"$f":"Cálculo!$H$66","v":11.39}]
["SP","São Paulo","Pirapora do Bom Jesus","ARSESP","COMGÁS","Residencial","Mensal",1.01,3,{"$f":"Cálculo!$G$67","v":10.834},{"$f":"Cálculo!$H$67","v":14.87}]
["SP","São Paulo","Pirapora do Bom Jesus","ARSESP","COMGÁS","Residencial","Mensal",3.01,7,{"$f":"Cálculo!$G$68","v":5.6470000000000002},{"$f":"Cálculo!$H$68","v":14.87}]
["SP","São Paulo","Pirapora do Bom Jesus","ARSESP","COMGÁS","Residencial","Mensal",7.01,14,{"$f":"Cálculo!$G$69","v":9.3699999999999992},{"$f":"Cálculo!$H$69","v":16.739999999999998}]
["SP","São Paulo","Pirapora do Bom Jesus","ARSESP","COMGÁS","Residencial","Mensal",14.01,34,{"$f":"Cálculo!$G$70","v":11.132},{"$f":"Cálculo!$H$70","v":18.600000000000001}]
["SP","São Paulo","Pirapora do Bom Jesus","ARSESP","COMGÁS","Residencial","Mensal",34.01,600,{"$f":"Cálculo!$G$71","v":11.92},{"$f":"Cálculo!$H$71","v":18.600000000000001}]
["SP","São Paulo","Pirapora do Bom Jesus","ARSESP","COMGÁS","Residencial","Mensal",600.01,1000,{"$f":"Cálculo!$G$72","v":10.324},{"$f":"Cálculo!$H$72","v":18.600000000000001}]
["SP","São Paulo","Pirapora do Bom Jesus","ARSESP","COMGÁS","Residencial","Mensal",1000.01,null,{"$f":"Cálculo!$G$73","v":7.2949999999999999},{"$f":"Cálculo!$H$73","v":18.600000000000001}]
["SP","São Paulo","Pirapora do Bom Jesus","ARSESP","COMGÁS","Comercial","Mensal",0,0,{"$f":"Cálculo!$G$76","v":0},{"$f":"Cálculo!$H$76","v":0}]
["SP","São Paulo","Pirapora do Bom Jesus","ARSESP","COMGÁS","Comercial","Mensal",0.01,50,{"$f":"Cálculo!$G$77","v":9.2490000000000006},{"$f":"Cálculo!$H$77","v":60.76}]
["SP","São Paulo","Pirapora do Bom Jesus","ARSESP","COMGÁS","Comercial","Mensal",50.01,150,{"$f":"Cálculo!$G$78","v":8.49},{"$f":"Cálculo!$H$78","v":98.73}]
["SP","São Paulo","Pirapora do Bom Jesus","ARSESP","COMGÁS","Comercial","Mensal",150.01,500,{"$f":"Cálculo!$G$79","v":7.9859999999999998},{"$f":"Cálculo!$H$79","v":174.66}]
["SP","São Paulo","Pirapora do Bom Jesus","ARSESP","COMGÁS","Comercial","Mensal",500.01,2000,{"$f":"Cálculo!$G$80","v":7.5380000000000003},{"$f":"Cálculo!$H$80","v":398.71}]
["SP","São Paulo","Pirapora do Bom Jesus","ARSESP","COMGÁS","Comercial","Mensal",2000.01,3500,{"$f":"Cálculo!$G$81","v":6.819},{"$f":"Cálculo!$H$81","v":1837.86}]
["SP","São Paulo","Pirapora do Bom Jesus","ARSESP","COMGÁS","Comercial","Mensal",3500.01,50000,{"$f":"Cálculo!$G$82","v":5.3760000000000003},{"$f":"Cálculo!$H$82","v":6892.16}]
["SP","São Paulo","Pirapora do Bom Jesus","ARSESP","COMGÁS","Comercial","Mensal",50000.01,null,{"$f":"Cálculo!$G$83","v":5.1479999999999997},{"$f":"Cálculo!$H$83","v":18284.09}]
["SP","São Paulo","Pirapora do Bom Jesus","ARSESP","COMGÁS","Industrial","Mensal",0,50000,{"$f":"Cálculo!$G$86","v":4.726},{"$f":"Cálculo!$H$86","v":387.36}]
["SP","São Paulo","Pirapora do Bom Jesus","ARSESP","COMGÁS","Industrial","Mensal",50000.01,300000,{"$f":"Cálculo!$G$87","v":3.5019999999999998},{"$f":"Cálculo!$H$87","v":61597.41}]
["SP","São Paulo","Pirapora do Bom Jesus","ARSESP","COMGÁS","Industrial","Mensal",300000.01,500000,{"$f":"Cálculo!$G$88","v":3.36},{"$f":"Cálculo!$H$88","v":110975.06}]
["SP","São Paulo","Pirapora do Bom Jesus","ARSESP","COMGÁS","Industrial","Mensal",500000.01,1000000,{"$f":"Cálculo!$G$89","v":3.3340000000000001},{"$f":"Cálculo!$H$89","v":124035.06}]
["SP","São Paulo","Pirapora do Bom Jesus","ARSESP","COMGÁS","Industrial","Mensal",1000000.01,2000000,{"$f":"Cálculo!$G$90","v":3.2810000000000001},{"$f":"Cálculo!$H$90","v":177422.21}]
["SP","São Paulo","Pirapora do Bom Jesus","ARSESP","COMGÁS","Industrial","Mensal",2000000.01,null,{"$f":"Cálculo!$G$91","v":3.2330000000000001},{"$f":"Cálculo!$H$91","v":316707.87}]
["SP","São Paulo","Pirapora do Bom Jesus","ARSESP","COMGÁS","GNV","Faixa Única",null,null,{"$f":"Cálculo!$G$94","v":3.2148460000000001}]
["SP","São Paulo","Pirassununga","ARSESP","COMGÁS","Residencial","Mensal",0,1,{"$f":"Cálculo!$G$66","v":3.2869999999999999},{"$f":"Cálculo!$H$66","v":11.39}]
["SP","São Paulo","Pirassununga","ARSESP","COMGÁS","Residencial","Mensal",1.01,3,{"$f":"Cálculo!$G$67","v":10.834},{"$f":"Cálculo!$H$67","v":14.87}]
["SP","São Paulo","Pirassununga","ARSESP","COMGÁS","Residencial","Mensal",3.01,7,{"$f":"Cálculo!$G$68","v":5.6470000000000002},{"$f":"Cálculo!$H$68","v":14.87}]
["SP","São Paulo","Pirassununga","ARSESP","COMGÁS","Residencial","Mensal",7.01,14,{"$f":"Cálculo!$G$69","v":9.3699999999999992},{"$f":"Cálculo!$H$69","v":16.739999999999998}]
["SP","São Paulo","Pirassununga","ARSESP","COMGÁS","Residencial","Mensal",14.01,34,{"$f":"Cálculo!$G$70","v":11.132},{"$f":"Cálculo!$H$70","v":18.600000000000001}]
["SP","São Paulo","Pirassununga","ARSESP","COMGÁS","Residencial","Mensal",34.01,600,{"$f":"Cálculo!$G$71","v":11.92},{"$f":"Cálculo!$H$71","v":18.600000000000001}]
["SP","São Paulo","Pirassununga","ARSESP","COMGÁS","Residencial","Mensal",600.01,1000,{"$f":"Cálculo!$G$72","v":10.324},{"$f":"Cálculo!$H$72","v":18.600000000000001}]
["SP","São Paulo","Pirassununga","ARSESP","COMGÁS","Residencial","Mensal",1000.01,null,{"$f":"Cálculo!$G$73","v":7.2949999999999999},{"$f":"Cálculo!$H$73","v":18.600000000000001}]
["SP","São Paulo","Pirassununga","ARSESP","COMGÁS","Comercial","Mensal",0,0,{"$f":"Cálculo!$G$76","v":0},{"$f":"Cálculo!$H$76","v":0}]
["SP","São Paulo","Pirassununga","ARSESP","COMGÁS","Comercial","Mensal",0.01,50,{"$f":"Cálculo!$G$77","v":9.2490000000000006},{"$f":"Cálculo!$H$77","v":60.76}]
["SP","São Paulo","Pirassununga","ARSESP","COMGÁS","Comercial","Mensal",50.01,150,{"$f":"Cálculo!$G$78","v":8.49},{"$f":"Cálculo!$H$78","v":98.73}]
["SP","São Paulo","Pirassununga","ARSESP","COMGÁS","Comercial","Mensal",150.01,500,{"$f":"Cálculo!$G$79","v":7.9859999999999998},{"$f":"Cálculo!$H$79","v":174.66}]
["SP","São Paulo","Pirassununga","ARSESP","COMGÁS","Comercial","Mensal",500.01,2000,{"$f":"Cálculo!$G$80","v":7.5380000000000003},{"$f":"Cálculo!$H$80","v":398.71}]
["SP","São Paulo","Pirassununga","ARSESP","COMGÁS","Comercial","Mensal",2000.01,3500,{"$f":"Cálculo!$G$81","v":6.819},{"$f":"Cálculo!$H$81","v":1837.86}]
["SP","São Paulo","Pirassununga","ARSESP","COMGÁS","Comercial","Mensal",3500.01,50000,{"$f":"Cálculo!$G$82","v":5.3760000000000003},{"$f":"Cálculo!$H$82","v":6892.16}]
["SP","São Paulo","Pirassununga","ARSESP","COMGÁS","Comercial","Mensal",50000.01,null,{"$f":"Cálculo!$G$83","v":5.1479999999999997},{"$f":"Cálculo!$H$83","v":18284.09}]
["SP","São Paulo","Pirassununga","ARSESP","COMGÁS","Industrial","Mensal",0,50000,{"$f":"Cálculo!$G$86","v":4.726},{"$f":"Cálculo!$H$86","v":387.36}]
["SP","São Paulo","Pirassununga","ARSESP","COMGÁS","Industrial","Mensal",50000.01,300000,{"$f":"Cálculo!$G$87","v":3.5019999999999998},{"$f":"Cálculo!$H$87","v":61597.41}]
["SP","São Paulo","Pirassununga","ARSESP","COMGÁS","Industrial","Mensal",300000.01,500000,{"$f":"Cálculo!$G$88","v":3.36},{"$f":"Cálculo!$H$88","v":110975.06}]
["SP","São Paulo","Pirassununga","ARSESP","COMGÁS","Industrial","Mensal",500000.01,1000000,{"$f":"Cálculo!$G$89","v":3.3340000000000001},{"$f":"Cálculo!$H$89","v":124035.06}]
["SP","São Paulo","Pirassununga","ARSESP","COMGÁS","Industrial","Mensal",1000000.01,2000000,{"$f":"Cálculo!$G$90","v":3.2810000000000001},{"$f":"Cálculo!$H$90","v":177422.21}]
["SP","São Paulo","Pirassununga","ARSESP","COMGÁS","Industrial","Mensal",2000000.01,null,{"$f":"Cálculo!$G$91","v":3.2330000000000001},{"$f":"Cálculo!$H$91","v":316707.87}]
["SP","São Paulo","Pirassununga","ARSESP","COMGÁS","GNV","Faixa Única",null,null,{"$f":"Cálculo!$G$94","v":3.2148460000000001}]
["SP","São Paulo","Poá","ARSESP","COMGÁS","Residencial","Mensal",0,1,{"$f":"Cálculo!$G$66","v":3.2869999999999999},{"$f":"Cálculo!$H$66","v":11.39}]
["SP","São Paulo","Poá","ARSESP","COMGÁS","Residencial","Mensal",1.01,3,{"$f":"Cálculo!$G$67","v":10.834},{"$f":"Cálculo!$H$67","v":14.87}]
["SP","São Paulo","Poá","ARSESP","COMGÁS","Residencial","Mensal",3.01,7,{"$f":"Cálculo!$G$68","v":5.6470000000000002},{"$f":"Cálculo!$H$68","v":14.87}]
["SP","São Paulo","Poá","ARSESP","COMGÁS","Residencial","Mensal",7.01,14,{"$f":"Cálculo!$G$69","v":9.3699999999999992},{"$f":"Cálculo!$H$69","v":16.739999999999998}]
["SP","São Paulo","Poá","ARSESP","COMGÁS","Residencial","Mensal",14.01,34,{"$f":"Cálculo!$G$70","v":11.132},{"$f":"Cálculo!$H$70","v":18.600000000000001}]
["SP","São Paulo","Poá","ARSESP","COMGÁS","Residencial","Mensal",34.01,600,{"$f":"Cálculo!$G$71","v":11.92},{"$f":"Cálculo!$H$71","v":18.600000000000001}]
["SP","São Paulo","Poá","ARSESP","COMGÁS","Residencial","Mensal",600.01,1000,{"$f":"Cálculo!$G$72","v":10.324},{"$f":"Cálculo!$H$72","v":18.600000000000001}]
["SP","São Paulo","Poá","ARSESP","COMGÁS","Residencial","Mensal",1000.01,null,{"$f":"Cálculo!$G$73","v":7.2949999999999999},{"$f":"Cálculo!$H$73","v":18.600000000000001}]
["SP","São Paulo","Poá","ARSESP","COMGÁS","Comercial","Mensal",0,0,{"$f":"Cálculo!$G$76","v":0},{"$f":"Cálculo!$H$76","v":0}]
["SP","São Paulo","Poá","ARSESP","COMGÁS","Comercial","Mensal",0.01,50,{"$f":"Cálculo!$G$77","v":9.2490000000000006},{"$f":"Cálculo!$H$77","v":60.76}]
["SP","São Paulo","Poá","ARSESP","COMGÁS","Comercial","Mensal",50.01,150,{"$f":"Cálculo!$G$78","v":8.49},{"$f":"Cálculo!$H$78","v":98.73}]
["SP","São Paulo","Poá","ARSESP","COMGÁS","Comercial","Mensal",150.01,500,{"$f":"Cálculo!$G$79","v":7.9859999999999998},{"$f":"Cálculo!$H$79","v":174.66}]
["SP","São Paulo","Poá","ARSESP","COMGÁS","Comercial","Mensal",500.01,2000,{"$f":"Cálculo!$G$80","v":7.5380000000000003},{"$f":"Cálculo!$H$80","v":398.71}]
["SP","São Paulo","Poá","ARSESP","COMGÁS","Comercial","Mensal",2000.01,3500,{"$f":"Cálculo!$G$81","v":6.819},{"$f":"Cálculo!$H$81","v":1837.86}]
["SP","São Paulo","Poá","ARSESP","COMGÁS","Comercial","Mensal",3500.01,50000,{"$f":"Cálculo!$G$82","v":5.3760000000000003},{"$f":"Cálculo!$H$82","v":6892.16}]
["SP","São Paulo","Poá","ARSESP","COMGÁS","Comercial","Mensal",50000.01,null,{"$f":"Cálculo!$G$83","v":5.1479999999999997},{"$f":"Cálculo!$H$83","v":18284.09}]
["SP","São Paulo","Poá","ARSESP","COMGÁS","Industrial","Mensal",0,50000,{"$f":"Cálculo!$G$86","v":4.726},{"$f":"Cálculo!$H$86","v":387.36}]
["SP","São Paulo","Poá","ARSESP","COMGÁS","Industrial","Mensal",50000.01,300000,{"$f":"Cálculo!$G$87","v":3.5019999999999998},{"$f":"Cálculo!$H$87","v":61597.41}]
["SP","São Paulo","Poá","ARSESP","COMGÁS","Industrial","Mensal",300000.01,500000,{"$f":"Cálculo!$G$88","v":3.36},{"$f":"Cálculo!$H$88","v":110975.06}]
["SP","São Paulo","Poá","ARSESP","COMGÁS","Industrial","Mensal",500000.01,1000000,{"$f":"Cálculo!$G$89","v":3.3340000000000001},{"$f":"Cálculo!$H$89","v":124035.06}]
["SP","São Paulo","Poá","ARSESP","COMGÁS","Industrial","Mensal",1000000.01,2000000,{"$f":"Cálculo!$G$90","v":3.2810000000000001},{"$f":"Cálculo!$H$90","v":177422.21}]
["SP","São Paulo","Poá","ARSESP","COMGÁS","Industrial","Mensal",2000000.01,null,{"$f":"Cálculo!$G$91","v":3.2330000000000001},{"$f":"Cálculo!$H$91","v":316707.87}]
["SP","São Paulo","Poá","ARSESP","COMGÁS","GNV","Faixa Única",null,null,{"$f":"Cálculo!$G$94","v":3.2148460000000001}]
["SP","São Paulo","Potim","ARSESP","COMGÁS","Residencial","Mensal",0,1,{"$f":"Cálculo!$G$66","v":3.2869999999999999},{"$f":"Cálculo!$H$66","v":11.39}]
["SP","São Paulo","Potim","ARSESP","COMGÁS","Residencial","Mensal",1.01,3,{"$f":"Cálculo!$G$67","v":10.834},{"$f":"Cálculo!$H$67","v":14.87}]
["SP","São Paulo","Potim","ARSESP","COMGÁS","Residencial","Mensal",3.01,7,{"$f":"Cálculo!$G$68","v":5.6470000000000002},{"$f":"Cálculo!$H$68","v":14.87}]
["SP","São Paulo","Potim","ARSESP","COMGÁS","Residencial","Mensal",7.01,14,{"$f":"Cálculo!$G$69","v":9.3699999999999992},{"$f":"Cálculo!$H$69","v":16.739999999999998}]
["SP","São Paulo","Potim","ARSESP","COMGÁS","Residencial","Mensal",14.01,34,{"$f":"Cálculo!$G$70","v":11.132},{"$f":"Cálculo!$H$70","v":18.600000000000001}]
["SP","São Paulo","Potim","ARSESP","COMGÁS","Residencial","Mensal",34.01,600,{"$f":"Cálculo!$G$71","v":11.92},{"$f":"Cálculo!$H$71","v":18.600000000000001}]
["SP","São Paulo","Potim","ARSESP","COMGÁS","Residencial","Mensal",600.01,1000,{"$f":"Cálculo!$G$72","v":10.324},{"$f":"Cálculo!$H$72","v":18.600000000000001}]
["SP","São Paulo","Potim","ARSESP","COMGÁS","Residencial","Mensal",1000.01,null,{"$f":"Cálculo!$G$73","v":7.2949999999999999},{"$f":"Cálculo!$H$73","v":18.600000000000001}]
["SP","São Paulo","Potim","ARSESP","COMGÁS","Comercial","Mensal",0,0,{"$f":"Cálculo!$G$76","v":0},{"$f":"Cálculo!$H$76","v":0}]
["SP","São Paulo","Potim","ARSESP","COMGÁS","Comercial","Mensal",0.01,50,{"$f":"Cálculo!$G$77","v":9.2490000000000006},{"$f":"Cálculo!$H$77","v":60.76}]
["SP","São Paulo","Potim","ARSESP","COMGÁS","Comercial","Mensal",50.01,150,{"$f":"Cálculo!$G$78","v":8.49},{"$f":"Cálculo!$H$78","v":98.73}]
["SP","São Paulo","Potim","ARSESP","COMGÁS","Comercial","Mensal",150.01,500,{"$f":"Cálculo!$G$79","v":7.9859999999999998},{"$f":"Cálculo!$H$79","v":174.66}]
["SP","São Paulo","Potim","ARSESP","COMGÁS","Comercial","Mensal",500.01,2000,{"$f":"Cálculo!$G$80","v":7.5380000000000003},{"$f":"Cálculo!$H$80","v":398.71}]
["SP","São Paulo","Potim","ARSESP","COMGÁS","Comercial","Mensal",2000.01,3500,{"$f":"Cálculo!$G$81","v":6.819},{"$f":"Cálculo!$H$81","v":1837.86}]
["SP","São Paulo","Potim","ARSESP","COMGÁS","Comercial","Mensal",3500.01,50000,{"$f":"Cálculo!$G$82","v":5.3760000000000003},{"$f":"Cálculo!$H$82","v":6892.16}]
["SP","São Paulo","Potim","ARSESP","COMGÁS","Comercial","Mensal",50000.01,null,{"$f":"Cálculo!$G$83","v":5.1479999999999997},{"$f":"Cálculo!$H$83","v":18284.09}]
["SP","São Paulo","Potim","ARSESP","COMGÁS","Industrial","Mensal",0,50000,{"$f":"Cálculo!$G$86","v":4.726},{"$f":"Cálculo!$H$86","v":387.36}]
["SP","São Paulo","Potim","ARSESP","COMGÁS","Industrial","Mensal",50000.01,300000,{"$f":"Cálculo!$G$87","v":3.5019999999999998},{"$f":"Cálculo!$H$87","v":61597.41}]
["SP","São Paulo","Potim","ARSESP","COMGÁS","Industrial","Mensal",300000.01,500000,{"$f":"Cálculo!$G$88","v":3.36},{"$f":"Cálculo!$H$88","v":110975.06}]
["SP","São Paulo","Potim","ARSESP","COMGÁS","Industrial","Mensal",500000.01,1000000,{"$f":"Cálculo!$G$89","v":3.3340000000000001},{"$f":"Cálculo!$H$89","v":124035.06}]
["SP","São Paulo","Potim","ARSESP","COMGÁS","Industrial","Mensal",1000000.01,2000000,{"$f":"Cálculo!$G$90","v":3.2810000000000001},{"$f":"Cálculo!$H$90","v":177422.21}]
["SP","São Paulo","Potim","ARSESP","COMGÁS","Industrial","Mensal",2000000.01,null,{"$f":"Cálculo!$G$91","v":3.2330000000000001},{"$f":"Cálculo!$H$91","v":316707.87}]
["SP","São Paulo","Potim","ARSESP","COMGÁS","GNV","Faixa Única",null,null,{"$f":"Cálculo!$G$94","v":3.2148460000000001}]
["SP","São Paulo","Praia Grande","ARSESP","COMGÁS","Residencial","Mensal",0,1,{"$f":"Cálculo!$G$66","v":3.2869999999999999},{"$f":"Cálculo!$H$66","v":11.39}]
["SP","São Paulo","Praia Grande","ARSESP","COMGÁS","Residencial","Mensal",1.01,3,{"$f":"Cálculo!$G$67","v":10.834},{"$f":"Cálculo!$H$67","v":14.87}]
["SP","São Paulo","Praia Grande","ARSESP","COMGÁS","Residencial","Mensal",3.01,7,{"$f":"Cálculo!$G$68","v":5.6470000000000002},{"$f":"Cálculo!$H$68","v":14.87}]
["SP","São Paulo","Praia Grande","ARSESP","COMGÁS","Residencial","Mensal",7.01,14,{"$f":"Cálculo!$G$69","v":9.3699999999999992},{"$f":"Cálculo!$H$69","v":16.739999999999998}]
["SP","São Paulo","Praia Grande","ARSESP","COMGÁS","Residencial","Mensal",14.01,34,{"$f":"Cálculo!$G$70","v":11.132},{"$f":"Cálculo!$H$70","v":18.600000000000001}]
["SP","São Paulo","Praia Grande","ARSESP","COMGÁS","Residencial","Mensal",34.01,600,{"$f":"Cálculo!$G$71","v":11.92},{"$f":"Cálculo!$H$71","v":18.600000000000001}]
["SP","São Paulo","Praia Grande","ARSESP","COMGÁS","Residencial","Mensal",600.01,1000,{"$f":"Cálculo!$G$72","v":10.324},{"$f":"Cálculo!$H$72","v":18.600000000000001}]
["SP","São Paulo","Praia Grande","ARSESP","COMGÁS","Residencial","Mensal",1000.01,null,{"$f":"Cálculo!$G$73","v":7.2949999999999999},{"$f":"Cálculo!$H$73","v":18.600000000000001}]
["SP","São Paulo","Praia Grande","ARSESP","COMGÁS","Comercial","Mensal",0,0,{"$f":"Cálculo!$G$76","v":0},{"$f":"Cálculo!$H$76","v":0}]
["SP","São Paulo","Praia Grande","ARSESP","COMGÁS","Comercial","Mensal",0.01,50,{"$f":"Cálculo!$G$77","v":9.2490000000000006},{"$f":"Cálculo!$H$77","v":60.76}]
["SP","São Paulo","Praia Grande","ARSESP","COMGÁS","Comercial","Mensal",50.01,150,{"$f":"Cálculo!$G$78","v":8.49},{"$f":"Cálculo!$H$78","v":98.73}]
["SP","São Paulo","Praia Grande","ARSESP","COMGÁS","Comercial","Mensal",150.01,500,{"$f":"Cálculo!$G$79","v":7.9859999999999998},{"$f":"Cálculo!$H$79","v":174.66}]
["SP","São Paulo","Praia Grande","ARSESP","COMGÁS","Comercial","Mensal",500.01,2000,{"$f":"Cálculo!$G$80","v":7.5380000000000003},{"$f":"Cálculo!$H$80","v":398.71}]
["SP","São Paulo","Praia Grande","ARSESP","COMGÁS","Comercial","Mensal",2000.01,3500,{"$f":"Cálculo!$G$81","v":6.819},{"$f":"Cálculo!$H$81","v":1837.86}]
["SP","São Paulo","Praia Grande","ARSESP","COMGÁS","Comercial","Mensal",3500.01,50000,{"$f":"Cálculo!$G$82","v":5.3760000000000003},{"$f":"Cálculo!$H$82","v":6892.16}]
["SP","São Paulo","Praia Grande","ARSESP","COMGÁS","Comercial","Mensal",50000.01,null,{"$f":"Cálculo!$G$83","v":5.1479999999999997},{"$f":"Cálculo!$H$83","v":18284.09}]
["SP","São Paulo","Praia Grande","ARSESP","COMGÁS","Industrial","Mensal",0,50000,{"$f":"Cálculo!$G$86","v":4.726},{"$f":"Cálculo!$H$86","v":387.36}]
["SP","São Paulo","Praia Grande","ARSESP","COMGÁS","Industrial","Mensal",50000.01,300000,{"$f":"Cálculo!$G$87","v":3.5019999999999998},{"$f":"Cálculo!$H$87","v":61597.41}]
["SP","São Paulo","Praia Grande","ARSESP","COMGÁS","Industrial","Mensal",300000.01,500000,{"$f":"Cálculo!$G$88","v":3.36},{"$f":"Cálculo!$H$88","v":110975.06}]
["SP","São Paulo","Praia Grande","ARSESP","COMGÁS","Industrial","Mensal",500000.01,1000000,{"$f":"Cálculo!$G$89","v":3.3340000000000001},{"$f":"Cálculo!$H$89","v":124035.06}]
["SP","São Paulo","Praia Grande","ARSESP","COMGÁS","Industrial","Mensal",1000000.01,2000000,{"$f":"Cálculo!$G$90","v":3.2810000000000001},{"$f":"Cálculo!$H$90","v":177422.21}]
["SP","São Paulo","Praia Grande","ARSESP","COMGÁS","Industrial","Mensal",2000000.01,null,{"$f":"Cálculo!$G$91","v":3.2330000000000001},{"$f":"Cálculo!$H$91","v":316707.87}]
["SP","São Paulo","Praia Grande","ARSESP","COMGÁS","GNV","Faixa Única",null,null,{"$f":"Cálculo!$G$94","v":3.2148460000000001}]
["SP","São Paulo","Queluz","ARSESP","COMGÁS","Residencial","Mensal",0,1,{"$f":"Cálculo!$G$66","v":3.2869999999999999},{"$f":"Cálculo!$H$66","v":11.39}]
["SP","São Paulo","Queluz","ARSESP","COMGÁS","Residencial","Mensal",1.01,3,{"$f":"Cálculo!$G$67","v":10.834},{"$f":"Cálculo!$H$67","v":14.87}]
["SP","São Paulo","Queluz","ARSESP","COMGÁS","Residencial","Mensal",3.01,7,{"$f":"Cálculo!$G$68","v":5.6470000000000002},{"$f":"Cálculo!$H$68","v":14.87}]
["SP","São Paulo","Queluz","ARSESP","COMGÁS","Residencial","Mensal",7.01,14,{"$f":"Cálculo!$G$69","v":9.3699999999999992},{"$f":"Cálculo!$H$69","v":16.739999999999998}]
["SP","São Paulo","Queluz","ARSESP","COMGÁS","Residencial","Mensal",14.01,34,{"$f":"Cálculo!$G$70","v":11.132},{"$f":"Cálculo!$H$70","v":18.600000000000001}]
["SP","São Paulo","Queluz","ARSESP","COMGÁS","Residencial","Mensal",34.01,600,{"$f":"Cálculo!$G$71","v":11.92},{"$f":"Cálculo!$H$71","v":18.600000000000001}]
["SP","São Paulo","Queluz","ARSESP","COMGÁS","Residencial","Mensal",600.01,1000,{"$f":"Cálculo!$G$72","v":10.324},{"$f":"Cálculo!$H$72","v":18.600000000000001}]
["SP","São Paulo","Queluz","ARSESP","COMGÁS","Residencial","Mensal",1000.01,null,{"$f":"Cálculo!$G$73","v":7.2949999999999999},{"$f":"Cálculo!$H$73","v":18.600000000000001}]
["SP","São Paulo","Queluz","ARSESP","COMGÁS","Comercial","Mensal",0,0,{"$f":"Cálculo!$G$76","v":0},{"$f":"Cálculo!$H$76","v":0}]
["SP","São Paulo","Queluz","ARSESP","COMGÁS","Comercial","Mensal",0.01,50,{"$f":"Cálculo!$G$77","v":9.2490000000000006},{"$f":"Cálculo!$H$77","v":60.76}]
["SP","São Paulo","Queluz","ARSESP","COMGÁS","Comercial","Mensal",50.01,150,{"$f":"Cálculo!$G$78","v":8.49},{"$f":"Cálculo!$H$78","v":98.73}]
["SP","São Paulo","Queluz","ARSESP","COMGÁS","Comercial","Mensal",150.01,500,{"$f":"Cálculo!$G$79","v":7.9859999999999998},{"$f":"Cálculo!$H$79","v":174.66}]
["SP","São Paulo","Queluz","ARSESP","COMGÁS","Comercial","Mensal",500.01,2000,{"$f":"Cálculo!$G$80","v":7.5380000000000003},{"$f":"Cálculo!$H$80","v":398.71}]
["SP","São Paulo","Queluz","ARSESP","COMGÁS","Comercial","Mensal",2000.01,3500,{"$f":"Cálculo!$G$81","v":6.819},{"$f":"Cálculo!$H$81","v":1837.86}]
["SP","São Paulo","Queluz","ARSESP","COMGÁS","Comercial","Mensal",3500.01,50000,{"$f":"Cálculo!$G$82","v":5.3760000000000003},{"$f":"Cálculo!$H$82","v":6892.16}]
["SP","São Paulo","Queluz","ARSESP","COMGÁS","Comercial","Mensal",50000.01,null,{"$f":"Cálculo!$G$83","v":5.1479999999999997},{"$f":"Cálculo!$H$83","v":18284.09}]
["SP","São Paulo","Queluz","ARSESP","COMGÁS","Industrial","Mensal",0,50000,{"$f":"Cálculo!$G$86","v":4.726},{"$f":"Cálculo!$H$86","v":387.36}]
["SP","São Paulo","Queluz","ARSESP","COMGÁS","Industrial","Mensal",50000.01,300000,{"$f":"Cálculo!$G$87","v":3.5019999999999998},{"$f":"Cálculo!$H$87","v":61597.41}]
["SP","São Paulo","Queluz","ARSESP","COMGÁS","Industrial","Mensal",300000.01,500000,{"$f":"Cálculo!$G$88","v":3.36},{"$f":"Cálculo!$H$88","v":110975.06}]
["SP","São Paulo","Queluz","ARSESP","COMGÁS","Industrial","Mensal",500000.01,1000000,{"$f":"Cálculo!$G$89","v":3.3340000000000001},{"$f":"Cálculo!$H$89","v":124035.06}]
["SP","São Paulo","Queluz","ARSESP","COMGÁS","Industrial","Mensal",1000000.01,2000000,{"$f":"Cálculo!$G$90","v":3.2810000000000001},{"$f":"Cálculo!$H$90","v":177422.21}]
["SP","São Paulo","Queluz","ARSESP","COMGÁS","Industrial","Mensal",2000000.01,null,{"$f":"Cálculo!$G$91","v":3.2330000000000001},{"$f":"Cálculo!$H$91","v":316707.87}]
["SP","São Paulo","Queluz","ARSESP","COMGÁS","GNV","Faixa Única",null,null,{"$f":"Cálculo!$G$94","v":3.2148460000000001}]
["SP","São Paulo","Rafard","ARSESP","COMGÁS","Residencial","Mensal",0,1,{"$f":"Cálculo!$G$66","v":3.2869999999999999},{"$f":"Cálculo!$H$66","v":11.39}]
["SP","São Paulo","Rafard","ARSESP","COMGÁS","Residencial","Mensal",1.01,3,{"$f":"Cálculo!$G$67","v":10.834},{"$f":"Cálculo!$H$67","v":14.87}]
["SP","São Paulo","Rafard","ARSESP","COMGÁS","Residencial","Mensal",3.01,7,{"$f":"Cálculo!$G$68","v":5.6470000000000002},{"$f":"Cálculo!$H$68","v":14.87}]
["SP","São Paulo","Rafard","ARSESP","COMGÁS","Residencial","Mensal",7.01,14,{"$f":"Cálculo!$G$69","v":9.3699999999999992},{"$f":"Cálculo!$H$69","v":16.739999999999998}]
["SP","São Paulo","Rafard","ARSESP","COMGÁS","Residencial","Mensal",14.01,34,{"$f":"Cálculo!$G$70","v":11.132},{"$f":"Cálculo!$H$70","v":18.600000000000001}]
["SP","São Paulo","Rafard","ARSESP","COMGÁS","Residencial","Mensal",34.01,600,{"$f":"Cálculo!$G$71","v":11.92},{"$f":"Cálculo!$H$71","v":18.600000000000001}]
["SP","São Paulo","Rafard","ARSESP","COMGÁS","Residencial","Mensal",600.01,1000,{"$f":"Cálculo!$G$72","v":10.324},{"$f":"Cálculo!$H$72","v":18.600000000000001}]
["SP","São Paulo","Rafard","ARSESP","COMGÁS","Residencial","Mensal",1000.01,null,{"$f":"Cálculo!$G$73","v":7.2949999999999999},{"$f":"Cálculo!$H$73","v":18.600000000000001}]
["SP","São Paulo","Rafard","ARSESP","COMGÁS","Comercial","Mensal",0,0,{"$f":"Cálculo!$G$76","v":0},{"$f":"Cálculo!$H$76","v":0}]
["SP","São Paulo","Rafard","ARSESP","COMGÁS","Comercial","Mensal",0.01,50,{"$f":"Cálculo!$G$77","v":9.2490000000000006},{"$f":"Cálculo!$H$77","v":60.76}]
["SP","São Paulo","Rafard","ARSESP","COMGÁS","Comercial","Mensal",50.01,150,{"$f":"Cálculo!$G$78","v":8.49},{"$f":"Cálculo!$H$78","v":98.73}]
["SP","São Paulo","Rafard","ARSESP","COMGÁS","Comercial","Mensal",150.01,500,{"$f":"Cálculo!$G$79","v":7.9859999999999998},{"$f":"Cálculo!$H$79","v":174.66}]
["SP","São Paulo","Rafard","ARSESP","COMGÁS","Comercial","Mensal",500.01,2000,{"$f":"Cálculo!$G$80","v":7.5380000000000003},{"$f":"Cálculo!$H$80","v":398.71}]
["SP","São Paulo","Rafard","ARSESP","COMGÁS","Comercial","Mensal",2000.01,3500,{"$f":"Cálculo!$G$81","v":6.819},{"$f":"Cálculo!$H$81","v":1837.86}]
["SP","São Paulo","Rafard","ARSESP","COMGÁS","Comercial","Mensal",3500.01,50000,{"$f":"Cálculo!$G$82","v":5.3760000000000003},{"$f":"Cálculo!$H$82","v":6892.16}]
["SP","São Paulo","Rafard","ARSESP","COMGÁS","Comercial","Mensal",50000.01,null,{"$f":"Cálculo!$G$83","v":5.1479999999999997},{"$f":"Cálculo!$H$83","v":18284.09}]
["SP","São Paulo","Rafard","ARSESP","COMGÁS","Industrial","Mensal",0,50000,{"$f":"Cálculo!$G$86","v":4.726},{"$f":"Cálculo!$H$86","v":387.36}]
["SP","São Paulo","Rafard","ARSESP","COMGÁS","Industrial","Mensal",50000.01,300000,{"$f":"Cálculo!$G$87","v":3.5019999999999998},{"$f":"Cálculo!$H$87","v":61597.41}]
["SP","São Paulo","Rafard","ARSESP","COMGÁS","Industrial","Mensal",300000.01,500000,{"$f":"Cálculo!$G$88","v":3.36},{"$f":"Cálculo!$H$88","v":110975.06}]
["SP","São Paulo","Rafard","ARSESP","COMGÁS","Industrial","Mensal",500000.01,1000000,{"$f":"Cálculo!$G$89","v":3.3340000000000001},{"$f":"Cálculo!$H$89","v":124035.06}]
["SP","São Paulo","Rafard","ARSESP","COMGÁS","Industrial","Mensal",1000000.01,2000000,{"$f":"Cálculo!$G$90","v":3.2810000000000001},{"$f":"Cálculo!$H$90","v":177422.21}]
["SP","São Paulo","Rafard","ARSESP","COMGÁS","Industrial","Mensal",2000000.01,null,{"$f":"Cálculo!$G$91","v":3.2330000000000001},{"$f":"Cálculo!$H$91","v":316707.87}]
["SP","São Paulo","Rafard","ARSESP","COMGÁS","GNV","Faixa Única",null,null,{"$f":"Cálculo!$G$94","v":3.2148460000000001}]
["SP","São Paulo","Redenção da Serra","ARSESP","COMGÁS","Residencial","Mensal",0,1,{"$f":"Cálculo!$G$66","v":3.2869999999999999},{"$f":"Cálculo!$H$66","v":11.39}]
["SP","São Paulo","Redenção da Serra","ARSESP","COMGÁS","Residencial","Mensal",1.01,3,{"$f":"Cálculo!$G$67","v":10.834},{"$f":"Cálculo!$H$67","v":14.87}]
["SP","São Paulo","Redenção da Serra","ARSESP","COMGÁS","Residencial","Mensal",3.01,7,{"$f":"Cálculo!$G$68","v":5.6470000000000002},{"$f":"Cálculo!$H$68","v":14.87}]
["SP","São Paulo","Redenção da Serra","ARSESP","COMGÁS","Residencial","Mensal",7.01,14,{"$f":"Cálculo!$G$69","v":9.3699999999999992},{"$f":"Cálculo!$H$69","v":16.739999999999998}]
["SP","São Paulo","Redenção da Serra","ARSESP","COMGÁS","Residencial","Mensal",14.01,34,{"$f":"Cálculo!$G$70","v":11.132},{"$f":"Cálculo!$H$70","v":18.600000000000001}]
["SP","São Paulo","Redenção da Serra","ARSESP","COMGÁS","Residencial","Mensal",34.01,600,{"$f":"Cálculo!$G$71","v":11.92},{"$f":"Cálculo!$H$71","v":18.600000000000001}]
["SP","São Paulo","Redenção da Serra","ARSESP","COMGÁS","Residencial","Mensal",600.01,1000,{"$f":"Cálculo!$G$72","v":10.324},{"$f":"Cálculo!$H$72","v":18.600000000000001}]
["SP","São Paulo","Redenção da Serra","ARSESP","COMGÁS","Residencial","Mensal",1000.01,null,{"$f":"Cálculo!$G$73","v":7.2949999999999999},{"$f":"Cálculo!$H$73","v":18.600000000000001}]
["SP","São Paulo","Redenção da Serra","ARSESP","COMGÁS","Comercial","Mensal",0,0,{"$f":"Cálculo!$G$76","v":0},{"$f":"Cálculo!$H$76","v":0}]
["SP","São Paulo","Redenção da Serra","ARSESP","COMGÁS","Comercial","Mensal",0.01,50,{"$f":"Cálculo!$G$77","v":9.2490000000000006},{"$f":"Cálculo!$H$77","v":60.76}]
["SP","São Paulo","Redenção da Serra","ARSESP","COMGÁS","Comercial","Mensal",50.01,150,{"$f":"Cálculo!$G$78","v":8.49},{"$f":"Cálculo!$H$78","v":98.73}]
["SP","São Paulo","Redenção da Serra","ARSESP","COMGÁS","Comercial","Mensal",150.01,500,{"$f":"Cálculo!$G$79","v":7.9859999999999998},{"$f":"Cálculo!$H$79","v":174.66}]
["SP","São Paulo","Redenção da Serra","ARSESP","COMGÁS","Comercial","Mensal",500.01,2000,{"$f":"Cálculo!$G$80","v":7.5380000000000003},{"$f":"Cálculo!$H$80","v":398.71}]
["SP","São Paulo","Redenção da Serra","ARSESP","COMGÁS","Comercial","Mensal",2000.01,3500,{"$f":"Cálculo!$G$81","v":6.819},{"$f":"Cálculo!$H$81","v":1837.86}]
["SP","São Paulo","Redenção da Serra","ARSESP","COMGÁS","Comercial","Mensal",3500.01,50000,{"$f":"Cálculo!$G$82","v":5.3760000000000003},{"$f":"Cálculo!$H$82","v":6892.16}]
["SP","São Paulo","Redenção da Serra","ARSESP","COMGÁS","Comercial","Mensal",50000.01,null,{"$f":"Cálculo!$G$83","v":5.1479999999999997},{"$f":"Cálculo!$H$83","v":18284.09}]
["SP","São Paulo","Redenção da Serra","ARSESP","COMGÁS","Industrial","Mensal",0,50000,{"$f":"Cálculo!$G$86","v":4.726},{"$f":"Cálculo!$H$86","v":387.36}]
["SP","São Paulo","Redenção da Serra","ARSESP","COMGÁS","Industrial","Mensal",50000.01,300000,{"$f":"Cálculo!$G$87","v":3.5019999999999998},{"$f":"Cálculo!$H$87","v":61597.41}]
["SP","São Paulo","Redenção da Serra","ARSESP","COMGÁS","Industrial","Mensal",300000.01,500000,{"$f":"Cálculo!$G$88","v":3.36},{"$f":"Cálculo!$H$88","v":110975.06}]
["SP","São Paulo","Redenção da Serra","ARSESP","COMGÁS","Industrial","Mensal",500000.01,1000000,{"$f":"Cálculo!$G$89","v":3.3340000000000001},{"$f":"Cálculo!$H$89","v":124035.06}]
["SP","São Paulo","Redenção da Serra","ARSESP","COMGÁS","Industrial","Mensal",1000000.01,2000000,{"$f":"Cálculo!$G$90","v":3.2810000000000001},{"$f":"Cálculo!$H$90","v":177422.21}]
["SP","São Paulo","Redenção da Serra","ARSESP","COMGÁS","Industrial","Mensal",2000000.01,null,{"$f":"Cálculo!$G$91","v":3.2330000000000001},{"$f":"Cálculo!$H$91","v":316707.87}]
["SP","São Paulo","Redenção da Serra","ARSESP","COMGÁS","GNV","Faixa Única",null,null,{"$f":"Cálculo!$G$94","v":3.2148460000000001}]
["SP","São Paulo","Ribeirão Pires","ARSESP","COMGÁS","Residencial","Mensal",0,1,{"$f":"Cálculo!$G$66","v":3.2869999999999999},{"$f":"Cálculo!$H$66","v":11.39}]
["SP","São Paulo","Ribeirão Pires","ARSESP","COMGÁS","Residencial","Mensal",1.01,3,{"$f":"Cálculo!$G$67","v":10.834},{"$f":"Cálculo!$H$67","v":14.87}]
["SP","São Paulo","Ribeirão Pires","ARSESP","COMGÁS","Residencial","Mensal",3.01,7,{"$f":"Cálculo!$G$68","v":5.6470000000000002},{"$f":"Cálculo!$H$68","v":14.87}]
["SP","São Paulo","Ribeirão Pires","ARSESP","COMGÁS","Residencial","Mensal",7.01,14,{"$f":"Cálculo!$G$69","v":9.3699999999999992},{"$f":"Cálculo!$H$69","v":16.739999999999998}]
["SP","São Paulo","Ribeirão Pires","ARSESP","COMGÁS","Residencial","Mensal",14.01,34,{"$f":"Cálculo!$G$70","v":11.132},{"$f":"Cálculo!$H$70","v":18.600000000000001}]
["SP","São Paulo","Ribeirão Pires","ARSESP","COMGÁS","Residencial","Mensal",34.01,600,{"$f":"Cálculo!$G$71","v":11.92},{"$f":"Cálculo!$H$71","v":18.600000000000001}]
["SP","São Paulo","Ribeirão Pires","ARSESP","COMGÁS","Residencial","Mensal",600.01,1000,{"$f":"Cálculo!$G$72","v":10.324},{"$f":"Cálculo!$H$72","v":18.600000000000001}]
["SP","São Paulo","Ribeirão Pires","ARSESP","COMGÁS","Residencial","Mensal",1000.01,null,{"$f":"Cálculo!$G$73","v":7.2949999999999999},{"$f":"Cálculo!$H$73","v":18.600000000000001}]
["SP","São Paulo","Ribeirão Pires","ARSESP","COMGÁS","Comercial","Mensal",0,0,{"$f":"Cálculo!$G$76","v":0},{"$f":"Cálculo!$H$76","v":0}]
["SP","São Paulo","Ribeirão Pires","ARSESP","COMGÁS","Comercial","Mensal",0.01,50,{"$f":"Cálculo!$G$77","v":9.2490000000000006},{"$f":"Cálculo!$H$77","v":60.76}]
["SP","São Paulo","Ribeirão Pires","ARSESP","COMGÁS","Comercial","Mensal",50.01,150,{"$f":"Cálculo!$G$78","v":8.49},{"$f":"Cálculo!$H$78","v":98.73}]
["SP","São Paulo","Ribeirão Pires","ARSESP","COMGÁS","Comercial","Mensal",150.01,500,{"$f":"Cálculo!$G$79","v":7.9859999999999998},{"$f":"Cálculo!$H$79","v":174.66}]
["SP","São Paulo","Ribeirão Pires","ARSESP","COMGÁS","Comercial","Mensal",500.01,2000,{"$f":"Cálculo!$G$80","v":7.5380000000000003},{"$f":"Cálculo!$H$80","v":398.71}]
["SP","São Paulo","Ribeirão Pires","ARSESP","COMGÁS","Comercial","Mensal",2000.01,3500,{"$f":"Cálculo!$G$81","v":6.819},{"$f":"Cálculo!$H$81","v":1837.86}]
["SP","São Paulo","Ribeirão Pires","ARSESP","COMGÁS","Comercial","Mensal",3500.01,50000,{"$f":"Cálculo!$G$82","v":5.3760000000000003},{"$f":"Cálculo!$H$82","v":6892.16}]
["SP","São Paulo","Ribeirão Pires","ARSESP","COMGÁS","Comercial","Mensal",50000.01,null,{"$f":"Cálculo!$G$83","v":5.1479999999999997},{"$f":"Cálculo!$H$83","v":18284.09}]
["SP","São Paulo","Ribeirão Pires","ARSESP","COMGÁS","Industrial","Mensal",0,50000,{"$f":"Cálculo!$G$86","v":4.726},{"$f":"Cálculo!$H$86","v":387.36}]
["SP","São Paulo","Ribeirão Pires","ARSESP","COMGÁS","Industrial","Mensal",50000.01,300000,{"$f":"Cálculo!$G$87","v":3.5019999999999998},{"$f":"Cálculo!$H$87","v":61597.41}]
["SP","São Paulo","Ribeirão Pires","ARSESP","COMGÁS","Industrial","Mensal",300000.01,500000,{"$f":"Cálculo!$G$88","v":3.36},{"$f":"Cálculo!$H$88","v":110975.06}]
["SP","São Paulo","Ribeirão Pires","ARSESP","COMGÁS","Industrial","Mensal",500000.01,1000000,{"$f":"Cálculo!$G$89","v":3.3340000000000001},{"$f":"Cálculo!$H$89","v":124035.06}]
["SP","São Paulo","Ribeirão Pires","ARSESP","COMGÁS","Industrial","Mensal",1000000.01,2000000,{"$f":"Cálculo!$G$90","v":3.2810000000000001},{"$f":"Cálculo!$H$90","v":177422.21}]
["SP","São Paulo","Ribeirão Pires","ARSESP","COMGÁS","Industrial","Mensal",2000000.01,null,{"$f":"Cálculo!$G$91","v":3.2330000000000001},{"$f":"Cálculo!$H$91","v":316707.87}]
["SP","São Paulo","Ribeirão Pires","ARSESP","COMGÁS","GNV","Faixa Única",null,null,{"$f":"Cálculo!$G$94","v":3.2148460000000001}]
["SP","São Paulo","Rio Claro","ARSESP","COMGÁS","Residencial","Mensal",0,1,{"$f":"Cálculo!$G$66","v":3.2869999999999999},{"$f":"Cálculo!$H$66","v":11.39}]
["SP","São Paulo","Rio Claro","ARSESP","COMGÁS","Residencial","Mensal",1.01,3,{"$f":"Cálculo!$G$67","v":10.834},{"$f":"Cálculo!$H$67","v":14.87}]
["SP","São Paulo","Rio Claro","ARSESP","COMGÁS","Residencial","Mensal",3.01,7,{"$f":"Cálculo!$G$68","v":5.6470000000000002},{"$f":"Cálculo!$H$68","v":14.87}]
["SP","São Paulo","Rio Claro","ARSESP","COMGÁS","Residencial","Mensal",7.01,14,{"$f":"Cálculo!$G$69","v":9.3699999999999992},{"$f":"Cálculo!$H$69","v":16.739999999999998}]
["SP","São Paulo","Rio Claro","ARSESP","COMGÁS","Residencial","Mensal",14.01,34,{"$f":"Cálculo!$G$70","v":11.132},{"$f":"Cálculo!$H$70","v":18.600000000000001}]
["SP","São Paulo","Rio Claro","ARSESP","COMGÁS","Residencial","Mensal",34.01,600,{"$f":"Cálculo!$G$71","v":11.92},{"$f":"Cálculo!$H$71","v":18.600000000000001}]
["SP","São Paulo","Rio Claro","ARSESP","COMGÁS","Residencial","Mensal",600.01,1000,{"$f":"Cálculo!$G$72","v":10.324},{"$f":"Cálculo!$H$72","v":18.600000000000001}]
["SP","São Paulo","Rio Claro","ARSESP","COMGÁS","Residencial","Mensal",1000.01,null,{"$f":"Cálculo!$G$73","v":7.2949999999999999},{"$f":"Cálculo!$H$73","v":18.600000000000001}]
["SP","São Paulo","Rio Claro","ARSESP","COMGÁS","Comercial","Mensal",0,0,{"$f":"Cálculo!$G$76","v":0},{"$f":"Cálculo!$H$76","v":0}]
["SP","São Paulo","Rio Claro","ARSESP","COMGÁS","Comercial","Mensal",0.01,50,{"$f":"Cálculo!$G$77","v":9.2490000000000006},{"$f":"Cálculo!$H$77","v":60.76}]
["SP","São Paulo","Rio Claro","ARSESP","COMGÁS","Comercial","Mensal",50.01,150,{"$f":"Cálculo!$G$78","v":8.49},{"$f":"Cálculo!$H$78","v":98.73}]
["SP","São Paulo","Rio Claro","ARSESP","COMGÁS","Comercial","Mensal",150.01,500,{"$f":"Cálculo!$G$79","v":7.9859999999999998},{"$f":"Cálculo!$H$79","v":174.66}]
["SP","São Paulo","Rio Claro","ARSESP","COMGÁS","Comercial","Mensal",500.01,2000,{"$f":"Cálculo!$G$80","v":7.5380000000000003},{"$f":"Cálculo!$H$80","v":398.71}]
["SP","São Paulo","Rio Claro","ARSESP","COMGÁS","Comercial","Mensal",2000.01,3500,{"$f":"Cálculo!$G$81","v":6.819},{"$f":"Cálculo!$H$81","v":1837.86}]
["SP","São Paulo","Rio Claro","ARSESP","COMGÁS","Comercial","Mensal",3500.01,50000,{"$f":"Cálculo!$G$82","v":5.3760000000000003},{"$f":"Cálculo!$H$82","v":6892.16}]
["SP","São Paulo","Rio Claro","ARSESP","COMGÁS","Comercial","Mensal",50000.01,null,{"$f":"Cálculo!$G$83","v":5.1479999999999997},{"$f":"Cálculo!$H$83","v":18284.09}]
["SP","São Paulo","Rio Claro","ARSESP","COMGÁS","Industrial","Mensal",0,50000,{"$f":"Cálculo!$G$86","v":4.726},{"$f":"Cálculo!$H$86","v":387.36}]
["SP","São Paulo","Rio Claro","ARSESP","COMGÁS","Industrial","Mensal",50000.01,300000,{"$f":"Cálculo!$G$87","v":3.5019999999999998},{"$f":"Cálculo!$H$87","v":61597.41}]
["SP","São Paulo","Rio Claro","ARSESP","COMGÁS","Industrial","Mensal",300000.01,500000,{"$f":"Cálculo!$G$88","v":3.36},{"$f":"Cálculo!$H$88","v":110975.06}]
["SP","São Paulo","Rio Claro","ARSESP","COMGÁS","Industrial","Mensal",500000.01,1000000,{"$f":"Cálculo!$G$89","v":3.3340000000000001},{"$f":"Cálculo!$H$89","v":124035.06}]
["SP","São Paulo","Rio Claro","ARSESP","COMGÁS","Industrial","Mensal",1000000.01,2000000,{"$f":"Cálculo!$G$90","v":3.2810000000000001},{"$f":"Cálculo!$H$90","v":177422.21}]
["SP","São Paulo","Rio Claro","ARSESP","COMGÁS","Industrial","Mensal",2000000.01,null,{"$f":"Cálculo!$G$91","v":3.2330000000000001},{"$f":"Cálculo!$H$91","v":316707.87}]
["SP","São Paulo","Rio Claro","ARSESP","COMGÁS","GNV","Faixa Única",null,null,{"$f":"Cálculo!$G$94","v":3.2148460000000001}]
["SP","São Paulo","Rio das Pedras","ARSESP","COMGÁS","Residencial","Mensal",0,1,{"$f":"Cálculo!$G$66","v":3.2869999999999999},{"$f":"Cálculo!$H$66","v":11.39}]
["SP","São Paulo","Rio das Pedras","ARSESP","COMGÁS","Residencial","Mensal",1.01,3,{"$f":"Cálculo!$G$67","v":10.834},{"$f":"Cálculo!$H$67","v":14.87}]
["SP","São Paulo","Rio das Pedras","ARSESP","COMGÁS","Residencial","Mensal",3.01,7,{"$f":"Cálculo!$G$68","v":5.6470000000000002},{"$f":"Cálculo!$H$68","v":14.87}]
["SP","São Paulo","Rio das Pedras","ARSESP","COMGÁS","Residencial","Mensal",7.01,14,{"$f":"Cálculo!$G$69","v":9.3699999999999992},{"$f":"Cálculo!$H$69","v":16.739999999999998}]
["SP","São Paulo","Rio das Pedras","ARSESP","COMGÁS","Residencial","Mensal",14.01,34,{"$f":"Cálculo!$G$70","v":11.132},{"$f":"Cálculo!$H$70","v":18.600000000000001}]
["SP","São Paulo","Rio das Pedras","ARSESP","COMGÁS","Residencial","Mensal",34.01,600,{"$f":"Cálculo!$G$71","v":11.92},{"$f":"Cálculo!$H$71","v":18.600000000000001}]
["SP","São Paulo","Rio das Pedras","ARSESP","COMGÁS","Residencial","Mensal",600.01,1000,{"$f":"Cálculo!$G$72","v":10.324},{"$f":"Cálculo!$H$72","v":18.600000000000001}]
["SP","São Paulo","Rio das Pedras","ARSESP","COMGÁS","Residencial","Mensal",1000.01,null,{"$f":"Cálculo!$G$73","v":7.2949999999999999},{"$f":"Cálculo!$H$73","v":18.600000000000001}]
["SP","São Paulo","Rio das Pedras","ARSESP","COMGÁS","Comercial","Mensal",0,0,{"$f":"Cálculo!$G$76","v":0},{"$f":"Cálculo!$H$76","v":0}]
["SP","São Paulo","Rio das Pedras","ARSESP","COMGÁS","Comercial","Mensal",0.01,50,{"$f":"Cálculo!$G$77","v":9.2490000000000006},{"$f":"Cálculo!$H$77","v":60.76}]
["SP","São Paulo","Rio das Pedras","ARSESP","COMGÁS","Comercial","Mensal",50.01,150,{"$f":"Cálculo!$G$78","v":8.49},{"$f":"Cálculo!$H$78","v":98.73}]
["SP","São Paulo","Rio das Pedras","ARSESP","COMGÁS","Comercial","Mensal",150.01,500,{"$f":"Cálculo!$G$79","v":7.9859999999999998},{"$f":"Cálculo!$H$79","v":174.66}]
["SP","São Paulo","Rio das Pedras","ARSESP","COMGÁS","Comercial","Mensal",500.01,2000,{"$f":"Cálculo!$G$80","v":7.5380000000000003},{"$f":"Cálculo!$H$80","v":398.71}]
["SP","São Paulo","Rio das Pedras","ARSESP","COMGÁS","Comercial","Mensal",2000.01,3500,{"$f":"Cálculo!$G$81","v":6.819},{"$f":"Cálculo!$H$81","v":1837.86}]
["SP","São Paulo","Rio das Pedras","ARSESP","COMGÁS","Comercial","Mensal",3500.01,50000,{"$f":"Cálculo!$G$82","v":5.3760000000000003},{"$f":"Cálculo!$H$82","v":6892.16}]
["SP","São Paulo","Rio das Pedras","ARSESP","COMGÁS","Comercial","Mensal",50000.01,null,{"$f":"Cálculo!$G$83","v":5.1479999999999997},{"$f":"Cálculo!$H$83","v":18284.09}]
["SP","São Paulo","Rio das Pedras","ARSESP","COMGÁS","Industrial","Mensal",0,50000,{"$f":"Cálculo!$G$86","v":4.726},{"$f":"Cálculo!$H$86","v":387.36}]
["SP","São Paulo","Rio das Pedras","ARSESP","COMGÁS","Industrial","Mensal",50000.01,300000,{"$f":"Cálculo!$G$87","v":3.5019999999999998},{"$f":"Cálculo!$H$87","v":61597.41}]
["SP","São Paulo","Rio das Pedras","ARSESP","COMGÁS","Industrial","Mensal",300000.01,500000,{"$f":"Cálculo!$G$88","v":3.36},{"$f":"Cálculo!$H$88","v":110975.06}]
["SP","São Paulo","Rio das Pedras","ARSESP","COMGÁS","Industrial","Mensal",500000.01,1000000,{"$f":"Cálculo!$G$89","v":3.3340000000000001},{"$f":"Cálculo!$H$89","v":124035.06}]
["SP","São Paulo","Rio das Pedras","ARSESP","COMGÁS","Industrial","Mensal",1000000.01,2000000,{"$f":"Cálculo!$G$90","v":3.2810000000000001},{"$f":"Cálculo!$H$90","v":177422.21}]
["SP","São Paulo","Rio das Pedras","ARSESP","COMGÁS","Industrial","Mensal",2000000.01,null,{"$f":"Cálculo!$G$91","v":3.2330000000000001},{"$f":"Cálculo!$H$91","v":316707.87}]
["SP","São Paulo","Rio das Pedras","ARSESP","COMGÁS","GNV","Faixa Única",null,null,{"$f":"Cálculo!$G$94","v":3.2148460000000001}]
["SP","São Paulo","Rio Grande da Serra","ARSESP","COMGÁS","Residencial","Mensal",0,1,{"$f":"Cálculo!$G$66","v":3.2869999999999999},{"$f":"Cálculo!$H$66","v":11.39}]
["SP","São Paulo","Rio Grande da Serra","ARSESP","COMGÁS","Residencial","Mensal",1.01,3,{"$f":"Cálculo!$G$67","v":10.834},{"$f":"Cálculo!$H$67","v":14.87}]
["SP","São Paulo","Rio Grande da Serra","ARSESP","COMGÁS","Residencial","Mensal",3.01,7,{"$f":"Cálculo!$G$68","v":5.6470000000000002},{"$f":"Cálculo!$H$68","v":14.87}]
["SP","São Paulo","Rio Grande da Serra","ARSESP","COMGÁS","Residencial","Mensal",7.01,14,{"$f":"Cálculo!$G$69","v":9.3699999999999992},{"$f":"Cálculo!$H$69","v":16.739999999999998}]
["SP","São Paulo","Rio Grande da Serra","ARSESP","COMGÁS","Residencial","Mensal",14.01,34,{"$f":"Cálculo!$G$70","v":11.132},{"$f":"Cálculo!$H$70","v":18.600000000000001}]
["SP","São Paulo","Rio Grande da Serra","ARSESP","COMGÁS","Residencial","Mensal",34.01,600,{"$f":"Cálculo!$G$71","v":11.92},{"$f":"Cálculo!$H$71","v":18.600000000000001}]
["SP","São Paulo","Rio Grande da Serra","ARSESP","COMGÁS","Residencial","Mensal",600.01,1000,{"$f":"Cálculo!$G$72","v":10.324},{"$f":"Cálculo!$H$72","v":18.600000000000001}]
["SP","São Paulo","Rio Grande da Serra","ARSESP","COMGÁS","Residencial","Mensal",1000.01,null,{"$f":"Cálculo!$G$73","v":7.2949999999999999},{"$f":"Cálculo!$H$73","v":18.600000000000001}]
["SP","São Paulo","Rio Grande da Serra","ARSESP","COMGÁS","Comercial","Mensal",0,0,{"$f":"Cálculo!$G$76","v":0},{"$f":"Cálculo!$H$76","v":0}]
["SP","São Paulo","Rio Grande da Serra","ARSESP","COMGÁS","Comercial","Mensal",0.01,50,{"$f":"Cálculo!$G$77","v":9.2490000000000006},{"$f":"Cálculo!$H$77","v":60.76}]
["SP","São Paulo","Rio Grande da Serra","ARSESP","COMGÁS","Comercial","Mensal",50.01,150,{"$f":"Cálculo!$G$78","v":8.49},{"$f":"Cálculo!$H$78","v":98.73}]
["SP","São Paulo","Rio Grande da Serra","ARSESP","COMGÁS","Comercial","Mensal",150.01,500,{"$f":"Cálculo!$G$79","v":7.9859999999999998},{"$f":"Cálculo!$H$79","v":174.66}]
["SP","São Paulo","Rio Grande da Serra","ARSESP","COMGÁS","Comercial","Mensal",500.01,2000,{"$f":"Cálculo!$G$80","v":7.5380000000000003},{"$f":"Cálculo!$H$80","v":398.71}]
["SP","São Paulo","Rio Grande da Serra","ARSESP","COMGÁS","Comercial","Mensal",2000.01,3500,{"$f":"Cálculo!$G$81","v":6.819},{"$f":"Cálculo!$H$81","v":1837.86}]
["SP","São Paulo","Rio Grande da Serra","ARSESP","COMGÁS","Comercial","Mensal",3500.01,50000,{"$f":"Cálculo!$G$82","v":5.3760000000000003},{"$f":"Cálculo!$H$82","v":6892.16}]
["SP","São Paulo","Rio Grande da Serra","ARSESP","COMGÁS","Comercial","Mensal",50000.01,null,{"$f":"Cálculo!$G$83","v":5.1479999999999997},{"$f":"Cálculo!$H$83","v":18284.09}]
["SP","São Paulo","Rio Grande da Serra","ARSESP","COMGÁS","Industrial","Mensal",0,50000,{"$f":"Cálculo!$G$86","v":4.726},{"$f":"Cálculo!$H$86","v":387.36}]
["SP","São Paulo","Rio Grande da Serra","ARSESP","COMGÁS","Industrial","Mensal",50000.01,300000,{"$f":"Cálculo!$G$87","v":3.5019999999999998},{"$f":"Cálculo!$H$87","v":61597.41}]
["SP","São Paulo","Rio Grande da Serra","ARSESP","COMGÁS","Industrial","Mensal",300000.01,500000,{"$f":"Cálculo!$G$88","v":3.36},{"$f":"Cálculo!$H$88","v":110975.06}]
["SP","São Paulo","Rio Grande da Serra","ARSESP","COMGÁS","Industrial","Mensal",500000.01,1000000,{"$f":"Cálculo!$G$89","v":3.3340000000000001},{"$f":"Cálculo!$H$89","v":124035.06}]
["SP","São Paulo","Rio Grande da Serra","ARSESP","COMGÁS","Industrial","Mensal",1000000.01,2000000,{"$f":"Cálculo!$G$90","v":3.2810000000000001},{"$f":"Cálculo!$H$90","v":177422.21}]
["SP","São Paulo","Rio Grande da Serra","ARSESP","COMGÁS","Industrial","Mensal",2000000.01,null,{"$f":"Cálculo!$G$91","v":3.2330000000000001},{"$f":"Cálculo!$H$91","v":316707.87}]
["SP","São Paulo","Rio Grande da Serra","ARSESP","COMGÁS","GNV","Faixa Única",null,null,{"$f":"Cálculo!$G$94","v":3.2148460000000001}]
["SP","São Paulo","Roseira","ARSESP","COMGÁS","Residencial","Mensal",0,1,{"$f":"Cálculo!$G$66","v":3.2869999999999999},{"$f":"Cálculo!$H$66","v":11.39}]
["SP","São Paulo","Roseira","ARSESP","COMGÁS","Residencial","Mensal",1.01,3,{"$f":"Cálculo!$G$67","v":10.834},{"$f":"Cálculo!$H$67","v":14.87}]
["SP","São Paulo","Roseira","ARSESP","COMGÁS","Residencial","Mensal",3.01,7,{"$f":"Cálculo!$G$68","v":5.6470000000000002},{"$f":"Cálculo!$H$68","v":14.87}]
["SP","São Paulo","Roseira","ARSESP","COMGÁS","Residencial","Mensal",7.01,14,{"$f":"Cálculo!$G$69","v":9.3699999999999992},{"$f":"Cálculo!$H$69","v":16.739999999999998}]
["SP","São Paulo","Roseira","ARSESP","COMGÁS","Residencial","Mensal",14.01,34,{"$f":"Cálculo!$G$70","v":11.132},{"$f":"Cálculo!$H$70","v":18.600000000000001}]
["SP","São Paulo","Roseira","ARSESP","COMGÁS","Residencial","Mensal",34.01,600,{"$f":"Cálculo!$G$71","v":11.92},{"$f":"Cálculo!$H$71","v":18.600000000000001}]
["SP","São Paulo","Roseira","ARSESP","COMGÁS","Residencial","Mensal",600.01,1000,{"$f":"Cálculo!$G$72","v":10.324},{"$f":"Cálculo!$H$72","v":18.600000000000001}]
["SP","São Paulo","Roseira","ARSESP","COMGÁS","Residencial","Mensal",1000.01,null,{"$f":"Cálculo!$G$73","v":7.2949999999999999},{"$f":"Cálculo!$H$73","v":18.600000000000001}]
["SP","São Paulo","Roseira","ARSESP","COMGÁS","Comercial","Mensal",0,0,{"$f":"Cálculo!$G$76","v":0},{"$f":"Cálculo!$H$76","v":0}]
["SP","São Paulo","Roseira","ARSESP","COMGÁS","Comercial","Mensal",0.01,50,{"$f":"Cálculo!$G$77","v":9.2490000000000006},{"$f":"Cálculo!$H$77","v":60.76}]
["SP","São Paulo","Roseira","ARSESP","COMGÁS","Comercial","Mensal",50.01,150,{"$f":"Cálculo!$G$78","v":8.49},{"$f":"Cálculo!$H$78","v":98.73}]
["SP","São Paulo","Roseira","ARSESP","COMGÁS","Comercial","Mensal",150.01,500,{"$f":"Cálculo!$G$79","v":7.9859999999999998},{"$f":"Cálculo!$H$79","v":174.66}]
["SP","São Paulo","Roseira","ARSESP","COMGÁS","Comercial","Mensal",500.01,2000,{"$f":"Cálculo!$G$80","v":7.5380000000000003},{"$f":"Cálculo!$H$80","v":398.71}]
["SP","São Paulo","Roseira","ARSESP","COMGÁS","Comercial","Mensal",2000.01,3500,{"$f":"Cálculo!$G$81","v":6.819},{"$f":"Cálculo!$H$81","v":1837.86}]
["SP","São Paulo","Roseira","ARSESP","COMGÁS","Comercial","Mensal",3500.01,50000,{"$f":"Cálculo!$G$82","v":5.3760000000000003},{"$f":"Cálculo!$H$82","v":6892.16}]
["SP","São Paulo","Roseira","ARSESP","COMGÁS","Comercial","Mensal",50000.01,null,{"$f":"Cálculo!$G$83","v":5.1479999999999997},{"$f":"Cálculo!$H$83","v":18284.09}]
["SP","São Paulo","Roseira","ARSESP","COMGÁS","Industrial","Mensal",0,50000,{"$f":"Cálculo!$G$86","v":4.726},{"$f":"Cálculo!$H$86","v":387.36}]
["SP","São Paulo","Roseira","ARSESP","COMGÁS","Industrial","Mensal",50000.01,300000,{"$f":"Cálculo!$G$87","v":3.5019999999999998},{"$f":"Cálculo!$H$87","v":61597.41}]
["SP","São Paulo","Roseira","ARSESP","COMGÁS","Industrial","Mensal",300000.01,500000,{"$f":"Cálculo!$G$88","v":3.36},{"$f":"Cálculo!$H$88","v":110975.06}]
["SP","São Paulo","Roseira","ARSESP","COMGÁS","Industrial","Mensal",500000.01,1000000,{"$f":"Cálculo!$G$89","v":3.3340000000000001},{"$f":"Cálculo!$H$89","v":124035.06}]
["SP","São Paulo","Roseira","ARSESP","COMGÁS","Industrial","Mensal",1000000.01,2000000,{"$f":"Cálculo!$G$90","v":3.2810000000000001},{"$f":"Cálculo!$H$90","v":177422.21}]
["SP","São Paulo","Roseira","ARSESP","COMGÁS","Industrial","Mensal",2000000.01,null,{"$f":"Cálculo!$G$91","v":3.2330000000000001},{"$f":"Cálculo!$H$91","v":316707.87}]
["SP","São Paulo","Roseira","ARSESP","COMGÁS","GNV","Faixa Única",null,null,{"$f":"Cálculo!$G$94","v":3.2148460000000001}]
["SP","São Paulo","Salesópolis","ARSESP","COMGÁS","Residencial","Mensal",0,1,{"$f":"Cálculo!$G$66","v":3.2869999999999999},{"$f":"Cálculo!$H$66","v":11.39}]
["SP","São Paulo","Salesópolis","ARSESP","COMGÁS","Residencial","Mensal",1.01,3,{"$f":"Cálculo!$G$67","v":10.834},{"$f":"Cálculo!$H$67","v":14.87}]
["SP","São Paulo","Salesópolis","ARSESP","COMGÁS","Residencial","Mensal",3.01,7,{"$f":"Cálculo!$G$68","v":5.6470000000000002},{"$f":"Cálculo!$H$68","v":14.87}]
["SP","São Paulo","Salesópolis","ARSESP","COMGÁS","Residencial","Mensal",7.01,14,{"$f":"Cálculo!$G$69","v":9.3699999999999992},{"$f":"Cálculo!$H$69","v":16.739999999999998}]
["SP","São Paulo","Salesópolis","ARSESP","COMGÁS","Residencial","Mensal",14.01,34,{"$f":"Cálculo!$G$70","v":11.132},{"$f":"Cálculo!$H$70","v":18.600000000000001}]
["SP","São Paulo","Salesópolis","ARSESP","COMGÁS","Residencial","Mensal",34.01,600,{"$f":"Cálculo!$G$71","v":11.92},{"$f":"Cálculo!$H$71","v":18.600000000000001}]
["SP","São Paulo","Salesópolis","ARSESP","COMGÁS","Residencial","Mensal",600.01,1000,{"$f":"Cálculo!$G$72","v":10.324},{"$f":"Cálculo!$H$72","v":18.600000000000001}]
["SP","São Paulo","Salesópolis","ARSESP","COMGÁS","Residencial","Mensal",1000.01,null,{"$f":"Cálculo!$G$73","v":7.2949999999999999},{"$f":"Cálculo!$H$73","v":18.600000000000001}]
["SP","São Paulo","Salesópolis","ARSESP","COMGÁS","Comercial","Mensal",0,0,{"$f":"Cálculo!$G$76","v":0},{"$f":"Cálculo!$H$76","v":0}]
["SP","São Paulo","Salesópolis","ARSESP","COMGÁS","Comercial","Mensal",0.01,50,{"$f":"Cálculo!$G$77","v":9.2490000000000006},{"$f":"Cálculo!$H$77","v":60.76}]
["SP","São Paulo","Salesópolis","ARSESP","COMGÁS","Comercial","Mensal",50.01,150,{"$f":"Cálculo!$G$78","v":8.49},{"$f":"Cálculo!$H$78","v":98.73}]
["SP","São Paulo","Salesópolis","ARSESP","COMGÁS","Comercial","Mensal",150.01,500,{"$f":"Cálculo!$G$79","v":7.9859999999999998},{"$f":"Cálculo!$H$79","v":174.66}]
["SP","São Paulo","Salesópolis","ARSESP","COMGÁS","Comercial","Mensal",500.01,2000,{"$f":"Cálculo!$G$80","v":7.5380000000000003},{"$f":"Cálculo!$H$80","v":398.71}]
["SP","São Paulo","Salesópolis","ARSESP","COMGÁS","Comercial","Mensal",2000.01,3500,{"$f":"Cálculo!$G$81","v":6.819},{"$f":"Cálculo!$H$81","v":1837.86}]
["SP","São Paulo","Salesópolis","ARSESP","COMGÁS","Comercial","Mensal",3500.01,50000,{"$f":"Cálculo!$G$82","v":5.3760000000000003},{"$f":"Cálculo!$H$82","v":6892.16}]
["SP","São Paulo","Salesópolis","ARSESP","COMGÁS","Comercial","Mensal",50000.01,null,{"$f":"Cálculo!$G$83","v":5.1479999999999997},{"$f":"Cálculo!$H$83","v":18284.09}]
["SP","São Paulo","Salesópolis","ARSESP","COMGÁS","Industrial","Mensal",0,50000,{"$f":"Cálculo!$G$86","v":4.726},{"$f":"Cálculo!$H$86","v":387.36}]
["SP","São Paulo","Salesópolis","ARSESP","COMGÁS","Industrial","Mensal",50000.01,300000,{"$f":"Cálculo!$G$87","v":3.5019999999999998},{"$f":"Cálculo!$H$87","v":61597.41}]
["SP","São Paulo","Salesópolis","ARSESP","COMGÁS","Industrial","Mensal",300000.01,500000,{"$f":"Cálculo!$G$88","v":3.36},{"$f":"Cálculo!$H$88","v":110975.06}]
["SP","São Paulo","Salesópolis","ARSESP","COMGÁS","Industrial","Mensal",500000.01,1000000,{"$f":"Cálculo!$G$89","v":3.3340000000000001},{"$f":"Cálculo!$H$89","v":124035.06}]
["SP","São Paulo","Salesópolis","ARSESP","COMGÁS","Industrial","Mensal",1000000.01,2000000,{"$f":"Cálculo!$G$90","v":3.2810000000000001},{"$f":"Cálculo!$H$90","v":177422.21}]
["SP","São Paulo","Salesópolis","ARSESP","COMGÁS","Industrial","Mensal",2000000.01,null,{"$f":"Cálculo!$G$91","v":3.2330000000000001},{"$f":"Cálculo!$H$91","v":316707.87}]
["SP","São Paulo","Salesópolis","ARSESP","COMGÁS","GNV","Faixa Única",null,null,{"$f":"Cálculo!$G$94","v":3.2148460000000001}]
["SP","São Paulo","Saltinho","ARSESP","COMGÁS","Residencial","Mensal",0,1,{"$f":"Cálculo!$G$66","v":3.2869999999999999},{"$f":"Cálculo!$H$66","v":11.39}]
["SP","São Paulo","Saltinho","ARSESP","COMGÁS","Residencial","Mensal",1.01,3,{"$f":"Cálculo!$G$67","v":10.834},{"$f":"Cálculo!$H$67","v":14.87}]
["SP","São Paulo","Saltinho","ARSESP","COMGÁS","Residencial","Mensal",3.01,7,{"$f":"Cálculo!$G$68","v":5.6470000000000002},{"$f":"Cálculo!$H$68","v":14.87}]
["SP","São Paulo","Saltinho","ARSESP","COMGÁS","Residencial","Mensal",7.01,14,{"$f":"Cálculo!$G$69","v":9.3699999999999992},{"$f":"Cálculo!$H$69","v":16.739999999999998}]
["SP","São Paulo","Saltinho","ARSESP","COMGÁS","Residencial","Mensal",14.01,34,{"$f":"Cálculo!$G$70","v":11.132},{"$f":"Cálculo!$H$70","v":18.600000000000001}]
["SP","São Paulo","Saltinho","ARSESP","COMGÁS","Residencial","Mensal",34.01,600,{"$f":"Cálculo!$G$71","v":11.92},{"$f":"Cálculo!$H$71","v":18.600000000000001}]
["SP","São Paulo","Saltinho","ARSESP","COMGÁS","Residencial","Mensal",600.01,1000,{"$f":"Cálculo!$G$72","v":10.324},{"$f":"Cálculo!$H$72","v":18.600000000000001}]
["SP","São Paulo","Saltinho","ARSESP","COMGÁS","Residencial","Mensal",1000.01,null,{"$f":"Cálculo!$G$73","v":7.2949999999999999},{"$f":"Cálculo!$H$73","v":18.600000000000001}]
["SP","São Paulo","Saltinho","ARSESP","COMGÁS","Comercial","Mensal",0,0,{"$f":"Cálculo!$G$76","v":0},{"$f":"Cálculo!$H$76","v":0}]
["SP","São Paulo","Saltinho","ARSESP","COMGÁS","Comercial","Mensal",0.01,50,{"$f":"Cálculo!$G$77","v":9.2490000000000006},{"$f":"Cálculo!$H$77","v":60.76}]
["SP","São Paulo","Saltinho","ARSESP","COMGÁS","Comercial","Mensal",50.01,150,{"$f":"Cálculo!$G$78","v":8.49},{"$f":"Cálculo!$H$78","v":98.73}]
["SP","São Paulo","Saltinho","ARSESP","COMGÁS","Comercial","Mensal",150.01,500,{"$f":"Cálculo!$G$79","v":7.9859999999999998},{"$f":"Cálculo!$H$79","v":174.66}]
["SP","São Paulo","Saltinho","ARSESP","COMGÁS","Comercial","Mensal",500.01,2000,{"$f":"Cálculo!$G$80","v":7.5380000000000003},{"$f":"Cálculo!$H$80","v":398.71}]
["SP","São Paulo","Saltinho","ARSESP","COMGÁS","Comercial","Mensal",2000.01,3500,{"$f":"Cálculo!$G$81","v":6.819},{"$f":"Cálculo!$H$81","v":1837.86}]
["SP","São Paulo","Saltinho","ARSESP","COMGÁS","Comercial","Mensal",3500.01,50000,{"$f":"Cálculo!$G$82","v":5.3760000000000003},{"$f":"Cálculo!$H$82","v":6892.16}]
["SP","São Paulo","Saltinho","ARSESP","COMGÁS","Comercial","Mensal",50000.01,null,{"$f":"Cálculo!$G$83","v":5.1479999999999997},{"$f":"Cálculo!$H$83","v":18284.09}]
["SP","São Paulo","Saltinho","ARSESP","COMGÁS","Industrial","Mensal",0,50000,{"$f":"Cálculo!$G$86","v":4.726},{"$f":"Cálculo!$H$86","v":387.36}]
["SP","São Paulo","Saltinho","ARSESP","COMGÁS","Industrial","Mensal",50000.01,300000,{"$f":"Cálculo!$G$87","v":3.5019999999999998},{"$f":"Cálculo!$H$87","v":61597.41}]
["SP","São Paulo","Saltinho","ARSESP","COMGÁS","Industrial","Mensal",300000.01,500000,{"$f":"Cálculo!$G$88","v":3.36},{"$f":"Cálculo!$H$88","v":110975.06}]
["SP","São Paulo","Saltinho","ARSESP","COMGÁS","Industrial","Mensal",500000.01,1000000,{"$f":"Cálculo!$G$89","v":3.3340000000000001},{"$f":"Cálculo!$H$89","v":124035.06}]
["SP","São Paulo","Saltinho","ARSESP","COMGÁS","Industrial","Mensal",1000000.01,2000000,{"$f":"Cálculo!$G$90","v":3.2810000000000001},{"$f":"Cálculo!$H$90","v":177422.21}]
["SP","São Paulo","Saltinho","ARSESP","COMGÁS","Industrial","Mensal",2000000.01,null,{"$f":"Cálculo!$G$91","v":3.2330000000000001},{"$f":"Cálculo!$H$91","v":316707.87}]
["SP","São Paulo","Saltinho","ARSESP","COMGÁS","GNV","Faixa Única",null,null,{"$f":"Cálculo!$G$94","v":3.2148460000000001}]
["SP","São Paulo","Santa Bárbara D'oeste","ARSESP","COMGÁS","Residencial","Mensal",0,1,{"$f":"Cálculo!$G$66","v":3.2869999999999999},{"$f":"Cálculo!$H$66","v":11.39}]
["SP","São Paulo","Santa Bárbara D'oeste","ARSESP","COMGÁS","Residencial","Mensal",1.01,3,{"$f":"Cálculo!$G$67","v":10.834},{"$f":"Cálculo!$H$67","v":14.87}]
["SP","São Paulo","Santa Bárbara D'oeste","ARSESP","COMGÁS","Residencial","Mensal",3.01,7,{"$f":"Cálculo!$G$68","v":5.6470000000000002},{"$f":"Cálculo!$H$68","v":14.87}]
["SP","São Paulo","Santa Bárbara D'oeste","ARSESP","COMGÁS","Residencial","Mensal",7.01,14,{"$f":"Cálculo!$G$69","v":9.3699999999999992},{"$f":"Cálculo!$H$69","v":16.739999999999998}]
["SP","São Paulo","Santa Bárbara D'oeste","ARSESP","COMGÁS","Residencial","Mensal",14.01,34,{"$f":"Cálculo!$G$70","v":11.132},{"$f":"Cálculo!$H$70","v":18.600000000000001}]
["SP","São Paulo","Santa Bárbara D'oeste","ARSESP","COMGÁS","Residencial","Mensal",34.01,600,{"$f":"Cálculo!$G$71","v":11.92},{"$f":"Cálculo!$H$71","v":18.600000000000001}]
["SP","São Paulo","Santa Bárbara D'oeste","ARSESP","COMGÁS","Residencial","Mensal",600.01,1000,{"$f":"Cálculo!$G$72","v":10.324},{"$f":"Cálculo!$H$72","v":18.600000000000001}]
["SP","São Paulo","Santa Bárbara D'oeste","ARSESP","COMGÁS","Residencial","Mensal",1000.01,null,{"$f":"Cálculo!$G$73","v":7.2949999999999999},{"$f":"Cálculo!$H$73","v":18.600000000000001}]
["SP","São Paulo","Santa Bárbara D'oeste","ARSESP","COMGÁS","Comercial","Mensal",0,0,{"$f":"Cálculo!$G$76","v":0},{"$f":"Cálculo!$H$76","v":0}]
["SP","São Paulo","Santa Bárbara D'oeste","ARSESP","COMGÁS","Comercial","Mensal",0.01,50,{"$f":"Cálculo!$G$77","v":9.2490000000000006},{"$f":"Cálculo!$H$77","v":60.76}]
["SP","São Paulo","Santa Bárbara D'oeste","ARSESP","COMGÁS","Comercial","Mensal",50.01,150,{"$f":"Cálculo!$G$78","v":8.49},{"$f":"Cálculo!$H$78","v":98.73}]
["SP","São Paulo","Santa Bárbara D'oeste","ARSESP","COMGÁS","Comercial","Mensal",150.01,500,{"$f":"Cálculo!$G$79","v":7.9859999999999998},{"$f":"Cálculo!$H$79","v":174.66}]
["SP","São Paulo","Santa Bárbara D'oeste","ARSESP","COMGÁS","Comercial","Mensal",500.01,2000,{"$f":"Cálculo!$G$80","v":7.5380000000000003},{"$f":"Cálculo!$H$80","v":398.71}]
["SP","São Paulo","Santa Bárbara D'oeste","ARSESP","COMGÁS","Comercial","Mensal",2000.01,3500,{"$f":"Cálculo!$G$81","v":6.819},{"$f":"Cálculo!$H$81","v":1837.86}]
["SP","São Paulo","Santa Bárbara D'oeste","ARSESP","COMGÁS","Comercial","Mensal",3500.01,50000,{"$f":"Cálculo!$G$82","v":5.3760000000000003},{"$f":"Cálculo!$H$82","v":6892.16}]
["SP","São Paulo","Santa Bárbara D'oeste","ARSESP","COMGÁS","Comercial","Mensal",50000.01,null,{"$f":"Cálculo!$G$83","v":5.1479999999999997},{"$f":"Cálculo!$H$83","v":18284.09}]
["SP","São Paulo","Santa Bárbara D'oeste","ARSESP","COMGÁS","Industrial","Mensal",0,50000,{"$f":"Cálculo!$G$86","v":4.726},{"$f":"Cálculo!$H$86","v":387.36}]
["SP","São Paulo","Santa Bárbara D'oeste","ARSESP","COMGÁS","Industrial","Mensal",50000.01,300000,{"$f":"Cálculo!$G$87","v":3.5019999999999998},{"$f":"Cálculo!$H$87","v":61597.41}]
["SP","São Paulo","Santa Bárbara D'oeste","ARSESP","COMGÁS","Industrial","Mensal",300000.01,500000,{"$f":"Cálculo!$G$88","v":3.36},{"$f":"Cálculo!$H$88","v":110975.06}]
["SP","São Paulo","Santa Bárbara D'oeste","ARSESP","COMGÁS","Industrial","Mensal",500000.01,1000000,{"$f":"Cálculo!$G$89","v":3.3340000000000001},{"$f":"Cálculo!$H$89","v":124035.06}]
["SP","São Paulo","Santa Bárbara D'oeste","ARSESP","COMGÁS","Industrial","Mensal",1000000.01,2000000,{"$f":"Cálculo!$G$90","v":3.2810000000000001},{"$f":"Cálculo!$H$90","v":177422.21}]
["SP","São Paulo","Santa Bárbara D'oeste","ARSESP","COMGÁS","Industrial","Mensal",2000000.01,null,{"$f":"Cálculo!$G$91","v":3.2330000000000001},{"$f":"Cálculo!$H$91","v":316707.87}]
["SP","São Paulo","Santa Bárbara D'oeste","ARSESP","COMGÁS","GNV","Faixa Única",null,null,{"$f":"Cálculo!$G$94","v":3.2148460000000001}]
["SP","São Paulo","Santa Branca","ARSESP","COMGÁS","Residencial","Mensal",0,1,{"$f":"Cálculo!$G$66","v":3.2869999999999999},{"$f":"Cálculo!$H$66","v":11.39}]
["SP","São Paulo","Santa Branca","ARSESP","COMGÁS","Residencial","Mensal",1.01,3,{"$f":"Cálculo!$G$67","v":10.834},{"$f":"Cálculo!$H$67","v":14.87}]
["SP","São Paulo","Santa Branca","ARSESP","COMGÁS","Residencial","Mensal",3.01,7,{"$f":"Cálculo!$G$68","v":5.6470000000000002},{"$f":"Cálculo!$H$68","v":14.87}]
["SP","São Paulo","Santa Branca","ARSESP","COMGÁS","Residencial","Mensal",7.01,14,{"$f":"Cálculo!$G$69","v":9.3699999999999992},{"$f":"Cálculo!$H$69","v":16.739999999999998}]
["SP","São Paulo","Santa Branca","ARSESP","COMGÁS","Residencial","Mensal",14.01,34,{"$f":"Cálculo!$G$70","v":11.132},{"$f":"Cálculo!$H$70","v":18.600000000000001}]
["SP","São Paulo","Santa Branca","ARSESP","COMGÁS","Residencial","Mensal",34.01,600,{"$f":"Cálculo!$G$71","v":11.92},{"$f":"Cálculo!$H$71","v":18.600000000000001}]
["SP","São Paulo","Santa Branca","ARSESP","COMGÁS","Residencial","Mensal",600.01,1000,{"$f":"Cálculo!$G$72","v":10.324},{"$f":"Cálculo!$H$72","v":18.600000000000001}]
["SP","São Paulo","Santa Branca","ARSESP","COMGÁS","Residencial","Mensal",1000.01,null,{"$f":"Cálculo!$G$73","v":7.2949999999999999},{"$f":"Cálculo!$H$73","v":18.600000000000001}]
["SP","São Paulo","Santa Branca","ARSESP","COMGÁS","Comercial","Mensal",0,0,{"$f":"Cálculo!$G$76","v":0},{"$f":"Cálculo!$H$76","v":0}]
["SP","São Paulo","Santa Branca","ARSESP","COMGÁS","Comercial","Mensal",0.01,50,{"$f":"Cálculo!$G$77","v":9.2490000000000006},{"$f":"Cálculo!$H$77","v":60.76}]
["SP","São Paulo","Santa Branca","ARSESP","COMGÁS","Comercial","Mensal",50.01,150,{"$f":"Cálculo!$G$78","v":8.49},{"$f":"Cálculo!$H$78","v":98.73}]
["SP","São Paulo","Santa Branca","ARSESP","COMGÁS","Comercial","Mensal",150.01,500,{"$f":"Cálculo!$G$79","v":7.9859999999999998},{"$f":"Cálculo!$H$79","v":174.66}]
["SP","São Paulo","Santa Branca","ARSESP","COMGÁS","Comercial","Mensal",500.01,2000,{"$f":"Cálculo!$G$80","v":7.5380000000000003},{"$f":"Cálculo!$H$80","v":398.71}]
["SP","São Paulo","Santa Branca","ARSESP","COMGÁS","Comercial","Mensal",2000.01,3500,{"$f":"Cálculo!$G$81","v":6.819},{"$f":"Cálculo!$H$81","v":1837.86}]
["SP","São Paulo","Santa Branca","ARSESP","COMGÁS","Comercial","Mensal",3500.01,50000,{"$f":"Cálculo!$G$82","v":5.3760000000000003},{"$f":"Cálculo!$H$82","v":6892.16}]
["SP","São Paulo","Santa Branca","ARSESP","COMGÁS","Comercial","Mensal",50000.01,null,{"$f":"Cálculo!$G$83","v":5.1479999999999997},{"$f":"Cálculo!$H$83","v":18284.09}]
["SP","São Paulo","Santa Branca","ARSESP","COMGÁS","Industrial","Mensal",0,50000,{"$f":"Cálculo!$G$86","v":4.726},{"$f":"Cálculo!$H$86","v":387.36}]
["SP","São Paulo","Santa Branca","ARSESP","COMGÁS","Industrial","Mensal",50000.01,300000,{"$f":"Cálculo!$G$87","v":3.5019999999999998},{"$f":"Cálculo!$H$87","v":61597.41}]
["SP","São Paulo","Santa Branca","ARSESP","COMGÁS","Industrial","Mensal",300000.01,500000,{"$f":"Cálculo!$G$88","v":3.36},{"$f":"Cálculo!$H$88","v":110975.06}]
["SP","São Paulo","Santa Branca","ARSESP","COMGÁS","Industrial","Mensal",500000.01,1000000,{"$f":"Cálculo!$G$89","v":3.3340000000000001},{"$f":"Cálculo!$H$89","v":124035.06}]
["SP","São Paulo","Santa Branca","ARSESP","COMGÁS","Industrial","Mensal",1000000.01,2000000,{"$f":"Cálculo!$G$90","v":3.2810000000000001},{"$f":"Cálculo!$H$90","v":177422.21}]
["SP","São Paulo","Santa Branca","ARSESP","COMGÁS","Industrial","Mensal",2000000.01,null,{"$f":"Cálculo!$G$91","v":3.2330000000000001},{"$f":"Cálculo!$H$91","v":316707.87}]
["SP","São Paulo","Santa Branca","ARSESP","COMGÁS","GNV","Faixa Única",null,null,{"$f":"Cálculo!$G$94","v":3.2148460000000001}]
["SP","São Paulo","Santa Cruz da Conceição","ARSESP","COMGÁS","Residencial","Mensal",0,1,{"$f":"Cálculo!$G$66","v":3.2869999999999999},{"$f":"Cálculo!$H$66","v":11.39}]
["SP","São Paulo","Santa Cruz da Conceição","ARSESP","COMGÁS","Residencial","Mensal",1.01,3,{"$f":"Cálculo!$G$67","v":10.834},{"$f":"Cálculo!$H$67","v":14.87}]
["SP","São Paulo","Santa Cruz da Conceição","ARSESP","COMGÁS","Residencial","Mensal",3.01,7,{"$f":"Cálculo!$G$68","v":5.6470000000000002},{"$f":"Cálculo!$H$68","v":14.87}]
["SP","São Paulo","Santa Cruz da Conceição","ARSESP","COMGÁS","Residencial","Mensal",7.01,14,{"$f":"Cálculo!$G$69","v":9.3699999999999992},{"$f":"Cálculo!$H$69","v":16.739999999999998}]
["SP","São Paulo","Santa Cruz da Conceição","ARSESP","COMGÁS","Residencial","Mensal",14.01,34,{"$f":"Cálculo!$G$70","v":11.132},{"$f":"Cálculo!$H$70","v":18.600000000000001}]
["SP","São Paulo","Santa Cruz da Conceição","ARSESP","COMGÁS","Residencial","Mensal",34.01,600,{"$f":"Cálculo!$G$71","v":11.92},{"$f":"Cálculo!$H$71","v":18.600000000000001}]
["SP","São Paulo","Santa Cruz da Conceição","ARSESP","COMGÁS","Residencial","Mensal",600.01,1000,{"$f":"Cálculo!$G$72","v":10.324},{"$f":"Cálculo!$H$72","v":18.600000000000001}]
["SP","São Paulo","Santa Cruz da Conceição","ARSESP","COMGÁS","Residencial","Mensal",1000.01,null,{"$f":"Cálculo!$G$73","v":7.2949999999999999},{"$f":"Cálculo!$H$73","v":18.600000000000001}]
["SP","São Paulo","Santa Cruz da Conceição","ARSESP","COMGÁS","Comercial","Mensal",0,0,{"$f":"Cálculo!$G$76","v":0},{"$f":"Cálculo!$H$76","v":0}]
["SP","São Paulo","Santa Cruz da Conceição","ARSESP","COMGÁS","Comercial","Mensal",0.01,50,{"$f":"Cálculo!$G$77","v":9.2490000000000006},{"$f":"Cálculo!$H$77","v":60.76}]
["SP","São Paulo","Santa Cruz da Conceição","ARSESP","COMGÁS","Comercial","Mensal",50.01,150,{"$f":"Cálculo!$G$78","v":8.49},{"$f":"Cálculo!$H$78","v":98.73}]
["SP","São Paulo","Santa Cruz da Conceição","ARSESP","COMGÁS","Comercial","Mensal",150.01,500,{"$f":"Cálculo!$G$79","v":7.9859999999999998},{"$f":"Cálculo!$H$79","v":174.66}]
["SP","São Paulo","Santa Cruz da Conceição","ARSESP","COMGÁS","Comercial","Mensal",500.01,2000,{"$f":"Cálculo!$G$80","v":7.5380000000000003},{"$f":"Cálculo!$H$80","v":398.71}]
["SP","São Paulo","Santa Cruz da Conceição","ARSESP","COMGÁS","Comercial","Mensal",2000.01,3500,{"$f":"Cálculo!$G$81","v":6.819},{"$f":"Cálculo!$H$81","v":1837.86}]
["SP","São Paulo","Santa Cruz da Conceição","ARSESP","COMGÁS","Comercial","Mensal",3500.01,50000,{"$f":"Cálculo!$G$82","v":5.3760000000000003},{"$f":"Cálculo!$H$82","v":6892.16}]
["SP","São Paulo","Santa Cruz da Conceição","ARSESP","COMGÁS","Comercial","Mensal",50000.01,null,{"$f":"Cálculo!$G$83","v":5.1479999999999997},{"$f":"Cálculo!$H$83","v":18284.09}]
["SP","São Paulo","Santa Cruz da Conceição","ARSESP","COMGÁS","Industrial","Mensal",0,50000,{"$f":"Cálculo!$G$86","v":4.726},{"$f":"Cálculo!$H$86","v":387.36}]
["SP","São Paulo","Santa Cruz da Conceição","ARSESP","COMGÁS","Industrial","Mensal",50000.01,300000,{"$f":"Cálculo!$G$87","v":3.5019999999999998},{"$f":"Cálculo!$H$87","v":61597.41}]
["SP","São Paulo","Santa Cruz da Conceição","ARSESP","COMGÁS","Industrial","Mensal",300000.01,500000,{"$f":"Cálculo!$G$88","v":3.36},{"$f":"Cálculo!$H$88","v":110975.06}]
["SP","São Paulo","Santa Cruz da Conceição","ARSESP","COMGÁS","Industrial","Mensal",500000.01,1000000,{"$f":"Cálculo!$G$89","v":3.3340000000000001},{"$f":"Cálculo!$H$89","v":124035.06}]
["SP","São Paulo","Santa Cruz da Conceição","ARSESP","COMGÁS","Industrial","Mensal",1000000.01,2000000,{"$f":"Cálculo!$G$90","v":3.2810000000000001},{"$f":"Cálculo!$H$90","v":177422.21}]
["SP","São Paulo","Santa Cruz da Conceição","ARSESP","COMGÁS","Industrial","Mensal",2000000.01,null,{"$f":"Cálculo!$G$91","v":3.2330000000000001},{"$f":"Cálculo!$H$91","v":316707.87}]
["SP","São Paulo","Santa Cruz da Conceição","ARSESP","COMGÁS","GNV","Faixa Única",null,null,{"$f":"Cálculo!$G$94","v":3.2148460000000001}]
["SP","São Paulo","Santa Cruz das Palmeiras","ARSESP","COMGÁS","Residencial","Mensal",0,1,{"$f":"Cálculo!$G$66","v":3.2869999999999999},{"$f":"Cálculo!$H$66","v":11.39}]
["SP","São Paulo","Santa Cruz das Palmeiras","ARSESP","COMGÁS","Residencial","Mensal",1.01,3,{"$f":"Cálculo!$G$67","v":10.834},{"$f":"Cálculo!$H$67","v":14.87}]
["SP","São Paulo","Santa Cruz das Palmeiras","ARSESP","COMGÁS","Residencial","Mensal",3.01,7,{"$f":"Cálculo!$G$68","v":5.6470000000000002},{"$f":"Cálculo!$H$68","v":14.87}]
["SP","São Paulo","Santa Cruz das Palmeiras","ARSESP","COMGÁS","Residencial","Mensal",7.01,14,{"$f":"Cálculo!$G$69","v":9.3699999999999992},{"$f":"Cálculo!$H$69","v":16.739999999999998}]
["SP","São Paulo","Santa Cruz das Palmeiras","ARSESP","COMGÁS","Residencial","Mensal",14.01,34,{"$f":"Cálculo!$G$70","v":11.132},{"$f":"Cálculo!$H$70","v":18.600000000000001}]
["SP","São Paulo","Santa Cruz das Palmeiras","ARSESP","COMGÁS","Residencial","Mensal",34.01,600,{"$f":"Cálculo!$G$71","v":11.92},{"$f":"Cálculo!$H$71","v":18.600000000000001}]
["SP","São Paulo","Santa Cruz das Palmeiras","ARSESP","COMGÁS","Residencial","Mensal",600.01,1000,{"$f":"Cálculo!$G$72","v":10.324},{"$f":"Cálculo!$H$72","v":18.600000000000001}]
["SP","São Paulo","Santa Cruz das Palmeiras","ARSESP","COMGÁS","Residencial","Mensal",1000.01,null,{"$f":"Cálculo!$G$73","v":7.2949999999999999},{"$f":"Cálculo!$H$73","v":18.600000000000001}]
["SP","São Paulo","Santa Cruz das Palmeiras","ARSESP","COMGÁS","Comercial","Mensal",0,0,{"$f":"Cálculo!$G$76","v":0},{"$f":"Cálculo!$H$76","v":0}]
["SP","São Paulo","Santa Cruz das Palmeiras","ARSESP","COMGÁS","Comercial","Mensal",0.01,50,{"$f":"Cálculo!$G$77","v":9.2490000000000006},{"$f":"Cálculo!$H$77","v":60.76}]
["SP","São Paulo","Santa Cruz das Palmeiras","ARSESP","COMGÁS","Comercial","Mensal",50.01,150,{"$f":"Cálculo!$G$78","v":8.49},{"$f":"Cálculo!$H$78","v":98.73}]
["SP","São Paulo","Santa Cruz das Palmeiras","ARSESP","COMGÁS","Comercial","Mensal",150.01,500,{"$f":"Cálculo!$G$79","v":7.9859999999999998},{"$f":"Cálculo!$H$79","v":174.66}]
["SP","São Paulo","Santa Cruz das Palmeiras","ARSESP","COMGÁS","Comercial","Mensal",500.01,2000,{"$f":"Cálculo!$G$80","v":7.5380000000000003},{"$f":"Cálculo!$H$80","v":398.71}]
["SP","São Paulo","Santa Cruz das Palmeiras","ARSESP","COMGÁS","Comercial","Mensal",2000.01,3500,{"$f":"Cálculo!$G$81","v":6.819},{"$f":"Cálculo!$H$81","v":1837.86}]
["SP","São Paulo","Santa Cruz das Palmeiras","ARSESP","COMGÁS","Comercial","Mensal",3500.01,50000,{"$f":"Cálculo!$G$82","v":5.3760000000000003},{"$f":"Cálculo!$H$82","v":6892.16}]
["SP","São Paulo","Santa Cruz das Palmeiras","ARSESP","COMGÁS","Comercial","Mensal",50000.01,null,{"$f":"Cálculo!$G$83","v":5.1479999999999997},{"$f":"Cálculo!$H$83","v":18284.09}]
["SP","São Paulo","Santa Cruz das Palmeiras","ARSESP","COMGÁS","Industrial","Mensal",0,50000,{"$f":"Cálculo!$G$86","v":4.726},{"$f":"Cálculo!$H$86","v":387.36}]
["SP","São Paulo","Santa Cruz das Palmeiras","ARSESP","COMGÁS","Industrial","Mensal",50000.01,300000,{"$f":"Cálculo!$G$87","v":3.5019999999999998},{"$f":"Cálculo!$H$87","v":61597.41}]
["SP","São Paulo","Santa Cruz das Palmeiras","ARSESP","COMGÁS","Industrial","Mensal",300000.01,500000,{"$f":"Cálculo!$G$88","v":3.36},{"$f":"Cálculo!$H$88","v":110975.06}]
["SP","São Paulo","Santa Cruz das Palmeiras","ARSESP","COMGÁS","Industrial","Mensal",500000.01,1000000,{"$f":"Cálculo!$G$89","v":3.3340000000000001},{"$f":"Cálculo!$H$89","v":124035.06}]
["SP","São Paulo","Santa Cruz das Palmeiras","ARSESP","COMGÁS","Industrial","Mensal",1000000.01,2000000,{"$f":"Cálculo!$G$90","v":3.2810000000000001},{"$f":"Cálculo!$H$90","v":177422.21}]
["SP","São Paulo","Santa Cruz das Palmeiras","ARSESP","COMGÁS","Industrial","Mensal",2000000.01,null,{"$f":"Cálculo!$G$91","v":3.2330000000000001},{"$f":"Cálculo!$H$91","v":316707.87}]
["SP","São Paulo","Santa Cruz das Palmeiras","ARSESP","COMGÁS","GNV","Faixa Única",null,null,{"$f":"Cálculo!$G$94","v":3.2148460000000001}]
["SP","São Paulo","Santa Gertrudes","ARSESP","COMGÁS","Residencial","Mensal",0,1,{"$f":"Cálculo!$G$66","v":3.2869999999999999},{"$f":"Cálculo!$H$66","v":11.39}]
["SP","São Paulo","Santa Gertrudes","ARSESP","COMGÁS","Residencial","Mensal",1.01,3,{"$f":"Cálculo!$G$67","v":10.834},{"$f":"Cálculo!$H$67","v":14.87}]
["SP","São Paulo","Santa Gertrudes","ARSESP","COMGÁS","Residencial","Mensal",3.01,7,{"$f":"Cálculo!$G$68","v":5.6470000000000002},{"$f":"Cálculo!$H$68","v":14.87}]
["SP","São Paulo","Santa Gertrudes","ARSESP","COMGÁS","Residencial","Mensal",7.01,14,{"$f":"Cálculo!$G$69","v":9.3699999999999992},{"$f":"Cálculo!$H$69","v":16.739999999999998}]
["SP","São Paulo","Santa Gertrudes","ARSESP","COMGÁS","Residencial","Mensal",14.01,34,{"$f":"Cálculo!$G$70","v":11.132},{"$f":"Cálculo!$H$70","v":18.600000000000001}]
["SP","São Paulo","Santa Gertrudes","ARSESP","COMGÁS","Residencial","Mensal",34.01,600,{"$f":"Cálculo!$G$71","v":11.92},{"$f":"Cálculo!$H$71","v":18.600000000000001}]
["SP","São Paulo","Santa Gertrudes","ARSESP","COMGÁS","Residencial","Mensal",600.01,1000,{"$f":"Cálculo!$G$72","v":10.324},{"$f":"Cálculo!$H$72","v":18.600000000000001}]
["SP","São Paulo","Santa Gertrudes","ARSESP","COMGÁS","Residencial","Mensal",1000.01,null,{"$f":"Cálculo!$G$73","v":7.2949999999999999},{"$f":"Cálculo!$H$73","v":18.600000000000001}]
["SP","São Paulo","Santa Gertrudes","ARSESP","COMGÁS","Comercial","Mensal",0,0,{"$f":"Cálculo!$G$76","v":0},{"$f":"Cálculo!$H$76","v":0}]
["SP","São Paulo","Santa Gertrudes","ARSESP","COMGÁS","Comercial","Mensal",0.01,50,{"$f":"Cálculo!$G$77","v":9.2490000000000006},{"$f":"Cálculo!$H$77","v":60.76}]
["SP","São Paulo","Santa Gertrudes","ARSESP","COMGÁS","Comercial","Mensal",50.01,150,{"$f":"Cálculo!$G$78","v":8.49},{"$f":"Cálculo!$H$78","v":98.73}]
["SP","São Paulo","Santa Gertrudes","ARSESP","COMGÁS","Comercial","Mensal",150.01,500,{"$f":"Cálculo!$G$79","v":7.9859999999999998},{"$f":"Cálculo!$H$79","v":174.66}]
["SP","São Paulo","Santa Gertrudes","ARSESP","COMGÁS","Comercial","Mensal",500.01,2000,{"$f":"Cálculo!$G$80","v":7.5380000000000003},{"$f":"Cálculo!$H$80","v":398.71}]
["SP","São Paulo","Santa Gertrudes","ARSESP","COMGÁS","Comercial","Mensal",2000.01,3500,{"$f":"Cálculo!$G$81","v":6.819},{"$f":"Cálculo!$H$81","v":1837.86}]
["SP","São Paulo","Santa Gertrudes","ARSESP","COMGÁS","Comercial","Mensal",3500.01,50000,{"$f":"Cálculo!$G$82","v":5.3760000000000003},{"$f":"Cálculo!$H$82","v":6892.16}]
["SP","São Paulo","Santa Gertrudes","ARSESP","COMGÁS","Comercial","Mensal",50000.01,null,{"$f":"Cálculo!$G$83","v":5.1479999999999997},{"$f":"Cálculo!$H$83","v":18284.09}]
["SP","São Paulo","Santa Gertrudes","ARSESP","COMGÁS","Industrial","Mensal",0,50000,{"$f":"Cálculo!$G$86","v":4.726},{"$f":"Cálculo!$H$86","v":387.36}]
["SP","São Paulo","Santa Gertrudes","ARSESP","COMGÁS","Industrial","Mensal",50000.01,300000,{"$f":"Cálculo!$G$87","v":3.5019999999999998},{"$f":"Cálculo!$H$87","v":61597.41}]
["SP","São Paulo","Santa Gertrudes","ARSESP","COMGÁS","Industrial","Mensal",300000.01,500000,{"$f":"Cálculo!$G$88","v":3.36},{"$f":"Cálculo!$H$88","v":110975.06}]
["SP","São Paulo","Santa Gertrudes","ARSESP","COMGÁS","Industrial","Mensal",500000.01,1000000,{"$f":"Cálculo!$G$89","v":3.3340000000000001},{"$f":"Cálculo!$H$89","v":124035.06}]
["SP","São Paulo","Santa Gertrudes","ARSESP","COMGÁS","Industrial","Mensal",1000000.01,2000000,{"$f":"Cálculo!$G$90","v":3.2810000000000001},{"$f":"Cálculo!$H$90","v":177422.21}]
["SP","São Paulo","Santa Gertrudes","ARSESP","COMGÁS","Industrial","Mensal",2000000.01,null,{"$f":"Cálculo!$G$91","v":3.2330000000000001},{"$f":"Cálculo!$H$91","v":316707.87}]
["SP","São Paulo","Santa Gertrudes","ARSESP","COMGÁS","GNV","Faixa Única",null,null,{"$f":"Cálculo!$G$94","v":3.2148460000000001}]
["SP","São Paulo","Santa Izabel","ARSESP","COMGÁS","Residencial","Mensal",0,1,{"$f":"Cálculo!$G$66","v":3.2869999999999999},{"$f":"Cálculo!$H$66","v":11.39}]
["SP","São Paulo","Santa Izabel","ARSESP","COMGÁS","Residencial","Mensal",1.01,3,{"$f":"Cálculo!$G$67","v":10.834},{"$f":"Cálculo!$H$67","v":14.87}]
["SP","São Paulo","Santa Izabel","ARSESP","COMGÁS","Residencial","Mensal",3.01,7,{"$f":"Cálculo!$G$68","v":5.6470000000000002},{"$f":"Cálculo!$H$68","v":14.87}]
["SP","São Paulo","Santa Izabel","ARSESP","COMGÁS","Residencial","Mensal",7.01,14,{"$f":"Cálculo!$G$69","v":9.3699999999999992},{"$f":"Cálculo!$H$69","v":16.739999999999998}]
["SP","São Paulo","Santa Izabel","ARSESP","COMGÁS","Residencial","Mensal",14.01,34,{"$f":"Cálculo!$G$70","v":11.132},{"$f":"Cálculo!$H$70","v":18.600000000000001}]
["SP","São Paulo","Santa Izabel","ARSESP","COMGÁS","Residencial","Mensal",34.01,600,{"$f":"Cálculo!$G$71","v":11.92},{"$f":"Cálculo!$H$71","v":18.600000000000001}]
["SP","São Paulo","Santa Izabel","ARSESP","COMGÁS","Residencial","Mensal",600.01,1000,{"$f":"Cálculo!$G$72","v":10.324},{"$f":"Cálculo!$H$72","v":18.600000000000001}]
["SP","São Paulo","Santa Izabel","ARSESP","COMGÁS","Residencial","Mensal",1000.01,null,{"$f":"Cálculo!$G$73","v":7.2949999999999999},{"$f":"Cálculo!$H$73","v":18.600000000000001}]
["SP","São Paulo","Santa Izabel","ARSESP","COMGÁS","Comercial","Mensal",0,0,{"$f":"Cálculo!$G$76","v":0},{"$f":"Cálculo!$H$76","v":0}]
["SP","São Paulo","Santa Izabel","ARSESP","COMGÁS","Comercial","Mensal",0.01,50,{"$f":"Cálculo!$G$77","v":9.2490000000000006},{"$f":"Cálculo!$H$77","v":60.76}]
["SP","São Paulo","Santa Izabel","ARSESP","COMGÁS","Comercial","Mensal",50.01,150,{"$f":"Cálculo!$G$78","v":8.49},{"$f":"Cálculo!$H$78","v":98.73}]
["SP","São Paulo","Santa Izabel","ARSESP","COMGÁS","Comercial","Mensal",150.01,500,{"$f":"Cálculo!$G$79","v":7.9859999999999998},{"$f":"Cálculo!$H$79","v":174.66}]
["SP","São Paulo","Santa Izabel","ARSESP","COMGÁS","Comercial","Mensal",500.01,2000,{"$f":"Cálculo!$G$80","v":7.5380000000000003},{"$f":"Cálculo!$H$80","v":398.71}]
["SP","São Paulo","Santa Izabel","ARSESP","COMGÁS","Comercial","Mensal",2000.01,3500,{"$f":"Cálculo!$G$81","v":6.819},{"$f":"Cálculo!$H$81","v":1837.86}]
["SP","São Paulo","Santa Izabel","ARSESP","COMGÁS","Comercial","Mensal",3500.01,50000,{"$f":"Cálculo!$G$82","v":5.3760000000000003},{"$f":"Cálculo!$H$82","v":6892.16}]
["SP","São Paulo","Santa Izabel","ARSESP","COMGÁS","Comercial","Mensal",50000.01,null,{"$f":"Cálculo!$G$83","v":5.1479999999999997},{"$f":"Cálculo!$H$83","v":18284.09}]
["SP","São Paulo","Santa Izabel","ARSESP","COMGÁS","Industrial","Mensal",0,50000,{"$f":"Cálculo!$G$86","v":4.726},{"$f":"Cálculo!$H$86","v":387.36}]
["SP","São Paulo","Santa Izabel","ARSESP","COMGÁS","Industrial","Mensal",50000.01,300000,{"$f":"Cálculo!$G$87","v":3.5019999999999998},{"$f":"Cálculo!$H$87","v":61597.41}]
["SP","São Paulo","Santa Izabel","ARSESP","COMGÁS","Industrial","Mensal",300000.01,500000,{"$f":"Cálculo!$G$88","v":3.36},{"$f":"Cálculo!$H$88","v":110975.06}]
["SP","São Paulo","Santa Izabel","ARSESP","COMGÁS","Industrial","Mensal",500000.01,1000000,{"$f":"Cálculo!$G$89","v":3.3340000000000001},{"$f":"Cálculo!$H$89","v":124035.06}]
["SP","São Paulo","Santa Izabel","ARSESP","COMGÁS","Industrial","Mensal",1000000.01,2000000,{"$f":"Cálculo!$G$90","v":3.2810000000000001},{"$f":"Cálculo!$H$90","v":177422.21}]
["SP","São Paulo","Santa Izabel","ARSESP","COMGÁS","Industrial","Mensal",2000000.01,null,{"$f":"Cálculo!$G$91","v":3.2330000000000001},{"$f":"Cálculo!$H$91","v":316707.87}]
["SP","São Paulo","Santa Izabel","ARSESP","COMGÁS","GNV","Faixa Única",null,null,{"$f":"Cálculo!$G$94","v":3.2148460000000001}]
["SP","São Paulo","Santa Maria da Serra","ARSESP","COMGÁS","Residencial","Mensal",0,1,{"$f":"Cálculo!$G$66","v":3.2869999999999999},{"$f":"Cálculo!$H$66","v":11.39}]
["SP","São Paulo","Santa Maria da Serra","ARSESP","COMGÁS","Residencial","Mensal",1.01,3,{"$f":"Cálculo!$G$67","v":10.834},{"$f":"Cálculo!$H$67","v":14.87}]
["SP","São Paulo","Santa Maria da Serra","ARSESP","COMGÁS","Residencial","Mensal",3.01,7,{"$f":"Cálculo!$G$68","v":5.6470000000000002},{"$f":"Cálculo!$H$68","v":14.87}]
["SP","São Paulo","Santa Maria da Serra","ARSESP","COMGÁS","Residencial","Mensal",7.01,14,{"$f":"Cálculo!$G$69","v":9.3699999999999992},{"$f":"Cálculo!$H$69","v":16.739999999999998}]
["SP","São Paulo","Santa Maria da Serra","ARSESP","COMGÁS","Residencial","Mensal",14.01,34,{"$f":"Cálculo!$G$70","v":11.132},{"$f":"Cálculo!$H$70","v":18.600000000000001}]
["SP","São Paulo","Santa Maria da Serra","ARSESP","COMGÁS","Residencial","Mensal",34.01,600,{"$f":"Cálculo!$G$71","v":11.92},{"$f":"Cálculo!$H$71","v":18.600000000000001}]
["SP","São Paulo","Santa Maria da Serra","ARSESP","COMGÁS","Residencial","Mensal",600.01,1000,{"$f":"Cálculo!$G$72","v":10.324},{"$f":"Cálculo!$H$72","v":18.600000000000001}]
["SP","São Paulo","Santa Maria da Serra","ARSESP","COMGÁS","Residencial","Mensal",1000.01,null,{"$f":"Cálculo!$G$73","v":7.2949999999999999},{"$f":"Cálculo!$H$73","v":18.600000000000001}]
["SP","São Paulo","Santa Maria da Serra","ARSESP","COMGÁS","Comercial","Mensal",0,0,{"$f":"Cálculo!$G$76","v":0},{"$f":"Cálculo!$H$76","v":0}]
["SP","São Paulo","Santa Maria da Serra","ARSESP","COMGÁS","Comercial","Mensal",0.01,50,{"$f":"Cálculo!$G$77","v":9.2490000000000006},{"$f":"Cálculo!$H$77","v":60.76}]
["SP","São Paulo","Santa Maria da Serra","ARSESP","COMGÁS","Comercial","Mensal",50.01,150,{"$f":"Cálculo!$G$78","v":8.49},{"$f":"Cálculo!$H$78","v":98.73}]
["SP","São Paulo","Santa Maria da Serra","ARSESP","COMGÁS","Comercial","Mensal",150.01,500,{"$f":"Cálculo!$G$79","v":7.9859999999999998},{"$f":"Cálculo!$H$79","v":174.66}]
["SP","São Paulo","Santa Maria da Serra","ARSESP","COMGÁS","Comercial","Mensal",500.01,2000,{"$f":"Cálculo!$G$80","v":7.5380000000000003},{"$f":"Cálculo!$H$80","v":398.71}]
["SP","São Paulo","Santa Maria da Serra","ARSESP","COMGÁS","Comercial","Mensal",2000.01,3500,{"$f":"Cálculo!$G$81","v":6.819},{"$f":"Cálculo!$H$81","v":1837.86}]
["SP","São Paulo","Santa Maria da Serra","ARSESP","COMGÁS","Comercial","Mensal",3500.01,50000,{"$f":"Cálculo!$G$82","v":5.3760000000000003},{"$f":"Cálculo!$H$82","v":6892.16}]
["SP","São Paulo","Santa Maria da Serra","ARSESP","COMGÁS","Comercial","Mensal",50000.01,null,{"$f":"Cálculo!$G$83","v":5.1479999999999997},{"$f":"Cálculo!$H$83","v":18284.09}]
["SP","São Paulo","Santa Maria da Serra","ARSESP","COMGÁS","Industrial","Mensal",0,50000,{"$f":"Cálculo!$G$86","v":4.726},{"$f":"Cálculo!$H$86","v":387.36}]
["SP","São Paulo","Santa Maria da Serra","ARSESP","COMGÁS","Industrial","Mensal",50000.01,300000,{"$f":"Cálculo!$G$87","v":3.5019999999999998},{"$f":"Cálculo!$H$87","v":61597.41}]
["SP","São Paulo","Santa Maria da Serra","ARSESP","COMGÁS","Industrial","Mensal",300000.01,500000,{"$f":"Cálculo!$G$88","v":3.36},{"$f":"Cálculo!$H$88","v":110975.06}]
["SP","São Paulo","Santa Maria da Serra","ARSESP","COMGÁS","Industrial","Mensal",500000.01,1000000,{"$f":"Cálculo!$G$89","v":3.3340000000000001},{"$f":"Cálculo!$H$89","v":124035.06}]
["SP","São Paulo","Santa Maria da Serra","ARSESP","COMGÁS","Industrial","Mensal",1000000.01,2000000,{"$f":"Cálculo!$G$90","v":3.2810000000000001},{"$f":"Cálculo!$H$90","v":177422.21}]
["SP","São Paulo","Santa Maria da Serra","ARSESP","COMGÁS","Industrial","Mensal",2000000.01,null,{"$f":"Cálculo!$G$91","v":3.2330000000000001},{"$f":"Cálculo!$H$91","v":316707.87}]
["SP","São Paulo","Santa Maria da Serra","ARSESP","COMGÁS","GNV","Faixa Única",null,null,{"$f":"Cálculo!$G$94","v":3.2148460000000001}]
["SP","São Paulo","Santana do Parnaíba","ARSESP","COMGÁS","Residencial","Mensal",0,1,{"$f":"Cálculo!$G$66","v":3.2869999999999999},{"$f":"Cálculo!$H$66","v":11.39}]
["SP","São Paulo","Santana do Parnaíba","ARSESP","COMGÁS","Residencial","Mensal",1.01,3,{"$f":"Cálculo!$G$67","v":10.834},{"$f":"Cálculo!$H$67","v":14.87}]
["SP","São Paulo","Santana do Parnaíba","ARSESP","COMGÁS","Residencial","Mensal",3.01,7,{"$f":"Cálculo!$G$68","v":5.6470000000000002},{"$f":"Cálculo!$H$68","v":14.87}]
["SP","São Paulo","Santana do Parnaíba","ARSESP","COMGÁS","Residencial","Mensal",7.01,14,{"$f":"Cálculo!$G$69","v":9.3699999999999992},{"$f":"Cálculo!$H$69","v":16.739999999999998}]
["SP","São Paulo","Santana do Parnaíba","ARSESP","COMGÁS","Residencial","Mensal",14.01,34,{"$f":"Cálculo!$G$70","v":11.132},{"$f":"Cálculo!$H$70","v":18.600000000000001}]
["SP","São Paulo","Santana do Parnaíba","ARSESP","COMGÁS","Residencial","Mensal",34.01,600,{"$f":"Cálculo!$G$71","v":11.92},{"$f":"Cálculo!$H$71","v":18.600000000000001}]
["SP","São Paulo","Santana do Parnaíba","ARSESP","COMGÁS","Residencial","Mensal",600.01,1000,{"$f":"Cálculo!$G$72","v":10.324},{"$f":"Cálculo!$H$72","v":18.600000000000001}]
["SP","São Paulo","Santana do Parnaíba","ARSESP","COMGÁS","Residencial","Mensal",1000.01,null,{"$f":"Cálculo!$G$73","v":7.2949999999999999},{"$f":"Cálculo!$H$73","v":18.600000000000001}]
["SP","São Paulo","Santana do Parnaíba","ARSESP","COMGÁS","Comercial","Mensal",0,0,{"$f":"Cálculo!$G$76","v":0},{"$f":"Cálculo!$H$76","v":0}]
["SP","São Paulo","Santana do Parnaíba","ARSESP","COMGÁS","Comercial","Mensal",0.01,50,{"$f":"Cálculo!$G$77","v":9.2490000000000006},{"$f":"Cálculo!$H$77","v":60.76}]
["SP","São Paulo","Santana do Parnaíba","ARSESP","COMGÁS","Comercial","Mensal",50.01,150,{"$f":"Cálculo!$G$78","v":8.49},{"$f":"Cálculo!$H$78","v":98.73}]
["SP","São Paulo","Santana do Parnaíba","ARSESP","COMGÁS","Comercial","Mensal",150.01,500,{"$f":"Cálculo!$G$79","v":7.9859999999999998},{"$f":"Cálculo!$H$79","v":174.66}]
["SP","São Paulo","Santana do Parnaíba","ARSESP","COMGÁS","Comercial","Mensal",500.01,2000,{"$f":"Cálculo!$G$80","v":7.5380000000000003},{"$f":"Cálculo!$H$80","v":398.71}]
["SP","São Paulo","Santana do Parnaíba","ARSESP","COMGÁS","Comercial","Mensal",2000.01,3500,{"$f":"Cálculo!$G$81","v":6.819},{"$f":"Cálculo!$H$81","v":1837.86}]
["SP","São Paulo","Santana do Parnaíba","ARSESP","COMGÁS","Comercial","Mensal",3500.01,50000,{"$f":"Cálculo!$G$82","v":5.3760000000000003},{"$f":"Cálculo!$H$82","v":6892.16}]
["SP","São Paulo","Santana do Parnaíba","ARSESP","COMGÁS","Comercial","Mensal",50000.01,null,{"$f":"Cálculo!$G$83","v":5.1479999999999997},{"$f":"Cálculo!$H$83","v":18284.09}]
["SP","São Paulo","Santana do Parnaíba","ARSESP","COMGÁS","Industrial","Mensal",0,50000,{"$f":"Cálculo!$G$86","v":4.726},{"$f":"Cálculo!$H$86","v":387.36}]
["SP","São Paulo","Santana do Parnaíba","ARSESP","COMGÁS","Industrial","Mensal",50000.01,300000,{"$f":"Cálculo!$G$87","v":3.5019999999999998},{"$f":"Cálculo!$H$87","v":61597.41}]
["SP","São Paulo","Santana do Parnaíba","ARSESP","COMGÁS","Industrial","Mensal",300000.01,500000,{"$f":"Cálculo!$G$88","v":3.36},{"$f":"Cálculo!$H$88","v":110975.06}]
["SP","São Paulo","Santana do Parnaíba","ARSESP","COMGÁS","Industrial","Mensal",500000.01,1000000,{"$f":"Cálculo!$G$89","v":3.3340000000000001},{"$f":"Cálculo!$H$89","v":124035.06}]
["SP","São Paulo","Santana do Parnaíba","ARSESP","COMGÁS","Industrial","Mensal",1000000.01,2000000,{"$f":"Cálculo!$G$90","v":3.2810000000000001},{"$f":"Cálculo!$H$90","v":177422.21}]
["SP","São Paulo","Santana do Parnaíba","ARSESP","COMGÁS","Industrial","Mensal",2000000.01,null,{"$f":"Cálculo!$G$91","v":3.2330000000000001},{"$f":"Cálculo!$H$91","v":316707.87}]
["SP","São Paulo","Santana do Parnaíba","ARSESP","COMGÁS","GNV","Faixa Única",null,null,{"$f":"Cálculo!$G$94","v":3.2148460000000001}]
["SP","São Paulo","Santo André","ARSESP","COMGÁS","Residencial","Mensal",0,1,{"$f":"Cálculo!$G$66","v":3.2869999999999999},{"$f":"Cálculo!$H$66","v":11.39}]
["SP","São Paulo","Santo André","ARSESP","COMGÁS","Residencial","Mensal",1.01,3,{"$f":"Cálculo!$G$67","v":10.834},{"$f":"Cálculo!$H$67","v":14.87}]
["SP","São Paulo","Santo André","ARSESP","COMGÁS","Residencial","Mensal",3.01,7,{"$f":"Cálculo!$G$68","v":5.6470000000000002},{"$f":"Cálculo!$H$68","v":14.87}]
["SP","São Paulo","Santo André","ARSESP","COMGÁS","Residencial","Mensal",7.01,14,{"$f":"Cálculo!$G$69","v":9.3699999999999992},{"$f":"Cálculo!$H$69","v":16.739999999999998}]
["SP","São Paulo","Santo André","ARSESP","COMGÁS","Residencial","Mensal",14.01,34,{"$f":"Cálculo!$G$70","v":11.132},{"$f":"Cálculo!$H$70","v":18.600000000000001}]
["SP","São Paulo","Santo André","ARSESP","COMGÁS","Residencial","Mensal",34.01,600,{"$f":"Cálculo!$G$71","v":11.92},{"$f":"Cálculo!$H$71","v":18.600000000000001}]
["SP","São Paulo","Santo André","ARSESP","COMGÁS","Residencial","Mensal",600.01,1000,{"$f":"Cálculo!$G$72","v":10.324},{"$f":"Cálculo!$H$72","v":18.600000000000001}]
["SP","São Paulo","Santo André","ARSESP","COMGÁS","Residencial","Mensal",1000.01,null,{"$f":"Cálculo!$G$73","v":7.2949999999999999},{"$f":"Cálculo!$H$73","v":18.600000000000001}]
["SP","São Paulo","Santo André","ARSESP","COMGÁS","Comercial","Mensal",0,0,{"$f":"Cálculo!$G$76","v":0},{"$f":"Cálculo!$H$76","v":0}]
["SP","São Paulo","Santo André","ARSESP","COMGÁS","Comercial","Mensal",0.01,50,{"$f":"Cálculo!$G$77","v":9.2490000000000006},{"$f":"Cálculo!$H$77","v":60.76}]
["SP","São Paulo","Santo André","ARSESP","COMGÁS","Comercial","Mensal",50.01,150,{"$f":"Cálculo!$G$78","v":8.49},{"$f":"Cálculo!$H$78","v":98.73}]
["SP","São Paulo","Santo André","ARSESP","COMGÁS","Comercial","Mensal",150.01,500,{"$f":"Cálculo!$G$79","v":7.9859999999999998},{"$f":"Cálculo!$H$79","v":174.66}]
["SP","São Paulo","Santo André","ARSESP","COMGÁS","Comercial","Mensal",500.01,2000,{"$f":"Cálculo!$G$80","v":7.5380000000000003},{"$f":"Cálculo!$H$80","v":398.71}]
["SP","São Paulo","Santo André","ARSESP","COMGÁS","Comercial","Mensal",2000.01,3500,{"$f":"Cálculo!$G$81","v":6.819},{"$f":"Cálculo!$H$81","v":1837.86}]
["SP","São Paulo","Santo André","ARSESP","COMGÁS","Comercial","Mensal",3500.01,50000,{"$f":"Cálculo!$G$82","v":5.3760000000000003},{"$f":"Cálculo!$H$82","v":6892.16}]
["SP","São Paulo","Santo André","ARSESP","COMGÁS","Comercial","Mensal",50000.01,null,{"$f":"Cálculo!$G$83","v":5.1479999999999997},{"$f":"Cálculo!$H$83","v":18284.09}]
["SP","São Paulo","Santo André","ARSESP","COMGÁS","Industrial","Mensal",0,50000,{"$f":"Cálculo!$G$86","v":4.726},{"$f":"Cálculo!$H$86","v":387.36}]
["SP","São Paulo","Santo André","ARSESP","COMGÁS","Industrial","Mensal",50000.01,300000,{"$f":"Cálculo!$G$87","v":3.5019999999999998},{"$f":"Cálculo!$H$87","v":61597.41}]
["SP","São Paulo","Santo André","ARSESP","COMGÁS","Industrial","Mensal",300000.01,500000,{"$f":"Cálculo!$G$88","v":3.36},{"$f":"Cálculo!$H$88","v":110975.06}]
["SP","São Paulo","Santo André","ARSESP","COMGÁS","Industrial","Mensal",500000.01,1000000,{"$f":"Cálculo!$G$89","v":3.3340000000000001},{"$f":"Cálculo!$H$89","v":124035.06}]
["SP","São Paulo","Santo André","ARSESP","COMGÁS","Industrial","Mensal",1000000.01,2000000,{"$f":"Cálculo!$G$90","v":3.2810000000000001},{"$f":"Cálculo!$H$90","v":177422.21}]
["SP","São Paulo","Santo André","ARSESP","COMGÁS","Industrial","Mensal",2000000.01,null,{"$f":"Cálculo!$G$91","v":3.2330000000000001},{"$f":"Cálculo!$H$91","v":316707.87}]
["SP","São Paulo","Santo André","ARSESP","COMGÁS","GNV","Faixa Única",null,null,{"$f":"Cálculo!$G$94","v":3.2148460000000001}]
["SP","São Paulo","Santo Antonio da Posse","ARSESP","COMGÁS","Residencial","Mensal",0,1,{"$f":"Cálculo!$G$66","v":3.2869999999999999},{"$f":"Cálculo!$H$66","v":11.39}]
["SP","São Paulo","Santo Antonio da Posse","ARSESP","COMGÁS","Residencial","Mensal",1.01,3,{"$f":"Cálculo!$G$67","v":10.834},{"$f":"Cálculo!$H$67","v":14.87}]
["SP","São Paulo","Santo Antonio da Posse","ARSESP","COMGÁS","Residencial","Mensal",3.01,7,{"$f":"Cálculo!$G$68","v":5.6470000000000002},{"$f":"Cálculo!$H$68","v":14.87}]
["SP","São Paulo","Santo Antonio da Posse","ARSESP","COMGÁS","Residencial","Mensal",7.01,14,{"$f":"Cálculo!$G$69","v":9.3699999999999992},{"$f":"Cálculo!$H$69","v":16.739999999999998}]
["SP","São Paulo","Santo Antonio da Posse","ARSESP","COMGÁS","Residencial","Mensal",14.01,34,{"$f":"Cálculo!$G$70","v":11.132},{"$f":"Cálculo!$H$70","v":18.600000000000001}]
["SP","São Paulo","Santo Antonio da Posse","ARSESP","COMGÁS","Residencial","Mensal",34.01,600,{"$f":"Cálculo!$G$71","v":11.92},{"$f":"Cálculo!$H$71","v":18.600000000000001}]
["SP","São Paulo","Santo Antonio da Posse","ARSESP","COMGÁS","Residencial","Mensal",600.01,1000,{"$f":"Cálculo!$G$72","v":10.324},{"$f":"Cálculo!$H$72","v":18.600000000000001}]
["SP","São Paulo","Santo Antonio da Posse","ARSESP","COMGÁS","Residencial","Mensal",1000.01,null,{"$f":"Cálculo!$G$73","v":7.2949999999999999},{"$f":"Cálculo!$H$73","v":18.600000000000001}]
["SP","São Paulo","Santo Antonio da Posse","ARSESP","COMGÁS","Comercial","Mensal",0,0,{"$f":"Cálculo!$G$76","v":0},{"$f":"Cálculo!$H$76","v":0}]
["SP","São Paulo","Santo Antonio da Posse","ARSESP","COMGÁS","Comercial","Mensal",0.01,50,{"$f":"Cálculo!$G$77","v":9.2490000000000006},{"$f":"Cálculo!$H$77","v":60.76}]
["SP","São Paulo","Santo Antonio da Posse","ARSESP","COMGÁS","Comercial","Mensal",50.01,150,{"$f":"Cálculo!$G$78","v":8.49},{"$f":"Cálculo!$H$78","v":98.73}]
["SP","São Paulo","Santo Antonio da Posse","ARSESP","COMGÁS","Comercial","Mensal",150.01,500,{"$f":"Cálculo!$G$79","v":7.9859999999999998},{"$f":"Cálculo!$H$79","v":174.66}]
["SP","São Paulo","Santo Antonio da Posse","ARSESP","COMGÁS","Comercial","Mensal",500.01,2000,{"$f":"Cálculo!$G$80","v":7.5380000000000003},{"$f":"Cálculo!$H$80","v":398.71}]
["SP","São Paulo","Santo Antonio da Posse","ARSESP","COMGÁS","Comercial","Mensal",2000.01,3500,{"$f":"Cálculo!$G$81","v":6.819},{"$f":"Cálculo!$H$81","v":1837.86}]
["SP","São Paulo","Santo Antonio da Posse","ARSESP","COMGÁS","Comercial","Mensal",3500.01,50000,{"$f":"Cálculo!$G$82","v":5.3760000000000003},{"$f":"Cálculo!$H$82","v":6892.16}]
["SP","São Paulo","Santo Antonio da Posse","ARSESP","COMGÁS","Comercial","Mensal",50000.01,null,{"$f":"Cálculo!$G$83","v":5.1479999999999997},{"$f":"Cálculo!$H$83","v":18284.09}]
["SP","São Paulo","Santo Antonio da Posse","ARSESP","COMGÁS","Industrial","Mensal",0,50000,{"$f":"Cálculo!$G$86","v":4.726},{"$f":"Cálculo!$H$86","v":387.36}]
["SP","São Paulo","Santo Antonio da Posse","ARSESP","COMGÁS","Industrial","Mensal",50000.01,300000,{"$f":"Cálculo!$G$87","v":3.5019999999999998},{"$f":"Cálculo!$H$87","v":61597.41}]
["SP","São Paulo","Santo Antonio da Posse","ARSESP","COMGÁS","Industrial","Mensal",300000.01,500000,{"$f":"Cálculo!$G$88","v":3.36},{"$f":"Cálculo!$H$88","v":110975.06}]
["SP","São Paulo","Santo Antonio da Posse","ARSESP","COMGÁS","Industrial","Mensal",500000.01,1000000,{"$f":"Cálculo!$G$89","v":3.3340000000000001},{"$f":"Cálculo!$H$89","v":124035.06}]
["SP","São Paulo","Santo Antonio da Posse","ARSESP","COMGÁS","Industrial","Mensal",1000000.01,2000000,{"$f":"Cálculo!$G$90","v":3.2810000000000001},{"$f":"Cálculo!$H$90","v":177422.21}]
["SP","São Paulo","Santo Antonio da Posse","ARSESP","COMGÁS","Industrial","Mensal",2000000.01,null,{"$f":"Cálculo!$G$91","v":3.2330000000000001},{"$f":"Cálculo!$H$91","v":316707.87}]
["SP","São Paulo","Santo Antonio da Posse","ARSESP","COMGÁS","GNV","Faixa Única",null,null,{"$f":"Cálculo!$G$94","v":3.2148460000000001}]
["SP","São Paulo","Santo Antonio do Jardim","ARSESP","COMGÁS","Residencial","Mensal",0,1,{"$f":"Cálculo!$G$66","v":3.2869999999999999},{"$f":"Cálculo!$H$66","v":11.39}]
["SP","São Paulo","Santo Antonio do Jardim","ARSESP","COMGÁS","Residencial","Mensal",1.01,3,{"$f":"Cálculo!$G$67","v":10.834},{"$f":"Cálculo!$H$67","v":14.87}]
["SP","São Paulo","Santo Antonio do Jardim","ARSESP","COMGÁS","Residencial","Mensal",3.01,7,{"$f":"Cálculo!$G$68","v":5.6470000000000002},{"$f":"Cálculo!$H$68","v":14.87}]
["SP","São Paulo","Santo Antonio do Jardim","ARSESP","COMGÁS","Residencial","Mensal",7.01,14,{"$f":"Cálculo!$G$69","v":9.3699999999999992},{"$f":"Cálculo!$H$69","v":16.739999999999998}]
["SP","São Paulo","Santo Antonio do Jardim","ARSESP","COMGÁS","Residencial","Mensal",14.01,34,{"$f":"Cálculo!$G$70","v":11.132},{"$f":"Cálculo!$H$70","v":18.600000000000001}]
["SP","São Paulo","Santo Antonio do Jardim","ARSESP","COMGÁS","Residencial","Mensal",34.01,600,{"$f":"Cálculo!$G$71","v":11.92},{"$f":"Cálculo!$H$71","v":18.600000000000001}]
["SP","São Paulo","Santo Antonio do Jardim","ARSESP","COMGÁS","Residencial","Mensal",600.01,1000,{"$f":"Cálculo!$G$72","v":10.324},{"$f":"Cálculo!$H$72","v":18.600000000000001}]
["SP","São Paulo","Santo Antonio do Jardim","ARSESP","COMGÁS","Residencial","Mensal",1000.01,null,{"$f":"Cálculo!$G$73","v":7.2949999999999999},{"$f":"Cálculo!$H$73","v":18.600000000000001}]
["SP","São Paulo","Santo Antonio do Jardim","ARSESP","COMGÁS","Comercial","Mensal",0,0,{"$f":"Cálculo!$G$76","v":0},{"$f":"Cálculo!$H$76","v":0}]
["SP","São Paulo","Santo Antonio do Jardim","ARSESP","COMGÁS","Comercial","Mensal",0.01,50,{"$f":"Cálculo!$G$77","v":9.2490000000000006},{"$f":"Cálculo!$H$77","v":60.76}]
["SP","São Paulo","Santo Antonio do Jardim","ARSESP","COMGÁS","Comercial","Mensal",50.01,150,{"$f":"Cálculo!$G$78","v":8.49},{"$f":"Cálculo!$H$78","v":98.73}]
["SP","São Paulo","Santo Antonio do Jardim","ARSESP","COMGÁS","Comercial","Mensal",150.01,500,{"$f":"Cálculo!$G$79","v":7.9859999999999998},{"$f":"Cálculo!$H$79","v":174.66}]
["SP","São Paulo","Santo Antonio do Jardim","ARSESP","COMGÁS","Comercial","Mensal",500.01,2000,{"$f":"Cálculo!$G$80","v":7.5380000000000003},{"$f":"Cálculo!$H$80","v":398.71}]
["SP","São Paulo","Santo Antonio do Jardim","ARSESP","COMGÁS","Comercial","Mensal",2000.01,3500,{"$f":"Cálculo!$G$81","v":6.819},{"$f":"Cálculo!$H$81","v":1837.86}]
["SP","São Paulo","Santo Antonio do Jardim","ARSESP","COMGÁS","Comercial","Mensal",3500.01,50000,{"$f":"Cálculo!$G$82","v":5.3760000000000003},{"$f":"Cálculo!$H$82","v":6892.16}]
["SP","São Paulo","Santo Antonio do Jardim","ARSESP","COMGÁS","Comercial","Mensal",50000.01,null,{"$f":"Cálculo!$G$83","v":5.1479999999999997},{"$f":"Cálculo!$H$83","v":18284.09}]
["SP","São Paulo","Santo Antonio do Jardim","ARSESP","COMGÁS","Industrial","Mensal",0,50000,{"$f":"Cálculo!$G$86","v":4.726},{"$f":"Cálculo!$H$86","v":387.36}]
["SP","São Paulo","Santo Antonio do Jardim","ARSESP","COMGÁS","Industrial","Mensal",50000.01,300000,{"$f":"Cálculo!$G$87","v":3.5019999999999998},{"$f":"Cálculo!$H$87","v":61597.41}]
["SP","São Paulo","Santo Antonio do Jardim","ARSESP","COMGÁS","Industrial","Mensal",300000.01,500000,{"$f":"Cálculo!$G$88","v":3.36},{"$f":"Cálculo!$H$88","v":110975.06}]
["SP","São Paulo","Santo Antonio do Jardim","ARSESP","COMGÁS","Industrial","Mensal",500000.01,1000000,{"$f":"Cálculo!$G$89","v":3.3340000000000001},{"$f":"Cálculo!$H$89","v":124035.06}]
["SP","São Paulo","Santo Antonio do Jardim","ARSESP","COMGÁS","Industrial","Mensal",1000000.01,2000000,{"$f":"Cálculo!$G$90","v":3.2810000000000001},{"$f":"Cálculo!$H$90","v":177422.21}]
["SP","São Paulo","Santo Antonio do Jardim","ARSESP","COMGÁS","Industrial","Mensal",2000000.01,null,{"$f":"Cálculo!$G$91","v":3.2330000000000001},{"$f":"Cálculo!$H$91","v":316707.87}]
["SP","São Paulo","Santo Antonio do Jardim","ARSESP","COMGÁS","GNV","Faixa Única",null,null,{"$f":"Cálculo!$G$94","v":3.2148460000000001}]
["SP","São Paulo","Santo Antonio do Pinhal","ARSESP","COMGÁS","Residencial","Mensal",0,1,{"$f":"Cálculo!$G$66","v":3.2869999999999999},{"$f":"Cálculo!$H$66","v":11.39}]
["SP","São Paulo","Santo Antonio do Pinhal","ARSESP","COMGÁS","Residencial","Mensal",1.01,3,{"$f":"Cálculo!$G$67","v":10.834},{"$f":"Cálculo!$H$67","v":14.87}]
["SP","São Paulo","Santo Antonio do Pinhal","ARSESP","COMGÁS","Residencial","Mensal",3.01,7,{"$f":"Cálculo!$G$68","v":5.6470000000000002},{"$f":"Cálculo!$H$68","v":14.87}]
["SP","São Paulo","Santo Antonio do Pinhal","ARSESP","COMGÁS","Residencial","Mensal",7.01,14,{"$f":"Cálculo!$G$69","v":9.3699999999999992},{"$f":"Cálculo!$H$69","v":16.739999999999998}]
["SP","São Paulo","Santo Antonio do Pinhal","ARSESP","COMGÁS","Residencial","Mensal",14.01,34,{"$f":"Cálculo!$G$70","v":11.132},{"$f":"Cálculo!$H$70","v":18.600000000000001}]
["SP","São Paulo","Santo Antonio do Pinhal","ARSESP","COMGÁS","Residencial","Mensal",34.01,600,{"$f":"Cálculo!$G$71","v":11.92},{"$f":"Cálculo!$H$71","v":18.600000000000001}]
["SP","São Paulo","Santo Antonio do Pinhal","ARSESP","COMGÁS","Residencial","Mensal",600.01,1000,{"$f":"Cálculo!$G$72","v":10.324},{"$f":"Cálculo!$H$72","v":18.600000000000001}]
["SP","São Paulo","Santo Antonio do Pinhal","ARSESP","COMGÁS","Residencial","Mensal",1000.01,null,{"$f":"Cálculo!$G$73","v":7.2949999999999999},{"$f":"Cálculo!$H$73","v":18.600000000000001}]
["SP","São Paulo","Santo Antonio do Pinhal","ARSESP","COMGÁS","Comercial","Mensal",0,0,{"$f":"Cálculo!$G$76","v":0},{"$f":"Cálculo!$H$76","v":0}]
["SP","São Paulo","Santo Antonio do Pinhal","ARSESP","COMGÁS","Comercial","Mensal",0.01,50,{"$f":"Cálculo!$G$77","v":9.2490000000000006},{"$f":"Cálculo!$H$77","v":60.76}]
["SP","São Paulo","Santo Antonio do Pinhal","ARSESP","COMGÁS","Comercial","Mensal",50.01,150,{"$f":"Cálculo!$G$78","v":8.49},{"$f":"Cálculo!$H$78","v":98.73}]
["SP","São Paulo","Santo Antonio do Pinhal","ARSESP","COMGÁS","Comercial","Mensal",150.01,500,{"$f":"Cálculo!$G$79","v":7.9859999999999998},{"$f":"Cálculo!$H$79","v":174.66}]
["SP","São Paulo","Santo Antonio do Pinhal","ARSESP","COMGÁS","Comercial","Mensal",500.01,2000,{"$f":"Cálculo!$G$80","v":7.5380000000000003},{"$f":"Cálculo!$H$80","v":398.71}]
["SP","São Paulo","Santo Antonio do Pinhal","ARSESP","COMGÁS","Comercial","Mensal",2000.01,3500,{"$f":"Cálculo!$G$81","v":6.819},{"$f":"Cálculo!$H$81","v":1837.86}]
["SP","São Paulo","Santo Antonio do Pinhal","ARSESP","COMGÁS","Comercial","Mensal",3500.01,50000,{"$f":"Cálculo!$G$82","v":5.3760000000000003},{"$f":"Cálculo!$H$82","v":6892.16}]
["SP","São Paulo","Santo Antonio do Pinhal","ARSESP","COMGÁS","Comercial","Mensal",50000.01,null,{"$f":"Cálculo!$G$83","v":5.1479999999999997},{"$f":"Cálculo!$H$83","v":18284.09}]
["SP","São Paulo","Santo Antonio do Pinhal","ARSESP","COMGÁS","Industrial","Mensal",0,50000,{"$f":"Cálculo!$G$86","v":4.726},{"$f":"Cálculo!$H$86","v":387.36}]
["SP","São Paulo","Santo Antonio do Pinhal","ARSESP","COMGÁS","Industrial","Mensal",50000.01,300000,{"$f":"Cálculo!$G$87","v":3.5019999999999998},{"$f":"Cálculo!$H$87","v":61597.41}]
["SP","São Paulo","Santo Antonio do Pinhal","ARSESP","COMGÁS","Industrial","Mensal",300000.01,500000,{"$f":"Cálculo!$G$88","v":3.36},{"$f":"Cálculo!$H$88","v":110975.06}]
["SP","São Paulo","Santo Antonio do Pinhal","ARSESP","COMGÁS","Industrial","Mensal",500000.01,1000000,{"$f":"Cálculo!$G$89","v":3.3340000000000001},{"$f":"Cálculo!$H$89","v":124035.06}]
["SP","São Paulo","Santo Antonio do Pinhal","ARSESP","COMGÁS","Industrial","Mensal",1000000.01,2000000,{"$f":"Cálculo!$G$90","v":3.2810000000000001},{"$f":"Cálculo!$H$90","v":177422.21}]
["SP","São Paulo","Santo Antonio do Pinhal","ARSESP","COMGÁS","Industrial","Mensal",2000000.01,null,{"$f":"Cálculo!$G$91","v":3.2330000000000001},{"$f":"Cálculo!$H$91","v":316707.87}]
["SP","São Paulo","Santo Antonio do Pinhal","ARSESP","COMGÁS","GNV","Faixa Única",null,null,{"$f":"Cálculo!$G$94","v":3.2148460000000001}]
["SP","São Paulo","Santos","ARSESP","COMGÁS","Residencial","Mensal",0,1,{"$f":"Cálculo!$G$66","v":3.2869999999999999},{"$f":"Cálculo!$H$66","v":11.39}]
["SP","São Paulo","Santos","ARSESP","COMGÁS","Residencial","Mensal",1.01,3,{"$f":"Cálculo!$G$67","v":10.834},{"$f":"Cálculo!$H$67","v":14.87}]
["SP","São Paulo","Santos","ARSESP","COMGÁS","Residencial","Mensal",3.01,7,{"$f":"Cálculo!$G$68","v":5.6470000000000002},{"$f":"Cálculo!$H$68","v":14.87}]
["SP","São Paulo","Santos","ARSESP","COMGÁS","Residencial","Mensal",7.01,14,{"$f":"Cálculo!$G$69","v":9.3699999999999992},{"$f":"Cálculo!$H$69","v":16.739999999999998}]
["SP","São Paulo","Santos","ARSESP","COMGÁS","Residencial","Mensal",14.01,34,{"$f":"Cálculo!$G$70","v":11.132},{"$f":"Cálculo!$H$70","v":18.600000000000001}]
["SP","São Paulo","Santos","ARSESP","COMGÁS","Residencial","Mensal",34.01,600,{"$f":"Cálculo!$G$71","v":11.92},{"$f":"Cálculo!$H$71","v":18.600000000000001}]
["SP","São Paulo","Santos","ARSESP","COMGÁS","Residencial","Mensal",600.01,1000,{"$f":"Cálculo!$G$72","v":10.324},{"$f":"Cálculo!$H$72","v":18.600000000000001}]
["SP","São Paulo","Santos","ARSESP","COMGÁS","Residencial","Mensal",1000.01,null,{"$f":"Cálculo!$G$73","v":7.2949999999999999},{"$f":"Cálculo!$H$73","v":18.600000000000001}]
["SP","São Paulo","Santos","ARSESP","COMGÁS","Comercial","Mensal",0,0,{"$f":"Cálculo!$G$76","v":0},{"$f":"Cálculo!$H$76","v":0}]
["SP","São Paulo","Santos","ARSESP","COMGÁS","Comercial","Mensal",0.01,50,{"$f":"Cálculo!$G$77","v":9.2490000000000006},{"$f":"Cálculo!$H$77","v":60.76}]
["SP","São Paulo","Santos","ARSESP","COMGÁS","Comercial","Mensal",50.01,150,{"$f":"Cálculo!$G$78","v":8.49},{"$f":"Cálculo!$H$78","v":98.73}]
["SP","São Paulo","Santos","ARSESP","COMGÁS","Comercial","Mensal",150.01,500,{"$f":"Cálculo!$G$79","v":7.9859999999999998},{"$f":"Cálculo!$H$79","v":174.66}]
["SP","São Paulo","Santos","ARSESP","COMGÁS","Comercial","Mensal",500.01,2000,{"$f":"Cálculo!$G$80","v":7.5380000000000003},{"$f":"Cálculo!$H$80","v":398.71}]
["SP","São Paulo","Santos","ARSESP","COMGÁS","Comercial","Mensal",2000.01,3500,{"$f":"Cálculo!$G$81","v":6.819},{"$f":"Cálculo!$H$81","v":1837.86}]
["SP","São Paulo","Santos","ARSESP","COMGÁS","Comercial","Mensal",3500.01,50000,{"$f":"Cálculo!$G$82","v":5.3760000000000003},{"$f":"Cálculo!$H$82","v":6892.16}]
["SP","São Paulo","Santos","ARSESP","COMGÁS","Comercial","Mensal",50000.01,null,{"$f":"Cálculo!$G$83","v":5.1479999999999997},{"$f":"Cálculo!$H$83","v":18284.09}]
["SP","São Paulo","Santos","ARSESP","COMGÁS","Industrial","Mensal",0,50000,{"$f":"Cálculo!$G$86","v":4.726},{"$f":"Cálculo!$H$86","v":387.36}]
["SP","São Paulo","Santos","ARSESP","COMGÁS","Industrial","Mensal",50000.01,300000,{"$f":"Cálculo!$G$87","v":3.5019999999999998},{"$f":"Cálculo!$H$87","v":61597.41}]
["SP","São Paulo","Santos","ARSESP","COMGÁS","Industrial","Mensal",300000.01,500000,{"$f":"Cálculo!$G$88","v":3.36},{"$f":"Cálculo!$H$88","v":110975.06}]
["SP","São Paulo","Santos","ARSESP","COMGÁS","Industrial","Mensal",500000.01,1000000,{"$f":"Cálculo!$G$89","v":3.3340000000000001},{"$f":"Cálculo!$H$89","v":124035.06}]
["SP","São Paulo","Santos","ARSESP","COMGÁS","Industrial","Mensal",1000000.01,2000000,{"$f":"Cálculo!$G$90","v":3.2810000000000001},{"$f":"Cálculo!$H$90","v":177422.21}]
["SP","São Paulo","Santos","ARSESP","COMGÁS","Industrial","Mensal",2000000.01,null,{"$f":"Cálculo!$G$91","v":3.2330000000000001},{"$f":"Cálculo!$H$91","v":316707.87}]
["SP","São Paulo","Santos","ARSESP","COMGÁS","GNV","Faixa Única",null,null,{"$f":"Cálculo!$G$94","v":3.2148460000000001}]
["SP","São Paulo","São Bento do Sapucaí","ARSESP","COMGÁS","Residencial","Mensal",0,1,{"$f":"Cálculo!$G$66","v":3.2869999999999999},{"$f":"Cálculo!$H$66","v":11.39}]
["SP","São Paulo","São Bento do Sapucaí","ARSESP","COMGÁS","Residencial","Mensal",1.01,3,{"$f":"Cálculo!$G$67","v":10.834},{"$f":"Cálculo!$H$67","v":14.87}]
["SP","São Paulo","São Bento do Sapucaí","ARSESP","COMGÁS","Residencial","Mensal",3.01,7,{"$f":"Cálculo!$G$68","v":5.6470000000000002},{"$f":"Cálculo!$H$68","v":14.87}]
["SP","São Paulo","São Bento do Sapucaí","ARSESP","COMGÁS","Residencial","Mensal",7.01,14,{"$f":"Cálculo!$G$69","v":9.3699999999999992},{"$f":"Cálculo!$H$69","v":16.739999999999998}]
["SP","São Paulo","São Bento do Sapucaí","ARSESP","COMGÁS","Residencial","Mensal",14.01,34,{"$f":"Cálculo!$G$70","v":11.132},{"$f":"Cálculo!$H$70","v":18.600000000000001}]
["SP","São Paulo","São Bento do Sapucaí","ARSESP","COMGÁS","Residencial","Mensal",34.01,600,{"$f":"Cálculo!$G$71","v":11.92},{"$f":"Cálculo!$H$71","v":18.600000000000001}]
["SP","São Paulo","São Bento do Sapucaí","ARSESP","COMGÁS","Residencial","Mensal",600.01,1000,{"$f":"Cálculo!$G$72","v":10.324},{"$f":"Cálculo!$H$72","v":18.600000000000001}]
["SP","São Paulo","São Bento do Sapucaí","ARSESP","COMGÁS","Residencial","Mensal",1000.01,null,{"$f":"Cálculo!$G$73","v":7.2949999999999999},{"$f":"Cálculo!$H$73","v":18.600000000000001}]
["SP","São Paulo","São Bento do Sapucaí","ARSESP","COMGÁS","Comercial","Mensal",0,0,{"$f":"Cálculo!$G$76","v":0},{"$f":"Cálculo!$H$76","v":0}]
["SP","São Paulo","São Bento do Sapucaí","ARSESP","COMGÁS","Comercial","Mensal",0.01,50,{"$f":"Cálculo!$G$77","v":9.2490000000000006},{"$f":"Cálculo!$H$77","v":60.76}]
["SP","São Paulo","São Bento do Sapucaí","ARSESP","COMGÁS","Comercial","Mensal",50.01,150,{"$f":"Cálculo!$G$78","v":8.49},{"$f":"Cálculo!$H$78","v":98.73}]
["SP","São Paulo","São Bento do Sapucaí","ARSESP","COMGÁS","Comercial","Mensal",150.01,500,{"$f":"Cálculo!$G$79","v":7.9859999999999998},{"$f":"Cálculo!$H$79","v":174.66}]
["SP","São Paulo","São Bento do Sapucaí","ARSESP","COMGÁS","Comercial","Mensal",500.01,2000,{"$f":"Cálculo!$G$80","v":7.5380000000000003},{"$f":"Cálculo!$H$80","v":398.71}]
["SP","São Paulo","São Bento do Sapucaí","ARSESP","COMGÁS","Comercial","Mensal",2000.01,3500,{"$f":"Cálculo!$G$81","v":6.819},{"$f":"Cálculo!$H$81","v":1837.86}]
["SP","São Paulo","São Bento do Sapucaí","ARSESP","COMGÁS","Comercial","Mensal",3500.01,50000,{"$f":"Cálculo!$G$82","v":5.3760000000000003},{"$f":"Cálculo!$H$82","v":6892.16}]
["SP","São Paulo","São Bento do Sapucaí","ARSESP","COMGÁS","Comercial","Mensal",50000.01,null,{"$f":"Cálculo!$G$83","v":5.1479999999999997},{"$f":"Cálculo!$H$83","v":18284.09}]
["SP","São Paulo","São Bento do Sapucaí","ARSESP","COMGÁS","Industrial","Mensal",0,50000,{"$f":"Cálculo!$G$86","v":4.726},{"$f":"Cálculo!$H$86","v":387.36}]
["SP","São Paulo","São Bento do Sapucaí","ARSESP","COMGÁS","Industrial","Mensal",50000.01,300000,{"$f":"Cálculo!$G$87","v":3.5019999999999998},{"$f":"Cálculo!$H$87","v":61597.41}]
["SP","São Paulo","São Bento do Sapucaí","ARSESP","COMGÁS","Industrial","Mensal",300000.01,500000,{"$f":"Cálculo!$G$88","v":3.36},{"$f":"Cálculo!$H$88","v":110975.06}]
["SP","São Paulo","São Bento do Sapucaí","ARSESP","COMGÁS","Industrial","Mensal",500000.01,1000000,{"$f":"Cálculo!$G$89","v":3.3340000000000001},{"$f":"Cálculo!$H$89","v":124035.06}]
["SP","São Paulo","São Bento do Sapucaí","ARSESP","COMGÁS","Industrial","Mensal",1000000.01,2000000,{"$f":"Cálculo!$G$90","v":3.2810000000000001},{"$f":"Cálculo!$H$90","v":177422.21}]
["SP","São Paulo","São Bento do Sapucaí","ARSESP","COMGÁS","Industrial","Mensal",2000000.01,null,{"$f":"Cálculo!$G$91","v":3.2330000000000001},{"$f":"Cálculo!$H$91","v":316707.87}]
["SP","São Paulo","São Bento do Sapucaí","ARSESP","COMGÁS","GNV","Faixa Única",null,null,{"$f":"Cálculo!$G$94","v":3.2148460000000001}]
["SP","São Paulo","São Bernardo do Campo","ARSESP","COMGÁS","Residencial","Mensal",0,1,{"$f":"Cálculo!$G$66","v":3.2869999999999999},{"$f":"Cálculo!$H$66","v":11.39}]
["SP","São Paulo","São Bernardo do Campo","ARSESP","COMGÁS","Residencial","Mensal",1.01,3,{"$f":"Cálculo!$G$67","v":10.834},{"$f":"Cálculo!$H$67","v":14.87}]
["SP","São Paulo","São Bernardo do Campo","ARSESP","COMGÁS","Residencial","Mensal",3.01,7,{"$f":"Cálculo!$G$68","v":5.6470000000000002},{"$f":"Cálculo!$H$68","v":14.87}]
["SP","São Paulo","São Bernardo do Campo","ARSESP","COMGÁS","Residencial","Mensal",7.01,14,{"$f":"Cálculo!$G$69","v":9.3699999999999992},{"$f":"Cálculo!$H$69","v":16.739999999999998}]
["SP","São Paulo","São Bernardo do Campo","ARSESP","COMGÁS","Residencial","Mensal",14.01,34,{"$f":"Cálculo!$G$70","v":11.132},{"$f":"Cálculo!$H$70","v":18.600000000000001}]
["SP","São Paulo","São Bernardo do Campo","ARSESP","COMGÁS","Residencial","Mensal",34.01,600,{"$f":"Cálculo!$G$71","v":11.92},{"$f":"Cálculo!$H$71","v":18.600000000000001}]
["SP","São Paulo","São Bernardo do Campo","ARSESP","COMGÁS","Residencial","Mensal",600.01,1000,{"$f":"Cálculo!$G$72","v":10.324},{"$f":"Cálculo!$H$72","v":18.600000000000001}]
["SP","São Paulo","São Bernardo do Campo","ARSESP","COMGÁS","Residencial","Mensal",1000.01,null,{"$f":"Cálculo!$G$73","v":7.2949999999999999},{"$f":"Cálculo!$H$73","v":18.600000000000001}]
["SP","São Paulo","São Bernardo do Campo","ARSESP","COMGÁS","Comercial","Mensal",0,0,{"$f":"Cálculo!$G$76","v":0},{"$f":"Cálculo!$H$76","v":0}]
["SP","São Paulo","São Bernardo do Campo","ARSESP","COMGÁS","Comercial","Mensal",0.01,50,{"$f":"Cálculo!$G$77","v":9.2490000000000006},{"$f":"Cálculo!$H$77","v":60.76}]
["SP","São Paulo","São Bernardo do Campo","ARSESP","COMGÁS","Comercial","Mensal",50.01,150,{"$f":"Cálculo!$G$78","v":8.49},{"$f":"Cálculo!$H$78","v":98.73}]
["SP","São Paulo","São Bernardo do Campo","ARSESP","COMGÁS","Comercial","Mensal",150.01,500,{"$f":"Cálculo!$G$79","v":7.9859999999999998},{"$f":"Cálculo!$H$79","v":174.66}]
["SP","São Paulo","São Bernardo do Campo","ARSESP","COMGÁS","Comercial","Mensal",500.01,2000,{"$f":"Cálculo!$G$80","v":7.5380000000000003},{"$f":"Cálculo!$H$80","v":398.71}]
["SP","São Paulo","São Bernardo do Campo","ARSESP","COMGÁS","Comercial","Mensal",2000.01,3500,{"$f":"Cálculo!$G$81","v":6.819},{"$f":"Cálculo!$H$81","v":1837.86}]
["SP","São Paulo","São Bernardo do Campo","ARSESP","COMGÁS","Comercial","Mensal",3500.01,50000,{"$f":"Cálculo!$G$82","v":5.3760000000000003},{"$f":"Cálculo!$H$82","v":6892.16}]
["SP","São Paulo","São Bernardo do Campo","ARSESP","COMGÁS","Comercial","Mensal",50000.01,null,{"$f":"Cálculo!$G$83","v":5.1479999999999997},{"$f":"Cálculo!$H$83","v":18284.09}]
["SP","São Paulo","São Bernardo do Campo","ARSESP","COMGÁS","Industrial","Mensal",0,50000,{"$f":"Cálculo!$G$86","v":4.726},{"$f":"Cálculo!$H$86","v":387.36}]
["SP","São Paulo","São Bernardo do Campo","ARSESP","COMGÁS","Industrial","Mensal",50000.01,300000,{"$f":"Cálculo!$G$87","v":3.5019999999999998},{"$f":"Cálculo!$H$87","v":61597.41}]
["SP","São Paulo","São Bernardo do Campo","ARSESP","COMGÁS","Industrial","Mensal",300000.01,500000,{"$f":"Cálculo!$G$88","v":3.36},{"$f":"Cálculo!$H$88","v":110975.06}]
["SP","São Paulo","São Bernardo do Campo","ARSESP","COMGÁS","Industrial","Mensal",500000.01,1000000,{"$f":"Cálculo!$G$89","v":3.3340000000000001},{"$f":"Cálculo!$H$89","v":124035.06}]
["SP","São Paulo","São Bernardo do Campo","ARSESP","COMGÁS","Industrial","Mensal",1000000.01,2000000,{"$f":"Cálculo!$G$90","v":3.2810000000000001},{"$f":"Cálculo!$H$90","v":177422.21}]
["SP","São Paulo","São Bernardo do Campo","ARSESP","COMGÁS","Industrial","Mensal",2000000.01,null,{"$f":"Cálculo!$G$91","v":3.2330000000000001},{"$f":"Cálculo!$H$91","v":316707.87}]
["SP","São Paulo","São Bernardo do Campo","ARSESP","COMGÁS","GNV","Faixa Única",null,null,{"$f":"Cálculo!$G$94","v":3.2148460000000001}]
["SP","São Paulo","São Caetano do Sul","ARSESP","COMGÁS","Residencial","Mensal",0,1,{"$f":"Cálculo!$G$66","v":3.2869999999999999},{"$f":"Cálculo!$H$66","v":11.39}]
["SP","São Paulo","São Caetano do Sul","ARSESP","COMGÁS","Residencial","Mensal",1.01,3,{"$f":"Cálculo!$G$67","v":10.834},{"$f":"Cálculo!$H$67","v":14.87}]
["SP","São Paulo","São Caetano do Sul","ARSESP","COMGÁS","Residencial","Mensal",3.01,7,{"$f":"Cálculo!$G$68","v":5.6470000000000002},{"$f":"Cálculo!$H$68","v":14.87}]
["SP","São Paulo","São Caetano do Sul","ARSESP","COMGÁS","Residencial","Mensal",7.01,14,{"$f":"Cálculo!$G$69","v":9.3699999999999992},{"$f":"Cálculo!$H$69","v":16.739999999999998}]
["SP","São Paulo","São Caetano do Sul","ARSESP","COMGÁS","Residencial","Mensal",14.01,34,{"$f":"Cálculo!$G$70","v":11.132},{"$f":"Cálculo!$H$70","v":18.600000000000001}]
["SP","São Paulo","São Caetano do Sul","ARSESP","COMGÁS","Residencial","Mensal",34.01,600,{"$f":"Cálculo!$G$71","v":11.92},{"$f":"Cálculo!$H$71","v":18.600000000000001}]
["SP","São Paulo","São Caetano do Sul","ARSESP","COMGÁS","Residencial","Mensal",600.01,1000,{"$f":"Cálculo!$G$72","v":10.324},{"$f":"Cálculo!$H$72","v":18.600000000000001}]
["SP","São Paulo","São Caetano do Sul","ARSESP","COMGÁS","Residencial","Mensal",1000.01,null,{"$f":"Cálculo!$G$73","v":7.2949999999999999},{"$f":"Cálculo!$H$73","v":18.600000000000001}]
["SP","São Paulo","São Caetano do Sul","ARSESP","COMGÁS","Comercial","Mensal",0,0,{"$f":"Cálculo!$G$76","v":0},{"$f":"Cálculo!$H$76","v":0}]
["SP","São Paulo","São Caetano do Sul","ARSESP","COMGÁS","Comercial","Mensal",0.01,50,{"$f":"Cálculo!$G$77","v":9.2490000000000006},{"$f":"Cálculo!$H$77","v":60.76}]
["SP","São Paulo","São Caetano do Sul","ARSESP","COMGÁS","Comercial","Mensal",50.01,150,{"$f":"Cálculo!$G$78","v":8.49},{"$f":"Cálculo!$H$78","v":98.73}]
["SP","São Paulo","São Caetano do Sul","ARSESP","COMGÁS","Comercial","Mensal",150.01,500,{"$f":"Cálculo!$G$79","v":7.9859999999999998},{"$f":"Cálculo!$H$79","v":174.66}]
["SP","São Paulo","São Caetano do Sul","ARSESP","COMGÁS","Comercial","Mensal",500.01,2000,{"$f":"Cálculo!$G$80","v":7.5380000000000003},{"$f":"Cálculo!$H$80","v":398.71}]
["SP","São Paulo","São Caetano do Sul","ARSESP","COMGÁS","Comercial","Mensal",2000.01,3500,{"$f":"Cálculo!$G$81","v":6.819},{"$f":"Cálculo!$H$81","v":1837.86}]
["SP","São Paulo","São Caetano do Sul","ARSESP","COMGÁS","Comercial","Mensal",3500.01,50000,{"$f":"Cálculo!$G$82","v":5.3760000000000003},{"$f":"Cálculo!$H$82","v":6892.16}]
["SP","São Paulo","São Caetano do Sul","ARSESP","COMGÁS","Comercial","Mensal",50000.01,null,{"$f":"Cálculo!$G$83","v":5.1479999999999997},{"$f":"Cálculo!$H$83","v":18284.09}]
["SP","São Paulo","São Caetano do Sul","ARSESP","COMGÁS","Industrial","Mensal",0,50000,{"$f":"Cálculo!$G$86","v":4.726},{"$f":"Cálculo!$H$86","v":387.36}]
["SP","São Paulo","São Caetano do Sul","ARSESP","COMGÁS","Industrial","Mensal",50000.01,300000,{"$f":"Cálculo!$G$87","v":3.5019999999999998},{"$f":"Cálculo!$H$87","v":61597.41}]
["SP","São Paulo","São Caetano do Sul","ARSESP","COMGÁS","Industrial","Mensal",300000.01,500000,{"$f":"Cálculo!$G$88","v":3.36},{"$f":"Cálculo!$H$88","v":110975.06}]
["SP","São Paulo","São Caetano do Sul","ARSESP","COMGÁS","Industrial","Mensal",500000.01,1000000,{"$f":"Cálculo!$G$89","v":3.3340000000000001},{"$f":"Cálculo!$H$89","v":124035.06}]
["SP","São Paulo","São Caetano do Sul","ARSESP","COMGÁS","Industrial","Mensal",1000000.01,2000000,{"$f":"Cálculo!$G$90","v":3.2810000000000001},{"$f":"Cálculo!$H$90","v":177422.21}]
["SP","São Paulo","São Caetano do Sul","ARSESP","COMGÁS","Industrial","Mensal",2000000.01,null,{"$f":"Cálculo!$G$91","v":3.2330000000000001},{"$f":"Cálculo!$H$91","v":316707.87}]
["SP","São Paulo","São Caetano do Sul","ARSESP","COMGÁS","GNV","Faixa Única",null,null,{"$f":"Cálculo!$G$94","v":3.2148460000000001}]
["SP","São Paulo","São João da Boa Vista","ARSESP","COMGÁS","Residencial","Mensal",0,1,{"$f":"Cálculo!$G$66","v":3.2869999999999999},{"$f":"Cálculo!$H$66","v":11.39}]
["SP","São Paulo","São João da Boa Vista","ARSESP","COMGÁS","Residencial","Mensal",1.01,3,{"$f":"Cálculo!$G$67","v":10.834},{"$f":"Cálculo!$H$67","v":14.87}]
["SP","São Paulo","São João da Boa Vista","ARSESP","COMGÁS","Residencial","Mensal",3.01,7,{"$f":"Cálculo!$G$68","v":5.6470000000000002},{"$f":"Cálculo!$H$68","v":14.87}]
["SP","São Paulo","São João da Boa Vista","ARSESP","COMGÁS","Residencial","Mensal",7.01,14,{"$f":"Cálculo!$G$69","v":9.3699999999999992},{"$f":"Cálculo!$H$69","v":16.739999999999998}]
["SP","São Paulo","São João da Boa Vista","ARSESP","COMGÁS","Residencial","Mensal",14.01,34,{"$f":"Cálculo!$G$70","v":11.132},{"$f":"Cálculo!$H$70","v":18.600000000000001}]
["SP","São Paulo","São João da Boa Vista","ARSESP","COMGÁS","Residencial","Mensal",34.01,600,{"$f":"Cálculo!$G$71","v":11.92},{"$f":"Cálculo!$H$71","v":18.600000000000001}]
["SP","São Paulo","São João da Boa Vista","ARSESP","COMGÁS","Residencial","Mensal",600.01,1000,{"$f":"Cálculo!$G$72","v":10.324},{"$f":"Cálculo!$H$72","v":18.600000000000001}]
["SP","São Paulo","São João da Boa Vista","ARSESP","COMGÁS","Residencial","Mensal",1000.01,null,{"$f":"Cálculo!$G$73","v":7.2949999999999999},{"$f":"Cálculo!$H$73","v":18.600000000000001}]
["SP","São Paulo","São João da Boa Vista","ARSESP","COMGÁS","Comercial","Mensal",0,0,{"$f":"Cálculo!$G$76","v":0},{"$f":"Cálculo!$H$76","v":0}]
["SP","São Paulo","São João da Boa Vista","ARSESP","COMGÁS","Comercial","Mensal",0.01,50,{"$f":"Cálculo!$G$77","v":9.2490000000000006},{"$f":"Cálculo!$H$77","v":60.76}]
["SP","São Paulo","São João da Boa Vista","ARSESP","COMGÁS","Comercial","Mensal",50.01,150,{"$f":"Cálculo!$G$78","v":8.49},{"$f":"Cálculo!$H$78","v":98.73}]
["SP","São Paulo","São João da Boa Vista","ARSESP","COMGÁS","Comercial","Mensal",150.01,500,{"$f":"Cálculo!$G$79","v":7.9859999999999998},{"$f":"Cálculo!$H$79","v":174.66}]
["SP","São Paulo","São João da Boa Vista","ARSESP","COMGÁS","Comercial","Mensal",500.01,2000,{"$f":"Cálculo!$G$80","v":7.5380000000000003},{"$f":"Cálculo!$H$80","v":398.71}]
["SP","São Paulo","São João da Boa Vista","ARSESP","COMGÁS","Comercial","Mensal",2000.01,3500,{"$f":"Cálculo!$G$81","v":6.819},{"$f":"Cálculo!$H$81","v":1837.86}]
["SP","São Paulo","São João da Boa Vista","ARSESP","COMGÁS","Comercial","Mensal",3500.01,50000,{"$f":"Cálculo!$G$82","v":5.3760000000000003},{"$f":"Cálculo!$H$82","v":6892.16}]
["SP","São Paulo","São João da Boa Vista","ARSESP","COMGÁS","Comercial","Mensal",50000.01,null,{"$f":"Cálculo!$G$83","v":5.1479999999999997},{"$f":"Cálculo!$H$83","v":18284.09}]
["SP","São Paulo","São João da Boa Vista","ARSESP","COMGÁS","Industrial","Mensal",0,50000,{"$f":"Cálculo!$G$86","v":4.726},{"$f":"Cálculo!$H$86","v":387.36}]
["SP","São Paulo","São João da Boa Vista","ARSESP","COMGÁS","Industrial","Mensal",50000.01,300000,{"$f":"Cálculo!$G$87","v":3.5019999999999998},{"$f":"Cálculo!$H$87","v":61597.41}]
["SP","São Paulo","São João da Boa Vista","ARSESP","COMGÁS","Industrial","Mensal",300000.01,500000,{"$f":"Cálculo!$G$88","v":3.36},{"$f":"Cálculo!$H$88","v":110975.06}]
["SP","São Paulo","São João da Boa Vista","ARSESP","COMGÁS","Industrial","Mensal",500000.01,1000000,{"$f":"Cálculo!$G$89","v":3.3340000000000001},{"$f":"Cálculo!$H$89","v":124035.06}]
["SP","São Paulo","São João da Boa Vista","ARSESP","COMGÁS","Industrial","Mensal",1000000.01,2000000,{"$f":"Cálculo!$G$90","v":3.2810000000000001},{"$f":"Cálculo!$H$90","v":177422.21}]
["SP","São Paulo","São João da Boa Vista","ARSESP","COMGÁS","Industrial","Mensal",2000000.01,null,{"$f":"Cálculo!$G$91","v":3.2330000000000001},{"$f":"Cálculo!$H$91","v":316707.87}]
["SP","São Paulo","São João da Boa Vista","ARSESP","COMGÁS","GNV","Faixa Única",null,null,{"$f":"Cálculo!$G$94","v":3.2148460000000001}]
["SP","São Paulo","São José do Barreiro","ARSESP","COMGÁS","Residencial","Mensal",0,1,{"$f":"Cálculo!$G$66","v":3.2869999999999999},{"$f":"Cálculo!$H$66","v":11.39}]
["SP","São Paulo","São José do Barreiro","ARSESP","COMGÁS","Residencial","Mensal",1.01,3,{"$f":"Cálculo!$G$67","v":10.834},{"$f":"Cálculo!$H$67","v":14.87}]
["SP","São Paulo","São José do Barreiro","ARSESP","COMGÁS","Residencial","Mensal",3.01,7,{"$f":"Cálculo!$G$68","v":5.6470000000000002},{"$f":"Cálculo!$H$68","v":14.87}]
["SP","São Paulo","São José do Barreiro","ARSESP","COMGÁS","Residencial","Mensal",7.01,14,{"$f":"Cálculo!$G$69","v":9.3699999999999992},{"$f":"Cálculo!$H$69","v":16.739999999999998}]
["SP","São Paulo","São José do Barreiro","ARSESP","COMGÁS","Residencial","Mensal",14.01,34,{"$f":"Cálculo!$G$70","v":11.132},{"$f":"Cálculo!$H$70","v":18.600000000000001}]
["SP","São Paulo","São José do Barreiro","ARSESP","COMGÁS","Residencial","Mensal",34.01,600,{"$f":"Cálculo!$G$71","v":11.92},{"$f":"Cálculo!$H$71","v":18.600000000000001}]
["SP","São Paulo","São José do Barreiro","ARSESP","COMGÁS","Residencial","Mensal",600.01,1000,{"$f":"Cálculo!$G$72","v":10.324},{"$f":"Cálculo!$H$72","v":18.600000000000001}]
["SP","São Paulo","São José do Barreiro","ARSESP","COMGÁS","Residencial","Mensal",1000.01,null,{"$f":"Cálculo!$G$73","v":7.2949999999999999},{"$f":"Cálculo!$H$73","v":18.600000000000001}]
["SP","São Paulo","São José do Barreiro","ARSESP","COMGÁS","Comercial","Mensal",0,0,{"$f":"Cálculo!$G$76","v":0},{"$f":"Cálculo!$H$76","v":0}]
["SP","São Paulo","São José do Barreiro","ARSESP","COMGÁS","Comercial","Mensal",0.01,50,{"$f":"Cálculo!$G$77","v":9.2490000000000006},{"$f":"Cálculo!$H$77","v":60.76}]
["SP","São Paulo","São José do Barreiro","ARSESP","COMGÁS","Comercial","Mensal",50.01,150,{"$f":"Cálculo!$G$78","v":8.49},{"$f":"Cálculo!$H$78","v":98.73}]
["SP","São Paulo","São José do Barreiro","ARSESP","COMGÁS","Comercial","Mensal",150.01,500,{"$f":"Cálculo!$G$79","v":7.9859999999999998},{"$f":"Cálculo!$H$79","v":174.66}]
["SP","São Paulo","São José do Barreiro","ARSESP","COMGÁS","Comercial","Mensal",500.01,2000,{"$f":"Cálculo!$G$80","v":7.5380000000000003},{"$f":"Cálculo!$H$80","v":398.71}]
["SP","São Paulo","São José do Barreiro","ARSESP","COMGÁS","Comercial","Mensal",2000.01,3500,{"$f":"Cálculo!$G$81","v":6.819},{"$f":"Cálculo!$H$81","v":1837.86}]
["SP","São Paulo","São José do Barreiro","ARSESP","COMGÁS","Comercial","Mensal",3500.01,50000,{"$f":"Cálculo!$G$82","v":5.3760000000000003},{"$f":"Cálculo!$H$82","v":6892.16}]
["SP","São Paulo","São José do Barreiro","ARSESP","COMGÁS","Comercial","Mensal",50000.01,null,{"$f":"Cálculo!$G$83","v":5.1479999999999997},{"$f":"Cálculo!$H$83","v":18284.09}]
["SP","São Paulo","São José do Barreiro","ARSESP","COMGÁS","Industrial","Mensal",0,50000,{"$f":"Cálculo!$G$86","v":4.726},{"$f":"Cálculo!$H$86","v":387.36}]
["SP","São Paulo","São José do Barreiro","ARSESP","COMGÁS","Industrial","Mensal",50000.01,300000,{"$f":"Cálculo!$G$87","v":3.5019999999999998},{"$f":"Cálculo!$H$87","v":61597.41}]
["SP","São Paulo","São José do Barreiro","ARSESP","COMGÁS","Industrial","Mensal",300000.01,500000,{"$f":"Cálculo!$G$88","v":3.36},{"$f":"Cálculo!$H$88","v":110975.06}]
["SP","São Paulo","São José do Barreiro","ARSESP","COMGÁS","Industrial","Mensal",500000.01,1000000,{"$f":"Cálculo!$G$89","v":3.3340000000000001},{"$f":"Cálculo!$H$89","v":124035.06}]
["SP","São Paulo","São José do Barreiro","ARSESP","COMGÁS","Industrial","Mensal",1000000.01,2000000,{"$f":"Cálculo!$G$90","v":3.2810000000000001},{"$f":"Cálculo!$H$90","v":177422.21}]
["SP","São Paulo","São José do Barreiro","ARSESP","COMGÁS","Industrial","Mensal",2000000.01,null,{"$f":"Cálculo!$G$91","v":3.2330000000000001},{"$f":"Cálculo!$H$91","v":316707.87}]
["SP","São Paulo","São José do Barreiro","ARSESP","COMGÁS","GNV","Faixa Única",null,null,{"$f":"Cálculo!$G$94","v":3.2148460000000001}]
["SP","São Paulo","São José do Rio Pardo","ARSESP","COMGÁS","Residencial","Mensal",0,1,{"$f":"Cálculo!$G$66","v":3.2869999999999999},{"$f":"Cálculo!$H$66","v":11.39}]
["SP","São Paulo","São José do Rio Pardo","ARSESP","COMGÁS","Residencial","Mensal",1.01,3,{"$f":"Cálculo!$G$67","v":10.834},{"$f":"Cálculo!$H$67","v":14.87}]
["SP","São Paulo","São José do Rio Pardo","ARSESP","COMGÁS","Residencial","Mensal",3.01,7,{"$f":"Cálculo!$G$68","v":5.6470000000000002},{"$f":"Cálculo!$H$68","v":14.87}]
["SP","São Paulo","São José do Rio Pardo","ARSESP","COMGÁS","Residencial","Mensal",7.01,14,{"$f":"Cálculo!$G$69","v":9.3699999999999992},{"$f":"Cálculo!$H$69","v":16.739999999999998}]
["SP","São Paulo","São José do Rio Pardo","ARSESP","COMGÁS","Residencial","Mensal",14.01,34,{"$f":"Cálculo!$G$70","v":11.132},{"$f":"Cálculo!$H$70","v":18.600000000000001}]
["SP","São Paulo","São José do Rio Pardo","ARSESP","COMGÁS","Residencial","Mensal",34.01,600,{"$f":"Cálculo!$G$71","v":11.92},{"$f":"Cálculo!$H$71","v":18.600000000000001}]
["SP","São Paulo","São José do Rio Pardo","ARSESP","COMGÁS","Residencial","Mensal",600.01,1000,{"$f":"Cálculo!$G$72","v":10.324},{"$f":"Cálculo!$H$72","v":18.600000000000001}]
["SP","São Paulo","São José do Rio Pardo","ARSESP","COMGÁS","Residencial","Mensal",1000.01,null,{"$f":"Cálculo!$G$73","v":7.2949999999999999},{"$f":"Cálculo!$H$73","v":18.600000000000001}]
["SP","São Paulo","São José do Rio Pardo","ARSESP","COMGÁS","Comercial","Mensal",0,0,{"$f":"Cálculo!$G$76","v":0},{"$f":"Cálculo!$H$76","v":0}]
["SP","São Paulo","São José do Rio Pardo","ARSESP","COMGÁS","Comercial","Mensal",0.01,50,{"$f":"Cálculo!$G$77","v":9.2490000000000006},{"$f":"Cálculo!$H$77","v":60.76}]
["SP","São Paulo","São José do Rio Pardo","ARSESP","COMGÁS","Comercial","Mensal",50.01,150,{"$f":"Cálculo!$G$78","v":8.49},{"$f":"Cálculo!$H$78","v":98.73}]
["SP","São Paulo","São José do Rio Pardo","ARSESP","COMGÁS","Comercial","Mensal",150.01,500,{"$f":"Cálculo!$G$79","v":7.9859999999999998},{"$f":"Cálculo!$H$79","v":174.66}]
["SP","São Paulo","São José do Rio Pardo","ARSESP","COMGÁS","Comercial","Mensal",500.01,2000,{"$f":"Cálculo!$G$80","v":7.5380000000000003},{"$f":"Cálculo!$H$80","v":398.71}]
["SP","São Paulo","São José do Rio Pardo","ARSESP","COMGÁS","Comercial","Mensal",2000.01,3500,{"$f":"Cálculo!$G$81","v":6.819},{"$f":"Cálculo!$H$81","v":1837.86}]
["SP","São Paulo","São José do Rio Pardo","ARSESP","COMGÁS","Comercial","Mensal",3500.01,50000,{"$f":"Cálculo!$G$82","v":5.3760000000000003},{"$f":"Cálculo!$H$82","v":6892.16}]
["SP","São Paulo","São José do Rio Pardo","ARSESP","COMGÁS","Comercial","Mensal",50000.01,null,{"$f":"Cálculo!$G$83","v":5.1479999999999997},{"$f":"Cálculo!$H$83","v":18284.09}]
["SP","São Paulo","São José do Rio Pardo","ARSESP","COMGÁS","Industrial","Mensal",0,50000,{"$f":"Cálculo!$G$86","v":4.726},{"$f":"Cálculo!$H$86","v":387.36}]
["SP","São Paulo","São José do Rio Pardo","ARSESP","COMGÁS","Industrial","Mensal",50000.01,300000,{"$f":"Cálculo!$G$87","v":3.5019999999999998},{"$f":"Cálculo!$H$87","v":61597.41}]
["SP","São Paulo","São José do Rio Pardo","ARSESP","COMGÁS","Industrial","Mensal",300000.01,500000,{"$f":"Cálculo!$G$88","v":3.36},{"$f":"Cálculo!$H$88","v":110975.06}]
["SP","São Paulo","São José do Rio Pardo","ARSESP","COMGÁS","Industrial","Mensal",500000.01,1000000,{"$f":"Cálculo!$G$89","v":3.3340000000000001},{"$f":"Cálculo!$H$89","v":124035.06}]
["SP","São Paulo","São José do Rio Pardo","ARSESP","COMGÁS","Industrial","Mensal",1000000.01,2000000,{"$f":"Cálculo!$G$90","v":3.2810000000000001},{"$f":"Cálculo!$H$90","v":177422.21}]
["SP","São Paulo","São José do Rio Pardo","ARSESP","COMGÁS","Industrial","Mensal",2000000.01,null,{"$f":"Cálculo!$G$91","v":3.2330000000000001},{"$f":"Cálculo!$H$91","v":316707.87}]
["SP","São Paulo","São José do Rio Pardo","ARSESP","COMGÁS","GNV","Faixa Única",null,null,{"$f":"Cálculo!$G$94","v":3.2148460000000001}]
["SP","São Paulo","São José dos Campos","ARSESP","COMGÁS","Residencial","Mensal",0,1,{"$f":"Cálculo!$G$66","v":3.2869999999999999},{"$f":"Cálculo!$H$66","v":11.39}]
["SP","São Paulo","São José dos Campos","ARSESP","COMGÁS","Residencial","Mensal",1.01,3,{"$f":"Cálculo!$G$67","v":10.834},{"$f":"Cálculo!$H$67","v":14.87}]
["SP","São Paulo","São José dos Campos","ARSESP","COMGÁS","Residencial","Mensal",3.01,7,{"$f":"Cálculo!$G$68","v":5.6470000000000002},{"$f":"Cálculo!$H$68","v":14.87}]
["SP","São Paulo","São José dos Campos","ARSESP","COMGÁS","Residencial","Mensal",7.01,14,{"$f":"Cálculo!$G$69","v":9.3699999999999992},{"$f":"Cálculo!$H$69","v":16.739999999999998}]
["SP","São Paulo","São José dos Campos","ARSESP","COMGÁS","Residencial","Mensal",14.01,34,{"$f":"Cálculo!$G$70","v":11.132},{"$f":"Cálculo!$H$70","v":18.600000000000001}]
["SP","São Paulo","São José dos Campos","ARSESP","COMGÁS","Residencial","Mensal",34.01,600,{"$f":"Cálculo!$G$71","v":11.92},{"$f":"Cálculo!$H$71","v":18.600000000000001}]
["SP","São Paulo","São José dos Campos","ARSESP","COMGÁS","Residencial","Mensal",600.01,1000,{"$f":"Cálculo!$G$72","v":10.324},{"$f":"Cálculo!$H$72","v":18.600000000000001}]
["SP","São Paulo","São José dos Campos","ARSESP","COMGÁS","Residencial","Mensal",1000.01,null,{"$f":"Cálculo!$G$73","v":7.2949999999999999},{"$f":"Cálculo!$H$73","v":18.600000000000001}]
["SP","São Paulo","São José dos Campos","ARSESP","COMGÁS","Comercial","Mensal",0,0,{"$f":"Cálculo!$G$76","v":0},{"$f":"Cálculo!$H$76","v":0}]
["SP","São Paulo","São José dos Campos","ARSESP","COMGÁS","Comercial","Mensal",0.01,50,{"$f":"Cálculo!$G$77","v":9.2490000000000006},{"$f":"Cálculo!$H$77","v":60.76}]
["SP","São Paulo","São José dos Campos","ARSESP","COMGÁS","Comercial","Mensal",50.01,150,{"$f":"Cálculo!$G$78","v":8.49},{"$f":"Cálculo!$H$78","v":98.73}]
["SP","São Paulo","São José dos Campos","ARSESP","COMGÁS","Comercial","Mensal",150.01,500,{"$f":"Cálculo!$G$79","v":7.9859999999999998},{"$f":"Cálculo!$H$79","v":174.66}]
["SP","São Paulo","São José dos Campos","ARSESP","COMGÁS","Comercial","Mensal",500.01,2000,{"$f":"Cálculo!$G$80","v":7.5380000000000003},{"$f":"Cálculo!$H$80","v":398.71}]
["SP","São Paulo","São José dos Campos","ARSESP","COMGÁS","Comercial","Mensal",2000.01,3500,{"$f":"Cálculo!$G$81","v":6.819},{"$f":"Cálculo!$H$81","v":1837.86}]
["SP","São Paulo","São José dos Campos","ARSESP","COMGÁS","Comercial","Mensal",3500.01,50000,{"$f":"Cálculo!$G$82","v":5.3760000000000003},{"$f":"Cálculo!$H$82","v":6892.16}]
["SP","São Paulo","São José dos Campos","ARSESP","COMGÁS","Comercial","Mensal",50000.01,null,{"$f":"Cálculo!$G$83","v":5.1479999999999997},{"$f":"Cálculo!$H$83","v":18284.09}]
["SP","São Paulo","São José dos Campos","ARSESP","COMGÁS","Industrial","Mensal",0,50000,{"$f":"Cálculo!$G$86","v":4.726},{"$f":"Cálculo!$H$86","v":387.36}]
["SP","São Paulo","São José dos Campos","ARSESP","COMGÁS","Industrial","Mensal",50000.01,300000,{"$f":"Cálculo!$G$87","v":3.5019999999999998},{"$f":"Cálculo!$H$87","v":61597.41}]
["SP","São Paulo","São José dos Campos","ARSESP","COMGÁS","Industrial","Mensal",300000.01,500000,{"$f":"Cálculo!$G$88","v":3.36},{"$f":"Cálculo!$H$88","v":110975.06}]
["SP","São Paulo","São José dos Campos","ARSESP","COMGÁS","Industrial","Mensal",500000.01,1000000,{"$f":"Cálculo!$G$89","v":3.3340000000000001},{"$f":"Cálculo!$H$89","v":124035.06}]
["SP","São Paulo","São José dos Campos","ARSESP","COMGÁS","Industrial","Mensal",1000000.01,2000000,{"$f":"Cálculo!$G$90","v":3.2810000000000001},{"$f":"Cálculo!$H$90","v":177422.21}]
["SP","São Paulo","São José dos Campos","ARSESP","COMGÁS","Industrial","Mensal",2000000.01,null,{"$f":"Cálculo!$G$91","v":3.2330000000000001},{"$f":"Cálculo!$H$91","v":316707.87}]
["SP","São Paulo","São José dos Campos","ARSESP","COMGÁS","GNV","Faixa Única",null,null,{"$f":"Cálculo!$G$94","v":3.2148460000000001}]
["SP","São Paulo","São Lourenço da Serra","ARSESP","COMGÁS","Residencial","Mensal",0,1,{"$f":"Cálculo!$G$66","v":3.2869999999999999},{"$f":"Cálculo!$H$66","v":11.39}]
["SP","São Paulo","São Lourenço da Serra","ARSESP","COMGÁS","Residencial","Mensal",1.01,3,{"$f":"Cálculo!$G$67","v":10.834},{"$f":"Cálculo!$H$67","v":14.87}]
["SP","São Paulo","São Lourenço da Serra","ARSESP","COMGÁS","Residencial","Mensal",3.01,7,{"$f":"Cálculo!$G$68","v":5.6470000000000002},{"$f":"Cálculo!$H$68","v":14.87}]
["SP","São Paulo","São Lourenço da Serra","ARSESP","COMGÁS","Residencial","Mensal",7.01,14,{"$f":"Cálculo!$G$69","v":9.3699999999999992},{"$f":"Cálculo!$H$69","v":16.739999999999998}]
["SP","São Paulo","São Lourenço da Serra","ARSESP","COMGÁS","Residencial","Mensal",14.01,34,{"$f":"Cálculo!$G$70","v":11.132},{"$f":"Cálculo!$H$70","v":18.600000000000001}]
["SP","São Paulo","São Lourenço da Serra","ARSESP","COMGÁS","Residencial","Mensal",34.01,600,{"$f":"Cálculo!$G$71","v":11.92},{"$f":"Cálculo!$H$71","v":18.600000000000001}]
["SP","São Paulo","São Lourenço da Serra","ARSESP","COMGÁS","Residencial","Mensal",600.01,1000,{"$f":"Cálculo!$G$72","v":10.324},{"$f":"Cálculo!$H$72","v":18.600000000000001}]
["SP","São Paulo","São Lourenço da Serra","ARSESP","COMGÁS","Residencial","Mensal",1000.01,null,{"$f":"Cálculo!$G$73","v":7.2949999999999999},{"$f":"Cálculo!$H$73","v":18.600000000000001}]
["SP","São Paulo","São Lourenço da Serra","ARSESP","COMGÁS","Comercial","Mensal",0,0,{"$f":"Cálculo!$G$76","v":0},{"$f":"Cálculo!$H$76","v":0}]
["SP","São Paulo","São Lourenço da Serra","ARSESP","COMGÁS","Comercial","Mensal",0.01,50,{"$f":"Cálculo!$G$77","v":9.2490000000000006},{"$f":"Cálculo!$H$77","v":60.76}]
["SP","São Paulo","São Lourenço da Serra","ARSESP","COMGÁS","Comercial","Mensal",50.01,150,{"$f":"Cálculo!$G$78","v":8.49},{"$f":"Cálculo!$H$78","v":98.73}]
["SP","São Paulo","São Lourenço da Serra","ARSESP","COMGÁS","Comercial","Mensal",150.01,500,{"$f":"Cálculo!$G$79","v":7.9859999999999998},{"$f":"Cálculo!$H$79","v":174.66}]
["SP","São Paulo","São Lourenço da Serra","ARSESP","COMGÁS","Comercial","Mensal",500.01,2000,{"$f":"Cálculo!$G$80","v":7.5380000000000003},{"$f":"Cálculo!$H$80","v":398.71}]
["SP","São Paulo","São Lourenço da Serra","ARSESP","COMGÁS","Comercial","Mensal",2000.01,3500,{"$f":"Cálculo!$G$81","v":6.819},{"$f":"Cálculo!$H$81","v":1837.86}]
["SP","São Paulo","São Lourenço da Serra","ARSESP","COMGÁS","Comercial","Mensal",3500.01,50000,{"$f":"Cálculo!$G$82","v":5.3760000000000003},{"$f":"Cálculo!$H$82","v":6892.16}]
["SP","São Paulo","São Lourenço da Serra","ARSESP","COMGÁS","Comercial","Mensal",50000.01,null,{"$f":"Cálculo!$G$83","v":5.1479999999999997},{"$f":"Cálculo!$H$83","v":18284.09}]
["SP","São Paulo","São Lourenço da Serra","ARSESP","COMGÁS","Industrial","Mensal",0,50000,{"$f":"Cálculo!$G$86","v":4.726},{"$f":"Cálculo!$H$86","v":387.36}]
["SP","São Paulo","São Lourenço da Serra","ARSESP","COMGÁS","Industrial","Mensal",50000.01,300000,{"$f":"Cálculo!$G$87","v":3.5019999999999998},{"$f":"Cálculo!$H$87","v":61597.41}]
["SP","São Paulo","São Lourenço da Serra","ARSESP","COMGÁS","Industrial","Mensal",300000.01,500000,{"$f":"Cálculo!$G$88","v":3.36},{"$f":"Cálculo!$H$88","v":110975.06}]
["SP","São Paulo","São Lourenço da Serra","ARSESP","COMGÁS","Industrial","Mensal",500000.01,1000000,{"$f":"Cálculo!$G$89","v":3.3340000000000001},{"$f":"Cálculo!$H$89","v":124035.06}]
["SP","São Paulo","São Lourenço da Serra","ARSESP","COMGÁS","Industrial","Mensal",1000000.01,2000000,{"$f":"Cálculo!$G$90","v":3.2810000000000001},{"$f":"Cálculo!$H$90","v":177422.21}]
["SP","São Paulo","São Lourenço da Serra","ARSESP","COMGÁS","Industrial","Mensal",2000000.01,null,{"$f":"Cálculo!$G$91","v":3.2330000000000001},{"$f":"Cálculo!$H$91","v":316707.87}]
["SP","São Paulo","São Lourenço da Serra","ARSESP","COMGÁS","GNV","Faixa Única",null,null,{"$f":"Cálculo!$G$94","v":3.2148460000000001}]
["SP","São Paulo","São Luis do Paraitinga","ARSESP","COMGÁS","Residencial","Mensal",0,1,{"$f":"Cálculo!$G$66","v":3.2869999999999999},{"$f":"Cálculo!$H$66","v":11.39}]
["SP","São Paulo","São Luis do Paraitinga","ARSESP","COMGÁS","Residencial","Mensal",1.01,3,{"$f":"Cálculo!$G$67","v":10.834},{"$f":"Cálculo!$H$67","v":14.87}]
["SP","São Paulo","São Luis do Paraitinga","ARSESP","COMGÁS","Residencial","Mensal",3.01,7,{"$f":"Cálculo!$G$68","v":5.6470000000000002},{"$f":"Cálculo!$H$68","v":14.87}]
["SP","São Paulo","São Luis do Paraitinga","ARSESP","COMGÁS","Residencial","Mensal",7.01,14,{"$f":"Cálculo!$G$69","v":9.3699999999999992},{"$f":"Cálculo!$H$69","v":16.739999999999998}]
["SP","São Paulo","São Luis do Paraitinga","ARSESP","COMGÁS","Residencial","Mensal",14.01,34,{"$f":"Cálculo!$G$70","v":11.132},{"$f":"Cálculo!$H$70","v":18.600000000000001}]
["SP","São Paulo","São Luis do Paraitinga","ARSESP","COMGÁS","Residencial","Mensal",34.01,600,{"$f":"Cálculo!$G$71","v":11.92},{"$f":"Cálculo!$H$71","v":18.600000000000001}]
["SP","São Paulo","São Luis do Paraitinga","ARSESP","COMGÁS","Residencial","Mensal",600.01,1000,{"$f":"Cálculo!$G$72","v":10.324},{"$f":"Cálculo!$H$72","v":18.600000000000001}]
["SP","São Paulo","São Luis do Paraitinga","ARSESP","COMGÁS","Residencial","Mensal",1000.01,null,{"$f":"Cálculo!$G$73","v":7.2949999999999999},{"$f":"Cálculo!$H$73","v":18.600000000000001}]
["SP","São Paulo","São Luis do Paraitinga","ARSESP","COMGÁS","Comercial","Mensal",0,0,{"$f":"Cálculo!$G$76","v":0},{"$f":"Cálculo!$H$76","v":0}]
["SP","São Paulo","São Luis do Paraitinga","ARSESP","COMGÁS","Comercial","Mensal",0.01,50,{"$f":"Cálculo!$G$77","v":9.2490000000000006},{"$f":"Cálculo!$H$77","v":60.76}]
["SP","São Paulo","São Luis do Paraitinga","ARSESP","COMGÁS","Comercial","Mensal",50.01,150,{"$f":"Cálculo!$G$78","v":8.49},{"$f":"Cálculo!$H$78","v":98.73}]
["SP","São Paulo","São Luis do Paraitinga","ARSESP","COMGÁS","Comercial","Mensal",150.01,500,{"$f":"Cálculo!$G$79","v":7.9859999999999998},{"$f":"Cálculo!$H$79","v":174.66}]
["SP","São Paulo","São Luis do Paraitinga","ARSESP","COMGÁS","Comercial","Mensal",500.01,2000,{"$f":"Cálculo!$G$80","v":7.5380000000000003},{"$f":"Cálculo!$H$80","v":398.71}]
["SP","São Paulo","São Luis do Paraitinga","ARSESP","COMGÁS","Comercial","Mensal",2000.01,3500,{"$f":"Cálculo!$G$81","v":6.819},{"$f":"Cálculo!$H$81","v":1837.86}]
["SP","São Paulo","São Luis do Paraitinga","ARSESP","COMGÁS","Comercial","Mensal",3500.01,50000,{"$f":"Cálculo!$G$82","v":5.3760000000000003},{"$f":"Cálculo!$H$82","v":6892.16}]
["SP","São Paulo","São Luis do Paraitinga","ARSESP","COMGÁS","Comercial","Mensal",50000.01,null,{"$f":"Cálculo!$G$83","v":5.1479999999999997},{"$f":"Cálculo!$H$83","v":18284.09}]
["SP","São Paulo","São Luis do Paraitinga","ARSESP","COMGÁS","Industrial","Mensal",0,50000,{"$f":"Cálculo!$G$86","v":4.726},{"$f":"Cálculo!$H$86","v":387.36}]
["SP","São Paulo","São Luis do Paraitinga","ARSESP","COMGÁS","Industrial","Mensal",50000.01,300000,{"$f":"Cálculo!$G$87","v":3.5019999999999998},{"$f":"Cálculo!$H$87","v":61597.41}]
["SP","São Paulo","São Luis do Paraitinga","ARSESP","COMGÁS","Industrial","Mensal",300000.01,500000,{"$f":"Cálculo!$G$88","v":3.36},{"$f":"Cálculo!$H$88","v":110975.06}]
["SP","São Paulo","São Luis do Paraitinga","ARSESP","COMGÁS","Industrial","Mensal",500000.01,1000000,{"$f":"Cálculo!$G$89","v":3.3340000000000001},{"$f":"Cálculo!$H$89","v":124035.06}]
["SP","São Paulo","São Luis do Paraitinga","ARSESP","COMGÁS","Industrial","Mensal",1000000.01,2000000,{"$f":"Cálculo!$G$90","v":3.2810000000000001},{"$f":"Cálculo!$H$90","v":177422.21}]
["SP","São Paulo","São Luis do Paraitinga","ARSESP","COMGÁS","Industrial","Mensal",2000000.01,null,{"$f":"Cálculo!$G$91","v":3.2330000000000001},{"$f":"Cálculo!$H$91","v":316707.87}]
["SP","São Paulo","São Luis do Paraitinga","ARSESP","COMGÁS","GNV","Faixa Única",null,null,{"$f":"Cálculo!$G$94","v":3.2148460000000001}]
["SP","São Paulo","São Pedro","ARSESP","COMGÁS","Residencial","Mensal",0,1,{"$f":"Cálculo!$G$66","v":3.2869999999999999},{"$f":"Cálculo!$H$66","v":11.39}]
["SP","São Paulo","São Pedro","ARSESP","COMGÁS","Residencial","Mensal",1.01,3,{"$f":"Cálculo!$G$67","v":10.834},{"$f":"Cálculo!$H$67","v":14.87}]
["SP","São Paulo","São Pedro","ARSESP","COMGÁS","Residencial","Mensal",3.01,7,{"$f":"Cálculo!$G$68","v":5.6470000000000002},{"$f":"Cálculo!$H$68","v":14.87}]
["SP","São Paulo","São Pedro","ARSESP","COMGÁS","Residencial","Mensal",7.01,14,{"$f":"Cálculo!$G$69","v":9.3699999999999992},{"$f":"Cálculo!$H$69","v":16.739999999999998}]
["SP","São Paulo","São Pedro","ARSESP","COMGÁS","Residencial","Mensal",14.01,34,{"$f":"Cálculo!$G$70","v":11.132},{"$f":"Cálculo!$H$70","v":18.600000000000001}]
["SP","São Paulo","São Pedro","ARSESP","COMGÁS","Residencial","Mensal",34.01,600,{"$f":"Cálculo!$G$71","v":11.92},{"$f":"Cálculo!$H$71","v":18.600000000000001}]
["SP","São Paulo","São Pedro","ARSESP","COMGÁS","Residencial","Mensal",600.01,1000,{"$f":"Cálculo!$G$72","v":10.324},{"$f":"Cálculo!$H$72","v":18.600000000000001}]
["SP","São Paulo","São Pedro","ARSESP","COMGÁS","Residencial","Mensal",1000.01,null,{"$f":"Cálculo!$G$73","v":7.2949999999999999},{"$f":"Cálculo!$H$73","v":18.600000000000001}]
["SP","São Paulo","São Pedro","ARSESP","COMGÁS","Comercial","Mensal",0,0,{"$f":"Cálculo!$G$76","v":0},{"$f":"Cálculo!$H$76","v":0}]
["SP","São Paulo","São Pedro","ARSESP","COMGÁS","Comercial","Mensal",0.01,50,{"$f":"Cálculo!$G$77","v":9.2490000000000006},{"$f":"Cálculo!$H$77","v":60.76}]
["SP","São Paulo","São Pedro","ARSESP","COMGÁS","Comercial","Mensal",50.01,150,{"$f":"Cálculo!$G$78","v":8.49},{"$f":"Cálculo!$H$78","v":98.73}]
["SP","São Paulo","São Pedro","ARSESP","COMGÁS","Comercial","Mensal",150.01,500,{"$f":"Cálculo!$G$79","v":7.9859999999999998},{"$f":"Cálculo!$H$79","v":174.66}]
["SP","São Paulo","São Pedro","ARSESP","COMGÁS","Comercial","Mensal",500.01,2000,{"$f":"Cálculo!$G$80","v":7.5380000000000003},{"$f":"Cálculo!$H$80","v":398.71}]
["SP","São Paulo","São Pedro","ARSESP","COMGÁS","Comercial","Mensal",2000.01,3500,{"$f":"Cálculo!$G$81","v":6.819},{"$f":"Cálculo!$H$81","v":1837.86}]
["SP","São Paulo","São Pedro","ARSESP","COMGÁS","Comercial","Mensal",3500.01,50000,{"$f":"Cálculo!$G$82","v":5.3760000000000003},{"$f":"Cálculo!$H$82","v":6892.16}]
["SP","São Paulo","São Pedro","ARSESP","COMGÁS","Comercial","Mensal",50000.01,null,{"$f":"Cálculo!$G$83","v":5.1479999999999997},{"$f":"Cálculo!$H$83","v":18284.09}]
["SP","São Paulo","São Pedro","ARSESP","COMGÁS","Industrial","Mensal",0,50000,{"$f":"Cálculo!$G$86","v":4.726},{"$f":"Cálculo!$H$86","v":387.36}]
["SP","São Paulo","São Pedro","ARSESP","COMGÁS","Industrial","Mensal",50000.01,300000,{"$f":"Cálculo!$G$87","v":3.5019999999999998},{"$f":"Cálculo!$H$87","v":61597.41}]
["SP","São Paulo","São Pedro","ARSESP","COMGÁS","Industrial","Mensal",300000.01,500000,{"$f":"Cálculo!$G$88","v":3.36},{"$f":"Cálculo!$H$88","v":110975.06}]
["SP","São Paulo","São Pedro","ARSESP","COMGÁS","Industrial","Mensal",500000.01,1000000,{"$f":"Cálculo!$G$89","v":3.3340000000000001},{"$f":"Cálculo!$H$89","v":124035.06}]
["SP","São Paulo","São Pedro","ARSESP","COMGÁS","Industrial","Mensal",1000000.01,2000000,{"$f":"Cálculo!$G$90","v":3.2810000000000001},{"$f":"Cálculo!$H$90","v":177422.21}]
["SP","São Paulo","São Pedro","ARSESP","COMGÁS","Industrial","Mensal",2000000.01,null,{"$f":"Cálculo!$G$91","v":3.2330000000000001},{"$f":"Cálculo!$H$91","v":316707.87}]
["SP","São Paulo","São Pedro","ARSESP","COMGÁS","GNV","Faixa Única",null,null,{"$f":"Cálculo!$G$94","v":3.2148460000000001}]
["SP","São Paulo","São Sebastião","ARSESP","COMGÁS","Residencial","Mensal",0,1,{"$f":"Cálculo!$G$66","v":3.2869999999999999},{"$f":"Cálculo!$H$66","v":11.39}]
["SP","São Paulo","São Sebastião","ARSESP","COMGÁS","Residencial","Mensal",1.01,3,{"$f":"Cálculo!$G$67","v":10.834},{"$f":"Cálculo!$H$67","v":14.87}]
["SP","São Paulo","São Sebastião","ARSESP","COMGÁS","Residencial","Mensal",3.01,7,{"$f":"Cálculo!$G$68","v":5.6470000000000002},{"$f":"Cálculo!$H$68","v":14.87}]
["SP","São Paulo","São Sebastião","ARSESP","COMGÁS","Residencial","Mensal",7.01,14,{"$f":"Cálculo!$G$69","v":9.3699999999999992},{"$f":"Cálculo!$H$69","v":16.739999999999998}]
["SP","São Paulo","São Sebastião","ARSESP","COMGÁS","Residencial","Mensal",14.01,34,{"$f":"Cálculo!$G$70","v":11.132},{"$f":"Cálculo!$H$70","v":18.600000000000001}]
["SP","São Paulo","São Sebastião","ARSESP","COMGÁS","Residencial","Mensal",34.01,600,{"$f":"Cálculo!$G$71","v":11.92},{"$f":"Cálculo!$H$71","v":18.600000000000001}]
["SP","São Paulo","São Sebastião","ARSESP","COMGÁS","Residencial","Mensal",600.01,1000,{"$f":"Cálculo!$G$72","v":10.324},{"$f":"Cálculo!$H$72","v":18.600000000000001}]
["SP","São Paulo","São Sebastião","ARSESP","COMGÁS","Residencial","Mensal",1000.01,null,{"$f":"Cálculo!$G$73","v":7.2949999999999999},{"$f":"Cálculo!$H$73","v":18.600000000000001}]
["SP","São Paulo","São Sebastião","ARSESP","COMGÁS","Comercial","Mensal",0,0,{"$f":"Cálculo!$G$76","v":0},{"$f":"Cálculo!$H$76","v":0}]
["SP","São Paulo","São Sebastião","ARSESP","COMGÁS","Comercial","Mensal",0.01,50,{"$f":"Cálculo!$G$77","v":9.2490000000000006},{"$f":"Cálculo!$H$77","v":60.76}]
["SP","São Paulo","São Sebastião","ARSESP","COMGÁS","Comercial","Mensal",50.01,150,{"$f":"Cálculo!$G$78","v":8.49},{"$f":"Cálculo!$H$78","v":98.73}]
["SP","São Paulo","São Sebastião","ARSESP","COMGÁS","Comercial","Mensal",150.01,500,{"$f":"Cálculo!$G$79","v":7.9859999999999998},{"$f":"Cálculo!$H$79","v":174.66}]
["SP","São Paulo","São Sebastião","ARSESP","COMGÁS","Comercial","Mensal",500.01,2000,{"$f":"Cálculo!$G$80","v":7.5380000000000003},{"$f":"Cálculo!$H$80","v":398.71}]
["SP","São Paulo","São Sebastião","ARSESP","COMGÁS","Comercial","Mensal",2000.01,3500,{"$f":"Cálculo!$G$81","v":6.819},{"$f":"Cálculo!$H$81","v":1837.86}]
["SP","São Paulo","São Sebastião","ARSESP","COMGÁS","Comercial","Mensal",3500.01,50000,{"$f":"Cálculo!$G$82","v":5.3760000000000003},{"$f":"Cálculo!$H$82","v":6892.16}]
["SP","São Paulo","São Sebastião","ARSESP","COMGÁS","Comercial","Mensal",50000.01,null,{"$f":"Cálculo!$G$83","v":5.1479999999999997},{"$f":"Cálculo!$H$83","v":18284.09}]
["SP","São Paulo","São Sebastião","ARSESP","COMGÁS","Industrial","Mensal",0,50000,{"$f":"Cálculo!$G$86","v":4.726},{"$f":"Cálculo!$H$86","v":387.36}]
["SP","São Paulo","São Sebastião","ARSESP","COMGÁS","Industrial","Mensal",50000.01,300000,{"$f":"Cálculo!$G$87","v":3.5019999999999998},{"$f":"Cálculo!$H$87","v":61597.41}]
["SP","São Paulo","São Sebastião","ARSESP","COMGÁS","Industrial","Mensal",300000.01,500000,{"$f":"Cálculo!$G$88","v":3.36},{"$f":"Cálculo!$H$88","v":110975.06}]
["SP","São Paulo","São Sebastião","ARSESP","COMGÁS","Industrial","Mensal",500000.01,1000000,{"$f":"Cálculo!$G$89","v":3.3340000000000001},{"$f":"Cálculo!$H$89","v":124035.06}]
["SP","São Paulo","São Sebastião","ARSESP","COMGÁS","Industrial","Mensal",1000000.01,2000000,{"$f":"Cálculo!$G$90","v":3.2810000000000001},{"$f":"Cálculo!$H$90","v":177422.21}]
["SP","São Paulo","São Sebastião","ARSESP","COMGÁS","Industrial","Mensal",2000000.01,null,{"$f":"Cálculo!$G$91","v":3.2330000000000001},{"$f":"Cálculo!$H$91","v":316707.87}]
["SP","São Paulo","São Sebastião","ARSESP","COMGÁS","GNV","Faixa Única",null,null,{"$f":"Cálculo!$G$94","v":3.2148460000000001}]
["SP","São Paulo","São Sebastião da Grama","ARSESP","COMGÁS","Residencial","Mensal",0,1,{"$f":"Cálculo!$G$66","v":3.2869999999999999},{"$f":"Cálculo!$H$66","v":11.39}]
["SP","São Paulo","São Sebastião da Grama","ARSESP","COMGÁS","Residencial","Mensal",1.01,3,{"$f":"Cálculo!$G$67","v":10.834},{"$f":"Cálculo!$H$67","v":14.87}]
["SP","São Paulo","São Sebastião da Grama","ARSESP","COMGÁS","Residencial","Mensal",3.01,7,{"$f":"Cálculo!$G$68","v":5.6470000000000002},{"$f":"Cálculo!$H$68","v":14.87}]
["SP","São Paulo","São Sebastião da Grama","ARSESP","COMGÁS","Residencial","Mensal",7.01,14,{"$f":"Cálculo!$G$69","v":9.3699999999999992},{"$f":"Cálculo!$H$69","v":16.739999999999998}]
["SP","São Paulo","São Sebastião da Grama","ARSESP","COMGÁS","Residencial","Mensal",14.01,34,{"$f":"Cálculo!$G$70","v":11.132},{"$f":"Cálculo!$H$70","v":18.600000000000001}]
["SP","São Paulo","São Sebastião da Grama","ARSESP","COMGÁS","Residencial","Mensal",34.01,600,{"$f":"Cálculo!$G$71","v":11.92},{"$f":"Cálculo!$H$71","v":18.600000000000001}]
["SP","São Paulo","São Sebastião da Grama","ARSESP","COMGÁS","Residencial","Mensal",600.01,1000,{"$f":"Cálculo!$G$72","v":10.324},{"$f":"Cálculo!$H$72","v":18.600000000000001}]
["SP","São Paulo","São Sebastião da Grama","ARSESP","COMGÁS","Residencial","Mensal",1000.01,null,{"$f":"Cálculo!$G$73","v":7.2949999999999999},{"$f":"Cálculo!$H$73","v":18.600000000000001}]
["SP","São Paulo","São Sebastião da Grama","ARSESP","COMGÁS","Comercial","Mensal",0,0,{"$f":"Cálculo!$G$76","v":0},{"$f":"Cálculo!$H$76","v":0}]
["SP","São Paulo","São Sebastião da Grama","ARSESP","COMGÁS","Comercial","Mensal",0.01,50,{"$f":"Cálculo!$G$77","v":9.2490000000000006},{"$f":"Cálculo!$H$77","v":60.76}]
["SP","São Paulo","São Sebastião da Grama","ARSESP","COMGÁS","Comercial","Mensal",50.01,150,{"$f":"Cálculo!$G$78","v":8.49},{"$f":"Cálculo!$H$78","v":98.73}]
["SP","São Paulo","São Sebastião da Grama","ARSESP","COMGÁS","Comercial","Mensal",150.01,500,{"$f":"Cálculo!$G$79","v":7.9859999999999998},{"$f":"Cálculo!$H$79","v":174.66}]
["SP","São Paulo","São Sebastião da Grama","ARSESP","COMGÁS","Comercial","Mensal",500.01,2000,{"$f":"Cálculo!$G$80","v":7.5380000000000003},{"$f":"Cálculo!$H$80","v":398.71}]
["SP","São Paulo","São Sebastião da Grama","ARSESP","COMGÁS","Comercial","Mensal",2000.01,3500,{"$f":"Cálculo!$G$81","v":6.819},{"$f":"Cálculo!$H$81","v":1837.86}]
["SP","São Paulo","São Sebastião da Grama","ARSESP","COMGÁS","Comercial","Mensal",3500.01,50000,{"$f":"Cálculo!$G$82","v":5.3760000000000003},{"$f":"Cálculo!$H$82","v":6892.16}]
["SP","São Paulo","São Sebastião da Grama","ARSESP","COMGÁS","Comercial","Mensal",50000.01,null,{"$f":"Cálculo!$G$83","v":5.1479999999999997},{"$f":"Cálculo!$H$83","v":18284.09}]
["SP","São Paulo","São Sebastião da Grama","ARSESP","COMGÁS","Industrial","Mensal",0,50000,{"$f":"Cálculo!$G$86","v":4.726},{"$f":"Cálculo!$H$86","v":387.36}]
["SP","São Paulo","São Sebastião da Grama","ARSESP","COMGÁS","Industrial","Mensal",50000.01,300000,{"$f":"Cálculo!$G$87","v":3.5019999999999998},{"$f":"Cálculo!$H$87","v":61597.41}]
["SP","São Paulo","São Sebastião da Grama","ARSESP","COMGÁS","Industrial","Mensal",300000.01,500000,{"$f":"Cálculo!$G$88","v":3.36},{"$f":"Cálculo!$H$88","v":110975.06}]
["SP","São Paulo","São Sebastião da Grama","ARSESP","COMGÁS","Industrial","Mensal",500000.01,1000000,{"$f":"Cálculo!$G$89","v":3.3340000000000001},{"$f":"Cálculo!$H$89","v":124035.06}]
["SP","São Paulo","São Sebastião da Grama","ARSESP","COMGÁS","Industrial","Mensal",1000000.01,2000000,{"$f":"Cálculo!$G$90","v":3.2810000000000001},{"$f":"Cálculo!$H$90","v":177422.21}]
["SP","São Paulo","São Sebastião da Grama","ARSESP","COMGÁS","Industrial","Mensal",2000000.01,null,{"$f":"Cálculo!$G$91","v":3.2330000000000001},{"$f":"Cálculo!$H$91","v":316707.87}]
["SP","São Paulo","São Sebastião da Grama","ARSESP","COMGÁS","GNV","Faixa Única",null,null,{"$f":"Cálculo!$G$94","v":3.2148460000000001}]
["SP","São Paulo","São Vicente","ARSESP","COMGÁS","Residencial","Mensal",0,1,{"$f":"Cálculo!$G$66","v":3.2869999999999999},{"$f":"Cálculo!$H$66","v":11.39}]
["SP","São Paulo","São Vicente","ARSESP","COMGÁS","Residencial","Mensal",1.01,3,{"$f":"Cálculo!$G$67","v":10.834},{"$f":"Cálculo!$H$67","v":14.87}]
["SP","São Paulo","São Vicente","ARSESP","COMGÁS","Residencial","Mensal",3.01,7,{"$f":"Cálculo!$G$68","v":5.6470000000000002},{"$f":"Cálculo!$H$68","v":14.87}]
["SP","São Paulo","São Vicente","ARSESP","COMGÁS","Residencial","Mensal",7.01,14,{"$f":"Cálculo!$G$69","v":9.3699999999999992},{"$f":"Cálculo!$H$69","v":16.739999999999998}]
["SP","São Paulo","São Vicente","ARSESP","COMGÁS","Residencial","Mensal",14.01,34,{"$f":"Cálculo!$G$70","v":11.132},{"$f":"Cálculo!$H$70","v":18.600000000000001}]
["SP","São Paulo","São Vicente","ARSESP","COMGÁS","Residencial","Mensal",34.01,600,{"$f":"Cálculo!$G$71","v":11.92},{"$f":"Cálculo!$H$71","v":18.600000000000001}]
["SP","São Paulo","São Vicente","ARSESP","COMGÁS","Residencial","Mensal",600.01,1000,{"$f":"Cálculo!$G$72","v":10.324},{"$f":"Cálculo!$H$72","v":18.600000000000001}]
["SP","São Paulo","São Vicente","ARSESP","COMGÁS","Residencial","Mensal",1000.01,null,{"$f":"Cálculo!$G$73","v":7.2949999999999999},{"$f":"Cálculo!$H$73","v":18.600000000000001}]
["SP","São Paulo","São Vicente","ARSESP","COMGÁS","Comercial","Mensal",0,0,{"$f":"Cálculo!$G$76","v":0},{"$f":"Cálculo!$H$76","v":0}]
["SP","São Paulo","São Vicente","ARSESP","COMGÁS","Comercial","Mensal",0.01,50,{"$f":"Cálculo!$G$77","v":9.2490000000000006},{"$f":"Cálculo!$H$77","v":60.76}]
["SP","São Paulo","São Vicente","ARSESP","COMGÁS","Comercial","Mensal",50.01,150,{"$f":"Cálculo!$G$78","v":8.49},{"$f":"Cálculo!$H$78","v":98.73}]
["SP","São Paulo","São Vicente","ARSESP","COMGÁS","Comercial","Mensal",150.01,500,{"$f":"Cálculo!$G$79","v":7.9859999999999998},{"$f":"Cálculo!$H$79","v":174.66}]
["SP","São Paulo","São Vicente","ARSESP","COMGÁS","Comercial","Mensal",500.01,2000,{"$f":"Cálculo!$G$80","v":7.5380000000000003},{"$f":"Cálculo!$H$80","v":398.71}]
["SP","São Paulo","São Vicente","ARSESP","COMGÁS","Comercial","Mensal",2000.01,3500,{"$f":"Cálculo!$G$81","v":6.819},{"$f":"Cálculo!$H$81","v":1837.86}]
["SP","São Paulo","São Vicente","ARSESP","COMGÁS","Comercial","Mensal",3500.01,50000,{"$f":"Cálculo!$G$82","v":5.3760000000000003},{"$f":"Cálculo!$H$82","v":6892.16}]
["SP","São Paulo","São Vicente","ARSESP","COMGÁS","Comercial","Mensal",50000.01,null,{"$f":"Cálculo!$G$83","v":5.1479999999999997},{"$f":"Cálculo!$H$83","v":18284.09}]
["SP","São Paulo","São Vicente","ARSESP","COMGÁS","Industrial","Mensal",0,50000,{"$f":"Cálculo!$G$86","v":4.726},{"$f":"Cálculo!$H$86","v":387.36}]
["SP","São Paulo","São Vicente","ARSESP","COMGÁS","Industrial","Mensal",50000.01,300000,{"$f":"Cálculo!$G$87","v":3.5019999999999998},{"$f":"Cálculo!$H$87","v":61597.41}]
["SP","São Paulo","São Vicente","ARSESP","COMGÁS","Industrial","Mensal",300000.01,500000,{"$f":"Cálculo!$G$88","v":3.36},{"$f":"Cálculo!$H$88","v":110975.06}]
["SP","São Paulo","São Vicente","ARSESP","COMGÁS","Industrial","Mensal",500000.01,1000000,{"$f":"Cálculo!$G$89","v":3.3340000000000001},{"$f":"Cálculo!$H$89","v":124035.06}]
["SP","São Paulo","São Vicente","ARSESP","COMGÁS","Industrial","Mensal",1000000.01,2000000,{"$f":"Cálculo!$G$90","v":3.2810000000000001},{"$f":"Cálculo!$H$90","v":177422.21}]
["SP","São Paulo","São Vicente","ARSESP","COMGÁS","Industrial","Mensal",2000000.01,null,{"$f":"Cálculo!$G$91","v":3.2330000000000001},{"$f":"Cálculo!$H$91","v":316707.87}]
["SP","São Paulo","São Vicente","ARSESP","COMGÁS","GNV","Faixa Única",null,null,{"$f":"Cálculo!$G$94","v":3.2148460000000001}]
["SP","São Paulo","Serra Negra","ARSESP","COMGÁS","Residencial","Mensal",0,1,{"$f":"Cálculo!$G$66","v":3.2869999999999999},{"$f":"Cálculo!$H$66","v":11.39}]
["SP","São Paulo","Serra Negra","ARSESP","COMGÁS","Residencial","Mensal",1.01,3,{"$f":"Cálculo!$G$67","v":10.834},{"$f":"Cálculo!$H$67","v":14.87}]
["SP","São Paulo","Serra Negra","ARSESP","COMGÁS","Residencial","Mensal",3.01,7,{"$f":"Cálculo!$G$68","v":5.6470000000000002},{"$f":"Cálculo!$H$68","v":14.87}]
["SP","São Paulo","Serra Negra","ARSESP","COMGÁS","Residencial","Mensal",7.01,14,{"$f":"Cálculo!$G$69","v":9.3699999999999992},{"$f":"Cálculo!$H$69","v":16.739999999999998}]
["SP","São Paulo","Serra Negra","ARSESP","COMGÁS","Residencial","Mensal",14.01,34,{"$f":"Cálculo!$G$70","v":11.132},{"$f":"Cálculo!$H$70","v":18.600000000000001}]
["SP","São Paulo","Serra Negra","ARSESP","COMGÁS","Residencial","Mensal",34.01,600,{"$f":"Cálculo!$G$71","v":11.92},{"$f":"Cálculo!$H$71","v":18.600000000000001}]
["SP","São Paulo","Serra Negra","ARSESP","COMGÁS","Residencial","Mensal",600.01,1000,{"$f":"Cálculo!$G$72","v":10.324},{"$f":"Cálculo!$H$72","v":18.600000000000001}]
["SP","São Paulo","Serra Negra","ARSESP","COMGÁS","Residencial","Mensal",1000.01,null,{"$f":"Cálculo!$G$73","v":7.2949999999999999},{"$f":"Cálculo!$H$73","v":18.600000000000001}]
["SP","São Paulo","Serra Negra","ARSESP","COMGÁS","Comercial","Mensal",0,0,{"$f":"Cálculo!$G$76","v":0},{"$f":"Cálculo!$H$76","v":0}]
["SP","São Paulo","Serra Negra","ARSESP","COMGÁS","Comercial","Mensal",0.01,50,{"$f":"Cálculo!$G$77","v":9.2490000000000006},{"$f":"Cálculo!$H$77","v":60.76}]
["SP","São Paulo","Serra Negra","ARSESP","COMGÁS","Comercial","Mensal",50.01,150,{"$f":"Cálculo!$G$78","v":8.49},{"$f":"Cálculo!$H$78","v":98.73}]
["SP","São Paulo","Serra Negra","ARSESP","COMGÁS","Comercial","Mensal",150.01,500,{"$f":"Cálculo!$G$79","v":7.9859999999999998},{"$f":"Cálculo!$H$79","v":174.66}]
["SP","São Paulo","Serra Negra","ARSESP","COMGÁS","Comercial","Mensal",500.01,2000,{"$f":"Cálculo!$G$80","v":7.5380000000000003},{"$f":"Cálculo!$H$80","v":398.71}]
["SP","São Paulo","Serra Negra","ARSESP","COMGÁS","Comercial","Mensal",2000.01,3500,{"$f":"Cálculo!$G$81","v":6.819},{"$f":"Cálculo!$H$81","v":1837.86}]
["SP","São Paulo","Serra Negra","ARSESP","COMGÁS","Comercial","Mensal",3500.01,50000,{"$f":"Cálculo!$G$82","v":5.3760000000000003},{"$f":"Cálculo!$H$82","v":6892.16}]
["SP","São Paulo","Serra Negra","ARSESP","COMGÁS","Comercial","Mensal",50000.01,null,{"$f":"Cálculo!$G$83","v":5.1479999999999997},{"$f":"Cálculo!$H$83","v":18284.09}]
["SP","São Paulo","Serra Negra","ARSESP","COMGÁS","Industrial","Mensal",0,50000,{"$f":"Cálculo!$G$86","v":4.726},{"$f":"Cálculo!$H$86","v":387.36}]
["SP","São Paulo","Serra Negra","ARSESP","COMGÁS","Industrial","Mensal",50000.01,300000,{"$f":"Cálculo!$G$87","v":3.5019999999999998},{"$f":"Cálculo!$H$87","v":61597.41}]
["SP","São Paulo","Serra Negra","ARSESP","COMGÁS","Industrial","Mensal",300000.01,500000,{"$f":"Cálculo!$G$88","v":3.36},{"$f":"Cálculo!$H$88","v":110975.06}]
["SP","São Paulo","Serra Negra","ARSESP","COMGÁS","Industrial","Mensal",500000.01,1000000,{"$f":"Cálculo!$G$89","v":3.3340000000000001},{"$f":"Cálculo!$H$89","v":124035.06}]
["SP","São Paulo","Serra Negra","ARSESP","COMGÁS","Industrial","Mensal",1000000.01,2000000,{"$f":"Cálculo!$G$90","v":3.2810000000000001},{"$f":"Cálculo!$H$90","v":177422.21}]
["SP","São Paulo","Serra Negra","ARSESP","COMGÁS","Industrial","Mensal",2000000.01,null,{"$f":"Cálculo!$G$91","v":3.2330000000000001},{"$f":"Cálculo!$H$91","v":316707.87}]
["SP","São Paulo","Serra Negra","ARSESP","COMGÁS","GNV","Faixa Única",null,null,{"$f":"Cálculo!$G$94","v":3.2148460000000001}]
["SP","São Paulo","Silveiras","ARSESP","COMGÁS","Residencial","Mensal",0,1,{"$f":"Cálculo!$G$66","v":3.2869999999999999},{"$f":"Cálculo!$H$66","v":11.39}]
["SP","São Paulo","Silveiras","ARSESP","COMGÁS","Residencial","Mensal",1.01,3,{"$f":"Cálculo!$G$67","v":10.834},{"$f":"Cálculo!$H$67","v":14.87}]
["SP","São Paulo","Silveiras","ARSESP","COMGÁS","Residencial","Mensal",3.01,7,{"$f":"Cálculo!$G$68","v":5.6470000000000002},{"$f":"Cálculo!$H$68","v":14.87}]
["SP","São Paulo","Silveiras","ARSESP","COMGÁS","Residencial","Mensal",7.01,14,{"$f":"Cálculo!$G$69","v":9.3699999999999992},{"$f":"Cálculo!$H$69","v":16.739999999999998}]
["SP","São Paulo","Silveiras","ARSESP","COMGÁS","Residencial","Mensal",14.01,34,{"$f":"Cálculo!$G$70","v":11.132},{"$f":"Cálculo!$H$70","v":18.600000000000001}]
["SP","São Paulo","Silveiras","ARSESP","COMGÁS","Residencial","Mensal",34.01,600,{"$f":"Cálculo!$G$71","v":11.92},{"$f":"Cálculo!$H$71","v":18.600000000000001}]
["SP","São Paulo","Silveiras","ARSESP","COMGÁS","Residencial","Mensal",600.01,1000,{"$f":"Cálculo!$G$72","v":10.324},{"$f":"Cálculo!$H$72","v":18.600000000000001}]
["SP","São Paulo","Silveiras","ARSESP","COMGÁS","Residencial","Mensal",1000.01,null,{"$f":"Cálculo!$G$73","v":7.2949999999999999},{"$f":"Cálculo!$H$73","v":18.600000000000001}]
["SP","São Paulo","Silveiras","ARSESP","COMGÁS","Comercial","Mensal",0,0,{"$f":"Cálculo!$G$76","v":0},{"$f":"Cálculo!$H$76","v":0}]
["SP","São Paulo","Silveiras","ARSESP","COMGÁS","Comercial","Mensal",0.01,50,{"$f":"Cálculo!$G$77","v":9.2490000000000006},{"$f":"Cálculo!$H$77","v":60.76}]
["SP","São Paulo","Silveiras","ARSESP","COMGÁS","Comercial","Mensal",50.01,150,{"$f":"Cálculo!$G$78","v":8.49},{"$f":"Cálculo!$H$78","v":98.73}]
["SP","São Paulo","Silveiras","ARSESP","COMGÁS","Comercial","Mensal",150.01,500,{"$f":"Cálculo!$G$79","v":7.9859999999999998},{"$f":"Cálculo!$H$79","v":174.66}]
["SP","São Paulo","Silveiras","ARSESP","COMGÁS","Comercial","Mensal",500.01,2000,{"$f":"Cálculo!$G$80","v":7.5380000000000003},{"$f":"Cálculo!$H$80","v":398.71}]
["SP","São Paulo","Silveiras","ARSESP","COMGÁS","Comercial","Mensal",2000.01,3500,{"$f":"Cálculo!$G$81","v":6.819},{"$f":"Cálculo!$H$81","v":1837.86}]
["SP","São Paulo","Silveiras","ARSESP","COMGÁS","Comercial","Mensal",3500.01,50000,{"$f":"Cálculo!$G$82","v":5.3760000000000003},{"$f":"Cálculo!$H$82","v":6892.16}]
["SP","São Paulo","Silveiras","ARSESP","COMGÁS","Comercial","Mensal",50000.01,null,{"$f":"Cálculo!$G$83","v":5.1479999999999997},{"$f":"Cálculo!$H$83","v":18284.09}]
["SP","São Paulo","Silveiras","ARSESP","COMGÁS","Industrial","Mensal",0,50000,{"$f":"Cálculo!$G$86","v":4.726},{"$f":"Cálculo!$H$86","v":387.36}]
["SP","São Paulo","Silveiras","ARSESP","COMGÁS","Industrial","Mensal",50000.01,300000,{"$f":"Cálculo!$G$87","v":3.5019999999999998},{"$f":"Cálculo!$H$87","v":61597.41}]
["SP","São Paulo","Silveiras","ARSESP","COMGÁS","Industrial","Mensal",300000.01,500000,{"$f":"Cálculo!$G$88","v":3.36},{"$f":"Cálculo!$H$88","v":110975.06}]
["SP","São Paulo","Silveiras","ARSESP","COMGÁS","Industrial","Mensal",500000.01,1000000,{"$f":"Cálculo!$G$89","v":3.3340000000000001},{"$f":"Cálculo!$H$89","v":124035.06}]
["SP","São Paulo","Silveiras","ARSESP","COMGÁS","Industrial","Mensal",1000000.01,2000000,{"$f":"Cálculo!$G$90","v":3.2810000000000001},{"$f":"Cálculo!$H$90","v":177422.21}]
["SP","São Paulo","Silveiras","ARSESP","COMGÁS","Industrial","Mensal",2000000.01,null,{"$f":"Cálculo!$G$91","v":3.2330000000000001},{"$f":"Cálculo!$H$91","v":316707.87}]
["SP","São Paulo","Silveiras","ARSESP","COMGÁS","GNV","Faixa Única",null,null,{"$f":"Cálculo!$G$94","v":3.2148460000000001}]
["SP","São Paulo","Socorro","ARSESP","COMGÁS","Residencial","Mensal",0,1,{"$f":"Cálculo!$G$66","v":3.2869999999999999},{"$f":"Cálculo!$H$66","v":11.39}]
["SP","São Paulo","Socorro","ARSESP","COMGÁS","Residencial","Mensal",1.01,3,{"$f":"Cálculo!$G$67","v":10.834},{"$f":"Cálculo!$H$67","v":14.87}]
["SP","São Paulo","Socorro","ARSESP","COMGÁS","Residencial","Mensal",3.01,7,{"$f":"Cálculo!$G$68","v":5.6470000000000002},{"$f":"Cálculo!$H$68","v":14.87}]
["SP","São Paulo","Socorro","ARSESP","COMGÁS","Residencial","Mensal",7.01,14,{"$f":"Cálculo!$G$69","v":9.3699999999999992},{"$f":"Cálculo!$H$69","v":16.739999999999998}]
["SP","São Paulo","Socorro","ARSESP","COMGÁS","Residencial","Mensal",14.01,34,{"$f":"Cálculo!$G$70","v":11.132},{"$f":"Cálculo!$H$70","v":18.600000000000001}]
["SP","São Paulo","Socorro","ARSESP","COMGÁS","Residencial","Mensal",34.01,600,{"$f":"Cálculo!$G$71","v":11.92},{"$f":"Cálculo!$H$71","v":18.600000000000001}]
["SP","São Paulo","Socorro","ARSESP","COMGÁS","Residencial","Mensal",600.01,1000,{"$f":"Cálculo!$G$72","v":10.324},{"$f":"Cálculo!$H$72","v":18.600000000000001}]
["SP","São Paulo","Socorro","ARSESP","COMGÁS","Residencial","Mensal",1000.01,null,{"$f":"Cálculo!$G$73","v":7.2949999999999999},{"$f":"Cálculo!$H$73","v":18.600000000000001}]
["SP","São Paulo","Socorro","ARSESP","COMGÁS","Comercial","Mensal",0,0,{"$f":"Cálculo!$G$76","v":0},{"$f":"Cálculo!$H$76","v":0}]
["SP","São Paulo","Socorro","ARSESP","COMGÁS","Comercial","Mensal",0.01,50,{"$f":"Cálculo!$G$77","v":9.2490000000000006},{"$f":"Cálculo!$H$77","v":60.76}]
["SP","São Paulo","Socorro","ARSESP","COMGÁS","Comercial","Mensal",50.01,150,{"$f":"Cálculo!$G$78","v":8.49},{"$f":"Cálculo!$H$78","v":98.73}]
["SP","São Paulo","Socorro","ARSESP","COMGÁS","Comercial","Mensal",150.01,500,{"$f":"Cálculo!$G$79","v":7.9859999999999998},{"$f":"Cálculo!$H$79","v":174.66}]
["SP","São Paulo","Socorro","ARSESP","COMGÁS","Comercial","Mensal",500.01,2000,{"$f":"Cálculo!$G$80","v":7.5380000000000003},{"$f":"Cálculo!$H$80","v":398.71}]
["SP","São Paulo","Socorro","ARSESP","COMGÁS","Comercial","Mensal",2000.01,3500,{"$f":"Cálculo!$G$81","v":6.819},{"$f":"Cálculo!$H$81","v":1837.86}]
["SP","São Paulo","Socorro","ARSESP","COMGÁS","Comercial","Mensal",3500.01,50000,{"$f":"Cálculo!$G$82","v":5.3760000000000003},{"$f":"Cálculo!$H$82","v":6892.16}]
["SP","São Paulo","Socorro","ARSESP","COMGÁS","Comercial","Mensal",50000.01,null,{"$f":"Cálculo!$G$83","v":5.1479999999999997},{"$f":"Cálculo!$H$83","v":18284.09}]
["SP","São Paulo","Socorro","ARSESP","COMGÁS","Industrial","Mensal",0,50000,{"$f":"Cálculo!$G$86","v":4.726},{"$f":"Cálculo!$H$86","v":387.36}]
["SP","São Paulo","Socorro","ARSESP","COMGÁS","Industrial","Mensal",50000.01,300000,{"$f":"Cálculo!$G$87","v":3.5019999999999998},{"$f":"Cálculo!$H$87","v":61597.41}]
["SP","São Paulo","Socorro","ARSESP","COMGÁS","Industrial","Mensal",300000.01,500000,{"$f":"Cálculo!$G$88","v":3.36},{"$f":"Cálculo!$H$88","v":110975.06}]
["SP","São Paulo","Socorro","ARSESP","COMGÁS","Industrial","Mensal",500000.01,1000000,{"$f":"Cálculo!$G$89","v":3.3340000000000001},{"$f":"Cálculo!$H$89","v":124035.06}]
["SP","São Paulo","Socorro","ARSESP","COMGÁS","Industrial","Mensal",1000000.01,2000000,{"$f":"Cálculo!$G$90","v":3.2810000000000001},{"$f":"Cálculo!$H$90","v":177422.21}]
["SP","São Paulo","Socorro","ARSESP","COMGÁS","Industrial","Mensal",2000000.01,null,{"$f":"Cálculo!$G$91","v":3.2330000000000001},{"$f":"Cálculo!$H$91","v":316707.87}]
["SP","São Paulo","Socorro","ARSESP","COMGÁS","GNV","Faixa Única",null,null,{"$f":"Cálculo!$G$94","v":3.2148460000000001}]
["SP","São Paulo","Sumaré","ARSESP","COMGÁS","Residencial","Mensal",0,1,{"$f":"Cálculo!$G$66","v":3.2869999999999999},{"$f":"Cálculo!$H$66","v":11.39}]
["SP","São Paulo","Sumaré","ARSESP","COMGÁS","Residencial","Mensal",1.01,3,{"$f":"Cálculo!$G$67","v":10.834},{"$f":"Cálculo!$H$67","v":14.87}]
["SP","São Paulo","Sumaré","ARSESP","COMGÁS","Residencial","Mensal",3.01,7,{"$f":"Cálculo!$G$68","v":5.6470000000000002},{"$f":"Cálculo!$H$68","v":14.87}]
["SP","São Paulo","Sumaré","ARSESP","COMGÁS","Residencial","Mensal",7.01,14,{"$f":"Cálculo!$G$69","v":9.3699999999999992},{"$f":"Cálculo!$H$69","v":16.739999999999998}]
["SP","São Paulo","Sumaré","ARSESP","COMGÁS","Residencial","Mensal",14.01,34,{"$f":"Cálculo!$G$70","v":11.132},{"$f":"Cálculo!$H$70","v":18.600000000000001}]
["SP","São Paulo","Sumaré","ARSESP","COMGÁS","Residencial","Mensal",34.01,600,{"$f":"Cálculo!$G$71","v":11.92},{"$f":"Cálculo!$H$71","v":18.600000000000001}]
["SP","São Paulo","Sumaré","ARSESP","COMGÁS","Residencial","Mensal",600.01,1000,{"$f":"Cálculo!$G$72","v":10.324},{"$f":"Cálculo!$H$72","v":18.600000000000001}]
["SP","São Paulo","Sumaré","ARSESP","COMGÁS","Residencial","Mensal",1000.01,null,{"$f":"Cálculo!$G$73","v":7.2949999999999999},{"$f":"Cálculo!$H$73","v":18.600000000000001}]
["SP","São Paulo","Sumaré","ARSESP","COMGÁS","Comercial","Mensal",0,0,{"$f":"Cálculo!$G$76","v":0},{"$f":"Cálculo!$H$76","v":0}]
["SP","São Paulo","Sumaré","ARSESP","COMGÁS","Comercial","Mensal",0.01,50,{"$f":"Cálculo!$G$77","v":9.2490000000000006},{"$f":"Cálculo!$H$77","v":60.76}]
["SP","São Paulo","Sumaré","ARSESP","COMGÁS","Comercial","Mensal",50.01,150,{"$f":"Cálculo!$G$78","v":8.49},{"$f":"Cálculo!$H$78","v":98.73}]
["SP","São Paulo","Sumaré","ARSESP","COMGÁS","Comercial","Mensal",150.01,500,{"$f":"Cálculo!$G$79","v":7.9859999999999998},{"$f":"Cálculo!$H$79","v":174.66}]
["SP","São Paulo","Sumaré","ARSESP","COMGÁS","Comercial","Mensal",500.01,2000,{"$f":"Cálculo!$G$80","v":7.5380000000000003},{"$f":"Cálculo!$H$80","v":398.71}]
["SP","São Paulo","Sumaré","ARSESP","COMGÁS","Comercial","Mensal",2000.01,3500,{"$f":"Cálculo!$G$81","v":6.819},{"$f":"Cálculo!$H$81","v":1837.86}]
["SP","São Paulo","Sumaré","ARSESP","COMGÁS","Comercial","Mensal",3500.01,50000,{"$f":"Cálculo!$G$82","v":5.3760000000000003},{"$f":"Cálculo!$H$82","v":6892.16}]
["SP","São Paulo","Sumaré","ARSESP","COMGÁS","Comercial","Mensal",50000.01,null,{"$f":"Cálculo!$G$83","v":5.1479999999999997},{"$f":"Cálculo!$H$83","v":18284.09}]
["SP","São Paulo","Sumaré","ARSESP","COMGÁS","Industrial","Mensal",0,50000,{"$f":"Cálculo!$G$86","v":4.726},{"$f":"Cálculo!$H$86","v":387.36}]
["SP","São Paulo","Sumaré","ARSESP","COMGÁS","Industrial","Mensal",50000.01,300000,{"$f":"Cálculo!$G$87","v":3.5019999999999998},{"$f":"Cálculo!$H$87","v":61597.41}]
["SP","São Paulo","Sumaré","ARSESP","COMGÁS","Industrial","Mensal",300000.01,500000,{"$f":"Cálculo!$G$88","v":3.36},{"$f":"Cálculo!$H$88","v":110975.06}]
["SP","São Paulo","Sumaré","ARSESP","COMGÁS","Industrial","Mensal",500000.01,1000000,{"$f":"Cálculo!$G$89","v":3.3340000000000001},{"$f":"Cálculo!$H$89","v":124035.06}]
["SP","São Paulo","Sumaré","ARSESP","COMGÁS","Industrial","Mensal",1000000.01,2000000,{"$f":"Cálculo!$G$90","v":3.2810000000000001},{"$f":"Cálculo!$H$90","v":177422.21}]
["SP","São Paulo","Sumaré","ARSESP","COMGÁS","Industrial","Mensal",2000000.01,null,{"$f":"Cálculo!$G$91","v":3.2330000000000001},{"$f":"Cálculo!$H$91","v":316707.87}]
["SP","São Paulo","Sumaré","ARSESP","COMGÁS","GNV","Faixa Única",null,null,{"$f":"Cálculo!$G$94","v":3.2148460000000001}]
["SP","São Paulo","Suzano","ARSESP","COMGÁS","Residencial","Mensal",0,1,{"$f":"Cálculo!$G$66","v":3.2869999999999999},{"$f":"Cálculo!$H$66","v":11.39}]
["SP","São Paulo","Suzano","ARSESP","COMGÁS","Residencial","Mensal",1.01,3,{"$f":"Cálculo!$G$67","v":10.834},{"$f":"Cálculo!$H$67","v":14.87}]
["SP","São Paulo","Suzano","ARSESP","COMGÁS","Residencial","Mensal",3.01,7,{"$f":"Cálculo!$G$68","v":5.6470000000000002},{"$f":"Cálculo!$H$68","v":14.87}]
["SP","São Paulo","Suzano","ARSESP","COMGÁS","Residencial","Mensal",7.01,14,{"$f":"Cálculo!$G$69","v":9.3699999999999992},{"$f":"Cálculo!$H$69","v":16.739999999999998}]
["SP","São Paulo","Suzano","ARSESP","COMGÁS","Residencial","Mensal",14.01,34,{"$f":"Cálculo!$G$70","v":11.132},{"$f":"Cálculo!$H$70","v":18.600000000000001}]
["SP","São Paulo","Suzano","ARSESP","COMGÁS","Residencial","Mensal",34.01,600,{"$f":"Cálculo!$G$71","v":11.92},{"$f":"Cálculo!$H$71","v":18.600000000000001}]
["SP","São Paulo","Suzano","ARSESP","COMGÁS","Residencial","Mensal",600.01,1000,{"$f":"Cálculo!$G$72","v":10.324},{"$f":"Cálculo!$H$72","v":18.600000000000001}]
["SP","São Paulo","Suzano","ARSESP","COMGÁS","Residencial","Mensal",1000.01,null,{"$f":"Cálculo!$G$73","v":7.2949999999999999},{"$f":"Cálculo!$H$73","v":18.600000000000001}]
["SP","São Paulo","Suzano","ARSESP","COMGÁS","Comercial","Mensal",0,0,{"$f":"Cálculo!$G$76","v":0},{"$f":"Cálculo!$H$76","v":0}]
["SP","São Paulo","Suzano","ARSESP","COMGÁS","Comercial","Mensal",0.01,50,{"$f":"Cálculo!$G$77","v":9.2490000000000006},{"$f":"Cálculo!$H$77","v":60.76}]
["SP","São Paulo","Suzano","ARSESP","COMGÁS","Comercial","Mensal",50.01,150,{"$f":"Cálculo!$G$78","v":8.49},{"$f":"Cálculo!$H$78","v":98.73}]
["SP","São Paulo","Suzano","ARSESP","COMGÁS","Comercial","Mensal",150.01,500,{"$f":"Cálculo!$G$79","v":7.9859999999999998},{"$f":"Cálculo!$H$79","v":174.66}]
["SP","São Paulo","Suzano","ARSESP","COMGÁS","Comercial","Mensal",500.01,2000,{"$f":"Cálculo!$G$80","v":7.5380000000000003},{"$f":"Cálculo!$H$80","v":398.71}]
["SP","São Paulo","Suzano","ARSESP","COMGÁS","Comercial","Mensal",2000.01,3500,{"$f":"Cálculo!$G$81","v":6.819},{"$f":"Cálculo!$H$81","v":1837.86}]
["SP","São Paulo","Suzano","ARSESP","COMGÁS","Comercial","Mensal",3500.01,50000,{"$f":"Cálculo!$G$82","v":5.3760000000000003},{"$f":"Cálculo!$H$82","v":6892.16}]
["SP","São Paulo","Suzano","ARSESP","COMGÁS","Comercial","Mensal",50000.01,null,{"$f":"Cálculo!$G$83","v":5.1479999999999997},{"$f":"Cálculo!$H$83","v":18284.09}]
["SP","São Paulo","Suzano","ARSESP","COMGÁS","Industrial","Mensal",0,50000,{"$f":"Cálculo!$G$86","v":4.726},{"$f":"Cálculo!$H$86","v":387.36}]
["SP","São Paulo","Suzano","ARSESP","COMGÁS","Industrial","Mensal",50000.01,300000,{"$f":"Cálculo!$G$87","v":3.5019999999999998},{"$f":"Cálculo!$H$87","v":61597.41}]
["SP","São Paulo","Suzano","ARSESP","COMGÁS","Industrial","Mensal",300000.01,500000,{"$f":"Cálculo!$G$88","v":3.36},{"$f":"Cálculo!$H$88","v":110975.06}]
["SP","São Paulo","Suzano","ARSESP","COMGÁS","Industrial","Mensal",500000.01,1000000,{"$f":"Cálculo!$G$89","v":3.3340000000000001},{"$f":"Cálculo!$H$89","v":124035.06}]
["SP","São Paulo","Suzano","ARSESP","COMGÁS","Industrial","Mensal",1000000.01,2000000,{"$f":"Cálculo!$G$90","v":3.2810000000000001},{"$f":"Cálculo!$H$90","v":177422.21}]
["SP","São Paulo","Suzano","ARSESP","COMGÁS","Industrial","Mensal",2000000.01,null,{"$f":"Cálculo!$G$91","v":3.2330000000000001},{"$f":"Cálculo!$H$91","v":316707.87}]
["SP","São Paulo","Suzano","ARSESP","COMGÁS","GNV","Faixa Única",null,null,{"$f":"Cálculo!$G$94","v":3.2148460000000001}]
["SP","São Paulo","Taboão da Serra","ARSESP","COMGÁS","Residencial","Mensal",0,1,{"$f":"Cálculo!$G$66","v":3.2869999999999999},{"$f":"Cálculo!$H$66","v":11.39}]
["SP","São Paulo","Taboão da Serra","ARSESP","COMGÁS","Residencial","Mensal",1.01,3,{"$f":"Cálculo!$G$67","v":10.834},{"$f":"Cálculo!$H$67","v":14.87}]
["SP","São Paulo","Taboão da Serra","ARSESP","COMGÁS","Residencial","Mensal",3.01,7,{"$f":"Cálculo!$G$68","v":5.6470000000000002},{"$f":"Cálculo!$H$68","v":14.87}]
["SP","São Paulo","Taboão da Serra","ARSESP","COMGÁS","Residencial","Mensal",7.01,14,{"$f":"Cálculo!$G$69","v":9.3699999999999992},{"$f":"Cálculo!$H$69","v":16.739999999999998}]
["SP","São Paulo","Taboão da Serra","ARSESP","COMGÁS","Residencial","Mensal",14.01,34,{"$f":"Cálculo!$G$70","v":11.132},{"$f":"Cálculo!$H$70","v":18.600000000000001}]
["SP","São Paulo","Taboão da Serra","ARSESP","COMGÁS","Residencial","Mensal",34.01,600,{"$f":"Cálculo!$G$71","v":11.92},{"$f":"Cálculo!$H$71","v":18.600000000000001}]
["SP","São Paulo","Taboão da Serra","ARSESP","COMGÁS","Residencial","Mensal",600.01,1000,{"$f":"Cálculo!$G$72","v":10.324},{"$f":"Cálculo!$H$72","v":18.600000000000001}]
["SP","São Paulo","Taboão da Serra","ARSESP","COMGÁS","Residencial","Mensal",1000.01,null,{"$f":"Cálculo!$G$73","v":7.2949999999999999},{"$f":"Cálculo!$H$73","v":18.600000000000001}]
["SP","São Paulo","Taboão da Serra","ARSESP","COMGÁS","Comercial","Mensal",0,0,{"$f":"Cálculo!$G$76","v":0},{"$f":"Cálculo!$H$76","v":0}]
["SP","São Paulo","Taboão da Serra","ARSESP","COMGÁS","Comercial","Mensal",0.01,50,{"$f":"Cálculo!$G$77","v":9.2490000000000006},{"$f":"Cálculo!$H$77","v":60.76}]
["SP","São Paulo","Taboão da Serra","ARSESP","COMGÁS","Comercial","Mensal",50.01,150,{"$f":"Cálculo!$G$78","v":8.49},{"$f":"Cálculo!$H$78","v":98.73}]
["SP","São Paulo","Taboão da Serra","ARSESP","COMGÁS","Comercial","Mensal",150.01,500,{"$f":"Cálculo!$G$79","v":7.9859999999999998},{"$f":"Cálculo!$H$79","v":174.66}]
["SP","São Paulo","Taboão da Serra","ARSESP","COMGÁS","Comercial","Mensal",500.01,2000,{"$f":"Cálculo!$G$80","v":7.5380000000000003},{"$f":"Cálculo!$H$80","v":398.71}]
["SP","São Paulo","Taboão da Serra","ARSESP","COMGÁS","Comercial","Mensal",2000.01,3500,{"$f":"Cálculo!$G$81","v":6.819},{"$f":"Cálculo!$H$81","v":1837.86}]
["SP","São Paulo","Taboão da Serra","ARSESP","COMGÁS","Comercial","Mensal",3500.01,50000,{"$f":"Cálculo!$G$82","v":5.3760000000000003},{"$f":"Cálculo!$H$82","v":6892.16}]
["SP","São Paulo","Taboão da Serra","ARSESP","COMGÁS","Comercial","Mensal",50000.01,null,{"$f":"Cálculo!$G$83","v":5.1479999999999997},{"$f":"Cálculo!$H$83","v":18284.09}]
["SP","São Paulo","Taboão da Serra","ARSESP","COMGÁS","Industrial","Mensal",0,50000,{"$f":"Cálculo!$G$86","v":4.726},{"$f":"Cálculo!$H$86","v":387.36}]
["SP","São Paulo","Taboão da Serra","ARSESP","COMGÁS","Industrial","Mensal",50000.01,300000,{"$f":"Cálculo!$G$87","v":3.5019999999999998},{"$f":"Cálculo!$H$87","v":61597.41}]
["SP","São Paulo","Taboão da Serra","ARSESP","COMGÁS","Industrial","Mensal",300000.01,500000,{"$f":"Cálculo!$G$88","v":3.36},{"$f":"Cálculo!$H$88","v":110975.06}]
["SP","São Paulo","Taboão da Serra","ARSESP","COMGÁS","Industrial","Mensal",500000.01,1000000,{"$f":"Cálculo!$G$89","v":3.3340000000000001},{"$f":"Cálculo!$H$89","v":124035.06}]
["SP","São Paulo","Taboão da Serra","ARSESP","COMGÁS","Industrial","Mensal",1000000.01,2000000,{"$f":"Cálculo!$G$90","v":3.2810000000000001},{"$f":"Cálculo!$H$90","v":177422.21}]
["SP","São Paulo","Taboão da Serra","ARSESP","COMGÁS","Industrial","Mensal",2000000.01,null,{"$f":"Cálculo!$G$91","v":3.2330000000000001},{"$f":"Cálculo!$H$91","v":316707.87}]
["SP","São Paulo","Taboão da Serra","ARSESP","COMGÁS","GNV","Faixa Única",null,null,{"$f":"Cálculo!$G$94","v":3.2148460000000001}]
["SP","São Paulo","Tambaú","ARSESP","COMGÁS","Residencial","Mensal",0,1,{"$f":"Cálculo!$G$66","v":3.2869999999999999},{"$f":"Cálculo!$H$66","v":11.39}]
["SP","São Paulo","Tambaú","ARSESP","COMGÁS","Residencial","Mensal",1.01,3,{"$f":"Cálculo!$G$67","v":10.834},{"$f":"Cálculo!$H$67","v":14.87}]
["SP","São Paulo","Tambaú","ARSESP","COMGÁS","Residencial","Mensal",3.01,7,{"$f":"Cálculo!$G$68","v":5.6470000000000002},{"$f":"Cálculo!$H$68","v":14.87}]
["SP","São Paulo","Tambaú","ARSESP","COMGÁS","Residencial","Mensal",7.01,14,{"$f":"Cálculo!$G$69","v":9.3699999999999992},{"$f":"Cálculo!$H$69","v":16.739999999999998}]
["SP","São Paulo","Tambaú","ARSESP","COMGÁS","Residencial","Mensal",14.01,34,{"$f":"Cálculo!$G$70","v":11.132},{"$f":"Cálculo!$H$70","v":18.600000000000001}]
["SP","São Paulo","Tambaú","ARSESP","COMGÁS","Residencial","Mensal",34.01,600,{"$f":"Cálculo!$G$71","v":11.92},{"$f":"Cálculo!$H$71","v":18.600000000000001}]
["SP","São Paulo","Tambaú","ARSESP","COMGÁS","Residencial","Mensal",600.01,1000,{"$f":"Cálculo!$G$72","v":10.324},{"$f":"Cálculo!$H$72","v":18.600000000000001}]
["SP","São Paulo","Tambaú","ARSESP","COMGÁS","Residencial","Mensal",1000.01,null,{"$f":"Cálculo!$G$73","v":7.2949999999999999},{"$f":"Cálculo!$H$73","v":18.600000000000001}]
["SP","São Paulo","Tambaú","ARSESP","COMGÁS","Comercial","Mensal",0,0,{"$f":"Cálculo!$G$76","v":0},{"$f":"Cálculo!$H$76","v":0}]
["SP","São Paulo","Tambaú","ARSESP","COMGÁS","Comercial","Mensal",0.01,50,{"$f":"Cálculo!$G$77","v":9.2490000000000006},{"$f":"Cálculo!$H$77","v":60.76}]
["SP","São Paulo","Tambaú","ARSESP","COMGÁS","Comercial","Mensal",50.01,150,{"$f":"Cálculo!$G$78","v":8.49},{"$f":"Cálculo!$H$78","v":98.73}]
["SP","São Paulo","Tambaú","ARSESP","COMGÁS","Comercial","Mensal",150.01,500,{"$f":"Cálculo!$G$79","v":7.9859999999999998},{"$f":"Cálculo!$H$79","v":174.66}]
["SP","São Paulo","Tambaú","ARSESP","COMGÁS","Comercial","Mensal",500.01,2000,{"$f":"Cálculo!$G$80","v":7.5380000000000003},{"$f":"Cálculo!$H$80","v":398.71}]
["SP","São Paulo","Tambaú","ARSESP","COMGÁS","Comercial","Mensal",2000.01,3500,{"$f":"Cálculo!$G$81","v":6.819},{"$f":"Cálculo!$H$81","v":1837.86}]
["SP","São Paulo","Tambaú","ARSESP","COMGÁS","Comercial","Mensal",3500.01,50000,{"$f":"Cálculo!$G$82","v":5.3760000000000003},{"$f":"Cálculo!$H$82","v":6892.16}]
["SP","São Paulo","Tambaú","ARSESP","COMGÁS","Comercial","Mensal",50000.01,null,{"$f":"Cálculo!$G$83","v":5.1479999999999997},{"$f":"Cálculo!$H$83","v":18284.09}]
["SP","São Paulo","Tambaú","ARSESP","COMGÁS","Industrial","Mensal",0,50000,{"$f":"Cálculo!$G$86","v":4.726},{"$f":"Cálculo!$H$86","v":387.36}]
["SP","São Paulo","Tambaú","ARSESP","COMGÁS","Industrial","Mensal",50000.01,300000,{"$f":"Cálculo!$G$87","v":3.5019999999999998},{"$f":"Cálculo!$H$87","v":61597.41}]
["SP","São Paulo","Tambaú","ARSESP","COMGÁS","Industrial","Mensal",300000.01,500000,{"$f":"Cálculo!$G$88","v":3.36},{"$f":"Cálculo!$H$88","v":110975.06}]
["SP","São Paulo","Tambaú","ARSESP","COMGÁS","Industrial","Mensal",500000.01,1000000,{"$f":"Cálculo!$G$89","v":3.3340000000000001},{"$f":"Cálculo!$H$89","v":124035.06}]
["SP","São Paulo","Tambaú","ARSESP","COMGÁS","Industrial","Mensal",1000000.01,2000000,{"$f":"Cálculo!$G$90","v":3.2810000000000001},{"$f":"Cálculo!$H$90","v":177422.21}]
["SP","São Paulo","Tambaú","ARSESP","COMGÁS","Industrial","Mensal",2000000.01,null,{"$f":"Cálculo!$G$91","v":3.2330000000000001},{"$f":"Cálculo!$H$91","v":316707.87}]
["SP","São Paulo","Tambaú","ARSESP","COMGÁS","GNV","Faixa Única",null,null,{"$f":"Cálculo!$G$94","v":3.2148460000000001}]
["SP","São Paulo","Tapiratiba","ARSESP","COMGÁS","Residencial","Mensal",0,1,{"$f":"Cálculo!$G$66","v":3.2869999999999999},{"$f":"Cálculo!$H$66","v":11.39}]
["SP","São Paulo","Tapiratiba","ARSESP","COMGÁS","Residencial","Mensal",1.01,3,{"$f":"Cálculo!$G$67","v":10.834},{"$f":"Cálculo!$H$67","v":14.87}]
["SP","São Paulo","Tapiratiba","ARSESP","COMGÁS","Residencial","Mensal",3.01,7,{"$f":"Cálculo!$G$68","v":5.6470000000000002},{"$f":"Cálculo!$H$68","v":14.87}]
["SP","São Paulo","Tapiratiba","ARSESP","COMGÁS","Residencial","Mensal",7.01,14,{"$f":"Cálculo!$G$69","v":9.3699999999999992},{"$f":"Cálculo!$H$69","v":16.739999999999998}]
["SP","São Paulo","Tapiratiba","ARSESP","COMGÁS","Residencial","Mensal",14.01,34,{"$f":"Cálculo!$G$70","v":11.132},{"$f":"Cálculo!$H$70","v":18.600000000000001}]
["SP","São Paulo","Tapiratiba","ARSESP","COMGÁS","Residencial","Mensal",34.01,600,{"$f":"Cálculo!$G$71","v":11.92},{"$f":"Cálculo!$H$71","v":18.600000000000001}]
["SP","São Paulo","Tapiratiba","ARSESP","COMGÁS","Residencial","Mensal",600.01,1000,{"$f":"Cálculo!$G$72","v":10.324},{"$f":"Cálculo!$H$72","v":18.600000000000001}]
["SP","São Paulo","Tapiratiba","ARSESP","COMGÁS","Residencial","Mensal",1000.01,null,{"$f":"Cálculo!$G$73","v":7.2949999999999999},{"$f":"Cálculo!$H$73","v":18.600000000000001}]
["SP","São Paulo","Tapiratiba","ARSESP","COMGÁS","Comercial","Mensal",0,0,{"$f":"Cálculo!$G$76","v":0},{"$f":"Cálculo!$H$76","v":0}]
["SP","São Paulo","Tapiratiba","ARSESP","COMGÁS","Comercial","Mensal",0.01,50,{"$f":"Cálculo!$G$77","v":9.2490000000000006},{"$f":"Cálculo!$H$77","v":60.76}]
["SP","São Paulo","Tapiratiba","ARSESP","COMGÁS","Comercial","Mensal",50.01,150,{"$f":"Cálculo!$G$78","v":8.49},{"$f":"Cálculo!$H$78","v":98.73}]
["SP","São Paulo","Tapiratiba","ARSESP","COMGÁS","Comercial","Mensal",150.01,500,{"$f":"Cálculo!$G$79","v":7.9859999999999998},{"$f":"Cálculo!$H$79","v":174.66}]
["SP","São Paulo","Tapiratiba","ARSESP","COMGÁS","Comercial","Mensal",500.01,2000,{"$f":"Cálculo!$G$80","v":7.5380000000000003},{"$f":"Cálculo!$H$80","v":398.71}]
["SP","São Paulo","Tapiratiba","ARSESP","COMGÁS","Comercial","Mensal",2000.01,3500,{"$f":"Cálculo!$G$81","v":6.819},{"$f":"Cálculo!$H$81","v":1837.86}]
["SP","São Paulo","Tapiratiba","ARSESP","COMGÁS","Comercial","Mensal",3500.01,50000,{"$f":"Cálculo!$G$82","v":5.3760000000000003},{"$f":"Cálculo!$H$82","v":6892.16}]
["SP","São Paulo","Tapiratiba","ARSESP","COMGÁS","Comercial","Mensal",50000.01,null,{"$f":"Cálculo!$G$83","v":5.1479999999999997},{"$f":"Cálculo!$H$83","v":18284.09}]
["SP","São Paulo","Tapiratiba","ARSESP","COMGÁS","Industrial","Mensal",0,50000,{"$f":"Cálculo!$G$86","v":4.726},{"$f":"Cálculo!$H$86","v":387.36}]
["SP","São Paulo","Tapiratiba","ARSESP","COMGÁS","Industrial","Mensal",50000.01,300000,{"$f":"Cálculo!$G$87","v":3.5019999999999998},{"$f":"Cálculo!$H$87","v":61597.41}]
["SP","São Paulo","Tapiratiba","ARSESP","COMGÁS","Industrial","Mensal",300000.01,500000,{"$f":"Cálculo!$G$88","v":3.36},{"$f":"Cálculo!$H$88","v":110975.06}]
["SP","São Paulo","Tapiratiba","ARSESP","COMGÁS","Industrial","Mensal",500000.01,1000000,{"$f":"Cálculo!$G$89","v":3.3340000000000001},{"$f":"Cálculo!$H$89","v":124035.06}]
["SP","São Paulo","Tapiratiba","ARSESP","COMGÁS","Industrial","Mensal",1000000.01,2000000,{"$f":"Cálculo!$G$90","v":3.2810000000000001},{"$f":"Cálculo!$H$90","v":177422.21}]
["SP","São Paulo","Tapiratiba","ARSESP","COMGÁS","Industrial","Mensal",2000000.01,null,{"$f":"Cálculo!$G$91","v":3.2330000000000001},{"$f":"Cálculo!$H$91","v":316707.87}]
["SP","São Paulo","Tapiratiba","ARSESP","COMGÁS","GNV","Faixa Única",null,null,{"$f":"Cálculo!$G$94","v":3.2148460000000001}]
["SP","São Paulo","Taubaté","ARSESP","COMGÁS","Residencial","Mensal",0,1,{"$f":"Cálculo!$G$66","v":3.2869999999999999},{"$f":"Cálculo!$H$66","v":11.39}]
["SP","São Paulo","Taubaté","ARSESP","COMGÁS","Residencial","Mensal",1.01,3,{"$f":"Cálculo!$G$67","v":10.834},{"$f":"Cálculo!$H$67","v":14.87}]
["SP","São Paulo","Taubaté","ARSESP","COMGÁS","Residencial","Mensal",3.01,7,{"$f":"Cálculo!$G$68","v":5.6470000000000002},{"$f":"Cálculo!$H$68","v":14.87}]
["SP","São Paulo","Taubaté","ARSESP","COMGÁS","Residencial","Mensal",7.01,14,{"$f":"Cálculo!$G$69","v":9.3699999999999992},{"$f":"Cálculo!$H$69","v":16.739999999999998}]
["SP","São Paulo","Taubaté","ARSESP","COMGÁS","Residencial","Mensal",14.01,34,{"$f":"Cálculo!$G$70","v":11.132},{"$f":"Cálculo!$H$70","v":18.600000000000001}]
["SP","São Paulo","Taubaté","ARSESP","COMGÁS","Residencial","Mensal",34.01,600,{"$f":"Cálculo!$G$71","v":11.92},{"$f":"Cálculo!$H$71","v":18.600000000000001}]
["SP","São Paulo","Taubaté","ARSESP","COMGÁS","Residencial","Mensal",600.01,1000,{"$f":"Cálculo!$G$72","v":10.324},{"$f":"Cálculo!$H$72","v":18.600000000000001}]
["SP","São Paulo","Taubaté","ARSESP","COMGÁS","Residencial","Mensal",1000.01,null,{"$f":"Cálculo!$G$73","v":7.2949999999999999},{"$f":"Cálculo!$H$73","v":18.600000000000001}]
["SP","São Paulo","Taubaté","ARSESP","COMGÁS","Comercial","Mensal",0,0,{"$f":"Cálculo!$G$76","v":0},{"$f":"Cálculo!$H$76","v":0}]
["SP","São Paulo","Taubaté","ARSESP","COMGÁS","Comercial","Mensal",0.01,50,{"$f":"Cálculo!$G$77","v":9.2490000000000006},{"$f":"Cálculo!$H$77","v":60.76}]
["SP","São Paulo","Taubaté","ARSESP","COMGÁS","Comercial","Mensal",50.01,150,{"$f":"Cálculo!$G$78","v":8.49},{"$f":"Cálculo!$H$78","v":98.73}]
["SP","São Paulo","Taubaté","ARSESP","COMGÁS","Comercial","Mensal",150.01,500,{"$f":"Cálculo!$G$79","v":7.9859999999999998},{"$f":"Cálculo!$H$79","v":174.66}]
["SP","São Paulo","Taubaté","ARSESP","COMGÁS","Comercial","Mensal",500.01,2000,{"$f":"Cálculo!$G$80","v":7.5380000000000003},{"$f":"Cálculo!$H$80","v":398.71}]
["SP","São Paulo","Taubaté","ARSESP","COMGÁS","Comercial","Mensal",2000.01,3500,{"$f":"Cálculo!$G$81","v":6.819},{"$f":"Cálculo!$H$81","v":1837.86}]
["SP","São Paulo","Taubaté","ARSESP","COMGÁS","Comercial","Mensal",3500.01,50000,{"$f":"Cálculo!$G$82","v":5.3760000000000003},{"$f":"Cálculo!$H$82","v":6892.16}]
["SP","São Paulo","Taubaté","ARSESP","COMGÁS","Comercial","Mensal",50000.01,null,{"$f":"Cálculo!$G$83","v":5.1479999999999997},{"$f":"Cálculo!$H$83","v":18284.09}]
["SP","São Paulo","Taubaté","ARSESP","COMGÁS","Industrial","Mensal",0,50000,{"$f":"Cálculo!$G$86","v":4.726},{"$f":"Cálculo!$H$86","v":387.36}]
["SP","São Paulo","Taubaté","ARSESP","COMGÁS","Industrial","Mensal",50000.01,300000,{"$f":"Cálculo!$G$87","v":3.5019999999999998},{"$f":"Cálculo!$H$87","v":61597.41}]
["SP","São Paulo","Taubaté","ARSESP","COMGÁS","Industrial","Mensal",300000.01,500000,{"$f":"Cálculo!$G$88","v":3.36},{"$f":"Cálculo!$H$88","v":110975.06}]
["SP","São Paulo","Taubaté","ARSESP","COMGÁS","Industrial","Mensal",500000.01,1000000,{"$f":"Cálculo!$G$89","v":3.3340000000000001},{"$f":"Cálculo!$H$89","v":124035.06}]
["SP","São Paulo","Taubaté","ARSESP","COMGÁS","Industrial","Mensal",1000000.01,2000000,{"$f":"Cálculo!$G$90","v":3.2810000000000001},{"$f":"Cálculo!$H$90","v":177422.21}]
["SP","São Paulo","Taubaté","ARSESP","COMGÁS","Industrial","Mensal",2000000.01,null,{"$f":"Cálculo!$G$91","v":3.2330000000000001},{"$f":"Cálculo!$H$91","v":316707.87}]
["SP","São Paulo","Taubaté","ARSESP","COMGÁS","GNV","Faixa Única",null,null,{"$f":"Cálculo!$G$94","v":3.2148460000000001}]
["SP","São Paulo","Torrinha","ARSESP","COMGÁS","Residencial","Mensal",0,1,{"$f":"Cálculo!$G$66","v":3.2869999999999999},{"$f":"Cálculo!$H$66","v":11.39}]
["SP","São Paulo","Torrinha","ARSESP","COMGÁS","Residencial","Mensal",1.01,3,{"$f":"Cálculo!$G$67","v":10.834},{"$f":"Cálculo!$H$67","v":14.87}]
["SP","São Paulo","Torrinha","ARSESP","COMGÁS","Residencial","Mensal",3.01,7,{"$f":"Cálculo!$G$68","v":5.6470000000000002},{"$f":"Cálculo!$H$68","v":14.87}]
["SP","São Paulo","Torrinha","ARSESP","COMGÁS","Residencial","Mensal",7.01,14,{"$f":"Cálculo!$G$69","v":9.3699999999999992},{"$f":"Cálculo!$H$69","v":16.739999999999998}]
["SP","São Paulo","Torrinha","ARSESP","COMGÁS","Residencial","Mensal",14.01,34,{"$f":"Cálculo!$G$70","v":11.132},{"$f":"Cálculo!$H$70","v":18.600000000000001}]
["SP","São Paulo","Torrinha","ARSESP","COMGÁS","Residencial","Mensal",34.01,600,{"$f":"Cálculo!$G$71","v":11.92},{"$f":"Cálculo!$H$71","v":18.600000000000001}]
["SP","São Paulo","Torrinha","ARSESP","COMGÁS","Residencial","Mensal",600.01,1000,{"$f":"Cálculo!$G$72","v":10.324},{"$f":"Cálculo!$H$72","v":18.600000000000001}]
["SP","São Paulo","Torrinha","ARSESP","COMGÁS","Residencial","Mensal",1000.01,null,{"$f":"Cálculo!$G$73","v":7.2949999999999999},{"$f":"Cálculo!$H$73","v":18.600000000000001}]
["SP","São Paulo","Torrinha","ARSESP","COMGÁS","Comercial","Mensal",0,0,{"$f":"Cálculo!$G$76","v":0},{"$f":"Cálculo!$H$76","v":0}]
["SP","São Paulo","Torrinha","ARSESP","COMGÁS","Comercial","Mensal",0.01,50,{"$f":"Cálculo!$G$77","v":9.2490000000000006},{"$f":"Cálculo!$H$77","v":60.76}]
["SP","São Paulo","Torrinha","ARSESP","COMGÁS","Comercial","Mensal",50.01,150,{"$f":"Cálculo!$G$78","v":8.49},{"$f":"Cálculo!$H$78","v":98.73}]
["SP","São Paulo","Torrinha","ARSESP","COMGÁS","Comercial","Mensal",150.01,500,{"$f":"Cálculo!$G$79","v":7.9859999999999998},{"$f":"Cálculo!$H$79","v":174.66}]
["SP","São Paulo","Torrinha","ARSESP","COMGÁS","Comercial","Mensal",500.01,2000,{"$f":"Cálculo!$G$80","v":7.5380000000000003},{"$f":"Cálculo!$H$80","v":398.71}]
["SP","São Paulo","Torrinha","ARSESP","COMGÁS","Comercial","Mensal",2000.01,3500,{"$f":"Cálculo!$G$81","v":6.819},{"$f":"Cálculo!$H$81","v":1837.86}]
["SP","São Paulo","Torrinha","ARSESP","COMGÁS","Comercial","Mensal",3500.01,50000,{"$f":"Cálculo!$G$82","v":5.3760000000000003},{"$f":"Cálculo!$H$82","v":6892.16}]
["SP","São Paulo","Torrinha","ARSESP","COMGÁS","Comercial","Mensal",50000.01,null,{"$f":"Cálculo!$G$83","v":5.1479999999999997},{"$f":"Cálculo!$H$83","v":18284.09}]
["SP","São Paulo","Torrinha","ARSESP","COMGÁS","Industrial","Mensal",0,50000,{"$f":"Cálculo!$G$86","v":4.726},{"$f":"Cálculo!$H$86","v":387.36}]
["SP","São Paulo","Torrinha","ARSESP","COMGÁS","Industrial","Mensal",50000.01,300000,{"$f":"Cálculo!$G$87","v":3.5019999999999998},{"$f":"Cálculo!$H$87","v":61597.41}]
["SP","São Paulo","Torrinha","ARSESP","COMGÁS","Industrial","Mensal",300000.01,500000,{"$f":"Cálculo!$G$88","v":3.36},{"$f":"Cálculo!$H$88","v":110975.06}]
["SP","São Paulo","Torrinha","ARSESP","COMGÁS","Industrial","Mensal",500000.01,1000000,{"$f":"Cálculo!$G$89","v":3.3340000000000001},{"$f":"Cálculo!$H$89","v":124035.06}]
["SP","São Paulo","Torrinha","ARSESP","COMGÁS","Industrial","Mensal",1000000.01,2000000,{"$f":"Cálculo!$G$90","v":3.2810000000000001},{"$f":"Cálculo!$H$90","v":177422.21}]
["SP","São Paulo","Torrinha","ARSESP","COMGÁS","Industrial","Mensal",2000000.01,null,{"$f":"Cálculo!$G$91","v":3.2330000000000001},{"$f":"Cálculo!$H$91","v":316707.87}]
["SP","São Paulo","Torrinha","ARSESP","COMGÁS","GNV","Faixa Única",null,null,{"$f":"Cálculo!$G$94","v":3.2148460000000001}]
["SP","São Paulo","Tremembé","ARSESP","COMGÁS","Residencial","Mensal",0,1,{"$f":"Cálculo!$G$66","v":3.2869999999999999},{"$f":"Cálculo!$H$66","v":11.39}]
["SP","São Paulo","Tremembé","ARSESP","COMGÁS","Residencial","Mensal",1.01,3,{"$f":"Cálculo!$G$67","v":10.834},{"$f":"Cálculo!$H$67","v":14.87}]
["SP","São Paulo","Tremembé","ARSESP","COMGÁS","Residencial","Mensal",3.01,7,{"$f":"Cálculo!$G$68","v":5.6470000000000002},{"$f":"Cálculo!$H$68","v":14.87}]
["SP","São Paulo","Tremembé","ARSESP","COMGÁS","Residencial","Mensal",7.01,14,{"$f":"Cálculo!$G$69","v":9.3699999999999992},{"$f":"Cálculo!$H$69","v":16.739999999999998}]
["SP","São Paulo","Tremembé","ARSESP","COMGÁS","Residencial","Mensal",14.01,34,{"$f":"Cálculo!$G$70","v":11.132},{"$f":"Cálculo!$H$70","v":18.600000000000001}]
["SP","São Paulo","Tremembé","ARSESP","COMGÁS","Residencial","Mensal",34.01,600,{"$f":"Cálculo!$G$71","v":11.92},{"$f":"Cálculo!$H$71","v":18.600000000000001}]
["SP","São Paulo","Tremembé","ARSESP","COMGÁS","Residencial","Mensal",600.01,1000,{"$f":"Cálculo!$G$72","v":10.324},{"$f":"Cálculo!$H$72","v":18.600000000000001}]
["SP","São Paulo","Tremembé","ARSESP","COMGÁS","Residencial","Mensal",1000.01,null,{"$f":"Cálculo!$G$73","v":7.2949999999999999},{"$f":"Cálculo!$H$73","v":18.600000000000001}]
["SP","São Paulo","Tremembé","ARSESP","COMGÁS","Comercial","Mensal",0,0,{"$f":"Cálculo!$G$76","v":0},{"$f":"Cálculo!$H$76","v":0}]
["SP","São Paulo","Tremembé","ARSESP","COMGÁS","Comercial","Mensal",0.01,50,{"$f":"Cálculo!$G$77","v":9.2490000000000006},{"$f":"Cálculo!$H$77","v":60.76}]
["SP","São Paulo","Tremembé","ARSESP","COMGÁS","Comercial","Mensal",50.01,150,{"$f":"Cálculo!$G$78","v":8.49},{"$f":"Cálculo!$H$78","v":98.73}]
["SP","São Paulo","Tremembé","ARSESP","COMGÁS","Comercial","Mensal",150.01,500,{"$f":"Cálculo!$G$79","v":7.9859999999999998},{"$f":"Cálculo!$H$79","v":174.66}]
["SP","São Paulo","Tremembé","ARSESP","COMGÁS","Comercial","Mensal",500.01,2000,{"$f":"Cálculo!$G$80","v":7.5380000000000003},{"$f":"Cálculo!$H$80","v":398.71}]
["SP","São Paulo","Tremembé","ARSESP","COMGÁS","Comercial","Mensal",2000.01,3500,{"$f":"Cálculo!$G$81","v":6.819},{"$f":"Cálculo!$H$81","v":1837.86}]
["SP","São Paulo","Tremembé","ARSESP","COMGÁS","Comercial","Mensal",3500.01,50000,{"$f":"Cálculo!$G$82","v":5.3760000000000003},{"$f":"Cálculo!$H$82","v":6892.16}]
["SP","São Paulo","Tremembé","ARSESP","COMGÁS","Comercial","Mensal",50000.01,null,{"$f":"Cálculo!$G$83","v":5.1479999999999997},{"$f":"Cálculo!$H$83","v":18284.09}]
["SP","São Paulo","Tremembé","ARSESP","COMGÁS","Industrial","Mensal",0,50000,{"$f":"Cálculo!$G$86","v":4.726},{"$f":"Cálculo!$H$86","v":387.36}]
["SP","São Paulo","Tremembé","ARSESP","COMGÁS","Industrial","Mensal",50000.01,300000,{"$f":"Cálculo!$G$87","v":3.5019999999999998},{"$f":"Cálculo!$H$87","v":61597.41}]
["SP","São Paulo","Tremembé","ARSESP","COMGÁS","Industrial","Mensal",300000.01,500000,{"$f":"Cálculo!$G$88","v":3.36},{"$f":"Cálculo!$H$88","v":110975.06}]
["SP","São Paulo","Tremembé","ARSESP","COMGÁS","Industrial","Mensal",500000.01,1000000,{"$f":"Cálculo!$G$89","v":3.3340000000000001},{"$f":"Cálculo!$H$89","v":124035.06}]
["SP","São Paulo","Tremembé","ARSESP","COMGÁS","Industrial","Mensal",1000000.01,2000000,{"$f":"Cálculo!$G$90","v":3.2810000000000001},{"$f":"Cálculo!$H$90","v":177422.21}]
["SP","São Paulo","Tremembé","ARSESP","COMGÁS","Industrial","Mensal",2000000.01,null,{"$f":"Cálculo!$G$91","v":3.2330000000000001},{"$f":"Cálculo!$H$91","v":316707.87}]
["SP","São Paulo","Tremembé","ARSESP","COMGÁS","GNV","Faixa Única",null,null,{"$f":"Cálculo!$G$94","v":3.2148460000000001}]
["SP","São Paulo","Tuiuti","ARSESP","COMGÁS","Residencial","Mensal",0,1,{"$f":"Cálculo!$G$66","v":3.2869999999999999},{"$f":"Cálculo!$H$66","v":11.39}]
["SP","São Paulo","Tuiuti","ARSESP","COMGÁS","Residencial","Mensal",1.01,3,{"$f":"Cálculo!$G$67","v":10.834},{"$f":"Cálculo!$H$67","v":14.87}]
["SP","São Paulo","Tuiuti","ARSESP","COMGÁS","Residencial","Mensal",3.01,7,{"$f":"Cálculo!$G$68","v":5.6470000000000002},{"$f":"Cálculo!$H$68","v":14.87}]
["SP","São Paulo","Tuiuti","ARSESP","COMGÁS","Residencial","Mensal",7.01,14,{"$f":"Cálculo!$G$69","v":9.3699999999999992},{"$f":"Cálculo!$H$69","v":16.739999999999998}]
["SP","São Paulo","Tuiuti","ARSESP","COMGÁS","Residencial","Mensal",14.01,34,{"$f":"Cálculo!$G$70","v":11.132},{"$f":"Cálculo!$H$70","v":18.600000000000001}]
["SP","São Paulo","Tuiuti","ARSESP","COMGÁS","Residencial","Mensal",34.01,600,{"$f":"Cálculo!$G$71","v":11.92},{"$f":"Cálculo!$H$71","v":18.600000000000001}]
["SP","São Paulo","Tuiuti","ARSESP","COMGÁS","Residencial","Mensal",600.01,1000,{"$f":"Cálculo!$G$72","v":10.324},{"$f":"Cálculo!$H$72","v":18.600000000000001}]
["SP","São Paulo","Tuiuti","ARSESP","COMGÁS","Residencial","Mensal",1000.01,null,{"$f":"Cálculo!$G$73","v":7.2949999999999999},{"$f":"Cálculo!$H$73","v":18.600000000000001}]
["SP","São Paulo","Tuiuti","ARSESP","COMGÁS","Comercial","Mensal",0,0,{"$f":"Cálculo!$G$76","v":0},{"$f":"Cálculo!$H$76","v":0}]
["SP","São Paulo","Tuiuti","ARSESP","COMGÁS","Comercial","Mensal",0.01,50,{"$f":"Cálculo!$G$77","v":9.2490000000000006},{"$f":"Cálculo!$H$77","v":60.76}]
["SP","São Paulo","Tuiuti","ARSESP","COMGÁS","Comercial","Mensal",50.01,150,{"$f":"Cálculo!$G$78","v":8.49},{"$f":"Cálculo!$H$78","v":98.73}]
["SP","São Paulo","Tuiuti","ARSESP","COMGÁS","Comercial","Mensal",150.01,500,{"$f":"Cálculo!$G$79","v":7.9859999999999998},{"$f":"Cálculo!$H$79","v":174.66}]
["SP","São Paulo","Tuiuti","ARSESP","COMGÁS","Comercial","Mensal",500.01,2000,{"$f":"Cálculo!$G$80","v":7.5380000000000003},{"$f":"Cálculo!$H$80","v":398.71}]
["SP","São Paulo","Tuiuti","ARSESP","COMGÁS","Comercial","Mensal",2000.01,3500,{"$f":"Cálculo!$G$81","v":6.819},{"$f":"Cálculo!$H$81","v":1837.86}]
["SP","São Paulo","Tuiuti","ARSESP","COMGÁS","Comercial","Mensal",3500.01,50000,{"$f":"Cálculo!$G$82","v":5.3760000000000003},{"$f":"Cálculo!$H$82","v":6892.16}]
["SP","São Paulo","Tuiuti","ARSESP","COMGÁS","Comercial","Mensal",50000.01,null,{"$f":"Cálculo!$G$83","v":5.1479999999999997},{"$f":"Cálculo!$H$83","v":18284.09}]
["SP","São Paulo","Tuiuti","ARSESP","COMGÁS","Industrial","Mensal",0,50000,{"$f":"Cálculo!$G$86","v":4.726},{"$f":"Cálculo!$H$86","v":387.36}]
["SP","São Paulo","Tuiuti","ARSESP","COMGÁS","Industrial","Mensal",50000.01,300000,{"$f":"Cálculo!$G$87","v":3.5019999999999998},{"$f":"Cálculo!$H$87","v":61597.41}]
["SP","São Paulo","Tuiuti","ARSESP","COMGÁS","Industrial","Mensal",300000.01,500000,{"$f":"Cálculo!$G$88","v":3.36},{"$f":"Cálculo!$H$88","v":110975.06}]
["SP","São Paulo","Tuiuti","ARSESP","COMGÁS","Industrial","Mensal",500000.01,1000000,{"$f":"Cálculo!$G$89","v":3.3340000000000001},{"$f":"Cálculo!$H$89","v":124035.06}]
["SP","São Paulo","Tuiuti","ARSESP","COMGÁS","Industrial","Mensal",1000000.01,2000000,{"$f":"Cálculo!$G$90","v":3.2810000000000001},{"$f":"Cálculo!$H$90","v":177422.21}]
["SP","São Paulo","Tuiuti","ARSESP","COMGÁS","Industrial","Mensal",2000000.01,null,{"$f":"Cálculo!$G$91","v":3.2330000000000001},{"$f":"Cálculo!$H$91","v":316707.87}]
["SP","São Paulo","Tuiuti","ARSESP","COMGÁS","GNV","Faixa Única",null,null,{"$f":"Cálculo!$G$94","v":3.2148460000000001}]
["SP","São Paulo","Ubatuba","ARSESP","COMGÁS","Residencial","Mensal",0,1,{"$f":"Cálculo!$G$66","v":3.2869999999999999},{"$f":"Cálculo!$H$66","v":11.39}]
["SP","São Paulo","Ubatuba","ARSESP","COMGÁS","Residencial","Mensal",1.01,3,{"$f":"Cálculo!$G$67","v":10.834},{"$f":"Cálculo!$H$67","v":14.87}]
["SP","São Paulo","Ubatuba","ARSESP","COMGÁS","Residencial","Mensal",3.01,7,{"$f":"Cálculo!$G$68","v":5.6470000000000002},{"$f":"Cálculo!$H$68","v":14.87}]
["SP","São Paulo","Ubatuba","ARSESP","COMGÁS","Residencial","Mensal",7.01,14,{"$f":"Cálculo!$G$69","v":9.3699999999999992},{"$f":"Cálculo!$H$69","v":16.739999999999998}]
["SP","São Paulo","Ubatuba","ARSESP","COMGÁS","Residencial","Mensal",14.01,34,{"$f":"Cálculo!$G$70","v":11.132},{"$f":"Cálculo!$H$70","v":18.600000000000001}]
["SP","São Paulo","Ubatuba","ARSESP","COMGÁS","Residencial","Mensal",34.01,600,{"$f":"Cálculo!$G$71","v":11.92},{"$f":"Cálculo!$H$71","v":18.600000000000001}]
["SP","São Paulo","Ubatuba","ARSESP","COMGÁS","Residencial","Mensal",600.01,1000,{"$f":"Cálculo!$G$72","v":10.324},{"$f":"Cálculo!$H$72","v":18.600000000000001}]
["SP","São Paulo","Ubatuba","ARSESP","COMGÁS","Residencial","Mensal",1000.01,null,{"$f":"Cálculo!$G$73","v":7.2949999999999999},{"$f":"Cálculo!$H$73","v":18.600000000000001}]
["SP","São Paulo","Ubatuba","ARSESP","COMGÁS","Comercial","Mensal",0,0,{"$f":"Cálculo!$G$76","v":0},{"$f":"Cálculo!$H$76","v":0}]
["SP","São Paulo","Ubatuba","ARSESP","COMGÁS","Comercial","Mensal",0.01,50,{"$f":"Cálculo!$G$77","v":9.2490000000000006},{"$f":"Cálculo!$H$77","v":60.76}]
["SP","São Paulo","Ubatuba","ARSESP","COMGÁS","Comercial","Mensal",50.01,150,{"$f":"Cálculo!$G$78","v":8.49},{"$f":"Cálculo!$H$78","v":98.73}]
["SP","São Paulo","Ubatuba","ARSESP","COMGÁS","Comercial","Mensal",150.01,500,{"$f":"Cálculo!$G$79","v":7.9859999999999998},{"$f":"Cálculo!$H$79","v":174.66}]
["SP","São Paulo","Ubatuba","ARSESP","COMGÁS","Comercial","Mensal",500.01,2000,{"$f":"Cálculo!$G$80","v":7.5380000000000003},{"$f":"Cálculo!$H$80","v":398.71}]
["SP","São Paulo","Ubatuba","ARSESP","COMGÁS","Comercial","Mensal",2000.01,3500,{"$f":"Cálculo!$G$81","v":6.819},{"$f":"Cálculo!$H$81","v":1837.86}]
["SP","São Paulo","Ubatuba","ARSESP","COMGÁS","Comercial","Mensal",3500.01,50000,{"$f":"Cálculo!$G$82","v":5.3760000000000003},{"$f":"Cálculo!$H$82","v":6892.16}]
["SP","São Paulo","Ubatuba","ARSESP","COMGÁS","Comercial","Mensal",50000.01,null,{"$f":"Cálculo!$G$83","v":5.1479999999999997},{"$f":"Cálculo!$H$83","v":18284.09}]
["SP","São Paulo","Ubatuba","ARSESP","COMGÁS","Industrial","Mensal",0,50000,{"$f":"Cálculo!$G$86","v":4.726},{"$f":"Cálculo!$H$86","v":387.36}]
["SP","São Paulo","Ubatuba","ARSESP","COMGÁS","Industrial","Mensal",50000.01,300000,{"$f":"Cálculo!$G$87","v":3.5019999999999998},{"$f":"Cálculo!$H$87","v":61597.41}]
["SP","São Paulo","Ubatuba","ARSESP","COMGÁS","Industrial","Mensal",300000.01,500000,{"$f":"Cálculo!$G$88","v":3.36},{"$f":"Cálculo!$H$88","v":110975.06}]
["SP","São Paulo","Ubatuba","ARSESP","COMGÁS","Industrial","Mensal",500000.01,1000000,{"$f":"Cálculo!$G$89","v":3.3340000000000001},{"$f":"Cálculo!$H$89","v":124035.06}]
["SP","São Paulo","Ubatuba","ARSESP","COMGÁS","Industrial","Mensal",1000000.01,2000000,{"$f":"Cálculo!$G$90","v":3.2810000000000001},{"$f":"Cálculo!$H$90","v":177422.21}]
["SP","São Paulo","Ubatuba","ARSESP","COMGÁS","Industrial","Mensal",2000000.01,null,{"$f":"Cálculo!$G$91","v":3.2330000000000001},{"$f":"Cálculo!$H$91","v":316707.87}]
["SP","São Paulo","Ubatuba","ARSESP","COMGÁS","GNV","Faixa Única",null,null,{"$f":"Cálculo!$G$94","v":3.2148460000000001}]
["SP","São Paulo","Valinhos","ARSESP","COMGÁS","Residencial","Mensal",0,1,{"$f":"Cálculo!$G$66","v":3.2869999999999999},{"$f":"Cálculo!$H$66","v":11.39}]
["SP","São Paulo","Valinhos","ARSESP","COMGÁS","Residencial","Mensal",1.01,3,{"$f":"Cálculo!$G$67","v":10.834},{"$f":"Cálculo!$H$67","v":14.87}]
["SP","São Paulo","Valinhos","ARSESP","COMGÁS","Residencial","Mensal",3.01,7,{"$f":"Cálculo!$G$68","v":5.6470000000000002},{"$f":"Cálculo!$H$68","v":14.87}]
["SP","São Paulo","Valinhos","ARSESP","COMGÁS","Residencial","Mensal",7.01,14,{"$f":"Cálculo!$G$69","v":9.3699999999999992},{"$f":"Cálculo!$H$69","v":16.739999999999998}]
["SP","São Paulo","Valinhos","ARSESP","COMGÁS","Residencial","Mensal",14.01,34,{"$f":"Cálculo!$G$70","v":11.132},{"$f":"Cálculo!$H$70","v":18.600000000000001}]
["SP","São Paulo","Valinhos","ARSESP","COMGÁS","Residencial","Mensal",34.01,600,{"$f":"Cálculo!$G$71","v":11.92},{"$f":"Cálculo!$H$71","v":18.600000000000001}]
["SP","São Paulo","Valinhos","ARSESP","COMGÁS","Residencial","Mensal",600.01,1000,{"$f":"Cálculo!$G$72","v":10.324},{"$f":"Cálculo!$H$72","v":18.600000000000001}]
["SP","São Paulo","Valinhos","ARSESP","COMGÁS","Residencial","Mensal",1000.01,null,{"$f":"Cálculo!$G$73","v":7.2949999999999999},{"$f":"Cálculo!$H$73","v":18.600000000000001}]
["SP","São Paulo","Valinhos","ARSESP","COMGÁS","Comercial","Mensal",0,0,{"$f":"Cálculo!$G$76","v":0},{"$f":"Cálculo!$H$76","v":0}]
["SP","São Paulo","Valinhos","ARSESP","COMGÁS","Comercial","Mensal",0.01,50,{"$f":"Cálculo!$G$77","v":9.2490000000000006},{"$f":"Cálculo!$H$77","v":60.76}]
["SP","São Paulo","Valinhos","ARSESP","COMGÁS","Comercial","Mensal",50.01,150,{"$f":"Cálculo!$G$78","v":8.49},{"$f":"Cálculo!$H$78","v":98.73}]
["SP","São Paulo","Valinhos","ARSESP","COMGÁS","Comercial","Mensal",150.01,500,{"$f":"Cálculo!$G$79","v":7.9859999999999998},{"$f":"Cálculo!$H$79","v":174.66}]
["SP","São Paulo","Valinhos","ARSESP","COMGÁS","Comercial","Mensal",500.01,2000,{"$f":"Cálculo!$G$80","v":7.5380000000000003},{"$f":"Cálculo!$H$80","v":398.71}]
["SP","São Paulo","Valinhos","ARSESP","COMGÁS","Comercial","Mensal",2000.01,3500,{"$f":"Cálculo!$G$81","v":6.819},{"$f":"Cálculo!$H$81","v":1837.86}]
["SP","São Paulo","Valinhos","ARSESP","COMGÁS","Comercial","Mensal",3500.01,50000,{"$f":"Cálculo!$G$82","v":5.3760000000000003},{"$f":"Cálculo!$H$82","v":6892.16}]
["SP","São Paulo","Valinhos","ARSESP","COMGÁS","Comercial","Mensal",50000.01,null,{"$f":"Cálculo!$G$83","v":5.1479999999999997},{"$f":"Cálculo!$H$83","v":18284.09}]
["SP","São Paulo","Valinhos","ARSESP","COMGÁS","Industrial","Mensal",0,50000,{"$f":"Cálculo!$G$86","v":4.726},{"$f":"Cálculo!$H$86","v":387.36}]
["SP","São Paulo","Valinhos","ARSESP","COMGÁS","Industrial","Mensal",50000.01,300000,{"$f":"Cálculo!$G$87","v":3.5019999999999998},{"$f":"Cálculo!$H$87","v":61597.41}]
["SP","São Paulo","Valinhos","ARSESP","COMGÁS","Industrial","Mensal",300000.01,500000,{"$f":"Cálculo!$G$88","v":3.36},{"$f":"Cálculo!$H$88","v":110975.06}]
["SP","São Paulo","Valinhos","ARSESP","COMGÁS","Industrial","Mensal",500000.01,1000000,{"$f":"Cálculo!$G$89","v":3.3340000000000001},{"$f":"Cálculo!$H$89","v":124035.06}]
["SP","São Paulo","Valinhos","ARSESP","COMGÁS","Industrial","Mensal",1000000.01,2000000,{"$f":"Cálculo!$G$90","v":3.2810000000000001},{"$f":"Cálculo!$H$90","v":177422.21}]
["SP","São Paulo","Valinhos","ARSESP","COMGÁS","Industrial","Mensal",2000000.01,null,{"$f":"Cálculo!$G$91","v":3.2330000000000001},{"$f":"Cálculo!$H$91","v":316707.87}]
["SP","São Paulo","Valinhos","ARSESP","COMGÁS","GNV","Faixa Única",null,null,{"$f":"Cálculo!$G$94","v":3.2148460000000001}]
["SP","São Paulo","Vargem","ARSESP","COMGÁS","Residencial","Mensal",0,1,{"$f":"Cálculo!$G$66","v":3.2869999999999999},{"$f":"Cálculo!$H$66","v":11.39}]
["SP","São Paulo","Vargem","ARSESP","COMGÁS","Residencial","Mensal",1.01,3,{"$f":"Cálculo!$G$67","v":10.834},{"$f":"Cálculo!$H$67","v":14.87}]
["SP","São Paulo","Vargem","ARSESP","COMGÁS","Residencial","Mensal",3.01,7,{"$f":"Cálculo!$G$68","v":5.6470000000000002},{"$f":"Cálculo!$H$68","v":14.87}]
["SP","São Paulo","Vargem","ARSESP","COMGÁS","Residencial","Mensal",7.01,14,{"$f":"Cálculo!$G$69","v":9.3699999999999992},{"$f":"Cálculo!$H$69","v":16.739999999999998}]
["SP","São Paulo","Vargem","ARSESP","COMGÁS","Residencial","Mensal",14.01,34,{"$f":"Cálculo!$G$70","v":11.132},{"$f":"Cálculo!$H$70","v":18.600000000000001}]
["SP","São Paulo","Vargem","ARSESP","COMGÁS","Residencial","Mensal",34.01,600,{"$f":"Cálculo!$G$71","v":11.92},{"$f":"Cálculo!$H$71","v":18.600000000000001}]
["SP","São Paulo","Vargem","ARSESP","COMGÁS","Residencial","Mensal",600.01,1000,{"$f":"Cálculo!$G$72","v":10.324},{"$f":"Cálculo!$H$72","v":18.600000000000001}]
["SP","São Paulo","Vargem","ARSESP","COMGÁS","Residencial","Mensal",1000.01,null,{"$f":"Cálculo!$G$73","v":7.2949999999999999},{"$f":"Cálculo!$H$73","v":18.600000000000001}]
["SP","São Paulo","Vargem","ARSESP","COMGÁS","Comercial","Mensal",0,0,{"$f":"Cálculo!$G$76","v":0},{"$f":"Cálculo!$H$76","v":0}]
["SP","São Paulo","Vargem","ARSESP","COMGÁS","Comercial","Mensal",0.01,50,{"$f":"Cálculo!$G$77","v":9.2490000000000006},{"$f":"Cálculo!$H$77","v":60.76}]
["SP","São Paulo","Vargem","ARSESP","COMGÁS","Comercial","Mensal",50.01,150,{"$f":"Cálculo!$G$78","v":8.49},{"$f":"Cálculo!$H$78","v":98.73}]
["SP","São Paulo","Vargem","ARSESP","COMGÁS","Comercial","Mensal",150.01,500,{"$f":"Cálculo!$G$79","v":7.9859999999999998},{"$f":"Cálculo!$H$79","v":174.66}]
["SP","São Paulo","Vargem","ARSESP","COMGÁS","Comercial","Mensal",500.01,2000,{"$f":"Cálculo!$G$80","v":7.5380000000000003},{"$f":"Cálculo!$H$80","v":398.71}]
["SP","São Paulo","Vargem","ARSESP","COMGÁS","Comercial","Mensal",2000.01,3500,{"$f":"Cálculo!$G$81","v":6.819},{"$f":"Cálculo!$H$81","v":1837.86}]
["SP","São Paulo","Vargem","ARSESP","COMGÁS","Comercial","Mensal",3500.01,50000,{"$f":"Cálculo!$G$82","v":5.3760000000000003},{"$f":"Cálculo!$H$82","v":6892.16}]
["SP","São Paulo","Vargem","ARSESP","COMGÁS","Comercial","Mensal",50000.01,null,{"$f":"Cálculo!$G$83","v":5.1479999999999997},{"$f":"Cálculo!$H$83","v":18284.09}]
["SP","São Paulo","Vargem","ARSESP","COMGÁS","Industrial","Mensal",0,50000,{"$f":"Cálculo!$G$86","v":4.726},{"$f":"Cálculo!$H$86","v":387.36}]
["SP","São Paulo","Vargem","ARSESP","COMGÁS","Industrial","Mensal",50000.01,300000,{"$f":"Cálculo!$G$87","v":3.5019999999999998},{"$f":"Cálculo!$H$87","v":61597.41}]
["SP","São Paulo","Vargem","ARSESP","COMGÁS","Industrial","Mensal",300000.01,500000,{"$f":"Cálculo!$G$88","v":3.36},{"$f":"Cálculo!$H$88","v":110975.06}]
["SP","São Paulo","Vargem","ARSESP","COMGÁS","Industrial","Mensal",500000.01,1000000,{"$f":"Cálculo!$G$89","v":3.3340000000000001},{"$f":"Cálculo!$H$89","v":124035.06}]
["SP","São Paulo","Vargem","ARSESP","COMGÁS","Industrial","Mensal",1000000.01,2000000,{"$f":"Cálculo!$G$90","v":3.2810000000000001},{"$f":"Cálculo!$H$90","v":177422.21}]
["SP","São Paulo","Vargem","ARSESP","COMGÁS","Industrial","Mensal",2000000.01,null,{"$f":"Cálculo!$G$91","v":3.2330000000000001},{"$f":"Cálculo!$H$91","v":316707.87}]
["SP","São Paulo","Vargem","ARSESP","COMGÁS","GNV","Faixa Única",null,null,{"$f":"Cálculo!$G$94","v":3.2148460000000001}]
["SP","São Paulo","Vargem Grande do Sul","ARSESP","COMGÁS","Residencial","Mensal",0,1,{"$f":"Cálculo!$G$66","v":3.2869999999999999},{"$f":"Cálculo!$H$66","v":11.39}]
["SP","São Paulo","Vargem Grande do Sul","ARSESP","COMGÁS","Residencial","Mensal",1.01,3,{"$f":"Cálculo!$G$67","v":10.834},{"$f":"Cálculo!$H$67","v":14.87}]
["SP","São Paulo","Vargem Grande do Sul","ARSESP","COMGÁS","Residencial","Mensal",3.01,7,{"$f":"Cálculo!$G$68","v":5.6470000000000002},{"$f":"Cálculo!$H$68","v":14.87}]
["SP","São Paulo","Vargem Grande do Sul","ARSESP","COMGÁS","Residencial","Mensal",7.01,14,{"$f":"Cálculo!$G$69","v":9.3699999999999992},{"$f":"Cálculo!$H$69","v":16.739999999999998}]
["SP","São Paulo","Vargem Grande do Sul","ARSESP","COMGÁS","Residencial","Mensal",14.01,34,{"$f":"Cálculo!$G$70","v":11.132},{"$f":"Cálculo!$H$70","v":18.600000000000001}]
["SP","São Paulo","Vargem Grande do Sul","ARSESP","COMGÁS","Residencial","Mensal",34.01,600,{"$f":"Cálculo!$G$71","v":11.92},{"$f":"Cálculo!$H$71","v":18.600000000000001}]
["SP","São Paulo","Vargem Grande do Sul","ARSESP","COMGÁS","Residencial","Mensal",600.01,1000,{"$f":"Cálculo!$G$72","v":10.324},{"$f":"Cálculo!$H$72","v":18.600000000000001}]
["SP","São Paulo","Vargem Grande do Sul","ARSESP","COMGÁS","Residencial","Mensal",1000.01,null,{"$f":"Cálculo!$G$73","v":7.2949999999999999},{"$f":"Cálculo!$H$73","v":18.600000000000001}]
["SP","São Paulo","Vargem Grande do Sul","ARSESP","COMGÁS","Comercial","Mensal",0,0,{"$f":"Cálculo!$G$76","v":0},{"$f":"Cálculo!$H$76","v":0}]
["SP","São Paulo","Vargem Grande do Sul","ARSESP","COMGÁS","Comercial","Mensal",0.01,50,{"$f":"Cálculo!$G$77","v":9.2490000000000006},{"$f":"Cálculo!$H$77","v":60.76}]
["SP","São Paulo","Vargem Grande do Sul","ARSESP","COMGÁS","Comercial","Mensal",50.01,150,{"$f":"Cálculo!$G$78","v":8.49},{"$f":"Cálculo!$H$78","v":98.73}]
["SP","São Paulo","Vargem Grande do Sul","ARSESP","COMGÁS","Comercial","Mensal",150.01,500,{"$f":"Cálculo!$G$79","v":7.9859999999999998},{"$f":"Cálculo!$H$79","v":174.66}]
["SP","São Paulo","Vargem Grande do Sul","ARSESP","COMGÁS","Comercial","Mensal",500.01,2000,{"$f":"Cálculo!$G$80","v":7.5380000000000003},{"$f":"Cálculo!$H$80","v":398.71}]
["SP","São Paulo","Vargem Grande do Sul","ARSESP","COMGÁS","Comercial","Mensal",2000.01,3500,{"$f":"Cálculo!$G$81","v":6.819},{"$f":"Cálculo!$H$81","v":1837.86}]
["SP","São Paulo","Vargem Grande do Sul","ARSESP","COMGÁS","Comercial","Mensal",3500.01,50000,{"$f":"Cálculo!$G$82","v":5.3760000000000003},{"$f":"Cálculo!$H$82","v":6892.16}]
["SP","São Paulo","Vargem Grande do Sul","ARSESP","COMGÁS","Comercial","Mensal",50000.01,null,{"$f":"Cálculo!$G$83","v":5.1479999999999997},{"$f":"Cálculo!$H$83","v":18284.09}]
["SP","São Paulo","Vargem Grande do Sul","ARSESP","COMGÁS","Industrial","Mensal",0,50000,{"$f":"Cálculo!$G$86","v":4.726},{"$f":"Cálculo!$H$86","v":387.36}]
["SP","São Paulo","Vargem Grande do Sul","ARSESP","COMGÁS","Industrial","Mensal",50000.01,300000,{"$f":"Cálculo!$G$87","v":3.5019999999999998},{"$f":"Cálculo!$H$87","v":61597.41}]
["SP","São Paulo","Vargem Grande do Sul","ARSESP","COMGÁS","Industrial","Mensal",300000.01,500000,{"$f":"Cálculo!$G$88","v":3.36},{"$f":"Cálculo!$H$88","v":110975.06}]
["SP","São Paulo","Vargem Grande do Sul","ARSESP","COMGÁS","Industrial","Mensal",500000.01,1000000,{"$f":"Cálculo!$G$89","v":3.3340000000000001},{"$f":"Cálculo!$H$89","v":124035.06}]
["SP","São Paulo","Vargem Grande do Sul","ARSESP","COMGÁS","Industrial","Mensal",1000000.01,2000000,{"$f":"Cálculo!$G$90","v":3.2810000000000001},{"$f":"Cálculo!$H$90","v":177422.21}]
["SP","São Paulo","Vargem Grande do Sul","ARSESP","COMGÁS","Industrial","Mensal",2000000.01,null,{"$f":"Cálculo!$G$91","v":3.2330000000000001},{"$f":"Cálculo!$H$91","v":316707.87}]
["SP","São Paulo","Vargem Grande do Sul","ARSESP","COMGÁS","GNV","Faixa Única",null,null,{"$f":"Cálculo!$G$94","v":3.2148460000000001}]
["SP","São Paulo","Vargem Grande Paulista","ARSESP","COMGÁS","Residencial","Mensal",0,1,{"$f":"Cálculo!$G$66","v":3.2869999999999999},{"$f":"Cálculo!$H$66","v":11.39}]
["SP","São Paulo","Vargem Grande Paulista","ARSESP","COMGÁS","Residencial","Mensal",1.01,3,{"$f":"Cálculo!$G$67","v":10.834},{"$f":"Cálculo!$H$67","v":14.87}]
["SP","São Paulo","Vargem Grande Paulista","ARSESP","COMGÁS","Residencial","Mensal",3.01,7,{"$f":"Cálculo!$G$68","v":5.6470000000000002},{"$f":"Cálculo!$H$68","v":14.87}]
["SP","São Paulo","Vargem Grande Paulista","ARSESP","COMGÁS","Residencial","Mensal",7.01,14,{"$f":"Cálculo!$G$69","v":9.3699999999999992},{"$f":"Cálculo!$H$69","v":16.739999999999998}]
["SP","São Paulo","Vargem Grande Paulista","ARSESP","COMGÁS","Residencial","Mensal",14.01,34,{"$f":"Cálculo!$G$70","v":11.132},{"$f":"Cálculo!$H$70","v":18.600000000000001}]
["SP","São Paulo","Vargem Grande Paulista","ARSESP","COMGÁS","Residencial","Mensal",34.01,600,{"$f":"Cálculo!$G$71","v":11.92},{"$f":"Cálculo!$H$71","v":18.600000000000001}]
["SP","São Paulo","Vargem Grande Paulista","ARSESP","COMGÁS","Residencial","Mensal",600.01,1000,{"$f":"Cálculo!$G$72","v":10.324},{"$f":"Cálculo!$H$72","v":18.600000000000001}]
["SP","São Paulo","Vargem Grande Paulista","ARSESP","COMGÁS","Residencial","Mensal",1000.01,null,{"$f":"Cálculo!$G$73","v":7.2949999999999999},{"$f":"Cálculo!$H$73","v":18.600000000000001}]
["SP","São Paulo","Vargem Grande Paulista","ARSESP","COMGÁS","Comercial","Mensal",0,0,{"$f":"Cálculo!$G$76","v":0},{"$f":"Cálculo!$H$76","v":0}]
["SP","São Paulo","Vargem Grande Paulista","ARSESP","COMGÁS","Comercial","Mensal",0.01,50,{"$f":"Cálculo!$G$77","v":9.2490000000000006},{"$f":"Cálculo!$H$77","v":60.76}]
["SP","São Paulo","Vargem Grande Paulista","ARSESP","COMGÁS","Comercial","Mensal",50.01,150,{"$f":"Cálculo!$G$78","v":8.49},{"$f":"Cálculo!$H$78","v":98.73}]
["SP","São Paulo","Vargem Grande Paulista","ARSESP","COMGÁS","Comercial","Mensal",150.01,500,{"$f":"Cálculo!$G$79","v":7.9859999999999998},{"$f":"Cálculo!$H$79","v":174.66}]
["SP","São Paulo","Vargem Grande Paulista","ARSESP","COMGÁS","Comercial","Mensal",500.01,2000,{"$f":"Cálculo!$G$80","v":7.5380000000000003},{"$f":"Cálculo!$H$80","v":398.71}]
["SP","São Paulo","Vargem Grande Paulista","ARSESP","COMGÁS","Comercial","Mensal",2000.01,3500,{"$f":"Cálculo!$G$81","v":6.819},{"$f":"Cálculo!$H$81","v":1837.86}]
["SP","São Paulo","Vargem Grande Paulista","ARSESP","COMGÁS","Comercial","Mensal",3500.01,50000,{"$f":"Cálculo!$G$82","v":5.3760000000000003},{"$f":"Cálculo!$H$82","v":6892.16}]
["SP","São Paulo","Vargem Grande Paulista","ARSESP","COMGÁS","Comercial","Mensal",50000.01,null,{"$f":"Cálculo!$G$83","v":5.1479999999999997},{"$f":"Cálculo!$H$83","v":18284.09}]
["SP","São Paulo","Vargem Grande Paulista","ARSESP","COMGÁS","Industrial","Mensal",0,50000,{"$f":"Cálculo!$G$86","v":4.726},{"$f":"Cálculo!$H$86","v":387.36}]
["SP","São Paulo","Vargem Grande Paulista","ARSESP","COMGÁS","Industrial","Mensal",50000.01,300000,{"$f":"Cálculo!$G$87","v":3.5019999999999998},{"$f":"Cálculo!$H$87","v":61597.41}]
["SP","São Paulo","Vargem Grande Paulista","ARSESP","COMGÁS","Industrial","Mensal",300000.01,500000,{"$f":"Cálculo!$G$88","v":3.36},{"$f":"Cálculo!$H$88","v":110975.06}]
["SP","São Paulo","Vargem Grande Paulista","ARSESP","COMGÁS","Industrial","Mensal",500000.01,1000000,{"$f":"Cálculo!$G$89","v":3.3340000000000001},{"$f":"Cálculo!$H$89","v":124035.06}]
["SP","São Paulo","Vargem Grande Paulista","ARSESP","COMGÁS","Industrial","Mensal",1000000.01,2000000,{"$f":"Cálculo!$G$90","v":3.2810000000000001},{"$f":"Cálculo!$H$90","v":177422.21}]
["SP","São Paulo","Vargem Grande Paulista","ARSESP","COMGÁS","Industrial","Mensal",2000000.01,null,{"$f":"Cálculo!$G$91","v":3.2330000000000001},{"$f":"Cálculo!$H$91","v":316707.87}]
["SP","São Paulo","Vargem Grande Paulista","ARSESP","COMGÁS","GNV","Faixa Única",null,null,{"$f":"Cálculo!$G$94","v":3.2148460000000001}]
["SP","São Paulo","Várzea Paulista","ARSESP","COMGÁS","Residencial","Mensal",0,1,{"$f":"Cálculo!$G$66","v":3.2869999999999999},{"$f":"Cálculo!$H$66","v":11.39}]
["SP","São Paulo","Várzea Paulista","ARSESP","COMGÁS","Residencial","Mensal",1.01,3,{"$f":"Cálculo!$G$67","v":10.834},{"$f":"Cálculo!$H$67","v":14.87}]
["SP","São Paulo","Várzea Paulista","ARSESP","COMGÁS","Residencial","Mensal",3.01,7,{"$f":"Cálculo!$G$68","v":5.6470000000000002},{"$f":"Cálculo!$H$68","v":14.87}]
["SP","São Paulo","Várzea Paulista","ARSESP","COMGÁS","Residencial","Mensal",7.01,14,{"$f":"Cálculo!$G$69","v":9.3699999999999992},{"$f":"Cálculo!$H$69","v":16.739999999999998}]
["SP","São Paulo","Várzea Paulista","ARSESP","COMGÁS","Residencial","Mensal",14.01,34,{"$f":"Cálculo!$G$70","v":11.132},{"$f":"Cálculo!$H$70","v":18.600000000000001}]
["SP","São Paulo","Várzea Paulista","ARSESP","COMGÁS","Residencial","Mensal",34.01,600,{"$f":"Cálculo!$G$71","v":11.92},{"$f":"Cálculo!$H$71","v":18.600000000000001}]
["SP","São Paulo","Várzea Paulista","ARSESP","COMGÁS","Residencial","Mensal",600.01,1000,{"$f":"Cálculo!$G$72","v":10.324},{"$f":"Cálculo!$H$72","v":18.600000000000001}]
["SP","São Paulo","Várzea Paulista","ARSESP","COMGÁS","Residencial","Mensal",1000.01,null,{"$f":"Cálculo!$G$73","v":7.2949999999999999},{"$f":"Cálculo!$H$73","v":18.600000000000001}]
["SP","São Paulo","Várzea Paulista","ARSESP","COMGÁS","Comercial","Mensal",0,0,{"$f":"Cálculo!$G$76","v":0},{"$f":"Cálculo!$H$76","v":0}]
["SP","São Paulo","Várzea Paulista","ARSESP","COMGÁS","Comercial","Mensal",0.01,50,{"$f":"Cálculo!$G$77","v":9.2490000000000006},{"$f":"Cálculo!$H$77","v":60.76}]
["SP","São Paulo","Várzea Paulista","ARSESP","COMGÁS","Comercial","Mensal",50.01,150,{"$f":"Cálculo!$G$78","v":8.49},{"$f":"Cálculo!$H$78","v":98.73}]
["SP","São Paulo","Várzea Paulista","ARSESP","COMGÁS","Comercial","Mensal",150.01,500,{"$f":"Cálculo!$G$79","v":7.9859999999999998},{"$f":"Cálculo!$H$79","v":174.66}]
["SP","São Paulo","Várzea Paulista","ARSESP","COMGÁS","Comercial","Mensal",500.01,2000,{"$f":"Cálculo!$G$80","v":7.5380000000000003},{"$f":"Cálculo!$H$80","v":398.71}]
["SP","São Paulo","Várzea Paulista","ARSESP","COMGÁS","Comercial","Mensal",2000.01,3500,{"$f":"Cálculo!$G$81","v":6.819},{"$f":"Cálculo!$H$81","v":1837.86}]
["SP","São Paulo","Várzea Paulista","ARSESP","COMGÁS","Comercial","Mensal",3500.01,50000,{"$f":"Cálculo!$G$82","v":5.3760000000000003},{"$f":"Cálculo!$H$82","v":6892.16}]
["SP","São Paulo","Várzea Paulista","ARSESP","COMGÁS","Comercial","Mensal",50000.01,null,{"$f":"Cálculo!$G$83","v":5.1479999999999997},{"$f":"Cálculo!$H$83","v":18284.09}]
["SP","São Paulo","Várzea Paulista","ARSESP","COMGÁS","Industrial","Mensal",0,50000,{"$f":"Cálculo!$G$86","v":4.726},{"$f":"Cálculo!$H$86","v":387.36}]
["SP","São Paulo","Várzea Paulista","ARSESP","COMGÁS","Industrial","Mensal",50000.01,300000,{"$f":"Cálculo!$G$87","v":3.5019999999999998},{"$f":"Cálculo!$H$87","v":61597.41}]
["SP","São Paulo","Várzea Paulista","ARSESP","COMGÁS","Industrial","Mensal",300000.01,500000,{"$f":"Cálculo!$G$88","v":3.36},{"$f":"Cálculo!$H$88","v":110975.06}]
["SP","São Paulo","Várzea Paulista","ARSESP","COMGÁS","Industrial","Mensal",500000.01,1000000,{"$f":"Cálculo!$G$89","v":3.3340000000000001},{"$f":"Cálculo!$H$89","v":124035.06}]
["SP","São Paulo","Várzea Paulista","ARSESP","COMGÁS","Industrial","Mensal",1000000.01,2000000,{"$f":"Cálculo!$G$90","v":3.2810000000000001},{"$f":"Cálculo!$H$90","v":177422.21}]
["SP","São Paulo","Várzea Paulista","ARSESP","COMGÁS","Industrial","Mensal",2000000.01,null,{"$f":"Cálculo!$G$91","v":3.2330000000000001},{"$f":"Cálculo!$H$91","v":316707.87}]
["SP","São Paulo","Várzea Paulista","ARSESP","COMGÁS","GNV","Faixa Única",null,null,{"$f":"Cálculo!$G$94","v":3.2148460000000001}]
["SP","São Paulo","Vinhedo","ARSESP","COMGÁS","Residencial","Mensal",0,1,{"$f":"Cálculo!$G$66","v":3.2869999999999999},{"$f":"Cálculo!$H$66","v":11.39}]
["SP","São Paulo","Vinhedo","ARSESP","COMGÁS","Residencial","Mensal",1.01,3,{"$f":"Cálculo!$G$67","v":10.834},{"$f":"Cálculo!$H$67","v":14.87}]
["SP","São Paulo","Vinhedo","ARSESP","COMGÁS","Residencial","Mensal",3.01,7,{"$f":"Cálculo!$G$68","v":5.6470000000000002},{"$f":"Cálculo!$H$68","v":14.87}]
["SP","São Paulo","Vinhedo","ARSESP","COMGÁS","Residencial","Mensal",7.01,14,{"$f":"Cálculo!$G$69","v":9.3699999999999992},{"$f":"Cálculo!$H$69","v":16.739999999999998}]
["SP","São Paulo","Vinhedo","ARSESP","COMGÁS","Residencial","Mensal",14.01,34,{"$f":"Cálculo!$G$70","v":11.132},{"$f":"Cálculo!$H$70","v":18.600000000000001}]
["SP","São Paulo","Vinhedo","ARSESP","COMGÁS","Residencial","Mensal",34.01,600,{"$f":"Cálculo!$G$71","v":11.92},{"$f":"Cálculo!$H$71","v":18.600000000000001}]
["SP","São Paulo","Vinhedo","ARSESP","COMGÁS","Residencial","Mensal",600.01,1000,{"$f":"Cálculo!$G$72","v":10.324},{"$f":"Cálculo!$H$72","v":18.600000000000001}]
["SP","São Paulo","Vinhedo","ARSESP","COMGÁS","Residencial","Mensal",1000.01,null,{"$f":"Cálculo!$G$73","v":7.2949999999999999},{"$f":"Cálculo!$H$73","v":18.600000000000001}]
["SP","São Paulo","Vinhedo","ARSESP","COMGÁS","Comercial","Mensal",0,0,{"$f":"Cálculo!$G$76","v":0},{"$f":"Cálculo!$H$76","v":0}]
["SP","São Paulo","Vinhedo","ARSESP","COMGÁS","Comercial","Mensal",0.01,50,{"$f":"Cálculo!$G$77","v":9.2490000000000006},{"$f":"Cálculo!$H$77","v":60.76}]
["SP","São Paulo","Vinhedo","ARSESP","COMGÁS","Comercial","Mensal",50.01,150,{"$f":"Cálculo!$G$78","v":8.49},{"$f":"Cálculo!$H$78","v":98.73}]
["SP","São Paulo","Vinhedo","ARSESP","COMGÁS","Comercial","Mensal",150.01,500,{"$f":"Cálculo!$G$79","v":7.9859999999999998},{"$f":"Cálculo!$H$79","v":174.66}]
["SP","São Paulo","Vinhedo","ARSESP","COMGÁS","Comercial","Mensal",500.01,2000,{"$f":"Cálculo!$G$80","v":7.5380000000000003},{"$f":"Cálculo!$H$80","v":398.71}]
["SP","São Paulo","Vinhedo","ARSESP","COMGÁS","Comercial","Mensal",2000.01,3500,{"$f":"Cálculo!$G$81","v":6.819},{"$f":"Cálculo!$H$81","v":1837.86}]
["SP","São Paulo","Vinhedo","ARSESP","COMGÁS","Comercial","Mensal",3500.01,50000,{"$f":"Cálculo!$G$82","v":5.3760000000000003},{"$f":"Cálculo!$H$82","v":6892.16}]
["SP","São Paulo","Vinhedo","ARSESP","COMGÁS","Comercial","Mensal",50000.01,null,{"$f":"Cálculo!$G$83","v":5.1479999999999997},{"$f":"Cálculo!$H$83","v":18284.09}]
["SP","São Paulo","Vinhedo","ARSESP","COMGÁS","Industrial","Mensal",0,50000,{"$f":"Cálculo!$G$86","v":4.726},{"$f":"Cálculo!$H$86","v":387.36}]
["SP","São Paulo","Vinhedo","ARSESP","COMGÁS","Industrial","Mensal",50000.01,300000,{"$f":"Cálculo!$G$87","v":3.5019999999999998},{"$f":"Cálculo!$H$87","v":61597.41}]
["SP","São Paulo","Vinhedo","ARSESP","COMGÁS","Industrial","Mensal",300000.01,500000,{"$f":"Cálculo!$G$88","v":3.36},{"$f":"Cálculo!$H$88","v":110975.06}]
["SP","São Paulo","Vinhedo","ARSESP","COMGÁS","Industrial","Mensal",500000.01,1000000,{"$f":"Cálculo!$G$89","v":3.3340000000000001},{"$f":"Cálculo!$H$89","v":124035.06}]
["SP","São Paulo","Vinhedo","ARSESP","COMGÁS","Industrial","Mensal",1000000.01,2000000,{"$f":"Cálculo!$G$90","v":3.2810000000000001},{"$f":"Cálculo!$H$90","v":177422.21}]
["SP","São Paulo","Vinhedo","ARSESP","COMGÁS","Industrial","Mensal",2000000.01,null,{"$f":"Cálculo!$G$91","v":3.2330000000000001},{"$f":"Cálculo!$H$91","v":316707.87}]
["SP","São Paulo","Vinhedo","ARSESP","COMGÁS","GNV","Faixa Única",null,null,{"$f":"Cálculo!$G$94","v":3.2148460000000001}]
["SP","São Paulo","Alumínio","ARSESP","Naturgy SPS","Residencial","Mensal",0,1,null,{"$f":"Cálculo!$H$130","v":26.458686255421735}]
["SP","São Paulo","Alumínio","ARSESP","Naturgy SPS","Residencial","Mensal",1.01,7,{"$f":"Cálculo!$G$131","v":7.4210203215017687},{"$f":"Cálculo!$H$131","v":20.682245636741399}]
["SP","São Paulo","Alumínio","ARSESP","Naturgy SPS","Residencial","Mensal",7.01,16,{"$f":"Cálculo!$G$132","v":7.1755851242900146},{"$f":"Cálculo!$H$132","v":22.294001980446502}]
["SP","São Paulo","Alumínio","ARSESP","Naturgy SPS","Residencial","Mensal",16.010000000000002,41,{"$f":"Cálculo!$G$133","v":7.0090471647993526},{"$f":"Cálculo!$H$133","v":24.835165266872067}]
["SP","São Paulo","Alumínio","ARSESP","Naturgy SPS","Residencial","Mensal",41.01,null,{"$f":"Cálculo!$G$134","v":6.9861566953252874},{"$f":"Cálculo!$H$134","v":25.646925761146903}]
["SP","São Paulo","Alumínio","ARSESP","Naturgy SPS","Comercial","Mensal",0,50,{"$f":"Cálculo!$G$137","v":7.6988165272874607},{"$f":"Cálculo!$H$137","v":66.105539381598362}]
["SP","São Paulo","Alumínio","ARSESP","Naturgy SPS","Comercial","Mensal",50.01,500,{"$f":"Cálculo!$G$138","v":6.8314704390510368},{"$f":"Cálculo!$H$138","v":103.29358173526137}]
["SP","São Paulo","Alumínio","ARSESP","Naturgy SPS","Comercial","Mensal",500.01,5000,{"$f":"Cálculo!$G$139","v":6.2429205514120945},{"$f":"Cálculo!$H$139","v":396.04500404736206}]
["SP","São Paulo","Alumínio","ARSESP","Naturgy SPS","Comercial","Mensal",5000.01,null,{"$f":"Cálculo!$G$140","v":4.584700919357874},{"$f":"Cálculo!$H$140","v":8609.3670972510572}]
["SP","São Paulo","Alumínio","ARSESP","Naturgy SPS","Industrial","Mensal",0,5000,{"$f":"Cálculo!$G$143","v":7.3237384732820781},{"$f":"Cálculo!$H$143","v":589.06753201210392}]
["SP","São Paulo","Alumínio","ARSESP","Naturgy SPS","Industrial","Mensal",5000.01,50000,{"$f":"Cálculo!$G$144","v":5.1592285268065821},{"$f":"Cálculo!$H$144","v":11780.938877672519}]
["SP","São Paulo","Alumínio","ARSESP","Naturgy SPS","Industrial","Mensal",50000.01,300000,{"$f":"Cálculo!$G$145","v":4.2336945051689518},{"$f":"Cálculo!$H$145","v":54599.034374214963}]
["SP","São Paulo","Alumínio","ARSESP","Naturgy SPS","Industrial","Mensal",300000.01,500000,{"$f":"Cálculo!$G$146","v":3.9231667044967171},{"$f":"Cálculo!$H$146","v":141957.4987846748}]
["SP","São Paulo","Alumínio","ARSESP","Naturgy SPS","Industrial","Mensal",500000.01,1000000,{"$f":"Cálculo!$G$147","v":3.7671663373933297},{"$f":"Cálculo!$H$147","v":156922.00938051022}]
["SP","São Paulo","Alumínio","ARSESP","Naturgy SPS","Industrial","Mensal",1000000.01,3000000,{"$f":"Cálculo!$G$148","v":3.6735915287641614},{"$f":"Cálculo!$H$148","v":168937.48821780394}]
["SP","São Paulo","Alumínio","ARSESP","Naturgy SPS","Industrial","Mensal",3000000.01,null,{"$f":"Cálculo!$G$149","v":3.6313552773076965},{"$f":"Cálculo!$H$149","v":216355.6774950189}]
["SP","São Paulo","Alumínio","ARSESP","Naturgy SPS","GNV","Faixa Única",null,null,{"$f":"Cálculo!$G$152","v":3.6369964245106647}]
["SP","São Paulo","Araçariguama","ARSESP","Naturgy SPS","Residencial","Mensal",0,1,null,{"$f":"Cálculo!$H$130","v":26.458686255421735}]
["SP","São Paulo","Araçariguama","ARSESP","Naturgy SPS","Residencial","Mensal",1.01,7,{"$f":"Cálculo!$G$131","v":7.4210203215017687},{"$f":"Cálculo!$H$131","v":20.682245636741399}]
["SP","São Paulo","Araçariguama","ARSESP","Naturgy SPS","Residencial","Mensal",7.01,16,{"$f":"Cálculo!$G$132","v":7.1755851242900146},{"$f":"Cálculo!$H$132","v":22.294001980446502}]
["SP","São Paulo","Araçariguama","ARSESP","Naturgy SPS","Residencial","Mensal",16.010000000000002,41,{"$f":"Cálculo!$G$133","v":7.0090471647993526},{"$f":"Cálculo!$H$133","v":24.835165266872067}]
["SP","São Paulo","Araçariguama","ARSESP","Naturgy SPS","Residencial","Mensal",41.01,null,{"$f":"Cálculo!$G$134","v":6.9861566953252874},{"$f":"Cálculo!$H$134","v":25.646925761146903}]
["SP","São Paulo","Araçariguama","ARSESP","Naturgy SPS","Comercial","Mensal",0,50,{"$f":"Cálculo!$G$137","v":7.6988165272874607},{"$f":"Cálculo!$H$137","v":66.105539381598362}]
["SP","São Paulo","Araçariguama","ARSESP","Naturgy SPS","Comercial","Mensal",50.01,500,{"$f":"Cálculo!$G$138","v":6.8314704390510368},{"$f":"Cálculo!$H$138","v":103.29358173526137}]
["SP","São Paulo","Araçariguama","ARSESP","Naturgy SPS","Comercial","Mensal",500.01,5000,{"$f":"Cálculo!$G$139","v":6.2429205514120945},{"$f":"Cálculo!$H$139","v":396.04500404736206}]
["SP","São Paulo","Araçariguama","ARSESP","Naturgy SPS","Comercial","Mensal",5000.01,null,{"$f":"Cálculo!$G$140","v":4.584700919357874},{"$f":"Cálculo!$H$140","v":8609.3670972510572}]
["SP","São Paulo","Araçariguama","ARSESP","Naturgy SPS","Industrial","Mensal",0,5000,{"$f":"Cálculo!$G$143","v":7.3237384732820781},{"$f":"Cálculo!$H$143","v":589.06753201210392}]
["SP","São Paulo","Araçariguama","ARSESP","Naturgy SPS","Industrial","Mensal",5000.01,50000,{"$f":"Cálculo!$G$144","v":5.1592285268065821},{"$f":"Cálculo!$H$144","v":11780.938877672519}]
["SP","São Paulo","Araçariguama","ARSESP","Naturgy SPS","Industrial","Mensal",50000.01,300000,{"$f":"Cálculo!$G$145","v":4.2336945051689518},{"$f":"Cálculo!$H$145","v":54599.034374214963}]
["SP","São Paulo","Araçariguama","ARSESP","Naturgy SPS","Industrial","Mensal",300000.01,500000,{"$f":"Cálculo!$G$146","v":3.9231667044967171},{"$f":"Cálculo!$H$146","v":141957.4987846748}]
["SP","São Paulo","Araçariguama","ARSESP","Naturgy SPS","Industrial","Mensal",500000.01,1000000,{"$f":"Cálculo!$G$147","v":3.7671663373933297},{"$f":"Cálculo!$H$147","v":156922.00938051022}]
["SP","São Paulo","Araçariguama","ARSESP","Naturgy SPS","Industrial","Mensal",1000000.01,3000000,{"$f":"Cálculo!$G$148","v":3.6735915287641614},{"$f":"Cálculo!$H$148","v":168937.48821780394}]
["SP","São Paulo","Araçariguama","ARSESP","Naturgy SPS","Industrial","Mensal",3000000.01,null,{"$f":"Cálculo!$G$149","v":3.6313552773076965},{"$f":"Cálculo!$H$149","v":216355.6774950189}]
["SP","São Paulo","Araçariguama","ARSESP","Naturgy SPS","GNV","Faixa Única",null,null,{"$f":"Cálculo!$G$152","v":3.6369964245106647}]
["SP","São Paulo","Boituva","ARSESP","Naturgy SPS","Residencial","Mensal",0,1,null,{"$f":"Cálculo!$H$130","v":26.458686255421735}]
["SP","São Paulo","Boituva","ARSESP","Naturgy SPS","Residencial","Mensal",1.01,7,{"$f":"Cálculo!$G$131","v":7.4210203215017687},{"$f":"Cálculo!$H$131","v":20.682245636741399}]
["SP","São Paulo","Boituva","ARSESP","Naturgy SPS","Residencial","Mensal",7.01,16,{"$f":"Cálculo!$G$132","v":7.1755851242900146},{"$f":"Cálculo!$H$132","v":22.294001980446502}]
["SP","São Paulo","Boituva","ARSESP","Naturgy SPS","Residencial","Mensal",16.010000000000002,41,{"$f":"Cálculo!$G$133","v":7.0090471647993526},{"$f":"Cálculo!$H$133","v":24.835165266872067}]
["SP","São Paulo","Boituva","ARSESP","Naturgy SPS","Residencial","Mensal",41.01,null,{"$f":"Cálculo!$G$134","v":6.9861566953252874},{"$f":"Cálculo!$H$134","v":25.646925761146903}]
["SP","São Paulo","Boituva","ARSESP","Naturgy SPS","Comercial","Mensal",0,50,{"$f":"Cálculo!$G$137","v":7.6988165272874607},{"$f":"Cálculo!$H$137","v":66.105539381598362}]
["SP","São Paulo","Boituva","ARSESP","Naturgy SPS","Comercial","Mensal",50.01,500,{"$f":"Cálculo!$G$138","v":6.8314704390510368},{"$f":"Cálculo!$H$138","v":103.29358173526137}]
["SP","São Paulo","Boituva","ARSESP","Naturgy SPS","Comercial","Mensal",500.01,5000,{"$f":"Cálculo!$G$139","v":6.2429205514120945},{"$f":"Cálculo!$H$139","v":396.04500404736206}]
["SP","São Paulo","Boituva","ARSESP","Naturgy SPS","Comercial","Mensal",5000.01,null,{"$f":"Cálculo!$G$140","v":4.584700919357874},{"$f":"Cálculo!$H$140","v":8609.3670972510572}]
["SP","São Paulo","Boituva","ARSESP","Naturgy SPS","Industrial","Mensal",0,5000,{"$f":"Cálculo!$G$143","v":7.3237384732820781},{"$f":"Cálculo!$H$143","v":589.06753201210392}]
["SP","São Paulo","Boituva","ARSESP","Naturgy SPS","Industrial","Mensal",5000.01,50000,{"$f":"Cálculo!$G$144","v":5.1592285268065821},{"$f":"Cálculo!$H$144","v":11780.938877672519}]
["SP","São Paulo","Boituva","ARSESP","Naturgy SPS","Industrial","Mensal",50000.01,300000,{"$f":"Cálculo!$G$145","v":4.2336945051689518},{"$f":"Cálculo!$H$145","v":54599.034374214963}]
["SP","São Paulo","Boituva","ARSESP","Naturgy SPS","Industrial","Mensal",300000.01,500000,{"$f":"Cálculo!$G$146","v":3.9231667044967171},{"$f":"Cálculo!$H$146","v":141957.4987846748}]
["SP","São Paulo","Boituva","ARSESP","Naturgy SPS","Industrial","Mensal",500000.01,1000000,{"$f":"Cálculo!$G$147","v":3.7671663373933297},{"$f":"Cálculo!$H$147","v":156922.00938051022}]
["SP","São Paulo","Boituva","ARSESP","Naturgy SPS","Industrial","Mensal",1000000.01,3000000,{"$f":"Cálculo!$G$148","v":3.6735915287641614},{"$f":"Cálculo!$H$148","v":168937.48821780394}]
["SP","São Paulo","Boituva","ARSESP","Naturgy SPS","Industrial","Mensal",3000000.01,null,{"$f":"Cálculo!$G$149","v":3.6313552773076965},{"$f":"Cálculo!$H$149","v":216355.6774950189}]
["SP","São Paulo","Boituva","ARSESP","Naturgy SPS","GNV","Faixa Única",null,null,{"$f":"Cálculo!$G$152","v":3.6369964245106647}]
["SP","São Paulo","Botucatu","ARSESP","Naturgy SPS","Residencial","Mensal",0,1,null,{"$f":"Cálculo!$H$130","v":26.458686255421735}]
["SP","São Paulo","Botucatu","ARSESP","Naturgy SPS","Residencial","Mensal",1.01,7,{"$f":"Cálculo!$G$131","v":7.4210203215017687},{"$f":"Cálculo!$H$131","v":20.682245636741399}]
["SP","São Paulo","Botucatu","ARSESP","Naturgy SPS","Residencial","Mensal",7.01,16,{"$f":"Cálculo!$G$132","v":7.1755851242900146},{"$f":"Cálculo!$H$132","v":22.294001980446502}]
["SP","São Paulo","Botucatu","ARSESP","Naturgy SPS","Residencial","Mensal",16.010000000000002,41,{"$f":"Cálculo!$G$133","v":7.0090471647993526},{"$f":"Cálculo!$H$133","v":24.835165266872067}]
["SP","São Paulo","Botucatu","ARSESP","Naturgy SPS","Residencial","Mensal",41.01,null,{"$f":"Cálculo!$G$134","v":6.9861566953252874},{"$f":"Cálculo!$H$134","v":25.646925761146903}]
["SP","São Paulo","Botucatu","ARSESP","Naturgy SPS","Comercial","Mensal",0,50,{"$f":"Cálculo!$G$137","v":7.6988165272874607},{"$f":"Cálculo!$H$137","v":66.105539381598362}]
["SP","São Paulo","Botucatu","ARSESP","Naturgy SPS","Comercial","Mensal",50.01,500,{"$f":"Cálculo!$G$138","v":6.8314704390510368},{"$f":"Cálculo!$H$138","v":103.29358173526137}]
["SP","São Paulo","Botucatu","ARSESP","Naturgy SPS","Comercial","Mensal",500.01,5000,{"$f":"Cálculo!$G$139","v":6.2429205514120945},{"$f":"Cálculo!$H$139","v":396.04500404736206}]
["SP","São Paulo","Botucatu","ARSESP","Naturgy SPS","Comercial","Mensal",5000.01,null,{"$f":"Cálculo!$G$140","v":4.584700919357874},{"$f":"Cálculo!$H$140","v":8609.3670972510572}]
["SP","São Paulo","Botucatu","ARSESP","Naturgy SPS","Industrial","Mensal",0,5000,{"$f":"Cálculo!$G$143","v":7.3237384732820781},{"$f":"Cálculo!$H$143","v":589.06753201210392}]
["SP","São Paulo","Botucatu","ARSESP","Naturgy SPS","Industrial","Mensal",5000.01,50000,{"$f":"Cálculo!$G$144","v":5.1592285268065821},{"$f":"Cálculo!$H$144","v":11780.938877672519}]
["SP","São Paulo","Botucatu","ARSESP","Naturgy SPS","Industrial","Mensal",50000.01,300000,{"$f":"Cálculo!$G$145","v":4.2336945051689518},{"$f":"Cálculo!$H$145","v":54599.034374214963}]
["SP","São Paulo","Botucatu","ARSESP","Naturgy SPS","Industrial","Mensal",300000.01,500000,{"$f":"Cálculo!$G$146","v":3.9231667044967171},{"$f":"Cálculo!$H$146","v":141957.4987846748}]
["SP","São Paulo","Botucatu","ARSESP","Naturgy SPS","Industrial","Mensal",500000.01,1000000,{"$f":"Cálculo!$G$147","v":3.7671663373933297},{"$f":"Cálculo!$H$147","v":156922.00938051022}]
["SP","São Paulo","Botucatu","ARSESP","Naturgy SPS","Industrial","Mensal",1000000.01,3000000,{"$f":"Cálculo!$G$148","v":3.6735915287641614},{"$f":"Cálculo!$H$148","v":168937.48821780394}]
["SP","São Paulo","Botucatu","ARSESP","Naturgy SPS","Industrial","Mensal",3000000.01,null,{"$f":"Cálculo!$G$149","v":3.6313552773076965},{"$f":"Cálculo!$H$149","v":216355.6774950189}]
["SP","São Paulo","Botucatu","ARSESP","Naturgy SPS","GNV","Faixa Única",null,null,{"$f":"Cálculo!$G$152","v":3.6369964245106647}]
["SP","São Paulo","Cerquilho","ARSESP","Naturgy SPS","Residencial","Mensal",0,1,null,{"$f":"Cálculo!$H$130","v":26.458686255421735}]
["SP","São Paulo","Cerquilho","ARSESP","Naturgy SPS","Residencial","Mensal",1.01,7,{"$f":"Cálculo!$G$131","v":7.4210203215017687},{"$f":"Cálculo!$H$131","v":20.682245636741399}]
["SP","São Paulo","Cerquilho","ARSESP","Naturgy SPS","Residencial","Mensal",7.01,16,{"$f":"Cálculo!$G$132","v":7.1755851242900146},{"$f":"Cálculo!$H$132","v":22.294001980446502}]
["SP","São Paulo","Cerquilho","ARSESP","Naturgy SPS","Residencial","Mensal",16.010000000000002,41,{"$f":"Cálculo!$G$133","v":7.0090471647993526},{"$f":"Cálculo!$H$133","v":24.835165266872067}]
["SP","São Paulo","Cerquilho","ARSESP","Naturgy SPS","Residencial","Mensal",41.01,null,{"$f":"Cálculo!$G$134","v":6.9861566953252874},{"$f":"Cálculo!$H$134","v":25.646925761146903}]
["SP","São Paulo","Cerquilho","ARSESP","Naturgy SPS","Comercial","Mensal",0,50,{"$f":"Cálculo!$G$137","v":7.6988165272874607},{"$f":"Cálculo!$H$137","v":66.105539381598362}]
["SP","São Paulo","Cerquilho","ARSESP","Naturgy SPS","Comercial","Mensal",50.01,500,{"$f":"Cálculo!$G$138","v":6.8314704390510368},{"$f":"Cálculo!$H$138","v":103.29358173526137}]
["SP","São Paulo","Cerquilho","ARSESP","Naturgy SPS","Comercial","Mensal",500.01,5000,{"$f":"Cálculo!$G$139","v":6.2429205514120945},{"$f":"Cálculo!$H$139","v":396.04500404736206}]
["SP","São Paulo","Cerquilho","ARSESP","Naturgy SPS","Comercial","Mensal",5000.01,null,{"$f":"Cálculo!$G$140","v":4.584700919357874},{"$f":"Cálculo!$H$140","v":8609.3670972510572}]
["SP","São Paulo","Cerquilho","ARSESP","Naturgy SPS","Industrial","Mensal",0,5000,{"$f":"Cálculo!$G$143","v":7.3237384732820781},{"$f":"Cálculo!$H$143","v":589.06753201210392}]
["SP","São Paulo","Cerquilho","ARSESP","Naturgy SPS","Industrial","Mensal",5000.01,50000,{"$f":"Cálculo!$G$144","v":5.1592285268065821},{"$f":"Cálculo!$H$144","v":11780.938877672519}]
["SP","São Paulo","Cerquilho","ARSESP","Naturgy SPS","Industrial","Mensal",50000.01,300000,{"$f":"Cálculo!$G$145","v":4.2336945051689518},{"$f":"Cálculo!$H$145","v":54599.034374214963}]
["SP","São Paulo","Cerquilho","ARSESP","Naturgy SPS","Industrial","Mensal",300000.01,500000,{"$f":"Cálculo!$G$146","v":3.9231667044967171},{"$f":"Cálculo!$H$146","v":141957.4987846748}]
["SP","São Paulo","Cerquilho","ARSESP","Naturgy SPS","Industrial","Mensal",500000.01,1000000,{"$f":"Cálculo!$G$147","v":3.7671663373933297},{"$f":"Cálculo!$H$147","v":156922.00938051022}]
["SP","São Paulo","Cerquilho","ARSESP","Naturgy SPS","Industrial","Mensal",1000000.01,3000000,{"$f":"Cálculo!$G$148","v":3.6735915287641614},{"$f":"Cálculo!$H$148","v":168937.48821780394}]
["SP","São Paulo","Cerquilho","ARSESP","Naturgy SPS","Industrial","Mensal",3000000.01,null,{"$f":"Cálculo!$G$149","v":3.6313552773076965},{"$f":"Cálculo!$H$149","v":216355.6774950189}]
["SP","São Paulo","Cerquilho","ARSESP","Naturgy SPS","GNV","Faixa Única",null,null,{"$f":"Cálculo!$G$152","v":3.6369964245106647}]
["SP","São Paulo","Cesário Lange","ARSESP","Naturgy SPS","Residencial","Mensal",0,1,null,{"$f":"Cálculo!$H$130","v":26.458686255421735}]
["SP","São Paulo","Cesário Lange","ARSESP","Naturgy SPS","Residencial","Mensal",1.01,7,{"$f":"Cálculo!$G$131","v":7.4210203215017687},{"$f":"Cálculo!$H$131","v":20.682245636741399}]
["SP","São Paulo","Cesário Lange","ARSESP","Naturgy SPS","Residencial","Mensal",7.01,16,{"$f":"Cálculo!$G$132","v":7.1755851242900146},{"$f":"Cálculo!$H$132","v":22.294001980446502}]
["SP","São Paulo","Cesário Lange","ARSESP","Naturgy SPS","Residencial","Mensal",16.010000000000002,41,{"$f":"Cálculo!$G$133","v":7.0090471647993526},{"$f":"Cálculo!$H$133","v":24.835165266872067}]
["SP","São Paulo","Cesário Lange","ARSESP","Naturgy SPS","Residencial","Mensal",41.01,null,{"$f":"Cálculo!$G$134","v":6.9861566953252874},{"$f":"Cálculo!$H$134","v":25.646925761146903}]
["SP","São Paulo","Cesário Lange","ARSESP","Naturgy SPS","Comercial","Mensal",0,50,{"$f":"Cálculo!$G$137","v":7.6988165272874607},{"$f":"Cálculo!$H$137","v":66.105539381598362}]
["SP","São Paulo","Cesário Lange","ARSESP","Naturgy SPS","Comercial","Mensal",50.01,500,{"$f":"Cálculo!$G$138","v":6.8314704390510368},{"$f":"Cálculo!$H$138","v":103.29358173526137}]
["SP","São Paulo","Cesário Lange","ARSESP","Naturgy SPS","Comercial","Mensal",500.01,5000,{"$f":"Cálculo!$G$139","v":6.2429205514120945},{"$f":"Cálculo!$H$139","v":396.04500404736206}]
["SP","São Paulo","Cesário Lange","ARSESP","Naturgy SPS","Comercial","Mensal",5000.01,null,{"$f":"Cálculo!$G$140","v":4.584700919357874},{"$f":"Cálculo!$H$140","v":8609.3670972510572}]
["SP","São Paulo","Cesário Lange","ARSESP","Naturgy SPS","Industrial","Mensal",0,5000,{"$f":"Cálculo!$G$143","v":7.3237384732820781},{"$f":"Cálculo!$H$143","v":589.06753201210392}]
["SP","São Paulo","Cesário Lange","ARSESP","Naturgy SPS","Industrial","Mensal",5000.01,50000,{"$f":"Cálculo!$G$144","v":5.1592285268065821},{"$f":"Cálculo!$H$144","v":11780.938877672519}]
["SP","São Paulo","Cesário Lange","ARSESP","Naturgy SPS","Industrial","Mensal",50000.01,300000,{"$f":"Cálculo!$G$145","v":4.2336945051689518},{"$f":"Cálculo!$H$145","v":54599.034374214963}]
["SP","São Paulo","Cesário Lange","ARSESP","Naturgy SPS","Industrial","Mensal",300000.01,500000,{"$f":"Cálculo!$G$146","v":3.9231667044967171},{"$f":"Cálculo!$H$146","v":141957.4987846748}]
["SP","São Paulo","Cesário Lange","ARSESP","Naturgy SPS","Industrial","Mensal",500000.01,1000000,{"$f":"Cálculo!$G$147","v":3.7671663373933297},{"$f":"Cálculo!$H$147","v":156922.00938051022}]
["SP","São Paulo","Cesário Lange","ARSESP","Naturgy SPS","Industrial","Mensal",1000000.01,3000000,{"$f":"Cálculo!$G$148","v":3.6735915287641614},{"$f":"Cálculo!$H$148","v":168937.48821780394}]
["SP","São Paulo","Cesário Lange","ARSESP","Naturgy SPS","Industrial","Mensal",3000000.01,null,{"$f":"Cálculo!$G$149","v":3.6313552773076965},{"$f":"Cálculo!$H$149","v":216355.6774950189}]
["SP","São Paulo","Cesário Lange","ARSESP","Naturgy SPS","GNV","Faixa Única",null,null,{"$f":"Cálculo!$G$152","v":3.6369964245106647}]
["SP","São Paulo","Iperó","ARSESP","Naturgy SPS","Residencial","Mensal",0,1,null,{"$f":"Cálculo!$H$130","v":26.458686255421735}]
["SP","São Paulo","Iperó","ARSESP","Naturgy SPS","Residencial","Mensal",1.01,7,{"$f":"Cálculo!$G$131","v":7.4210203215017687},{"$f":"Cálculo!$H$131","v":20.682245636741399}]
["SP","São Paulo","Iperó","ARSESP","Naturgy SPS","Residencial","Mensal",7.01,16,{"$f":"Cálculo!$G$132","v":7.1755851242900146},{"$f":"Cálculo!$H$132","v":22.294001980446502}]
["SP","São Paulo","Iperó","ARSESP","Naturgy SPS","Residencial","Mensal",16.010000000000002,41,{"$f":"Cálculo!$G$133","v":7.0090471647993526},{"$f":"Cálculo!$H$133","v":24.835165266872067}]
["SP","São Paulo","Iperó","ARSESP","Naturgy SPS","Residencial","Mensal",41.01,null,{"$f":"Cálculo!$G$134","v":6.9861566953252874},{"$f":"Cálculo!$H$134","v":25.646925761146903}]
["SP","São Paulo","Iperó","ARSESP","Naturgy SPS","Comercial","Mensal",0,50,{"$f":"Cálculo!$G$137","v":7.6988165272874607},{"$f":"Cálculo!$H$137","v":66.105539381598362}]
["SP","São Paulo","Iperó","ARSESP","Naturgy SPS","Comercial","Mensal",50.01,500,{"$f":"Cálculo!$G$138","v":6.8314704390510368},{"$f":"Cálculo!$H$138","v":103.29358173526137}]
["SP","São Paulo","Iperó","ARSESP","Naturgy SPS","Comercial","Mensal",500.01,5000,{"$f":"Cálculo!$G$139","v":6.2429205514120945},{"$f":"Cálculo!$H$139","v":396.04500404736206}]
["SP","São Paulo","Iperó","ARSESP","Naturgy SPS","Comercial","Mensal",5000.01,null,{"$f":"Cálculo!$G$140","v":4.584700919357874},{"$f":"Cálculo!$H$140","v":8609.3670972510572}]
["SP","São Paulo","Iperó","ARSESP","Naturgy SPS","Industrial","Mensal",0,5000,{"$f":"Cálculo!$G$143","v":7.3237384732820781},{"$f":"Cálculo!$H$143","v":589.06753201210392}]
["SP","São Paulo","Iperó","ARSESP","Naturgy SPS","Industrial","Mensal",5000.01,50000,{"$f":"Cálculo!$G$144","v":5.1592285268065821},{"$f":"Cálculo!$H$144","v":11780.938877672519}]
["SP","São Paulo","Iperó","ARSESP","Naturgy SPS","Industrial","Mensal",50000.01,300000,{"$f":"Cálculo!$G$145","v":4.2336945051689518},{"$f":"Cálculo!$H$145","v":54599.034374214963}]
["SP","São Paulo","Iperó","ARSESP","Naturgy SPS","Industrial","Mensal",300000.01,500000,{"$f":"Cálculo!$G$146","v":3.9231667044967171},{"$f":"Cálculo!$H$146","v":141957.4987846748}]
["SP","São Paulo","Iperó","ARSESP","Naturgy SPS","Industrial","Mensal",500000.01,1000000,{"$f":"Cálculo!$G$147","v":3.7671663373933297},{"$f":"Cálculo!$H$147","v":156922.00938051022}]
["SP","São Paulo","Iperó","ARSESP","Naturgy SPS","Industrial","Mensal",1000000.01,3000000,{"$f":"Cálculo!$G$148","v":3.6735915287641614},{"$f":"Cálculo!$H$148","v":168937.48821780394}]
["SP","São Paulo","Iperó","ARSESP","Naturgy SPS","Industrial","Mensal",3000000.01,null,{"$f":"Cálculo!$G$149","v":3.6313552773076965},{"$f":"Cálculo!$H$149","v":216355.6774950189}]
["SP","São Paulo","Iperó","ARSESP","Naturgy SPS","GNV","Faixa Única",null,null,{"$f":"Cálculo!$G$152","v":3.6369964245106647}]
["SP","São Paulo","Itapetininga","ARSESP","Naturgy SPS","Residencial","Mensal",0,1,null,{"$f":"Cálculo!$H$130","v":26.458686255421735}]
["SP","São Paulo","Itapetininga","ARSESP","Naturgy SPS","Residencial","Mensal",1.01,7,{"$f":"Cálculo!$G$131","v":7.4210203215017687},{"$f":"Cálculo!$H$131","v":20.682245636741399}]
["SP","São Paulo","Itapetininga","ARSESP","Naturgy SPS","Residencial","Mensal",7.01,16,{"$f":"Cálculo!$G$132","v":7.1755851242900146},{"$f":"Cálculo!$H$132","v":22.294001980446502}]
["SP","São Paulo","Itapetininga","ARSESP","Naturgy SPS","Residencial","Mensal",16.010000000000002,41,{"$f":"Cálculo!$G$133","v":7.0090471647993526},{"$f":"Cálculo!$H$133","v":24.835165266872067}]
["SP","São Paulo","Itapetininga","ARSESP","Naturgy SPS","Residencial","Mensal",41.01,null,{"$f":"Cálculo!$G$134","v":6.9861566953252874},{"$f":"Cálculo!$H$134","v":25.646925761146903}]
["SP","São Paulo","Itapetininga","ARSESP","Naturgy SPS","Comercial","Mensal",0,50,{"$f":"Cálculo!$G$137","v":7.6988165272874607},{"$f":"Cálculo!$H$137","v":66.105539381598362}]
["SP","São Paulo","Itapetininga","ARSESP","Naturgy SPS","Comercial","Mensal",50.01,500,{"$f":"Cálculo!$G$138","v":6.8314704390510368},{"$f":"Cálculo!$H$138","v":103.29358173526137}]
["SP","São Paulo","Itapetininga","ARSESP","Naturgy SPS","Comercial","Mensal",500.01,5000,{"$f":"Cálculo!$G$139","v":6.2429205514120945},{"$f":"Cálculo!$H$139","v":396.04500404736206}]
["SP","São Paulo","Itapetininga","ARSESP","Naturgy SPS","Comercial","Mensal",5000.01,null,{"$f":"Cálculo!$G$140","v":4.584700919357874},{"$f":"Cálculo!$H$140","v":8609.3670972510572}]
["SP","São Paulo","Itapetininga","ARSESP","Naturgy SPS","Industrial","Mensal",0,5000,{"$f":"Cálculo!$G$143","v":7.3237384732820781},{"$f":"Cálculo!$H$143","v":589.06753201210392}]
["SP","São Paulo","Itapetininga","ARSESP","Naturgy SPS","Industrial","Mensal",5000.01,50000,{"$f":"Cálculo!$G$144","v":5.1592285268065821},{"$f":"Cálculo!$H$144","v":11780.938877672519}]
["SP","São Paulo","Itapetininga","ARSESP","Naturgy SPS","Industrial","Mensal",50000.01,300000,{"$f":"Cálculo!$G$145","v":4.2336945051689518},{"$f":"Cálculo!$H$145","v":54599.034374214963}]
["SP","São Paulo","Itapetininga","ARSESP","Naturgy SPS","Industrial","Mensal",300000.01,500000,{"$f":"Cálculo!$G$146","v":3.9231667044967171},{"$f":"Cálculo!$H$146","v":141957.4987846748}]
["SP","São Paulo","Itapetininga","ARSESP","Naturgy SPS","Industrial","Mensal",500000.01,1000000,{"$f":"Cálculo!$G$147","v":3.7671663373933297},{"$f":"Cálculo!$H$147","v":156922.00938051022}]
["SP","São Paulo","Itapetininga","ARSESP","Naturgy SPS","Industrial","Mensal",1000000.01,3000000,{"$f":"Cálculo!$G$148","v":3.6735915287641614},{"$f":"Cálculo!$H$148","v":168937.48821780394}]
["SP","São Paulo","Itapetininga","ARSESP","Naturgy SPS","Industrial","Mensal",3000000.01,null,{"$f":"Cálculo!$G$149","v":3.6313552773076965},{"$f":"Cálculo!$H$149","v":216355.6774950189}]
["SP","São Paulo","Itapetininga","ARSESP","Naturgy SPS","GNV","Faixa Única",null,null,{"$f":"Cálculo!$G$152","v":3.6369964245106647}]
["SP","São Paulo","Itu","ARSESP","Naturgy SPS","Residencial","Mensal",0,1,null,{"$f":"Cálculo!$H$130","v":26.458686255421735}]
["SP","São Paulo","Itu","ARSESP","Naturgy SPS","Residencial","Mensal",1.01,7,{"$f":"Cálculo!$G$131","v":7.4210203215017687},{"$f":"Cálculo!$H$131","v":20.682245636741399}]
["SP","São Paulo","Itu","ARSESP","Naturgy SPS","Residencial","Mensal",7.01,16,{"$f":"Cálculo!$G$132","v":7.1755851242900146},{"$f":"Cálculo!$H$132","v":22.294001980446502}]
["SP","São Paulo","Itu","ARSESP","Naturgy SPS","Residencial","Mensal",16.010000000000002,41,{"$f":"Cálculo!$G$133","v":7.0090471647993526},{"$f":"Cálculo!$H$133","v":24.835165266872067}]
["SP","São Paulo","Itu","ARSESP","Naturgy SPS","Residencial","Mensal",41.01,null,{"$f":"Cálculo!$G$134","v":6.9861566953252874},{"$f":"Cálculo!$H$134","v":25.646925761146903}]
["SP","São Paulo","Itu","ARSESP","Naturgy SPS","Comercial","Mensal",0,50,{"$f":"Cálculo!$G$137","v":7.6988165272874607},{"$f":"Cálculo!$H$137","v":66.105539381598362}]
["SP","São Paulo","Itu","ARSESP","Naturgy SPS","Comercial","Mensal",50.01,500,{"$f":"Cálculo!$G$138","v":6.8314704390510368},{"$f":"Cálculo!$H$138","v":103.29358173526137}]
["SP","São Paulo","Itu","ARSESP","Naturgy SPS","Comercial","Mensal",500.01,5000,{"$f":"Cálculo!$G$139","v":6.2429205514120945},{"$f":"Cálculo!$H$139","v":396.04500404736206}]
["SP","São Paulo","Itu","ARSESP","Naturgy SPS","Comercial","Mensal",5000.01,null,{"$f":"Cálculo!$G$140","v":4.584700919357874},{"$f":"Cálculo!$H$140","v":8609.3670972510572}]
["SP","São Paulo","Itu","ARSESP","Naturgy SPS","Industrial","Mensal",0,5000,{"$f":"Cálculo!$G$143","v":7.3237384732820781},{"$f":"Cálculo!$H$143","v":589.06753201210392}]
["SP","São Paulo","Itu","ARSESP","Naturgy SPS","Industrial","Mensal",5000.01,50000,{"$f":"Cálculo!$G$144","v":5.1592285268065821},{"$f":"Cálculo!$H$144","v":11780.938877672519}]
["SP","São Paulo","Itu","ARSESP","Naturgy SPS","Industrial","Mensal",50000.01,300000,{"$f":"Cálculo!$G$145","v":4.2336945051689518},{"$f":"Cálculo!$H$145","v":54599.034374214963}]
["SP","São Paulo","Itu","ARSESP","Naturgy SPS","Industrial","Mensal",300000.01,500000,{"$f":"Cálculo!$G$146","v":3.9231667044967171},{"$f":"Cálculo!$H$146","v":141957.4987846748}]
["SP","São Paulo","Itu","ARSESP","Naturgy SPS","Industrial","Mensal",500000.01,1000000,{"$f":"Cálculo!$G$147","v":3.7671663373933297},{"$f":"Cálculo!$H$147","v":156922.00938051022}]
["SP","São Paulo","Itu","ARSESP","Naturgy SPS","Industrial","Mensal",1000000.01,3000000,{"$f":"Cálculo!$G$148","v":3.6735915287641614},{"$f":"Cálculo!$H$148","v":168937.48821780394}]
["SP","São Paulo","Itu","ARSESP","Naturgy SPS","Industrial","Mensal",3000000.01,null,{"$f":"Cálculo!$G$149","v":3.6313552773076965},{"$f":"Cálculo!$H$149","v":216355.6774950189}]
["SP","São Paulo","Itu","ARSESP","Naturgy SPS","GNV","Faixa Única",null,null,{"$f":"Cálculo!$G$152","v":3.6369964245106647}]
["SP","São Paulo","Laranjal Paulista","ARSESP","Naturgy SPS","Residencial","Mensal",0,1,null,{"$f":"Cálculo!$H$130","v":26.458686255421735}]
["SP","São Paulo","Laranjal Paulista","ARSESP","Naturgy SPS","Residencial","Mensal",1.01,7,{"$f":"Cálculo!$G$131","v":7.4210203215017687},{"$f":"Cálculo!$H$131","v":20.682245636741399}]
["SP","São Paulo","Laranjal Paulista","ARSESP","Naturgy SPS","Residencial","Mensal",7.01,16,{"$f":"Cálculo!$G$132","v":7.1755851242900146},{"$f":"Cálculo!$H$132","v":22.294001980446502}]
["SP","São Paulo","Laranjal Paulista","ARSESP","Naturgy SPS","Residencial","Mensal",16.010000000000002,41,{"$f":"Cálculo!$G$133","v":7.0090471647993526},{"$f":"Cálculo!$H$133","v":24.835165266872067}]
["SP","São Paulo","Laranjal Paulista","ARSESP","Naturgy SPS","Residencial","Mensal",41.01,null,{"$f":"Cálculo!$G$134","v":6.9861566953252874},{"$f":"Cálculo!$H$134","v":25.646925761146903}]
["SP","São Paulo","Laranjal Paulista","ARSESP","Naturgy SPS","Comercial","Mensal",0,50,{"$f":"Cálculo!$G$137","v":7.6988165272874607},{"$f":"Cálculo!$H$137","v":66.105539381598362}]
["SP","São Paulo","Laranjal Paulista","ARSESP","Naturgy SPS","Comercial","Mensal",50.01,500,{"$f":"Cálculo!$G$138","v":6.8314704390510368},{"$f":"Cálculo!$H$138","v":103.29358173526137}]
["SP","São Paulo","Laranjal Paulista","ARSESP","Naturgy SPS","Comercial","Mensal",500.01,5000,{"$f":"Cálculo!$G$139","v":6.2429205514120945},{"$f":"Cálculo!$H$139","v":396.04500404736206}]
["SP","São Paulo","Laranjal Paulista","ARSESP","Naturgy SPS","Comercial","Mensal",5000.01,null,{"$f":"Cálculo!$G$140","v":4.584700919357874},{"$f":"Cálculo!$H$140","v":8609.3670972510572}]
["SP","São Paulo","Laranjal Paulista","ARSESP","Naturgy SPS","Industrial","Mensal",0,5000,{"$f":"Cálculo!$G$143","v":7.3237384732820781},{"$f":"Cálculo!$H$143","v":589.06753201210392}]
["SP","São Paulo","Laranjal Paulista","ARSESP","Naturgy SPS","Industrial","Mensal",5000.01,50000,{"$f":"Cálculo!$G$144","v":5.1592285268065821},{"$f":"Cálculo!$H$144","v":11780.938877672519}]
["SP","São Paulo","Laranjal Paulista","ARSESP","Naturgy SPS","Industrial","Mensal",50000.01,300000,{"$f":"Cálculo!$G$145","v":4.2336945051689518},{"$f":"Cálculo!$H$145","v":54599.034374214963}]
["SP","São Paulo","Laranjal Paulista","ARSESP","Naturgy SPS","Industrial","Mensal",300000.01,500000,{"$f":"Cálculo!$G$146","v":3.9231667044967171},{"$f":"Cálculo!$H$146","v":141957.4987846748}]
["SP","São Paulo","Laranjal Paulista","ARSESP","Naturgy SPS","Industrial","Mensal",500000.01,1000000,{"$f":"Cálculo!$G$147","v":3.7671663373933297},{"$f":"Cálculo!$H$147","v":156922.00938051022}]
["SP","São Paulo","Laranjal Paulista","ARSESP","Naturgy SPS","Industrial","Mensal",1000000.01,3000000,{"$f":"Cálculo!$G$148","v":3.6735915287641614},{"$f":"Cálculo!$H$148","v":168937.48821780394}]
["SP","São Paulo","Laranjal Paulista","ARSESP","Naturgy SPS","Industrial","Mensal",3000000.01,null,{"$f":"Cálculo!$G$149","v":3.6313552773076965},{"$f":"Cálculo!$H$149","v":216355.6774950189}]
["SP","São Paulo","Laranjal Paulista","ARSESP","Naturgy SPS","GNV","Faixa Única",null,null,{"$f":"Cálculo!$G$152","v":3.6369964245106647}]
["SP","São Paulo","Mairinque","ARSESP","Naturgy SPS","Residencial","Mensal",0,1,null,{"$f":"Cálculo!$H$130","v":26.458686255421735}]
["SP","São Paulo","Mairinque","ARSESP","Naturgy SPS","Residencial","Mensal",1.01,7,{"$f":"Cálculo!$G$131","v":7.4210203215017687},{"$f":"Cálculo!$H$131","v":20.682245636741399}]
["SP","São Paulo","Mairinque","ARSESP","Naturgy SPS","Residencial","Mensal",7.01,16,{"$f":"Cálculo!$G$132","v":7.1755851242900146},{"$f":"Cálculo!$H$132","v":22.294001980446502}]
["SP","São Paulo","Mairinque","ARSESP","Naturgy SPS","Residencial","Mensal",16.010000000000002,41,{"$f":"Cálculo!$G$133","v":7.0090471647993526},{"$f":"Cálculo!$H$133","v":24.835165266872067}]
["SP","São Paulo","Mairinque","ARSESP","Naturgy SPS","Residencial","Mensal",41.01,null,{"$f":"Cálculo!$G$134","v":6.9861566953252874},{"$f":"Cálculo!$H$134","v":25.646925761146903}]
["SP","São Paulo","Mairinque","ARSESP","Naturgy SPS","Comercial","Mensal",0,50,{"$f":"Cálculo!$G$137","v":7.6988165272874607},{"$f":"Cálculo!$H$137","v":66.105539381598362}]
["SP","São Paulo","Mairinque","ARSESP","Naturgy SPS","Comercial","Mensal",50.01,500,{"$f":"Cálculo!$G$138","v":6.8314704390510368},{"$f":"Cálculo!$H$138","v":103.29358173526137}]
["SP","São Paulo","Mairinque","ARSESP","Naturgy SPS","Comercial","Mensal",500.01,5000,{"$f":"Cálculo!$G$139","v":6.2429205514120945},{"$f":"Cálculo!$H$139","v":396.04500404736206}]
["SP","São Paulo","Mairinque","ARSESP","Naturgy SPS","Comercial","Mensal",5000.01,null,{"$f":"Cálculo!$G$140","v":4.584700919357874},{"$f":"Cálculo!$H$140","v":8609.3670972510572}]
["SP","São Paulo","Mairinque","ARSESP","Naturgy SPS","Industrial","Mensal",0,5000,{"$f":"Cálculo!$G$143","v":7.3237384732820781},{"$f":"Cálculo!$H$143","v":589.06753201210392}]
["SP","São Paulo","Mairinque","ARSESP","Naturgy SPS","Industrial","Mensal",5000.01,50000,{"$f":"Cálculo!$G$144","v":5.1592285268065821},{"$f":"Cálculo!$H$144","v":11780.938877672519}]
["SP","São Paulo","Mairinque","ARSESP","Naturgy SPS","Industrial","Mensal",50000.01,300000,{"$f":"Cálculo!$G$145","v":4.2336945051689518},{"$f":"Cálculo!$H$145","v":54599.034374214963}]
["SP","São Paulo","Mairinque","ARSESP","Naturgy SPS","Industrial","Mensal",300000.01,500000,{"$f":"Cálculo!$G$146","v":3.9231667044967171},{"$f":"Cálculo!$H$146","v":141957.4987846748}]
["SP","São Paulo","Mairinque","ARSESP","Naturgy SPS","Industrial","Mensal",500000.01,1000000,{"$f":"Cálculo!$G$147","v":3.7671663373933297},{"$f":"Cálculo!$H$147","v":156922.00938051022}]
["SP","São Paulo","Mairinque","ARSESP","Naturgy SPS","Industrial","Mensal",1000000.01,3000000,{"$f":"Cálculo!$G$148","v":3.6735915287641614},{"$f":"Cálculo!$H$148","v":168937.48821780394}]
["SP","São Paulo","Mairinque","ARSESP","Naturgy SPS","Industrial","Mensal",3000000.01,null,{"$f":"Cálculo!$G$149","v":3.6313552773076965},{"$f":"Cálculo!$H$149","v":216355.6774950189}]
["SP","São Paulo","Mairinque","ARSESP","Naturgy SPS","GNV","Faixa Única",null,null,{"$f":"Cálculo!$G$152","v":3.6369964245106647}]
["SP","São Paulo","Porto Feliz","ARSESP","Naturgy SPS","Residencial","Mensal",0,1,null,{"$f":"Cálculo!$H$130","v":26.458686255421735}]
["SP","São Paulo","Porto Feliz","ARSESP","Naturgy SPS","Residencial","Mensal",1.01,7,{"$f":"Cálculo!$G$131","v":7.4210203215017687},{"$f":"Cálculo!$H$131","v":20.682245636741399}]
["SP","São Paulo","Porto Feliz","ARSESP","Naturgy SPS","Residencial","Mensal",7.01,16,{"$f":"Cálculo!$G$132","v":7.1755851242900146},{"$f":"Cálculo!$H$132","v":22.294001980446502}]
["SP","São Paulo","Porto Feliz","ARSESP","Naturgy SPS","Residencial","Mensal",16.010000000000002,41,{"$f":"Cálculo!$G$133","v":7.0090471647993526},{"$f":"Cálculo!$H$133","v":24.835165266872067}]
["SP","São Paulo","Porto Feliz","ARSESP","Naturgy SPS","Residencial","Mensal",41.01,null,{"$f":"Cálculo!$G$134","v":6.9861566953252874},{"$f":"Cálculo!$H$134","v":25.646925761146903}]
["SP","São Paulo","Porto Feliz","ARSESP","Naturgy SPS","Comercial","Mensal",0,50,{"$f":"Cálculo!$G$137","v":7.6988165272874607},{"$f":"Cálculo!$H$137","v":66.105539381598362}]
["SP","São Paulo","Porto Feliz","ARSESP","Naturgy SPS","Comercial","Mensal",50.01,500,{"$f":"Cálculo!$G$138","v":6.8314704390510368},{"$f":"Cálculo!$H$138","v":103.29358173526137}]
["SP","São Paulo","Porto Feliz","ARSESP","Naturgy SPS","Comercial","Mensal",500.01,5000,{"$f":"Cálculo!$G$139","v":6.2429205514120945},{"$f":"Cálculo!$H$139","v":396.04500404736206}]
["SP","São Paulo","Porto Feliz","ARSESP","Naturgy SPS","Comercial","Mensal",5000.01,null,{"$f":"Cálculo!$G$140","v":4.584700919357874},{"$f":"Cálculo!$H$140","v":8609.3670972510572}]
["SP","São Paulo","Porto Feliz","ARSESP","Naturgy SPS","Industrial","Mensal",0,5000,{"$f":"Cálculo!$G$143","v":7.3237384732820781},{"$f":"Cálculo!$H$143","v":589.06753201210392}]
["SP","São Paulo","Porto Feliz","ARSESP","Naturgy SPS","Industrial","Mensal",5000.01,50000,{"$f":"Cálculo!$G$144","v":5.1592285268065821},{"$f":"Cálculo!$H$144","v":11780.938877672519}]
["SP","São Paulo","Porto Feliz","ARSESP","Naturgy SPS","Industrial","Mensal",50000.01,300000,{"$f":"Cálculo!$G$145","v":4.2336945051689518},{"$f":"Cálculo!$H$145","v":54599.034374214963}]
["SP","São Paulo","Porto Feliz","ARSESP","Naturgy SPS","Industrial","Mensal",300000.01,500000,{"$f":"Cálculo!$G$146","v":3.9231667044967171},{"$f":"Cálculo!$H$146","v":141957.4987846748}]
["SP","São Paulo","Porto Feliz","ARSESP","Naturgy SPS","Industrial","Mensal",500000.01,1000000,{"$f":"Cálculo!$G$147","v":3.7671663373933297},{"$f":"Cálculo!$H$147","v":156922.00938051022}]
["SP","São Paulo","Porto Feliz","ARSESP","Naturgy SPS","Industrial","Mensal",1000000.01,3000000,{"$f":"Cálculo!$G$148","v":3.6735915287641614},{"$f":"Cálculo!$H$148","v":168937.48821780394}]
["SP","São Paulo","Porto Feliz","ARSESP","Naturgy SPS","Industrial","Mensal",3000000.01,null,{"$f":"Cálculo!$G$149","v":3.6313552773076965},{"$f":"Cálculo!$H$149","v":216355.6774950189}]
["SP","São Paulo","Porto Feliz","ARSESP","Naturgy SPS","GNV","Faixa Única",null,null,{"$f":"Cálculo!$G$152","v":3.6369964245106647}]
["SP","São Paulo","Salto","ARSESP","Naturgy SPS","Residencial","Mensal",0,1,null,{"$f":"Cálculo!$H$130","v":26.458686255421735}]
["SP","São Paulo","Salto","ARSESP","Naturgy SPS","Residencial","Mensal",1.01,7,{"$f":"Cálculo!$G$131","v":7.4210203215017687},{"$f":"Cálculo!$H$131","v":20.682245636741399}]
["SP","São Paulo","Salto","ARSESP","Naturgy SPS","Residencial","Mensal",7.01,16,{"$f":"Cálculo!$G$132","v":7.1755851242900146},{"$f":"Cálculo!$H$132","v":22.294001980446502}]
["SP","São Paulo","Salto","ARSESP","Naturgy SPS","Residencial","Mensal",16.010000000000002,41,{"$f":"Cálculo!$G$133","v":7.0090471647993526},{"$f":"Cálculo!$H$133","v":24.835165266872067}]
["SP","São Paulo","Salto","ARSESP","Naturgy SPS","Residencial","Mensal",41.01,null,{"$f":"Cálculo!$G$134","v":6.9861566953252874},{"$f":"Cálculo!$H$134","v":25.646925761146903}]
["SP","São Paulo","Salto","ARSESP","Naturgy SPS","Comercial","Mensal",0,50,{"$f":"Cálculo!$G$137","v":7.6988165272874607},{"$f":"Cálculo!$H$137","v":66.105539381598362}]
["SP","São Paulo","Salto","ARSESP","Naturgy SPS","Comercial","Mensal",50.01,500,{"$f":"Cálculo!$G$138","v":6.8314704390510368},{"$f":"Cálculo!$H$138","v":103.29358173526137}]
["SP","São Paulo","Salto","ARSESP","Naturgy SPS","Comercial","Mensal",500.01,5000,{"$f":"Cálculo!$G$139","v":6.2429205514120945},{"$f":"Cálculo!$H$139","v":396.04500404736206}]
["SP","São Paulo","Salto","ARSESP","Naturgy SPS","Comercial","Mensal",5000.01,null,{"$f":"Cálculo!$G$140","v":4.584700919357874},{"$f":"Cálculo!$H$140","v":8609.3670972510572}]
["SP","São Paulo","Salto","ARSESP","Naturgy SPS","Industrial","Mensal",0,5000,{"$f":"Cálculo!$G$143","v":7.3237384732820781},{"$f":"Cálculo!$H$143","v":589.06753201210392}]
["SP","São Paulo","Salto","ARSESP","Naturgy SPS","Industrial","Mensal",5000.01,50000,{"$f":"Cálculo!$G$144","v":5.1592285268065821},{"$f":"Cálculo!$H$144","v":11780.938877672519}]
["SP","São Paulo","Salto","ARSESP","Naturgy SPS","Industrial","Mensal",50000.01,300000,{"$f":"Cálculo!$G$145","v":4.2336945051689518},{"$f":"Cálculo!$H$145","v":54599.034374214963}]
["SP","São Paulo","Salto","ARSESP","Naturgy SPS","Industrial","Mensal",300000.01,500000,{"$f":"Cálculo!$G$146","v":3.9231667044967171},{"$f":"Cálculo!$H$146","v":141957.4987846748}]
["SP","São Paulo","Salto","ARSESP","Naturgy SPS","Industrial","Mensal",500000.01,1000000,{"$f":"Cálculo!$G$147","v":3.7671663373933297},{"$f":"Cálculo!$H$147","v":156922.00938051022}]
["SP","São Paulo","Salto","ARSESP","Naturgy SPS","Industrial","Mensal",1000000.01,3000000,{"$f":"Cálculo!$G$148","v":3.6735915287641614},{"$f":"Cálculo!$H$148","v":168937.48821780394}]
["SP","São Paulo","Salto","ARSESP","Naturgy SPS","Industrial","Mensal",3000000.01,null,{"$f":"Cálculo!$G$149","v":3.6313552773076965},{"$f":"Cálculo!$H$149","v":216355.6774950189}]
["SP","São Paulo","Salto","ARSESP","Naturgy SPS","GNV","Faixa Única",null,null,{"$f":"Cálculo!$G$152","v":3.6369964245106647}]
["SP","São Paulo","São Roque","ARSESP","Naturgy SPS","Residencial","Mensal",0,1,null,{"$f":"Cálculo!$H$130","v":26.458686255421735}]
["SP","São Paulo","São Roque","ARSESP","Naturgy SPS","Residencial","Mensal",1.01,7,{"$f":"Cálculo!$G$131","v":7.4210203215017687},{"$f":"Cálculo!$H$131","v":20.682245636741399}]
["SP","São Paulo","São Roque","ARSESP","Naturgy SPS","Residencial","Mensal",7.01,16,{"$f":"Cálculo!$G$132","v":7.1755851242900146},{"$f":"Cálculo!$H$132","v":22.294001980446502}]
["SP","São Paulo","São Roque","ARSESP","Naturgy SPS","Residencial","Mensal",16.010000000000002,41,{"$f":"Cálculo!$G$133","v":7.0090471647993526},{"$f":"Cálculo!$H$133","v":24.835165266872067}]
["SP","São Paulo","São Roque","ARSESP","Naturgy SPS","Residencial","Mensal",41.01,null,{"$f":"Cálculo!$G$134","v":6.9861566953252874},{"$f":"Cálculo!$H$134","v":25.646925761146903}]
["SP","São Paulo","São Roque","ARSESP","Naturgy SPS","Comercial","Mensal",0,50,{"$f":"Cálculo!$G$137","v":7.6988165272874607},{"$f":"Cálculo!$H$137","v":66.105539381598362}]
["SP","São Paulo","São Roque","ARSESP","Naturgy SPS","Comercial","Mensal",50.01,500,{"$f":"Cálculo!$G$138","v":6.8314704390510368},{"$f":"Cálculo!$H$138","v":103.29358173526137}]
["SP","São Paulo","São Roque","ARSESP","Naturgy SPS","Comercial","Mensal",500.01,5000,{"$f":"Cálculo!$G$139","v":6.2429205514120945},{"$f":"Cálculo!$H$139","v":396.04500404736206}]
["SP","São Paulo","São Roque","ARSESP","Naturgy SPS","Comercial","Mensal",5000.01,null,{"$f":"Cálculo!$G$140","v":4.584700919357874},{"$f":"Cálculo!$H$140","v":8609.3670972510572}]
["SP","São Paulo","São Roque","ARSESP","Naturgy SPS","Industrial","Mensal",0,5000,{"$f":"Cálculo!$G$143","v":7.3237384732820781},{"$f":"Cálculo!$H$143","v":589.06753201210392}]
["SP","São Paulo","São Roque","ARSESP","Naturgy SPS","Industrial","Mensal",5000.01,50000,{"$f":"Cálculo!$G$144","v":5.1592285268065821},{"$f":"Cálculo!$H$144","v":11780.938877672519}]
["SP","São Paulo","São Roque","ARSESP","Naturgy SPS","Industrial","Mensal",50000.01,300000,{"$f":"Cálculo!$G$145","v":4.2336945051689518},{"$f":"Cálculo!$H$145","v":54599.034374214963}]
["SP","São Paulo","São Roque","ARSESP","Naturgy SPS","Industrial","Mensal",300000.01,500000,{"$f":"Cálculo!$G$146","v":3.9231667044967171},{"$f":"Cálculo!$H$146","v":141957.4987846748}]
["SP","São Paulo","São Roque","ARSESP","Naturgy SPS","Industrial","Mensal",500000.01,1000000,{"$f":"Cálculo!$G$147","v":3.7671663373933297},{"$f":"Cálculo!$H$147","v":156922.00938051022}]
["SP","São Paulo","São Roque","ARSESP","Naturgy SPS","Industrial","Mensal",1000000.01,3000000,{"$f":"Cálculo!$G$148","v":3.6735915287641614},{"$f":"Cálculo!$H$148","v":168937.48821780394}]
["SP","São Paulo","São Roque","ARSESP","Naturgy SPS","Industrial","Mensal",3000000.01,null,{"$f":"Cálculo!$G$149","v":3.6313552773076965},{"$f":"Cálculo!$H$149","v":216355.6774950189}]
["SP","São Paulo","São Roque","ARSESP","Naturgy SPS","GNV","Faixa Única",null,null,{"$f":"Cálculo!$G$152","v":3.6369964245106647}]
["SP","São Paulo","Sorocaba","ARSESP","Naturgy SPS","Residencial","Mensal",0,1,null,{"$f":"Cálculo!$H$130","v":26.458686255421735}]
["SP","São Paulo","Sorocaba","ARSESP","Naturgy SPS","Residencial","Mensal",1.01,7,{"$f":"Cálculo!$G$131","v":7.4210203215017687},{"$f":"Cálculo!$H$131","v":20.682245636741399}]
["SP","São Paulo","Sorocaba","ARSESP","Naturgy SPS","Residencial","Mensal",7.01,16,{"$f":"Cálculo!$G$132","v":7.1755851242900146},{"$f":"Cálculo!$H$132","v":22.294001980446502}]
["SP","São Paulo","Sorocaba","ARSESP","Naturgy SPS","Residencial","Mensal",16.010000000000002,41,{"$f":"Cálculo!$G$133","v":7.0090471647993526},{"$f":"Cálculo!$H$133","v":24.835165266872067}]
["SP","São Paulo","Sorocaba","ARSESP","Naturgy SPS","Residencial","Mensal",41.01,null,{"$f":"Cálculo!$G$134","v":6.9861566953252874},{"$f":"Cálculo!$H$134","v":25.646925761146903}]
["SP","São Paulo","Sorocaba","ARSESP","Naturgy SPS","Comercial","Mensal",0,50,{"$f":"Cálculo!$G$137","v":7.6988165272874607},{"$f":"Cálculo!$H$137","v":66.105539381598362}]
["SP","São Paulo","Sorocaba","ARSESP","Naturgy SPS","Comercial","Mensal",50.01,500,{"$f":"Cálculo!$G$138","v":6.8314704390510368},{"$f":"Cálculo!$H$138","v":103.29358173526137}]
["SP","São Paulo","Sorocaba","ARSESP","Naturgy SPS","Comercial","Mensal",500.01,5000,{"$f":"Cálculo!$G$139","v":6.2429205514120945},{"$f":"Cálculo!$H$139","v":396.04500404736206}]
["SP","São Paulo","Sorocaba","ARSESP","Naturgy SPS","Comercial","Mensal",5000.01,null,{"$f":"Cálculo!$G$140","v":4.584700919357874},{"$f":"Cálculo!$H$140","v":8609.3670972510572}]
["SP","São Paulo","Sorocaba","ARSESP","Naturgy SPS","Industrial","Mensal",0,5000,{"$f":"Cálculo!$G$143","v":7.3237384732820781},{"$f":"Cálculo!$H$143","v":589.06753201210392}]
["SP","São Paulo","Sorocaba","ARSESP","Naturgy SPS","Industrial","Mensal",5000.01,50000,{"$f":"Cálculo!$G$144","v":5.1592285268065821},{"$f":"Cálculo!$H$144","v":11780.938877672519}]
["SP","São Paulo","Sorocaba","ARSESP","Naturgy SPS","Industrial","Mensal",50000.01,300000,{"$f":"Cálculo!$G$145","v":4.2336945051689518},{"$f":"Cálculo!$H$145","v":54599.034374214963}]
["SP","São Paulo","Sorocaba","ARSESP","Naturgy SPS","Industrial","Mensal",300000.01,500000,{"$f":"Cálculo!$G$146","v":3.9231667044967171},{"$f":"Cálculo!$H$146","v":141957.4987846748}]
["SP","São Paulo","Sorocaba","ARSESP","Naturgy SPS","Industrial","Mensal",500000.01,1000000,{"$f":"Cálculo!$G$147","v":3.7671663373933297},{"$f":"Cálculo!$H$147","v":156922.00938051022}]
["SP","São Paulo","Sorocaba","ARSESP","Naturgy SPS","Industrial","Mensal",1000000.01,3000000,{"$f":"Cálculo!$G$148","v":3.6735915287641614},{"$f":"Cálculo!$H$148","v":168937.48821780394}]
["SP","São Paulo","Sorocaba","ARSESP","Naturgy SPS","Industrial","Mensal",3000000.01,null,{"$f":"Cálculo!$G$149","v":3.6313552773076965},{"$f":"Cálculo!$H$149","v":216355.6774950189}]
["SP","São Paulo","Sorocaba","ARSESP","Naturgy SPS","GNV","Faixa Única",null,null,{"$f":"Cálculo!$G$152","v":3.6369964245106647}]
["SP","São Paulo","Tatuí","ARSESP","Naturgy SPS","Residencial","Mensal",0,1,null,{"$f":"Cálculo!$H$130","v":26.458686255421735}]
["SP","São Paulo","Tatuí","ARSESP","Naturgy SPS","Residencial","Mensal",1.01,7,{"$f":"Cálculo!$G$131","v":7.4210203215017687},{"$f":"Cálculo!$H$131","v":20.682245636741399}]
["SP","São Paulo","Tatuí","ARSESP","Naturgy SPS","Residencial","Mensal",7.01,16,{"$f":"Cálculo!$G$132","v":7.1755851242900146},{"$f":"Cálculo!$H$132","v":22.294001980446502}]
["SP","São Paulo","Tatuí","ARSESP","Naturgy SPS","Residencial","Mensal",16.010000000000002,41,{"$f":"Cálculo!$G$133","v":7.0090471647993526},{"$f":"Cálculo!$H$133","v":24.835165266872067}]
["SP","São Paulo","Tatuí","ARSESP","Naturgy SPS","Residencial","Mensal",41.01,null,{"$f":"Cálculo!$G$134","v":6.9861566953252874},{"$f":"Cálculo!$H$134","v":25.646925761146903}]
["SP","São Paulo","Tatuí","ARSESP","Naturgy SPS","Comercial","Mensal",0,50,{"$f":"Cálculo!$G$137","v":7.6988165272874607},{"$f":"Cálculo!$H$137","v":66.105539381598362}]
["SP","São Paulo","Tatuí","ARSESP","Naturgy SPS","Comercial","Mensal",50.01,500,{"$f":"Cálculo!$G$138","v":6.8314704390510368},{"$f":"Cálculo!$H$138","v":103.29358173526137}]
["SP","São Paulo","Tatuí","ARSESP","Naturgy SPS","Comercial","Mensal",500.01,5000,{"$f":"Cálculo!$G$139","v":6.2429205514120945},{"$f":"Cálculo!$H$139","v":396.04500404736206}]
["SP","São Paulo","Tatuí","ARSESP","Naturgy SPS","Comercial","Mensal",5000.01,null,{"$f":"Cálculo!$G$140","v":4.584700919357874},{"$f":"Cálculo!$H$140","v":8609.3670972510572}]
["SP","São Paulo","Tatuí","ARSESP","Naturgy SPS","Industrial","Mensal",0,5000,{"$f":"Cálculo!$G$143","v":7.3237384732820781},{"$f":"Cálculo!$H$143","v":589.06753201210392}]
["SP","São Paulo","Tatuí","ARSESP","Naturgy SPS","Industrial","Mensal",5000.01,50000,{"$f":"Cálculo!$G$144","v":5.1592285268065821},{"$f":"Cálculo!$H$144","v":11780.938877672519}]
["SP","São Paulo","Tatuí","ARSESP","Naturgy SPS","Industrial","Mensal",50000.01,300000,{"$f":"Cálculo!$G$145","v":4.2336945051689518},{"$f":"Cálculo!$H$145","v":54599.034374214963}]
["SP","São Paulo","Tatuí","ARSESP","Naturgy SPS","Industrial","Mensal",300000.01,500000,{"$f":"Cálculo!$G$146","v":3.9231667044967171},{"$f":"Cálculo!$H$146","v":141957.4987846748}]
["SP","São Paulo","Tatuí","ARSESP","Naturgy SPS","Industrial","Mensal",500000.01,1000000,{"$f":"Cálculo!$G$147","v":3.7671663373933297},{"$f":"Cálculo!$H$147","v":156922.00938051022}]
["SP","São Paulo","Tatuí","ARSESP","Naturgy SPS","Industrial","Mensal",1000000.01,3000000,{"$f":"Cálculo!$G$148","v":3.6735915287641614},{"$f":"Cálculo!$H$148","v":168937.48821780394}]
["SP","São Paulo","Tatuí","ARSESP","Naturgy SPS","Industrial","Mensal",3000000.01,null,{"$f":"Cálculo!$G$149","v":3.6313552773076965},{"$f":"Cálculo!$H$149","v":216355.6774950189}]
["SP","São Paulo","Tatuí","ARSESP","Naturgy SPS","GNV","Faixa Única",null,null,{"$f":"Cálculo!$G$152","v":3.6369964245106647}]
["SP","São Paulo","Tietê","ARSESP","Naturgy SPS","Residencial","Mensal",0,1,null,{"$f":"Cálculo!$H$130","v":26.458686255421735}]
["SP","São Paulo","Tietê","ARSESP","Naturgy SPS","Residencial","Mensal",1.01,7,{"$f":"Cálculo!$G$131","v":7.4210203215017687},{"$f":"Cálculo!$H$131","v":20.682245636741399}]
["SP","São Paulo","Tietê","ARSESP","Naturgy SPS","Residencial","Mensal",7.01,16,{"$f":"Cálculo!$G$132","v":7.1755851242900146},{"$f":"Cálculo!$H$132","v":22.294001980446502}]
["SP","São Paulo","Tietê","ARSESP","Naturgy SPS","Residencial","Mensal",16.010000000000002,41,{"$f":"Cálculo!$G$133","v":7.0090471647993526},{"$f":"Cálculo!$H$133","v":24.835165266872067}]
["SP","São Paulo","Tietê","ARSESP","Naturgy SPS","Residencial","Mensal",41.01,null,{"$f":"Cálculo!$G$134","v":6.9861566953252874},{"$f":"Cálculo!$H$134","v":25.646925761146903}]
["SP","São Paulo","Tietê","ARSESP","Naturgy SPS","Comercial","Mensal",0,50,{"$f":"Cálculo!$G$137","v":7.6988165272874607},{"$f":"Cálculo!$H$137","v":66.105539381598362}]
["SP","São Paulo","Tietê","ARSESP","Naturgy SPS","Comercial","Mensal",50.01,500,{"$f":"Cálculo!$G$138","v":6.8314704390510368},{"$f":"Cálculo!$H$138","v":103.29358173526137}]
["SP","São Paulo","Tietê","ARSESP","Naturgy SPS","Comercial","Mensal",500.01,5000,{"$f":"Cálculo!$G$139","v":6.2429205514120945},{"$f":"Cálculo!$H$139","v":396.04500404736206}]
["SP","São Paulo","Tietê","ARSESP","Naturgy SPS","Comercial","Mensal",5000.01,null,{"$f":"Cálculo!$G$140","v":4.584700919357874},{"$f":"Cálculo!$H$140","v":8609.3670972510572}]
["SP","São Paulo","Tietê","ARSESP","Naturgy SPS","Industrial","Mensal",0,5000,{"$f":"Cálculo!$G$143","v":7.3237384732820781},{"$f":"Cálculo!$H$143","v":589.06753201210392}]
["SP","São Paulo","Tietê","ARSESP","Naturgy SPS","Industrial","Mensal",5000.01,50000,{"$f":"Cálculo!$G$144","v":5.1592285268065821},{"$f":"Cálculo!$H$144","v":11780.938877672519}]
["SP","São Paulo","Tietê","ARSESP","Naturgy SPS","Industrial","Mensal",50000.01,300000,{"$f":"Cálculo!$G$145","v":4.2336945051689518},{"$f":"Cálculo!$H$145","v":54599.034374214963}]
["SP","São Paulo","Tietê","ARSESP","Naturgy SPS","Industrial","Mensal",300000.01,500000,{"$f":"Cálculo!$G$146","v":3.9231667044967171},{"$f":"Cálculo!$H$146","v":141957.4987846748}]
["SP","São Paulo","Tietê","ARSESP","Naturgy SPS","Industrial","Mensal",500000.01,1000000,{"$f":"Cálculo!$G$147","v":3.7671663373933297},{"$f":"Cálculo!$H$147","v":156922.00938051022}]
["SP","São Paulo","Tietê","ARSESP","Naturgy SPS","Industrial","Mensal",1000000.01,3000000,{"$f":"Cálculo!$G$148","v":3.6735915287641614},{"$f":"Cálculo!$H$148","v":168937.48821780394}]
["SP","São Paulo","Tietê","ARSESP","Naturgy SPS","Industrial","Mensal",3000000.01,null,{"$f":"Cálculo!$G$149","v":3.6313552773076965},{"$f":"Cálculo!$H$149","v":216355.6774950189}]
["SP","São Paulo","Tietê","ARSESP","Naturgy SPS","GNV","Faixa Única",null,null,{"$f":"Cálculo!$G$152","v":3.6369964245106647}]
["SP","São Paulo","Votorantim","ARSESP","Naturgy SPS","Residencial","Mensal",0,1,null,{"$f":"Cálculo!$H$130","v":26.458686255421735}]
["SP","São Paulo","Votorantim","ARSESP","Naturgy SPS","Residencial","Mensal",1.01,7,{"$f":"Cálculo!$G$131","v":7.4210203215017687},{"$f":"Cálculo!$H$131","v":20.682245636741399}]
["SP","São Paulo","Votorantim","ARSESP","Naturgy SPS","Residencial","Mensal",7.01,16,{"$f":"Cálculo!$G$132","v":7.1755851242900146},{"$f":"Cálculo!$H$132","v":22.294001980446502}]
["SP","São Paulo","Votorantim","ARSESP","Naturgy SPS","Residencial","Mensal",16.010000000000002,41,{"$f":"Cálculo!$G$133","v":7.0090471647993526},{"$f":"Cálculo!$H$133","v":24.835165266872067}]
["SP","São Paulo","Votorantim","ARSESP","Naturgy SPS","Residencial","Mensal",41.01,null,{"$f":"Cálculo!$G$134","v":6.9861566953252874},{"$f":"Cálculo!$H$134","v":25.646925761146903}]
["SP","São Paulo","Votorantim","ARSESP","Naturgy SPS","Comercial","Mensal",0,50,{"$f":"Cálculo!$G$137","v":7.6988165272874607},{"$f":"Cálculo!$H$137","v":66.105539381598362}]
["SP","São Paulo","Votorantim","ARSESP","Naturgy SPS","Comercial","Mensal",50.01,500,{"$f":"Cálculo!$G$138","v":6.8314704390510368},{"$f":"Cálculo!$H$138","v":103.29358173526137}]
["SP","São Paulo","Votorantim","ARSESP","Naturgy SPS","Comercial","Mensal",500.01,5000,{"$f":"Cálculo!$G$139","v":6.2429205514120945},{"$f":"Cálculo!$H$139","v":396.04500404736206}]
["SP","São Paulo","Votorantim","ARSESP","Naturgy SPS","Comercial","Mensal",5000.01,null,{"$f":"Cálculo!$G$140","v":4.584700919357874},{"$f":"Cálculo!$H$140","v":8609.3670972510572}]
["SP","São Paulo","Votorantim","ARSESP","Naturgy SPS","Industrial","Mensal",0,5000,{"$f":"Cálculo!$G$143","v":7.3237384732820781},{"$f":"Cálculo!$H$143","v":589.06753201210392}]
["SP","São Paulo","Votorantim","ARSESP","Naturgy SPS","Industrial","Mensal",5000.01,50000,{"$f":"Cálculo!$G$144","v":5.1592285268065821},{"$f":"Cálculo!$H$144","v":11780.938877672519}]
["SP","São Paulo","Votorantim","ARSESP","Naturgy SPS","Industrial","Mensal",50000.01,300000,{"$f":"Cálculo!$G$145","v":4.2336945051689518},{"$f":"Cálculo!$H$145","v":54599.034374214963}]
["SP","São Paulo","Votorantim","ARSESP","Naturgy SPS","Industrial","Mensal",300000.01,500000,{"$f":"Cálculo!$G$146","v":3.9231667044967171},{"$f":"Cálculo!$H$146","v":141957.4987846748}]
["SP","São Paulo","Votorantim","ARSESP","Naturgy SPS","Industrial","Mensal",500000.01,1000000,{"$f":"Cálculo!$G$147","v":3.7671663373933297},{"$f":"Cálculo!$H$147","v":156922.00938051022}]
["SP","São Paulo","Votorantim","ARSESP","Naturgy SPS","Industrial","Mensal",1000000.01,3000000,{"$f":"Cálculo!$G$148","v":3.6735915287641614},{"$f":"Cálculo!$H$148","v":168937.48821780394}]
["SP","São Paulo","Votorantim","ARSESP","Naturgy SPS","Industrial","Mensal",3000000.01,null,{"$f":"Cálculo!$G$149","v":3.6313552773076965},{"$f":"Cálculo!$H$149","v":216355.6774950189}]
["SP","São Paulo","Votorantim","ARSESP","Naturgy SPS","GNV","Faixa Única",null,null,{"$f":"Cálculo!$G$152","v":3.6369964245106647}]
["SP","São Paulo","Agudos","ARSESP","GÁS BRASILIANO","Residencial","Mensal",0,1,{"$f":"Cálculo!$G$100","v":2.9154684032646592},{"$f":"Cálculo!$H$100","v":35.317463823377523}]
["SP","São Paulo","Agudos","ARSESP","GÁS BRASILIANO","Residencial","Mensal",1.01,6,{"$f":"Cálculo!$G$101","v":3.2626760136332722},{"$f":"Cálculo!$H$101","v":35.317463823377523}]
["SP","São Paulo","Agudos","ARSESP","GÁS BRASILIANO","Residencial","Mensal",6.01,12,{"$f":"Cálculo!$G$102","v":8.8728622007636986},{"$f":"Cálculo!$H$102","v":35.317463823377523}]
["SP","São Paulo","Agudos","ARSESP","GÁS BRASILIANO","Residencial","Mensal",12.01,40,{"$f":"Cálculo!$G$103","v":8.9498159191564675},{"$f":"Cálculo!$H$103","v":35.317463823377523}]
["SP","São Paulo","Agudos","ARSESP","GÁS BRASILIANO","Residencial","Mensal",40.01,null,{"$f":"Cálculo!$G$104","v":9.0543130240593293},{"$f":"Cálculo!$H$104","v":35.317463823377523}]
["SP","São Paulo","Agudos","ARSESP","GÁS BRASILIANO","Comercial","Mensal",0,50,{"$f":"Cálculo!$G$107","v":7.1316241758993373},{"$f":"Cálculo!$H$107","v":59.376162530508445}]
["SP","São Paulo","Agudos","ARSESP","GÁS BRASILIANO","Comercial","Mensal",50.01,150,{"$f":"Cálculo!$G$108","v":6.9355251933077424},{"$f":"Cálculo!$H$108","v":96.458323080570381}]
["SP","São Paulo","Agudos","ARSESP","GÁS BRASILIANO","Comercial","Mensal",150.01,500,{"$f":"Cálculo!$G$109","v":6.7430273685030668},{"$f":"Cálculo!$H$109","v":151.55215488765796}]
["SP","São Paulo","Agudos","ARSESP","GÁS BRASILIANO","Comercial","Mensal",500.01,2000,{"$f":"Cálculo!$G$110","v":6.4025738407397181},{"$f":"Cálculo!$H$110","v":351.37464757255714}]
["SP","São Paulo","Agudos","ARSESP","GÁS BRASILIANO","Comercial","Mensal",2000.01,5000,{"$f":"Cálculo!$G$111","v":5.7815217687887008},{"$f":"Cálculo!$H$111","v":1795.9200941018896}]
["SP","São Paulo","Agudos","ARSESP","GÁS BRASILIANO","Comercial","Mensal",5000.01,null,{"$f":"Cálculo!$G$112","v":5.0011175824180816},{"$f":"Cálculo!$H$112","v":6161.4974444428753}]
["SP","São Paulo","Agudos","ARSESP","GÁS BRASILIANO","Industrial","Mensal",0,3000,{"$f":"Cálculo!$G$115","v":5.5322183563520557},{"$f":"Cálculo!$H$115","v":403.53908281334856}]
["SP","São Paulo","Agudos","ARSESP","GÁS BRASILIANO","Industrial","Mensal",3000.01,7000,{"$f":"Cálculo!$G$116","v":5.2029577116938235},{"$f":"Cálculo!$H$116","v":403.53908281334856}]
["SP","São Paulo","Agudos","ARSESP","GÁS BRASILIANO","Industrial","Mensal",7000.01,15000,{"$f":"Cálculo!$G$117","v":4.9005039867784115},{"$f":"Cálculo!$H$117","v":403.53908281334856}]
["SP","São Paulo","Agudos","ARSESP","GÁS BRASILIANO","Industrial","Mensal",15000.01,45000,{"$f":"Cálculo!$G$118","v":4.7805763736974223},{"$f":"Cálculo!$H$118","v":403.53908281334856}]
["SP","São Paulo","Agudos","ARSESP","GÁS BRASILIANO","Industrial","Mensal",45000.01,250000,{"$f":"Cálculo!$G$119","v":4.1274644680804879},{"$f":"Cálculo!$H$119","v":2322.3408923166967}]
["SP","São Paulo","Agudos","ARSESP","GÁS BRASILIANO","Industrial","Mensal",250000.01,500000,{"$f":"Cálculo!$G$120","v":3.9329807712260512},{"$f":"Cálculo!$H$120","v":10556.086408970552}]
["SP","São Paulo","Agudos","ARSESP","GÁS BRASILIANO","Industrial","Mensal",500000.01,1000000,{"$f":"Cálculo!$G$121","v":3.7125277973417266},{"$f":"Cálculo!$H$121","v":14778.511560842897}]
["SP","São Paulo","Agudos","ARSESP","GÁS BRASILIANO","Industrial","Mensal",1000000.01,null,{"$f":"Cálculo!$G$122","v":3.6790856179065723},{"$f":"Cálculo!$H$122","v":19284.876416038765}]
["SP","São Paulo","Agudos","ARSESP","GÁS BRASILIANO","GNV","Faixa Única",null,null,{"$f":"Cálculo!$G$125","v":3.5752873329074797}]
["SP","São Paulo","Araraquara","ARSESP","GÁS BRASILIANO","Residencial","Mensal",0,1,{"$f":"Cálculo!$G$100","v":2.9154684032646592},{"$f":"Cálculo!$H$100","v":35.317463823377523}]
["SP","São Paulo","Araraquara","ARSESP","GÁS BRASILIANO","Residencial","Mensal",1.01,6,{"$f":"Cálculo!$G$101","v":3.2626760136332722},{"$f":"Cálculo!$H$101","v":35.317463823377523}]
["SP","São Paulo","Araraquara","ARSESP","GÁS BRASILIANO","Residencial","Mensal",6.01,12,{"$f":"Cálculo!$G$102","v":8.8728622007636986},{"$f":"Cálculo!$H$102","v":35.317463823377523}]
["SP","São Paulo","Araraquara","ARSESP","GÁS BRASILIANO","Residencial","Mensal",12.01,40,{"$f":"Cálculo!$G$103","v":8.9498159191564675},{"$f":"Cálculo!$H$103","v":35.317463823377523}]
["SP","São Paulo","Araraquara","ARSESP","GÁS BRASILIANO","Residencial","Mensal",40.01,null,{"$f":"Cálculo!$G$104","v":9.0543130240593293},{"$f":"Cálculo!$H$104","v":35.317463823377523}]
["SP","São Paulo","Araraquara","ARSESP","GÁS BRASILIANO","Comercial","Mensal",0,50,{"$f":"Cálculo!$G$107","v":7.1316241758993373},{"$f":"Cálculo!$H$107","v":59.376162530508445}]
["SP","São Paulo","Araraquara","ARSESP","GÁS BRASILIANO","Comercial","Mensal",50.01,150,{"$f":"Cálculo!$G$108","v":6.9355251933077424},{"$f":"Cálculo!$H$108","v":96.458323080570381}]
["SP","São Paulo","Araraquara","ARSESP","GÁS BRASILIANO","Comercial","Mensal",150.01,500,{"$f":"Cálculo!$G$109","v":6.7430273685030668},{"$f":"Cálculo!$H$109","v":151.55215488765796}]
["SP","São Paulo","Araraquara","ARSESP","GÁS BRASILIANO","Comercial","Mensal",500.01,2000,{"$f":"Cálculo!$G$110","v":6.4025738407397181},{"$f":"Cálculo!$H$110","v":351.37464757255714}]
["SP","São Paulo","Araraquara","ARSESP","GÁS BRASILIANO","Comercial","Mensal",2000.01,5000,{"$f":"Cálculo!$G$111","v":5.7815217687887008},{"$f":"Cálculo!$H$111","v":1795.9200941018896}]
["SP","São Paulo","Araraquara","ARSESP","GÁS BRASILIANO","Comercial","Mensal",5000.01,null,{"$f":"Cálculo!$G$112","v":5.0011175824180816},{"$f":"Cálculo!$H$112","v":6161.4974444428753}]
["SP","São Paulo","Araraquara","ARSESP","GÁS BRASILIANO","Industrial","Mensal",0,3000,{"$f":"Cálculo!$G$115","v":5.5322183563520557},{"$f":"Cálculo!$H$115","v":403.53908281334856}]
["SP","São Paulo","Araraquara","ARSESP","GÁS BRASILIANO","Industrial","Mensal",3000.01,7000,{"$f":"Cálculo!$G$116","v":5.2029577116938235},{"$f":"Cálculo!$H$116","v":403.53908281334856}]
["SP","São Paulo","Araraquara","ARSESP","GÁS BRASILIANO","Industrial","Mensal",7000.01,15000,{"$f":"Cálculo!$G$117","v":4.9005039867784115},{"$f":"Cálculo!$H$117","v":403.53908281334856}]
["SP","São Paulo","Araraquara","ARSESP","GÁS BRASILIANO","Industrial","Mensal",15000.01,45000,{"$f":"Cálculo!$G$118","v":4.7805763736974223},{"$f":"Cálculo!$H$118","v":403.53908281334856}]
["SP","São Paulo","Araraquara","ARSESP","GÁS BRASILIANO","Industrial","Mensal",45000.01,250000,{"$f":"Cálculo!$G$119","v":4.1274644680804879},{"$f":"Cálculo!$H$119","v":2322.3408923166967}]
["SP","São Paulo","Araraquara","ARSESP","GÁS BRASILIANO","Industrial","Mensal",250000.01,500000,{"$f":"Cálculo!$G$120","v":3.9329807712260512},{"$f":"Cálculo!$H$120","v":10556.086408970552}]
["SP","São Paulo","Araraquara","ARSESP","GÁS BRASILIANO","Industrial","Mensal",500000.01,1000000,{"$f":"Cálculo!$G$121","v":3.7125277973417266},{"$f":"Cálculo!$H$121","v":14778.511560842897}]
["SP","São Paulo","Araraquara","ARSESP","GÁS BRASILIANO","Industrial","Mensal",1000000.01,null,{"$f":"Cálculo!$G$122","v":3.6790856179065723},{"$f":"Cálculo!$H$122","v":19284.876416038765}]
["SP","São Paulo","Araraquara","ARSESP","GÁS BRASILIANO","GNV","Faixa Única",null,null,{"$f":"Cálculo!$G$125","v":3.5752873329074797}]
["SP","São Paulo","Catanduva","ARSESP","GÁS BRASILIANO","Residencial","Mensal",0,1,{"$f":"Cálculo!$G$100","v":2.9154684032646592},{"$f":"Cálculo!$H$100","v":35.317463823377523}]
["SP","São Paulo","Catanduva","ARSESP","GÁS BRASILIANO","Residencial","Mensal",1.01,6,{"$f":"Cálculo!$G$101","v":3.2626760136332722},{"$f":"Cálculo!$H$101","v":35.317463823377523}]
["SP","São Paulo","Catanduva","ARSESP","GÁS BRASILIANO","Residencial","Mensal",6.01,12,{"$f":"Cálculo!$G$102","v":8.8728622007636986},{"$f":"Cálculo!$H$102","v":35.317463823377523}]
["SP","São Paulo","Catanduva","ARSESP","GÁS BRASILIANO","Residencial","Mensal",12.01,40,{"$f":"Cálculo!$G$103","v":8.9498159191564675},{"$f":"Cálculo!$H$103","v":35.317463823377523}]
["SP","São Paulo","Catanduva","ARSESP","GÁS BRASILIANO","Residencial","Mensal",40.01,null,{"$f":"Cálculo!$G$104","v":9.0543130240593293},{"$f":"Cálculo!$H$104","v":35.317463823377523}]
["SP","São Paulo","Catanduva","ARSESP","GÁS BRASILIANO","Comercial","Mensal",0,50,{"$f":"Cálculo!$G$107","v":7.1316241758993373},{"$f":"Cálculo!$H$107","v":59.376162530508445}]
["SP","São Paulo","Catanduva","ARSESP","GÁS BRASILIANO","Comercial","Mensal",50.01,150,{"$f":"Cálculo!$G$108","v":6.9355251933077424},{"$f":"Cálculo!$H$108","v":96.458323080570381}]
["SP","São Paulo","Catanduva","ARSESP","GÁS BRASILIANO","Comercial","Mensal",150.01,500,{"$f":"Cálculo!$G$109","v":6.7430273685030668},{"$f":"Cálculo!$H$109","v":151.55215488765796}]
["SP","São Paulo","Catanduva","ARSESP","GÁS BRASILIANO","Comercial","Mensal",500.01,2000,{"$f":"Cálculo!$G$110","v":6.4025738407397181},{"$f":"Cálculo!$H$110","v":351.37464757255714}]
["SP","São Paulo","Catanduva","ARSESP","GÁS BRASILIANO","Comercial","Mensal",2000.01,5000,{"$f":"Cálculo!$G$111","v":5.7815217687887008},{"$f":"Cálculo!$H$111","v":1795.9200941018896}]
["SP","São Paulo","Catanduva","ARSESP","GÁS BRASILIANO","Comercial","Mensal",5000.01,null,{"$f":"Cálculo!$G$112","v":5.0011175824180816},{"$f":"Cálculo!$H$112","v":6161.4974444428753}]
["SP","São Paulo","Catanduva","ARSESP","GÁS BRASILIANO","Industrial","Mensal",0,3000,{"$f":"Cálculo!$G$115","v":5.5322183563520557},{"$f":"Cálculo!$H$115","v":403.53908281334856}]
["SP","São Paulo","Catanduva","ARSESP","GÁS BRASILIANO","Industrial","Mensal",3000.01,7000,{"$f":"Cálculo!$G$116","v":5.2029577116938235},{"$f":"Cálculo!$H$116","v":403.53908281334856}]
["SP","São Paulo","Catanduva","ARSESP","GÁS BRASILIANO","Industrial","Mensal",7000.01,15000,{"$f":"Cálculo!$G$117","v":4.9005039867784115},{"$f":"Cálculo!$H$117","v":403.53908281334856}]
["SP","São Paulo","Catanduva","ARSESP","GÁS BRASILIANO","Industrial","Mensal",15000.01,45000,{"$f":"Cálculo!$G$118","v":4.7805763736974223},{"$f":"Cálculo!$H$118","v":403.53908281334856}]
["SP","São Paulo","Catanduva","ARSESP","GÁS BRASILIANO","Industrial","Mensal",45000.01,250000,{"$f":"Cálculo!$G$119","v":4.1274644680804879},{"$f":"Cálculo!$H$119","v":2322.3408923166967}]
["SP","São Paulo","Catanduva","ARSESP","GÁS BRASILIANO","Industrial","Mensal",250000.01,500000,{"$f":"Cálculo!$G$120","v":3.9329807712260512},{"$f":"Cálculo!$H$120","v":10556.086408970552}]
["SP","São Paulo","Catanduva","ARSESP","GÁS BRASILIANO","Industrial","Mensal",500000.01,1000000,{"$f":"Cálculo!$G$121","v":3.7125277973417266},{"$f":"Cálculo!$H$121","v":14778.511560842897}]
["SP","São Paulo","Catanduva","ARSESP","GÁS BRASILIANO","Industrial","Mensal",1000000.01,null,{"$f":"Cálculo!$G$122","v":3.6790856179065723},{"$f":"Cálculo!$H$122","v":19284.876416038765}]
["SP","São Paulo","Catanduva","ARSESP","GÁS BRASILIANO","GNV","Faixa Única",null,null,{"$f":"Cálculo!$G$125","v":3.5752873329074797}]
["SP","São Paulo","Descalvado","ARSESP","GÁS BRASILIANO","Residencial","Mensal",0,1,{"$f":"Cálculo!$G$100","v":2.9154684032646592},{"$f":"Cálculo!$H$100","v":35.317463823377523}]
["SP","São Paulo","Descalvado","ARSESP","GÁS BRASILIANO","Residencial","Mensal",1.01,6,{"$f":"Cálculo!$G$101","v":3.2626760136332722},{"$f":"Cálculo!$H$101","v":35.317463823377523}]
["SP","São Paulo","Descalvado","ARSESP","GÁS BRASILIANO","Residencial","Mensal",6.01,12,{"$f":"Cálculo!$G$102","v":8.8728622007636986},{"$f":"Cálculo!$H$102","v":35.317463823377523}]
["SP","São Paulo","Descalvado","ARSESP","GÁS BRASILIANO","Residencial","Mensal",12.01,40,{"$f":"Cálculo!$G$103","v":8.9498159191564675},{"$f":"Cálculo!$H$103","v":35.317463823377523}]
["SP","São Paulo","Descalvado","ARSESP","GÁS BRASILIANO","Residencial","Mensal",40.01,null,{"$f":"Cálculo!$G$104","v":9.0543130240593293},{"$f":"Cálculo!$H$104","v":35.317463823377523}]
["SP","São Paulo","Descalvado","ARSESP","GÁS BRASILIANO","Comercial","Mensal",0,50,{"$f":"Cálculo!$G$107","v":7.1316241758993373},{"$f":"Cálculo!$H$107","v":59.376162530508445}]
["SP","São Paulo","Descalvado","ARSESP","GÁS BRASILIANO","Comercial","Mensal",50.01,150,{"$f":"Cálculo!$G$108","v":6.9355251933077424},{"$f":"Cálculo!$H$108","v":96.458323080570381}]
["SP","São Paulo","Descalvado","ARSESP","GÁS BRASILIANO","Comercial","Mensal",150.01,500,{"$f":"Cálculo!$G$109","v":6.7430273685030668},{"$f":"Cálculo!$H$109","v":151.55215488765796}]
["SP","São Paulo","Descalvado","ARSESP","GÁS BRASILIANO","Comercial","Mensal",500.01,2000,{"$f":"Cálculo!$G$110","v":6.4025738407397181},{"$f":"Cálculo!$H$110","v":351.37464757255714}]
["SP","São Paulo","Descalvado","ARSESP","GÁS BRASILIANO","Comercial","Mensal",2000.01,5000,{"$f":"Cálculo!$G$111","v":5.7815217687887008},{"$f":"Cálculo!$H$111","v":1795.9200941018896}]
["SP","São Paulo","Descalvado","ARSESP","GÁS BRASILIANO","Comercial","Mensal",5000.01,null,{"$f":"Cálculo!$G$112","v":5.0011175824180816},{"$f":"Cálculo!$H$112","v":6161.4974444428753}]
["SP","São Paulo","Descalvado","ARSESP","GÁS BRASILIANO","Industrial","Mensal",0,3000,{"$f":"Cálculo!$G$115","v":5.5322183563520557},{"$f":"Cálculo!$H$115","v":403.53908281334856}]
["SP","São Paulo","Descalvado","ARSESP","GÁS BRASILIANO","Industrial","Mensal",3000.01,7000,{"$f":"Cálculo!$G$116","v":5.2029577116938235},{"$f":"Cálculo!$H$116","v":403.53908281334856}]
["SP","São Paulo","Descalvado","ARSESP","GÁS BRASILIANO","Industrial","Mensal",7000.01,15000,{"$f":"Cálculo!$G$117","v":4.9005039867784115},{"$f":"Cálculo!$H$117","v":403.53908281334856}]
["SP","São Paulo","Descalvado","ARSESP","GÁS BRASILIANO","Industrial","Mensal",15000.01,45000,{"$f":"Cálculo!$G$118","v":4.7805763736974223},{"$f":"Cálculo!$H$118","v":403.53908281334856}]
["SP","São Paulo","Descalvado","ARSESP","GÁS BRASILIANO","Industrial","Mensal",45000.01,250000,{"$f":"Cálculo!$G$119","v":4.1274644680804879},{"$f":"Cálculo!$H$119","v":2322.3408923166967}]
["SP","São Paulo","Descalvado","ARSESP","GÁS BRASILIANO","Industrial","Mensal",250000.01,500000,{"$f":"Cálculo!$G$120","v":3.9329807712260512},{"$f":"Cálculo!$H$120","v":10556.086408970552}]
["SP","São Paulo","Descalvado","ARSESP","GÁS BRASILIANO","Industrial","Mensal",500000.01,1000000,{"$f":"Cálculo!$G$121","v":3.7125277973417266},{"$f":"Cálculo!$H$121","v":14778.511560842897}]
["SP","São Paulo","Descalvado","ARSESP","GÁS BRASILIANO","Industrial","Mensal",1000000.01,null,{"$f":"Cálculo!$G$122","v":3.6790856179065723},{"$f":"Cálculo!$H$122","v":19284.876416038765}]
["SP","São Paulo","Descalvado","ARSESP","GÁS BRASILIANO","GNV","Faixa Única",null,null,{"$f":"Cálculo!$G$125","v":3.5752873329074797}]
["SP","São Paulo","Igaraçu do Tietê","ARSESP","GÁS BRASILIANO","Residencial","Mensal",0,1,{"$f":"Cálculo!$G$100","v":2.9154684032646592},{"$f":"Cálculo!$H$100","v":35.317463823377523}]
["SP","São Paulo","Igaraçu do Tietê","ARSESP","GÁS BRASILIANO","Residencial","Mensal",1.01,6,{"$f":"Cálculo!$G$101","v":3.2626760136332722},{"$f":"Cálculo!$H$101","v":35.317463823377523}]
["SP","São Paulo","Igaraçu do Tietê","ARSESP","GÁS BRASILIANO","Residencial","Mensal",6.01,12,{"$f":"Cálculo!$G$102","v":8.8728622007636986},{"$f":"Cálculo!$H$102","v":35.317463823377523}]
["SP","São Paulo","Igaraçu do Tietê","ARSESP","GÁS BRASILIANO","Residencial","Mensal",12.01,40,{"$f":"Cálculo!$G$103","v":8.9498159191564675},{"$f":"Cálculo!$H$103","v":35.317463823377523}]
["SP","São Paulo","Igaraçu do Tietê","ARSESP","GÁS BRASILIANO","Residencial","Mensal",40.01,null,{"$f":"Cálculo!$G$104","v":9.0543130240593293},{"$f":"Cálculo!$H$104","v":35.317463823377523}]
["SP","São Paulo","Igaraçu do Tietê","ARSESP","GÁS BRASILIANO","Comercial","Mensal",0,50,{"$f":"Cálculo!$G$107","v":7.1316241758993373},{"$f":"Cálculo!$H$107","v":59.376162530508445}]
["SP","São Paulo","Igaraçu do Tietê","ARSESP","GÁS BRASILIANO","Comercial","Mensal",50.01,150,{"$f":"Cálculo!$G$108","v":6.9355251933077424},{"$f":"Cálculo!$H$108","v":96.458323080570381}]
["SP","São Paulo","Igaraçu do Tietê","ARSESP","GÁS BRASILIANO","Comercial","Mensal",150.01,500,{"$f":"Cálculo!$G$109","v":6.7430273685030668},{"$f":"Cálculo!$H$109","v":151.55215488765796}]
["SP","São Paulo","Igaraçu do Tietê","ARSESP","GÁS BRASILIANO","Comercial","Mensal",500.01,2000,{"$f":"Cálculo!$G$110","v":6.4025738407397181},{"$f":"Cálculo!$H$110","v":351.37464757255714}]
["SP","São Paulo","Igaraçu do Tietê","ARSESP","GÁS BRASILIANO","Comercial","Mensal",2000.01,5000,{"$f":"Cálculo!$G$111","v":5.7815217687887008},{"$f":"Cálculo!$H$111","v":1795.9200941018896}]
["SP","São Paulo","Igaraçu do Tietê","ARSESP","GÁS BRASILIANO","Comercial","Mensal",5000.01,null,{"$f":"Cálculo!$G$112","v":5.0011175824180816},{"$f":"Cálculo!$H$112","v":6161.4974444428753}]
["SP","São Paulo","Igaraçu do Tietê","ARSESP","GÁS BRASILIANO","Industrial","Mensal",0,3000,{"$f":"Cálculo!$G$115","v":5.5322183563520557},{"$f":"Cálculo!$H$115","v":403.53908281334856}]
["SP","São Paulo","Igaraçu do Tietê","ARSESP","GÁS BRASILIANO","Industrial","Mensal",3000.01,7000,{"$f":"Cálculo!$G$116","v":5.2029577116938235},{"$f":"Cálculo!$H$116","v":403.53908281334856}]
["SP","São Paulo","Igaraçu do Tietê","ARSESP","GÁS BRASILIANO","Industrial","Mensal",7000.01,15000,{"$f":"Cálculo!$G$117","v":4.9005039867784115},{"$f":"Cálculo!$H$117","v":403.53908281334856}]
["SP","São Paulo","Igaraçu do Tietê","ARSESP","GÁS BRASILIANO","Industrial","Mensal",15000.01,45000,{"$f":"Cálculo!$G$118","v":4.7805763736974223},{"$f":"Cálculo!$H$118","v":403.53908281334856}]
["SP","São Paulo","Igaraçu do Tietê","ARSESP","GÁS BRASILIANO","Industrial","Mensal",45000.01,250000,{"$f":"Cálculo!$G$119","v":4.1274644680804879},{"$f":"Cálculo!$H$119","v":2322.3408923166967}]
["SP","São Paulo","Igaraçu do Tietê","ARSESP","GÁS BRASILIANO","Industrial","Mensal",250000.01,500000,{"$f":"Cálculo!$G$120","v":3.9329807712260512},{"$f":"Cálculo!$H$120","v":10556.086408970552}]
["SP","São Paulo","Igaraçu do Tietê","ARSESP","GÁS BRASILIANO","Industrial","Mensal",500000.01,1000000,{"$f":"Cálculo!$G$121","v":3.7125277973417266},{"$f":"Cálculo!$H$121","v":14778.511560842897}]
["SP","São Paulo","Igaraçu do Tietê","ARSESP","GÁS BRASILIANO","Industrial","Mensal",1000000.01,null,{"$f":"Cálculo!$G$122","v":3.6790856179065723},{"$f":"Cálculo!$H$122","v":19284.876416038765}]
["SP","São Paulo","Igaraçu do Tietê","ARSESP","GÁS BRASILIANO","GNV","Faixa Única",null,null,{"$f":"Cálculo!$G$125","v":3.5752873329074797}]
["SP","São Paulo","Lençóis Paulista","ARSESP","GÁS BRASILIANO","Residencial","Mensal",0,1,{"$f":"Cálculo!$G$100","v":2.9154684032646592},{"$f":"Cálculo!$H$100","v":35.317463823377523}]
["SP","São Paulo","Lençóis Paulista","ARSESP","GÁS BRASILIANO","Residencial","Mensal",1.01,6,{"$f":"Cálculo!$G$101","v":3.2626760136332722},{"$f":"Cálculo!$H$101","v":35.317463823377523}]
["SP","São Paulo","Lençóis Paulista","ARSESP","GÁS BRASILIANO","Residencial","Mensal",6.01,12,{"$f":"Cálculo!$G$102","v":8.8728622007636986},{"$f":"Cálculo!$H$102","v":35.317463823377523}]
["SP","São Paulo","Lençóis Paulista","ARSESP","GÁS BRASILIANO","Residencial","Mensal",12.01,40,{"$f":"Cálculo!$G$103","v":8.9498159191564675},{"$f":"Cálculo!$H$103","v":35.317463823377523}]
["SP","São Paulo","Lençóis Paulista","ARSESP","GÁS BRASILIANO","Residencial","Mensal",40.01,null,{"$f":"Cálculo!$G$104","v":9.0543130240593293},{"$f":"Cálculo!$H$104","v":35.317463823377523}]
["SP","São Paulo","Lençóis Paulista","ARSESP","GÁS BRASILIANO","Comercial","Mensal",0,50,{"$f":"Cálculo!$G$107","v":7.1316241758993373},{"$f":"Cálculo!$H$107","v":59.376162530508445}]
["SP","São Paulo","Lençóis Paulista","ARSESP","GÁS BRASILIANO","Comercial","Mensal",50.01,150,{"$f":"Cálculo!$G$108","v":6.9355251933077424},{"$f":"Cálculo!$H$108","v":96.458323080570381}]
["SP","São Paulo","Lençóis Paulista","ARSESP","GÁS BRASILIANO","Comercial","Mensal",150.01,500,{"$f":"Cálculo!$G$109","v":6.7430273685030668},{"$f":"Cálculo!$H$109","v":151.55215488765796}]
["SP","São Paulo","Lençóis Paulista","ARSESP","GÁS BRASILIANO","Comercial","Mensal",500.01,2000,{"$f":"Cálculo!$G$110","v":6.4025738407397181},{"$f":"Cálculo!$H$110","v":351.37464757255714}]
["SP","São Paulo","Lençóis Paulista","ARSESP","GÁS BRASILIANO","Comercial","Mensal",2000.01,5000,{"$f":"Cálculo!$G$111","v":5.7815217687887008},{"$f":"Cálculo!$H$111","v":1795.9200941018896}]
["SP","São Paulo","Lençóis Paulista","ARSESP","GÁS BRASILIANO","Comercial","Mensal",5000.01,null,{"$f":"Cálculo!$G$112","v":5.0011175824180816},{"$f":"Cálculo!$H$112","v":6161.4974444428753}]
["SP","São Paulo","Lençóis Paulista","ARSESP","GÁS BRASILIANO","Industrial","Mensal",0,3000,{"$f":"Cálculo!$G$115","v":5.5322183563520557},{"$f":"Cálculo!$H$115","v":403.53908281334856}]
["SP","São Paulo","Lençóis Paulista","ARSESP","GÁS BRASILIANO","Industrial","Mensal",3000.01,7000,{"$f":"Cálculo!$G$116","v":5.2029577116938235},{"$f":"Cálculo!$H$116","v":403.53908281334856}]
["SP","São Paulo","Lençóis Paulista","ARSESP","GÁS BRASILIANO","Industrial","Mensal",7000.01,15000,{"$f":"Cálculo!$G$117","v":4.9005039867784115},{"$f":"Cálculo!$H$117","v":403.53908281334856}]
["SP","São Paulo","Lençóis Paulista","ARSESP","GÁS BRASILIANO","Industrial","Mensal",15000.01,45000,{"$f":"Cálculo!$G$118","v":4.7805763736974223},{"$f":"Cálculo!$H$118","v":403.53908281334856}]
["SP","São Paulo","Lençóis Paulista","ARSESP","GÁS BRASILIANO","Industrial","Mensal",45000.01,250000,{"$f":"Cálculo!$G$119","v":4.1274644680804879},{"$f":"Cálculo!$H$119","v":2322.3408923166967}]
["SP","São Paulo","Lençóis Paulista","ARSESP","GÁS BRASILIANO","Industrial","Mensal",250000.01,500000,{"$f":"Cálculo!$G$120","v":3.9329807712260512},{"$f":"Cálculo!$H$120","v":10556.086408970552}]
["SP","São Paulo","Lençóis Paulista","ARSESP","GÁS BRASILIANO","Industrial","Mensal",500000.01,1000000,{"$f":"Cálculo!$G$121","v":3.7125277973417266},{"$f":"Cálculo!$H$121","v":14778.511560842897}]
["SP","São Paulo","Lençóis Paulista","ARSESP","GÁS BRASILIANO","Industrial","Mensal",1000000.01,null,{"$f":"Cálculo!$G$122","v":3.6790856179065723},{"$f":"Cálculo!$H$122","v":19284.876416038765}]
["SP","São Paulo","Lençóis Paulista","ARSESP","GÁS BRASILIANO","GNV","Faixa Única",null,null,{"$f":"Cálculo!$G$125","v":3.5752873329074797}]
["SP","São Paulo","Marília","ARSESP","GÁS BRASILIANO","Residencial","Mensal",0,1,{"$f":"Cálculo!$G$100","v":2.9154684032646592},{"$f":"Cálculo!$H$100","v":35.317463823377523}]
["SP","São Paulo","Marília","ARSESP","GÁS BRASILIANO","Residencial","Mensal",1.01,6,{"$f":"Cálculo!$G$101","v":3.2626760136332722},{"$f":"Cálculo!$H$101","v":35.317463823377523}]
["SP","São Paulo","Marília","ARSESP","GÁS BRASILIANO","Residencial","Mensal",6.01,12,{"$f":"Cálculo!$G$102","v":8.8728622007636986},{"$f":"Cálculo!$H$102","v":35.317463823377523}]
["SP","São Paulo","Marília","ARSESP","GÁS BRASILIANO","Residencial","Mensal",12.01,40,{"$f":"Cálculo!$G$103","v":8.9498159191564675},{"$f":"Cálculo!$H$103","v":35.317463823377523}]
["SP","São Paulo","Marília","ARSESP","GÁS BRASILIANO","Residencial","Mensal",40.01,null,{"$f":"Cálculo!$G$104","v":9.0543130240593293},{"$f":"Cálculo!$H$104","v":35.317463823377523}]
["SP","São Paulo","Marília","ARSESP","GÁS BRASILIANO","Comercial","Mensal",0,50,{"$f":"Cálculo!$G$107","v":7.1316241758993373},{"$f":"Cálculo!$H$107","v":59.376162530508445}]
["SP","São Paulo","Marília","ARSESP","GÁS BRASILIANO","Comercial","Mensal",50.01,150,{"$f":"Cálculo!$G$108","v":6.9355251933077424},{"$f":"Cálculo!$H$108","v":96.458323080570381}]
["SP","São Paulo","Marília","ARSESP","GÁS BRASILIANO","Comercial","Mensal",150.01,500,{"$f":"Cálculo!$G$109","v":6.7430273685030668},{"$f":"Cálculo!$H$109","v":151.55215488765796}]
["SP","São Paulo","Marília","ARSESP","GÁS BRASILIANO","Comercial","Mensal",500.01,2000,{"$f":"Cálculo!$G$110","v":6.4025738407397181},{"$f":"Cálculo!$H$110","v":351.37464757255714}]
["SP","São Paulo","Marília","ARSESP","GÁS BRASILIANO","Comercial","Mensal",2000.01,5000,{"$f":"Cálculo!$G$111","v":5.7815217687887008},{"$f":"Cálculo!$H$111","v":1795.9200941018896}]
["SP","São Paulo","Marília","ARSESP","GÁS BRASILIANO","Comercial","Mensal",5000.01,null,{"$f":"Cálculo!$G$112","v":5.0011175824180816},{"$f":"Cálculo!$H$112","v":6161.4974444428753}]
["SP","São Paulo","Marília","ARSESP","GÁS BRASILIANO","Industrial","Mensal",0,3000,{"$f":"Cálculo!$G$115","v":5.5322183563520557},{"$f":"Cálculo!$H$115","v":403.53908281334856}]
["SP","São Paulo","Marília","ARSESP","GÁS BRASILIANO","Industrial","Mensal",3000.01,7000,{"$f":"Cálculo!$G$116","v":5.2029577116938235},{"$f":"Cálculo!$H$116","v":403.53908281334856}]
["SP","São Paulo","Marília","ARSESP","GÁS BRASILIANO","Industrial","Mensal",7000.01,15000,{"$f":"Cálculo!$G$117","v":4.9005039867784115},{"$f":"Cálculo!$H$117","v":403.53908281334856}]
["SP","São Paulo","Marília","ARSESP","GÁS BRASILIANO","Industrial","Mensal",15000.01,45000,{"$f":"Cálculo!$G$118","v":4.7805763736974223},{"$f":"Cálculo!$H$118","v":403.53908281334856}]
["SP","São Paulo","Marília","ARSESP","GÁS BRASILIANO","Industrial","Mensal",45000.01,250000,{"$f":"Cálculo!$G$119","v":4.1274644680804879},{"$f":"Cálculo!$H$119","v":2322.3408923166967}]
["SP","São Paulo","Marília","ARSESP","GÁS BRASILIANO","Industrial","Mensal",250000.01,500000,{"$f":"Cálculo!$G$120","v":3.9329807712260512},{"$f":"Cálculo!$H$120","v":10556.086408970552}]
["SP","São Paulo","Marília","ARSESP","GÁS BRASILIANO","Industrial","Mensal",500000.01,1000000,{"$f":"Cálculo!$G$121","v":3.7125277973417266},{"$f":"Cálculo!$H$121","v":14778.511560842897}]
["SP","São Paulo","Marília","ARSESP","GÁS BRASILIANO","Industrial","Mensal",1000000.01,null,{"$f":"Cálculo!$G$122","v":3.6790856179065723},{"$f":"Cálculo!$H$122","v":19284.876416038765}]
["SP","São Paulo","Marília","ARSESP","GÁS BRASILIANO","GNV","Faixa Única",null,null,{"$f":"Cálculo!$G$125","v":3.5752873329074797}]
["SP","São Paulo","Pederneiras","ARSESP","GÁS BRASILIANO","Residencial","Mensal",0,1,{"$f":"Cálculo!$G$100","v":2.9154684032646592},{"$f":"Cálculo!$H$100","v":35.317463823377523}]
["SP","São Paulo","Pederneiras","ARSESP","GÁS BRASILIANO","Residencial","Mensal",1.01,6,{"$f":"Cálculo!$G$101","v":3.2626760136332722},{"$f":"Cálculo!$H$101","v":35.317463823377523}]
["SP","São Paulo","Pederneiras","ARSESP","GÁS BRASILIANO","Residencial","Mensal",6.01,12,{"$f":"Cálculo!$G$102","v":8.8728622007636986},{"$f":"Cálculo!$H$102","v":35.317463823377523}]
["SP","São Paulo","Pederneiras","ARSESP","GÁS BRASILIANO","Residencial","Mensal",12.01,40,{"$f":"Cálculo!$G$103","v":8.9498159191564675},{"$f":"Cálculo!$H$103","v":35.317463823377523}]
["SP","São Paulo","Pederneiras","ARSESP","GÁS BRASILIANO","Residencial","Mensal",40.01,null,{"$f":"Cálculo!$G$104","v":9.0543130240593293},{"$f":"Cálculo!$H$104","v":35.317463823377523}]
["SP","São Paulo","Pederneiras","ARSESP","GÁS BRASILIANO","Comercial","Mensal",0,50,{"$f":"Cálculo!$G$107","v":7.1316241758993373},{"$f":"Cálculo!$H$107","v":59.376162530508445}]
["SP","São Paulo","Pederneiras","ARSESP","GÁS BRASILIANO","Comercial","Mensal",50.01,150,{"$f":"Cálculo!$G$108","v":6.9355251933077424},{"$f":"Cálculo!$H$108","v":96.458323080570381}]
["SP","São Paulo","Pederneiras","ARSESP","GÁS BRASILIANO","Comercial","Mensal",150.01,500,{"$f":"Cálculo!$G$109","v":6.7430273685030668},{"$f":"Cálculo!$H$109","v":151.55215488765796}]
["SP","São Paulo","Pederneiras","ARSESP","GÁS BRASILIANO","Comercial","Mensal",500.01,2000,{"$f":"Cálculo!$G$110","v":6.4025738407397181},{"$f":"Cálculo!$H$110","v":351.37464757255714}]
["SP","São Paulo","Pederneiras","ARSESP","GÁS BRASILIANO","Comercial","Mensal",2000.01,5000,{"$f":"Cálculo!$G$111","v":5.7815217687887008},{"$f":"Cálculo!$H$111","v":1795.9200941018896}]
["SP","São Paulo","Pederneiras","ARSESP","GÁS BRASILIANO","Comercial","Mensal",5000.01,null,{"$f":"Cálculo!$G$112","v":5.0011175824180816},{"$f":"Cálculo!$H$112","v":6161.4974444428753}]
["SP","São Paulo","Pederneiras","ARSESP","GÁS BRASILIANO","Industrial","Mensal",0,3000,{"$f":"Cálculo!$G$115","v":5.5322183563520557},{"$f":"Cálculo!$H$115","v":403.53908281334856}]
["SP","São Paulo","Pederneiras","ARSESP","GÁS BRASILIANO","Industrial","Mensal",3000.01,7000,{"$f":"Cálculo!$G$116","v":5.2029577116938235},{"$f":"Cálculo!$H$116","v":403.53908281334856}]
["SP","São Paulo","Pederneiras","ARSESP","GÁS BRASILIANO","Industrial","Mensal",7000.01,15000,{"$f":"Cálculo!$G$117","v":4.9005039867784115},{"$f":"Cálculo!$H$117","v":403.53908281334856}]
["SP","São Paulo","Pederneiras","ARSESP","GÁS BRASILIANO","Industrial","Mensal",15000.01,45000,{"$f":"Cálculo!$G$118","v":4.7805763736974223},{"$f":"Cálculo!$H$118","v":403.53908281334856}]
["SP","São Paulo","Pederneiras","ARSESP","GÁS BRASILIANO","Industrial","Mensal",45000.01,250000,{"$f":"Cálculo!$G$119","v":4.1274644680804879},{"$f":"Cálculo!$H$119","v":2322.3408923166967}]
["SP","São Paulo","Pederneiras","ARSESP","GÁS BRASILIANO","Industrial","Mensal",250000.01,500000,{"$f":"Cálculo!$G$120","v":3.9329807712260512},{"$f":"Cálculo!$H$120","v":10556.086408970552}]
["SP","São Paulo","Pederneiras","ARSESP","GÁS BRASILIANO","Industrial","Mensal",500000.01,1000000,{"$f":"Cálculo!$G$121","v":3.7125277973417266},{"$f":"Cálculo!$H$121","v":14778.511560842897}]
["SP","São Paulo","Pederneiras","ARSESP","GÁS BRASILIANO","Industrial","Mensal",1000000.01,null,{"$f":"Cálculo!$G$122","v":3.6790856179065723},{"$f":"Cálculo!$H$122","v":19284.876416038765}]
["SP","São Paulo","Pederneiras","ARSESP","GÁS BRASILIANO","GNV","Faixa Única",null,null,{"$f":"Cálculo!$G$125","v":3.5752873329074797}]
["SP","São Paulo","Ribeirão Preto","ARSESP","GÁS BRASILIANO","Residencial","Mensal",0,1,{"$f":"Cálculo!$G$100","v":2.9154684032646592},{"$f":"Cálculo!$H$100","v":35.317463823377523}]
["SP","São Paulo","Ribeirão Preto","ARSESP","GÁS BRASILIANO","Residencial","Mensal",1.01,6,{"$f":"Cálculo!$G$101","v":3.2626760136332722},{"$f":"Cálculo!$H$101","v":35.317463823377523}]
["SP","São Paulo","Ribeirão Preto","ARSESP","GÁS BRASILIANO","Residencial","Mensal",6.01,12,{"$f":"Cálculo!$G$102","v":8.8728622007636986},{"$f":"Cálculo!$H$102","v":35.317463823377523}]
["SP","São Paulo","Ribeirão Preto","ARSESP","GÁS BRASILIANO","Residencial","Mensal",12.01,40,{"$f":"Cálculo!$G$103","v":8.9498159191564675},{"$f":"Cálculo!$H$103","v":35.317463823377523}]
["SP","São Paulo","Ribeirão Preto","ARSESP","GÁS BRASILIANO","Residencial","Mensal",40.01,null,{"$f":"Cálculo!$G$104","v":9.0543130240593293},{"$f":"Cálculo!$H$104","v":35.317463823377523}]
["SP","São Paulo","Ribeirão Preto","ARSESP","GÁS BRASILIANO","Comercial","Mensal",0,50,{"$f":"Cálculo!$G$107","v":7.1316241758993373},{"$f":"Cálculo!$H$107","v":59.376162530508445}]
["SP","São Paulo","Ribeirão Preto","ARSESP","GÁS BRASILIANO","Comercial","Mensal",50.01,150,{"$f":"Cálculo!$G$108","v":6.9355251933077424},{"$f":"Cálculo!$H$108","v":96.458323080570381}]
["SP","São Paulo","Ribeirão Preto","ARSESP","GÁS BRASILIANO","Comercial","Mensal",150.01,500,{"$f":"Cálculo!$G$109","v":6.7430273685030668},{"$f":"Cálculo!$H$109","v":151.55215488765796}]
["SP","São Paulo","Ribeirão Preto","ARSESP","GÁS BRASILIANO","Comercial","Mensal",500.01,2000,{"$f":"Cálculo!$G$110","v":6.4025738407397181},{"$f":"Cálculo!$H$110","v":351.37464757255714}]
["SP","São Paulo","Ribeirão Preto","ARSESP","GÁS BRASILIANO","Comercial","Mensal",2000.01,5000,{"$f":"Cálculo!$G$111","v":5.7815217687887008},{"$f":"Cálculo!$H$111","v":1795.9200941018896}]
["SP","São Paulo","Ribeirão Preto","ARSESP","GÁS BRASILIANO","Comercial","Mensal",5000.01,null,{"$f":"Cálculo!$G$112","v":5.0011175824180816},{"$f":"Cálculo!$H$112","v":6161.4974444428753}]
["SP","São Paulo","Ribeirão Preto","ARSESP","GÁS BRASILIANO","Industrial","Mensal",0,3000,{"$f":"Cálculo!$G$115","v":5.5322183563520557},{"$f":"Cálculo!$H$115","v":403.53908281334856}]
["SP","São Paulo","Ribeirão Preto","ARSESP","GÁS BRASILIANO","Industrial","Mensal",3000.01,7000,{"$f":"Cálculo!$G$116","v":5.2029577116938235},{"$f":"Cálculo!$H$116","v":403.53908281334856}]
["SP","São Paulo","Ribeirão Preto","ARSESP","GÁS BRASILIANO","Industrial","Mensal",7000.01,15000,{"$f":"Cálculo!$G$117","v":4.9005039867784115},{"$f":"Cálculo!$H$117","v":403.53908281334856}]
["SP","São Paulo","Ribeirão Preto","ARSESP","GÁS BRASILIANO","Industrial","Mensal",15000.01,45000,{"$f":"Cálculo!$G$118","v":4.7805763736974223},{"$f":"Cálculo!$H$118","v":403.53908281334856}]
["SP","São Paulo","Ribeirão Preto","ARSESP","GÁS BRASILIANO","Industrial","Mensal",45000.01,250000,{"$f":"Cálculo!$G$119","v":4.1274644680804879},{"$f":"Cálculo!$H$119","v":2322.3408923166967}]
["SP","São Paulo","Ribeirão Preto","ARSESP","GÁS BRASILIANO","Industrial","Mensal",250000.01,500000,{"$f":"Cálculo!$G$120","v":3.9329807712260512},{"$f":"Cálculo!$H$120","v":10556.086408970552}]
["SP","São Paulo","Ribeirão Preto","ARSESP","GÁS BRASILIANO","Industrial","Mensal",500000.01,1000000,{"$f":"Cálculo!$G$121","v":3.7125277973417266},{"$f":"Cálculo!$H$121","v":14778.511560842897}]
["SP","São Paulo","Ribeirão Preto","ARSESP","GÁS BRASILIANO","Industrial","Mensal",1000000.01,null,{"$f":"Cálculo!$G$122","v":3.6790856179065723},{"$f":"Cálculo!$H$122","v":19284.876416038765}]
["SP","São Paulo","Ribeirão Preto","ARSESP","GÁS BRASILIANO","GNV","Faixa Única",null,null,{"$f":"Cálculo!$G$125","v":3.5752873329074797}]
["SP","São Paulo","Valparaíso","ARSESP","GÁS BRASILIANO","Residencial","Mensal",0,1,{"$f":"Cálculo!$G$100","v":2.9154684032646592},{"$f":"Cálculo!$H$100","v":35.317463823377523}]
["SP","São Paulo","Valparaíso","ARSESP","GÁS BRASILIANO","Residencial","Mensal",1.01,6,{"$f":"Cálculo!$G$101","v":3.2626760136332722},{"$f":"Cálculo!$H$101","v":35.317463823377523}]
["SP","São Paulo","Valparaíso","ARSESP","GÁS BRASILIANO","Residencial","Mensal",6.01,12,{"$f":"Cálculo!$G$102","v":8.8728622007636986},{"$f":"Cálculo!$H$102","v":35.317463823377523}]
["SP","São Paulo","Valparaíso","ARSESP","GÁS BRASILIANO","Residencial","Mensal",12.01,40,{"$f":"Cálculo!$G$103","v":8.9498159191564675},{"$f":"Cálculo!$H$103","v":35.317463823377523}]
["SP","São Paulo","Valparaíso","ARSESP","GÁS BRASILIANO","Residencial","Mensal",40.01,null,{"$f":"Cálculo!$G$104","v":9.0543130240593293},{"$f":"Cálculo!$H$104","v":35.317463823377523}]
["SP","São Paulo","Valparaíso","ARSESP","GÁS BRASILIANO","Comercial","Mensal",0,50,{"$f":"Cálculo!$G$107","v":7.1316241758993373},{"$f":"Cálculo!$H$107","v":59.376162530508445}]
["SP","São Paulo","Valparaíso","ARSESP","GÁS BRASILIANO","Comercial","Mensal",50.01,150,{"$f":"Cálculo!$G$108","v":6.9355251933077424},{"$f":"Cálculo!$H$108","v":96.458323080570381}]
["SP","São Paulo","Valparaíso","ARSESP","GÁS BRASILIANO","Comercial","Mensal",150.01,500,{"$f":"Cálculo!$G$109","v":6.7430273685030668},{"$f":"Cálculo!$H$109","v":151.55215488765796}]
["SP","São Paulo","Valparaíso","ARSESP","GÁS BRASILIANO","Comercial","Mensal",500.01,2000,{"$f":"Cálculo!$G$110","v":6.4025738407397181},{"$f":"Cálculo!$H$110","v":351.37464757255714}]
["SP","São Paulo","Valparaíso","ARSESP","GÁS BRASILIANO","Comercial","Mensal",2000.01,5000,{"$f":"Cálculo!$G$111","v":5.7815217687887008},{"$f":"Cálculo!$H$111","v":1795.9200941018896}]
["SP","São Paulo","Valparaíso","ARSESP","GÁS BRASILIANO","Comercial","Mensal",5000.01,null,{"$f":"Cálculo!$G$112","v":5.0011175824180816},{"$f":"Cálculo!$H$112","v":6161.4974444428753}]
["SP","São Paulo","Valparaíso","ARSESP","GÁS BRASILIANO","Industrial","Mensal",0,3000,{"$f":"Cálculo!$G$115","v":5.5322183563520557},{"$f":"Cálculo!$H$115","v":403.53908281334856}]
["SP","São Paulo","Valparaíso","ARSESP","GÁS BRASILIANO","Industrial","Mensal",3000.01,7000,{"$f":"Cálculo!$G$116","v":5.2029577116938235},{"$f":"Cálculo!$H$116","v":403.53908281334856}]
["SP","São Paulo","Valparaíso","ARSESP","GÁS BRASILIANO","Industrial","Mensal",7000.01,15000,{"$f":"Cálculo!$G$117","v":4.9005039867784115},{"$f":"Cálculo!$H$117","v":403.53908281334856}]
["SP","São Paulo","Valparaíso","ARSESP","GÁS BRASILIANO","Industrial","Mensal",15000.01,45000,{"$f":"Cálculo!$G$118","v":4.7805763736974223},{"$f":"Cálculo!$H$118","v":403.53908281334856}]
["SP","São Paulo","Valparaíso","ARSESP","GÁS BRASILIANO","Industrial","Mensal",45000.01,250000,{"$f":"Cálculo!$G$119","v":4.1274644680804879},{"$f":"Cálculo!$H$119","v":2322.3408923166967}]
["SP","São Paulo","Valparaíso","ARSESP","GÁS BRASILIANO","Industrial","Mensal",250000.01,500000,{"$f":"Cálculo!$G$120","v":3.9329807712260512},{"$f":"Cálculo!$H$120","v":10556.086408970552}]
["SP","São Paulo","Valparaíso","ARSESP","GÁS BRASILIANO","Industrial","Mensal",500000.01,1000000,{"$f":"Cálculo!$G$121","v":3.7125277973417266},{"$f":"Cálculo!$H$121","v":14778.511560842897}]
["SP","São Paulo","Valparaíso","ARSESP","GÁS BRASILIANO","Industrial","Mensal",1000000.01,null,{"$f":"Cálculo!$G$122","v":3.6790856179065723},{"$f":"Cálculo!$H$122","v":19284.876416038765}]
["SP","São Paulo","Valparaíso","ARSESP","GÁS BRASILIANO","GNV","Faixa Única",null,null,{"$f":"Cálculo!$G$125","v":3.5752873329074797}]
["SP","São Paulo","Araçatuba","ARSESP","GÁS BRASILIANO","Residencial","Mensal",0,1,{"$f":"Cálculo!$G$100","v":2.9154684032646592},{"$f":"Cálculo!$H$100","v":35.317463823377523}]
["SP","São Paulo","Araçatuba","ARSESP","GÁS BRASILIANO","Residencial","Mensal",1.01,6,{"$f":"Cálculo!$G$101","v":3.2626760136332722},{"$f":"Cálculo!$H$101","v":35.317463823377523}]
["SP","São Paulo","Araçatuba","ARSESP","GÁS BRASILIANO","Residencial","Mensal",6.01,12,{"$f":"Cálculo!$G$102","v":8.8728622007636986},{"$f":"Cálculo!$H$102","v":35.317463823377523}]
["SP","São Paulo","Araçatuba","ARSESP","GÁS BRASILIANO","Residencial","Mensal",12.01,40,{"$f":"Cálculo!$G$103","v":8.9498159191564675},{"$f":"Cálculo!$H$103","v":35.317463823377523}]
["SP","São Paulo","Araçatuba","ARSESP","GÁS BRASILIANO","Residencial","Mensal",40.01,null,{"$f":"Cálculo!$G$104","v":9.0543130240593293},{"$f":"Cálculo!$H$104","v":35.317463823377523}]
["SP","São Paulo","Araçatuba","ARSESP","GÁS BRASILIANO","Comercial","Mensal",0,50,{"$f":"Cálculo!$G$107","v":7.1316241758993373},{"$f":"Cálculo!$H$107","v":59.376162530508445}]
["SP","São Paulo","Araçatuba","ARSESP","GÁS BRASILIANO","Comercial","Mensal",50.01,150,{"$f":"Cálculo!$G$108","v":6.9355251933077424},{"$f":"Cálculo!$H$108","v":96.458323080570381}]
["SP","São Paulo","Araçatuba","ARSESP","GÁS BRASILIANO","Comercial","Mensal",150.01,500,{"$f":"Cálculo!$G$109","v":6.7430273685030668},{"$f":"Cálculo!$H$109","v":151.55215488765796}]
["SP","São Paulo","Araçatuba","ARSESP","GÁS BRASILIANO","Comercial","Mensal",500.01,2000,{"$f":"Cálculo!$G$110","v":6.4025738407397181},{"$f":"Cálculo!$H$110","v":351.37464757255714}]
["SP","São Paulo","Araçatuba","ARSESP","GÁS BRASILIANO","Comercial","Mensal",2000.01,5000,{"$f":"Cálculo!$G$111","v":5.7815217687887008},{"$f":"Cálculo!$H$111","v":1795.9200941018896}]
["SP","São Paulo","Araçatuba","ARSESP","GÁS BRASILIANO","Comercial","Mensal",5000.01,null,{"$f":"Cálculo!$G$112","v":5.0011175824180816},{"$f":"Cálculo!$H$112","v":6161.4974444428753}]
["SP","São Paulo","Araçatuba","ARSESP","GÁS BRASILIANO","Industrial","Mensal",0,3000,{"$f":"Cálculo!$G$115","v":5.5322183563520557},{"$f":"Cálculo!$H$115","v":403.53908281334856}]
["SP","São Paulo","Araçatuba","ARSESP","GÁS BRASILIANO","Industrial","Mensal",3000.01,7000,{"$f":"Cálculo!$G$116","v":5.2029577116938235},{"$f":"Cálculo!$H$116","v":403.53908281334856}]
["SP","São Paulo","Araçatuba","ARSESP","GÁS BRASILIANO","Industrial","Mensal",7000.01,15000,{"$f":"Cálculo!$G$117","v":4.9005039867784115},{"$f":"Cálculo!$H$117","v":403.53908281334856}]
["SP","São Paulo","Araçatuba","ARSESP","GÁS BRASILIANO","Industrial","Mensal",15000.01,45000,{"$f":"Cálculo!$G$118","v":4.7805763736974223},{"$f":"Cálculo!$H$118","v":403.53908281334856}]
["SP","São Paulo","Araçatuba","ARSESP","GÁS BRASILIANO","Industrial","Mensal",45000.01,250000,{"$f":"Cálculo!$G$119","v":4.1274644680804879},{"$f":"Cálculo!$H$119","v":2322.3408923166967}]
["SP","São Paulo","Araçatuba","ARSESP","GÁS BRASILIANO","Industrial","Mensal",250000.01,500000,{"$f":"Cálculo!$G$120","v":3.9329807712260512},{"$f":"Cálculo!$H$120","v":10556.086408970552}]
["SP","São Paulo","Araçatuba","ARSESP","GÁS BRASILIANO","Industrial","Mensal",500000.01,1000000,{"$f":"Cálculo!$G$121","v":3.7125277973417266},{"$f":"Cálculo!$H$121","v":14778.511560842897}]
["SP","São Paulo","Araçatuba","ARSESP","GÁS BRASILIANO","Industrial","Mensal",1000000.01,null,{"$f":"Cálculo!$G$122","v":3.6790856179065723},{"$f":"Cálculo!$H$122","v":19284.876416038765}]
["SP","São Paulo","Araçatuba","ARSESP","GÁS BRASILIANO","GNV","Faixa Única",null,null,{"$f":"Cálculo!$G$125","v":3.5752873329074797}]
["SP","São Paulo","Bauru","ARSESP","GÁS BRASILIANO","Residencial","Mensal",0,1,{"$f":"Cálculo!$G$100","v":2.9154684032646592},{"$f":"Cálculo!$H$100","v":35.317463823377523}]
["SP","São Paulo","Bauru","ARSESP","GÁS BRASILIANO","Residencial","Mensal",1.01,6,{"$f":"Cálculo!$G$101","v":3.2626760136332722},{"$f":"Cálculo!$H$101","v":35.317463823377523}]
["SP","São Paulo","Bauru","ARSESP","GÁS BRASILIANO","Residencial","Mensal",6.01,12,{"$f":"Cálculo!$G$102","v":8.8728622007636986},{"$f":"Cálculo!$H$102","v":35.317463823377523}]
["SP","São Paulo","Bauru","ARSESP","GÁS BRASILIANO","Residencial","Mensal",12.01,40,{"$f":"Cálculo!$G$103","v":8.9498159191564675},{"$f":"Cálculo!$H$103","v":35.317463823377523}]
["SP","São Paulo","Bauru","ARSESP","GÁS BRASILIANO","Residencial","Mensal",40.01,null,{"$f":"Cálculo!$G$104","v":9.0543130240593293},{"$f":"Cálculo!$H$104","v":35.317463823377523}]
["SP","São Paulo","Bauru","ARSESP","GÁS BRASILIANO","Comercial","Mensal",0,50,{"$f":"Cálculo!$G$107","v":7.1316241758993373},{"$f":"Cálculo!$H$107","v":59.376162530508445}]
["SP","São Paulo","Bauru","ARSESP","GÁS BRASILIANO","Comercial","Mensal",50.01,150,{"$f":"Cálculo!$G$108","v":6.9355251933077424},{"$f":"Cálculo!$H$108","v":96.458323080570381}]
["SP","São Paulo","Bauru","ARSESP","GÁS BRASILIANO","Comercial","Mensal",150.01,500,{"$f":"Cálculo!$G$109","v":6.7430273685030668},{"$f":"Cálculo!$H$109","v":151.55215488765796}]
["SP","São Paulo","Bauru","ARSESP","GÁS BRASILIANO","Comercial","Mensal",500.01,2000,{"$f":"Cálculo!$G$110","v":6.4025738407397181},{"$f":"Cálculo!$H$110","v":351.37464757255714}]
["SP","São Paulo","Bauru","ARSESP","GÁS BRASILIANO","Comercial","Mensal",2000.01,5000,{"$f":"Cálculo!$G$111","v":5.7815217687887008},{"$f":"Cálculo!$H$111","v":1795.9200941018896}]
["SP","São Paulo","Bauru","ARSESP","GÁS BRASILIANO","Comercial","Mensal",5000.01,null,{"$f":"Cálculo!$G$112","v":5.0011175824180816},{"$f":"Cálculo!$H$112","v":6161.4974444428753}]
["SP","São Paulo","Bauru","ARSESP","GÁS BRASILIANO","Industrial","Mensal",0,3000,{"$f":"Cálculo!$G$115","v":5.5322183563520557},{"$f":"Cálculo!$H$115","v":403.53908281334856}]
["SP","São Paulo","Bauru","ARSESP","GÁS BRASILIANO","Industrial","Mensal",3000.01,7000,{"$f":"Cálculo!$G$116","v":5.2029577116938235},{"$f":"Cálculo!$H$116","v":403.53908281334856}]
["SP","São Paulo","Bauru","ARSESP","GÁS BRASILIANO","Industrial","Mensal",7000.01,15000,{"$f":"Cálculo!$G$117","v":4.9005039867784115},{"$f":"Cálculo!$H$117","v":403.53908281334856}]
["SP","São Paulo","Bauru","ARSESP","GÁS BRASILIANO","Industrial","Mensal",15000.01,45000,{"$f":"Cálculo!$G$118","v":4.7805763736974223},{"$f":"Cálculo!$H$118","v":403.53908281334856}]
["SP","São Paulo","Bauru","ARSESP","GÁS BRASILIANO","Industrial","Mensal",45000.01,250000,{"$f":"Cálculo!$G$119","v":4.1274644680804879},{"$f":"Cálculo!$H$119","v":2322.3408923166967}]
["SP","São Paulo","Bauru","ARSESP","GÁS BRASILIANO","Industrial","Mensal",250000.01,500000,{"$f":"Cálculo!$G$120","v":3.9329807712260512},{"$f":"Cálculo!$H$120","v":10556.086408970552}]
["SP","São Paulo","Bauru","ARSESP","GÁS BRASILIANO","Industrial","Mensal",500000.01,1000000,{"$f":"Cálculo!$G$121","v":3.7125277973417266},{"$f":"Cálculo!$H$121","v":14778.511560842897}]
["SP","São Paulo","Bauru","ARSESP","GÁS BRASILIANO","Industrial","Mensal",1000000.01,null,{"$f":"Cálculo!$G$122","v":3.6790856179065723},{"$f":"Cálculo!$H$122","v":19284.876416038765}]
["SP","São Paulo","Bauru","ARSESP","GÁS BRASILIANO","GNV","Faixa Única",null,null,{"$f":"Cálculo!$G$125","v":3.5752873329074797}]
["SP","São Paulo","Cravinhos","ARSESP","GÁS BRASILIANO","Residencial","Mensal",0,1,{"$f":"Cálculo!$G$100","v":2.9154684032646592},{"$f":"Cálculo!$H$100","v":35.317463823377523}]
["SP","São Paulo","Cravinhos","ARSESP","GÁS BRASILIANO","Residencial","Mensal",1.01,6,{"$f":"Cálculo!$G$101","v":3.2626760136332722},{"$f":"Cálculo!$H$101","v":35.317463823377523}]
["SP","São Paulo","Cravinhos","ARSESP","GÁS BRASILIANO","Residencial","Mensal",6.01,12,{"$f":"Cálculo!$G$102","v":8.8728622007636986},{"$f":"Cálculo!$H$102","v":35.317463823377523}]
["SP","São Paulo","Cravinhos","ARSESP","GÁS BRASILIANO","Residencial","Mensal",12.01,40,{"$f":"Cálculo!$G$103","v":8.9498159191564675},{"$f":"Cálculo!$H$103","v":35.317463823377523}]
["SP","São Paulo","Cravinhos","ARSESP","GÁS BRASILIANO","Residencial","Mensal",40.01,null,{"$f":"Cálculo!$G$104","v":9.0543130240593293},{"$f":"Cálculo!$H$104","v":35.317463823377523}]
["SP","São Paulo","Cravinhos","ARSESP","GÁS BRASILIANO","Comercial","Mensal",0,50,{"$f":"Cálculo!$G$107","v":7.1316241758993373},{"$f":"Cálculo!$H$107","v":59.376162530508445}]
["SP","São Paulo","Cravinhos","ARSESP","GÁS BRASILIANO","Comercial","Mensal",50.01,150,{"$f":"Cálculo!$G$108","v":6.9355251933077424},{"$f":"Cálculo!$H$108","v":96.458323080570381}]
["SP","São Paulo","Cravinhos","ARSESP","GÁS BRASILIANO","Comercial","Mensal",150.01,500,{"$f":"Cálculo!$G$109","v":6.7430273685030668},{"$f":"Cálculo!$H$109","v":151.55215488765796}]
["SP","São Paulo","Cravinhos","ARSESP","GÁS BRASILIANO","Comercial","Mensal",500.01,2000,{"$f":"Cálculo!$G$110","v":6.4025738407397181},{"$f":"Cálculo!$H$110","v":351.37464757255714}]
["SP","São Paulo","Cravinhos","ARSESP","GÁS BRASILIANO","Comercial","Mensal",2000.01,5000,{"$f":"Cálculo!$G$111","v":5.7815217687887008},{"$f":"Cálculo!$H$111","v":1795.9200941018896}]
["SP","São Paulo","Cravinhos","ARSESP","GÁS BRASILIANO","Comercial","Mensal",5000.01,null,{"$f":"Cálculo!$G$112","v":5.0011175824180816},{"$f":"Cálculo!$H$112","v":6161.4974444428753}]
["SP","São Paulo","Cravinhos","ARSESP","GÁS BRASILIANO","Industrial","Mensal",0,3000,{"$f":"Cálculo!$G$115","v":5.5322183563520557},{"$f":"Cálculo!$H$115","v":403.53908281334856}]
["SP","São Paulo","Cravinhos","ARSESP","GÁS BRASILIANO","Industrial","Mensal",3000.01,7000,{"$f":"Cálculo!$G$116","v":5.2029577116938235},{"$f":"Cálculo!$H$116","v":403.53908281334856}]
["SP","São Paulo","Cravinhos","ARSESP","GÁS BRASILIANO","Industrial","Mensal",7000.01,15000,{"$f":"Cálculo!$G$117","v":4.9005039867784115},{"$f":"Cálculo!$H$117","v":403.53908281334856}]
["SP","São Paulo","Cravinhos","ARSESP","GÁS BRASILIANO","Industrial","Mensal",15000.01,45000,{"$f":"Cálculo!$G$118","v":4.7805763736974223},{"$f":"Cálculo!$H$118","v":403.53908281334856}]
["SP","São Paulo","Cravinhos","ARSESP","GÁS BRASILIANO","Industrial","Mensal",45000.01,250000,{"$f":"Cálculo!$G$119","v":4.1274644680804879},{"$f":"Cálculo!$H$119","v":2322.3408923166967}]
["SP","São Paulo","Cravinhos","ARSESP","GÁS BRASILIANO","Industrial","Mensal",250000.01,500000,{"$f":"Cálculo!$G$120","v":3.9329807712260512},{"$f":"Cálculo!$H$120","v":10556.086408970552}]
["SP","São Paulo","Cravinhos","ARSESP","GÁS BRASILIANO","Industrial","Mensal",500000.01,1000000,{"$f":"Cálculo!$G$121","v":3.7125277973417266},{"$f":"Cálculo!$H$121","v":14778.511560842897}]
["SP","São Paulo","Cravinhos","ARSESP","GÁS BRASILIANO","Industrial","Mensal",1000000.01,null,{"$f":"Cálculo!$G$122","v":3.6790856179065723},{"$f":"Cálculo!$H$122","v":19284.876416038765}]
["SP","São Paulo","Cravinhos","ARSESP","GÁS BRASILIANO","GNV","Faixa Única",null,null,{"$f":"Cálculo!$G$125","v":3.5752873329074797}]
["SP","São Paulo","Ibitinga","ARSESP","GÁS BRASILIANO","Residencial","Mensal",0,1,{"$f":"Cálculo!$G$100","v":2.9154684032646592},{"$f":"Cálculo!$H$100","v":35.317463823377523}]
["SP","São Paulo","Ibitinga","ARSESP","GÁS BRASILIANO","Residencial","Mensal",1.01,6,{"$f":"Cálculo!$G$101","v":3.2626760136332722},{"$f":"Cálculo!$H$101","v":35.317463823377523}]
["SP","São Paulo","Ibitinga","ARSESP","GÁS BRASILIANO","Residencial","Mensal",6.01,12,{"$f":"Cálculo!$G$102","v":8.8728622007636986},{"$f":"Cálculo!$H$102","v":35.317463823377523}]
["SP","São Paulo","Ibitinga","ARSESP","GÁS BRASILIANO","Residencial","Mensal",12.01,40,{"$f":"Cálculo!$G$103","v":8.9498159191564675},{"$f":"Cálculo!$H$103","v":35.317463823377523}]
["SP","São Paulo","Ibitinga","ARSESP","GÁS BRASILIANO","Residencial","Mensal",40.01,null,{"$f":"Cálculo!$G$104","v":9.0543130240593293},{"$f":"Cálculo!$H$104","v":35.317463823377523}]
["SP","São Paulo","Ibitinga","ARSESP","GÁS BRASILIANO","Comercial","Mensal",0,50,{"$f":"Cálculo!$G$107","v":7.1316241758993373},{"$f":"Cálculo!$H$107","v":59.376162530508445}]
["SP","São Paulo","Ibitinga","ARSESP","GÁS BRASILIANO","Comercial","Mensal",50.01,150,{"$f":"Cálculo!$G$108","v":6.9355251933077424},{"$f":"Cálculo!$H$108","v":96.458323080570381}]
["SP","São Paulo","Ibitinga","ARSESP","GÁS BRASILIANO","Comercial","Mensal",150.01,500,{"$f":"Cálculo!$G$109","v":6.7430273685030668},{"$f":"Cálculo!$H$109","v":151.55215488765796}]
["SP","São Paulo","Ibitinga","ARSESP","GÁS BRASILIANO","Comercial","Mensal",500.01,2000,{"$f":"Cálculo!$G$110","v":6.4025738407397181},{"$f":"Cálculo!$H$110","v":351.37464757255714}]
["SP","São Paulo","Ibitinga","ARSESP","GÁS BRASILIANO","Comercial","Mensal",2000.01,5000,{"$f":"Cálculo!$G$111","v":5.7815217687887008},{"$f":"Cálculo!$H$111","v":1795.9200941018896}]
["SP","São Paulo","Ibitinga","ARSESP","GÁS BRASILIANO","Comercial","Mensal",5000.01,null,{"$f":"Cálculo!$G$112","v":5.0011175824180816},{"$f":"Cálculo!$H$112","v":6161.4974444428753}]
["SP","São Paulo","Ibitinga","ARSESP","GÁS BRASILIANO","Industrial","Mensal",0,3000,{"$f":"Cálculo!$G$115","v":5.5322183563520557},{"$f":"Cálculo!$H$115","v":403.53908281334856}]
["SP","São Paulo","Ibitinga","ARSESP","GÁS BRASILIANO","Industrial","Mensal",3000.01,7000,{"$f":"Cálculo!$G$116","v":5.2029577116938235},{"$f":"Cálculo!$H$116","v":403.53908281334856}]
["SP","São Paulo","Ibitinga","ARSESP","GÁS BRASILIANO","Industrial","Mensal",7000.01,15000,{"$f":"Cálculo!$G$117","v":4.9005039867784115},{"$f":"Cálculo!$H$117","v":403.53908281334856}]
["SP","São Paulo","Ibitinga","ARSESP","GÁS BRASILIANO","Industrial","Mensal",15000.01,45000,{"$f":"Cálculo!$G$118","v":4.7805763736974223},{"$f":"Cálculo!$H$118","v":403.53908281334856}]
["SP","São Paulo","Ibitinga","ARSESP","GÁS BRASILIANO","Industrial","Mensal",45000.01,250000,{"$f":"Cálculo!$G$119","v":4.1274644680804879},{"$f":"Cálculo!$H$119","v":2322.3408923166967}]
["SP","São Paulo","Ibitinga","ARSESP","GÁS BRASILIANO","Industrial","Mensal",250000.01,500000,{"$f":"Cálculo!$G$120","v":3.9329807712260512},{"$f":"Cálculo!$H$120","v":10556.086408970552}]
["SP","São Paulo","Ibitinga","ARSESP","GÁS BRASILIANO","Industrial","Mensal",500000.01,1000000,{"$f":"Cálculo!$G$121","v":3.7125277973417266},{"$f":"Cálculo!$H$121","v":14778.511560842897}]
["SP","São Paulo","Ibitinga","ARSESP","GÁS BRASILIANO","Industrial","Mensal",1000000.01,null,{"$f":"Cálculo!$G$122","v":3.6790856179065723},{"$f":"Cálculo!$H$122","v":19284.876416038765}]
["SP","São Paulo","Ibitinga","ARSESP","GÁS BRASILIANO","GNV","Faixa Única",null,null,{"$f":"Cálculo!$G$125","v":3.5752873329074797}]
["SP","São Paulo","Itápolis","ARSESP","GÁS BRASILIANO","Residencial","Mensal",0,1,{"$f":"Cálculo!$G$100","v":2.9154684032646592},{"$f":"Cálculo!$H$100","v":35.317463823377523}]
["SP","São Paulo","Itápolis","ARSESP","GÁS BRASILIANO","Residencial","Mensal",1.01,6,{"$f":"Cálculo!$G$101","v":3.2626760136332722},{"$f":"Cálculo!$H$101","v":35.317463823377523}]
["SP","São Paulo","Itápolis","ARSESP","GÁS BRASILIANO","Residencial","Mensal",6.01,12,{"$f":"Cálculo!$G$102","v":8.8728622007636986},{"$f":"Cálculo!$H$102","v":35.317463823377523}]
["SP","São Paulo","Itápolis","ARSESP","GÁS BRASILIANO","Residencial","Mensal",12.01,40,{"$f":"Cálculo!$G$103","v":8.9498159191564675},{"$f":"Cálculo!$H$103","v":35.317463823377523}]
["SP","São Paulo","Itápolis","ARSESP","GÁS BRASILIANO","Residencial","Mensal",40.01,null,{"$f":"Cálculo!$G$104","v":9.0543130240593293},{"$f":"Cálculo!$H$104","v":35.317463823377523}]
["SP","São Paulo","Itápolis","ARSESP","GÁS BRASILIANO","Comercial","Mensal",0,50,{"$f":"Cálculo!$G$107","v":7.1316241758993373},{"$f":"Cálculo!$H$107","v":59.376162530508445}]
["SP","São Paulo","Itápolis","ARSESP","GÁS BRASILIANO","Comercial","Mensal",50.01,150,{"$f":"Cálculo!$G$108","v":6.9355251933077424},{"$f":"Cálculo!$H$108","v":96.458323080570381}]
["SP","São Paulo","Itápolis","ARSESP","GÁS BRASILIANO","Comercial","Mensal",150.01,500,{"$f":"Cálculo!$G$109","v":6.7430273685030668},{"$f":"Cálculo!$H$109","v":151.55215488765796}]
["SP","São Paulo","Itápolis","ARSESP","GÁS BRASILIANO","Comercial","Mensal",500.01,2000,{"$f":"Cálculo!$G$110","v":6.4025738407397181},{"$f":"Cálculo!$H$110","v":351.37464757255714}]
["SP","São Paulo","Itápolis","ARSESP","GÁS BRASILIANO","Comercial","Mensal",2000.01,5000,{"$f":"Cálculo!$G$111","v":5.7815217687887008},{"$f":"Cálculo!$H$111","v":1795.9200941018896}]
["SP","São Paulo","Itápolis","ARSESP","GÁS BRASILIANO","Comercial","Mensal",5000.01,null,{"$f":"Cálculo!$G$112","v":5.0011175824180816},{"$f":"Cálculo!$H$112","v":6161.4974444428753}]
["SP","São Paulo","Itápolis","ARSESP","GÁS BRASILIANO","Industrial","Mensal",0,3000,{"$f":"Cálculo!$G$115","v":5.5322183563520557},{"$f":"Cálculo!$H$115","v":403.53908281334856}]
["SP","São Paulo","Itápolis","ARSESP","GÁS BRASILIANO","Industrial","Mensal",3000.01,7000,{"$f":"Cálculo!$G$116","v":5.2029577116938235},{"$f":"Cálculo!$H$116","v":403.53908281334856}]
["SP","São Paulo","Itápolis","ARSESP","GÁS BRASILIANO","Industrial","Mensal",7000.01,15000,{"$f":"Cálculo!$G$117","v":4.9005039867784115},{"$f":"Cálculo!$H$117","v":403.53908281334856}]
["SP","São Paulo","Itápolis","ARSESP","GÁS BRASILIANO","Industrial","Mensal",15000.01,45000,{"$f":"Cálculo!$G$118","v":4.7805763736974223},{"$f":"Cálculo!$H$118","v":403.53908281334856}]
["SP","São Paulo","Itápolis","ARSESP","GÁS BRASILIANO","Industrial","Mensal",45000.01,250000,{"$f":"Cálculo!$G$119","v":4.1274644680804879},{"$f":"Cálculo!$H$119","v":2322.3408923166967}]
["SP","São Paulo","Itápolis","ARSESP","GÁS BRASILIANO","Industrial","Mensal",250000.01,500000,{"$f":"Cálculo!$G$120","v":3.9329807712260512},{"$f":"Cálculo!$H$120","v":10556.086408970552}]
["SP","São Paulo","Itápolis","ARSESP","GÁS BRASILIANO","Industrial","Mensal",500000.01,1000000,{"$f":"Cálculo!$G$121","v":3.7125277973417266},{"$f":"Cálculo!$H$121","v":14778.511560842897}]
["SP","São Paulo","Itápolis","ARSESP","GÁS BRASILIANO","Industrial","Mensal",1000000.01,null,{"$f":"Cálculo!$G$122","v":3.6790856179065723},{"$f":"Cálculo!$H$122","v":19284.876416038765}]
["SP","São Paulo","Itápolis","ARSESP","GÁS BRASILIANO","GNV","Faixa Única",null,null,{"$f":"Cálculo!$G$125","v":3.5752873329074797}]
["SP","São Paulo","Lins","ARSESP","GÁS BRASILIANO","Residencial","Mensal",0,1,{"$f":"Cálculo!$G$100","v":2.9154684032646592},{"$f":"Cálculo!$H$100","v":35.317463823377523}]
["SP","São Paulo","Lins","ARSESP","GÁS BRASILIANO","Residencial","Mensal",1.01,6,{"$f":"Cálculo!$G$101","v":3.2626760136332722},{"$f":"Cálculo!$H$101","v":35.317463823377523}]
["SP","São Paulo","Lins","ARSESP","GÁS BRASILIANO","Residencial","Mensal",6.01,12,{"$f":"Cálculo!$G$102","v":8.8728622007636986},{"$f":"Cálculo!$H$102","v":35.317463823377523}]
["SP","São Paulo","Lins","ARSESP","GÁS BRASILIANO","Residencial","Mensal",12.01,40,{"$f":"Cálculo!$G$103","v":8.9498159191564675},{"$f":"Cálculo!$H$103","v":35.317463823377523}]
["SP","São Paulo","Lins","ARSESP","GÁS BRASILIANO","Residencial","Mensal",40.01,null,{"$f":"Cálculo!$G$104","v":9.0543130240593293},{"$f":"Cálculo!$H$104","v":35.317463823377523}]
["SP","São Paulo","Lins","ARSESP","GÁS BRASILIANO","Comercial","Mensal",0,50,{"$f":"Cálculo!$G$107","v":7.1316241758993373},{"$f":"Cálculo!$H$107","v":59.376162530508445}]
["SP","São Paulo","Lins","ARSESP","GÁS BRASILIANO","Comercial","Mensal",50.01,150,{"$f":"Cálculo!$G$108","v":6.9355251933077424},{"$f":"Cálculo!$H$108","v":96.458323080570381}]
["SP","São Paulo","Lins","ARSESP","GÁS BRASILIANO","Comercial","Mensal",150.01,500,{"$f":"Cálculo!$G$109","v":6.7430273685030668},{"$f":"Cálculo!$H$109","v":151.55215488765796}]
["SP","São Paulo","Lins","ARSESP","GÁS BRASILIANO","Comercial","Mensal",500.01,2000,{"$f":"Cálculo!$G$110","v":6.4025738407397181},{"$f":"Cálculo!$H$110","v":351.37464757255714}]
["SP","São Paulo","Lins","ARSESP","GÁS BRASILIANO","Comercial","Mensal",2000.01,5000,{"$f":"Cálculo!$G$111","v":5.7815217687887008},{"$f":"Cálculo!$H$111","v":1795.9200941018896}]
["SP","São Paulo","Lins","ARSESP","GÁS BRASILIANO","Comercial","Mensal",5000.01,null,{"$f":"Cálculo!$G$112","v":5.0011175824180816},{"$f":"Cálculo!$H$112","v":6161.4974444428753}]
["SP","São Paulo","Lins","ARSESP","GÁS BRASILIANO","Industrial","Mensal",0,3000,{"$f":"Cálculo!$G$115","v":5.5322183563520557},{"$f":"Cálculo!$H$115","v":403.53908281334856}]
["SP","São Paulo","Lins","ARSESP","GÁS BRASILIANO","Industrial","Mensal",3000.01,7000,{"$f":"Cálculo!$G$116","v":5.2029577116938235},{"$f":"Cálculo!$H$116","v":403.53908281334856}]
["SP","São Paulo","Lins","ARSESP","GÁS BRASILIANO","Industrial","Mensal",7000.01,15000,{"$f":"Cálculo!$G$117","v":4.9005039867784115},{"$f":"Cálculo!$H$117","v":403.53908281334856}]
["SP","São Paulo","Lins","ARSESP","GÁS BRASILIANO","Industrial","Mensal",15000.01,45000,{"$f":"Cálculo!$G$118","v":4.7805763736974223},{"$f":"Cálculo!$H$118","v":403.53908281334856}]
["SP","São Paulo","Lins","ARSESP","GÁS BRASILIANO","Industrial","Mensal",45000.01,250000,{"$f":"Cálculo!$G$119","v":4.1274644680804879},{"$f":"Cálculo!$H$119","v":2322.3408923166967}]
["SP","São Paulo","Lins","ARSESP","GÁS BRASILIANO","Industrial","Mensal",250000.01,500000,{"$f":"Cálculo!$G$120","v":3.9329807712260512},{"$f":"Cálculo!$H$120","v":10556.086408970552}]
["SP","São Paulo","Lins","ARSESP","GÁS BRASILIANO","Industrial","Mensal",500000.01,1000000,{"$f":"Cálculo!$G$121","v":3.7125277973417266},{"$f":"Cálculo!$H$121","v":14778.511560842897}]
["SP","São Paulo","Lins","ARSESP","GÁS BRASILIANO","Industrial","Mensal",1000000.01,null,{"$f":"Cálculo!$G$122","v":3.6790856179065723},{"$f":"Cálculo!$H$122","v":19284.876416038765}]
["SP","São Paulo","Lins","ARSESP","GÁS BRASILIANO","GNV","Faixa Única",null,null,{"$f":"Cálculo!$G$125","v":3.5752873329074797}]
["SP","São Paulo","Matão","ARSESP","GÁS BRASILIANO","Residencial","Mensal",0,1,{"$f":"Cálculo!$G$100","v":2.9154684032646592},{"$f":"Cálculo!$H$100","v":35.317463823377523}]
["SP","São Paulo","Matão","ARSESP","GÁS BRASILIANO","Residencial","Mensal",1.01,6,{"$f":"Cálculo!$G$101","v":3.2626760136332722},{"$f":"Cálculo!$H$101","v":35.317463823377523}]
["SP","São Paulo","Matão","ARSESP","GÁS BRASILIANO","Residencial","Mensal",6.01,12,{"$f":"Cálculo!$G$102","v":8.8728622007636986},{"$f":"Cálculo!$H$102","v":35.317463823377523}]
["SP","São Paulo","Matão","ARSESP","GÁS BRASILIANO","Residencial","Mensal",12.01,40,{"$f":"Cálculo!$G$103","v":8.9498159191564675},{"$f":"Cálculo!$H$103","v":35.317463823377523}]
["SP","São Paulo","Matão","ARSESP","GÁS BRASILIANO","Residencial","Mensal",40.01,null,{"$f":"Cálculo!$G$104","v":9.0543130240593293},{"$f":"Cálculo!$H$104","v":35.317463823377523}]
["SP","São Paulo","Matão","ARSESP","GÁS BRASILIANO","Comercial","Mensal",0,50,{"$f":"Cálculo!$G$107","v":7.1316241758993373},{"$f":"Cálculo!$H$107","v":59.376162530508445}]
["SP","São Paulo","Matão","ARSESP","GÁS BRASILIANO","Comercial","Mensal",50.01,150,{"$f":"Cálculo!$G$108","v":6.9355251933077424},{"$f":"Cálculo!$H$108","v":96.458323080570381}]
["SP","São Paulo","Matão","ARSESP","GÁS BRASILIANO","Comercial","Mensal",150.01,500,{"$f":"Cálculo!$G$109","v":6.7430273685030668},{"$f":"Cálculo!$H$109","v":151.55215488765796}]
["SP","São Paulo","Matão","ARSESP","GÁS BRASILIANO","Comercial","Mensal",500.01,2000,{"$f":"Cálculo!$G$110","v":6.4025738407397181},{"$f":"Cálculo!$H$110","v":351.37464757255714}]
["SP","São Paulo","Matão","ARSESP","GÁS BRASILIANO","Comercial","Mensal",2000.01,5000,{"$f":"Cálculo!$G$111","v":5.7815217687887008},{"$f":"Cálculo!$H$111","v":1795.9200941018896}]
["SP","São Paulo","Matão","ARSESP","GÁS BRASILIANO","Comercial","Mensal",5000.01,null,{"$f":"Cálculo!$G$112","v":5.0011175824180816},{"$f":"Cálculo!$H$112","v":6161.4974444428753}]
["SP","São Paulo","Matão","ARSESP","GÁS BRASILIANO","Industrial","Mensal",0,3000,{"$f":"Cálculo!$G$115","v":5.5322183563520557},{"$f":"Cálculo!$H$115","v":403.53908281334856}]
["SP","São Paulo","Matão","ARSESP","GÁS BRASILIANO","Industrial","Mensal",3000.01,7000,{"$f":"Cálculo!$G$116","v":5.2029577116938235},{"$f":"Cálculo!$H$116","v":403.53908281334856}]
["SP","São Paulo","Matão","ARSESP","GÁS BRASILIANO","Industrial","Mensal",7000.01,15000,{"$f":"Cálculo!$G$117","v":4.9005039867784115},{"$f":"Cálculo!$H$117","v":403.53908281334856}]
["SP","São Paulo","Matão","ARSESP","GÁS BRASILIANO","Industrial","Mensal",15000.01,45000,{"$f":"Cálculo!$G$118","v":4.7805763736974223},{"$f":"Cálculo!$H$118","v":403.53908281334856}]
["SP","São Paulo","Matão","ARSESP","GÁS BRASILIANO","Industrial","Mensal",45000.01,250000,{"$f":"Cálculo!$G$119","v":4.1274644680804879},{"$f":"Cálculo!$H$119","v":2322.3408923166967}]
["SP","São Paulo","Matão","ARSESP","GÁS BRASILIANO","Industrial","Mensal",250000.01,500000,{"$f":"Cálculo!$G$120","v":3.9329807712260512},{"$f":"Cálculo!$H$120","v":10556.086408970552}]
["SP","São Paulo","Matão","ARSESP","GÁS BRASILIANO","Industrial","Mensal",500000.01,1000000,{"$f":"Cálculo!$G$121","v":3.7125277973417266},{"$f":"Cálculo!$H$121","v":14778.511560842897}]
["SP","São Paulo","Matão","ARSESP","GÁS BRASILIANO","Industrial","Mensal",1000000.01,null,{"$f":"Cálculo!$G$122","v":3.6790856179065723},{"$f":"Cálculo!$H$122","v":19284.876416038765}]
["SP","São Paulo","Matão","ARSESP","GÁS BRASILIANO","GNV","Faixa Única",null,null,{"$f":"Cálculo!$G$125","v":3.5752873329074797}]
["SP","São Paulo","Porto Ferreira","ARSESP","GÁS BRASILIANO","Residencial","Mensal",0,1,{"$f":"Cálculo!$G$100","v":2.9154684032646592},{"$f":"Cálculo!$H$100","v":35.317463823377523}]
["SP","São Paulo","Porto Ferreira","ARSESP","GÁS BRASILIANO","Residencial","Mensal",1.01,6,{"$f":"Cálculo!$G$101","v":3.2626760136332722},{"$f":"Cálculo!$H$101","v":35.317463823377523}]
["SP","São Paulo","Porto Ferreira","ARSESP","GÁS BRASILIANO","Residencial","Mensal",6.01,12,{"$f":"Cálculo!$G$102","v":8.8728622007636986},{"$f":"Cálculo!$H$102","v":35.317463823377523}]
["SP","São Paulo","Porto Ferreira","ARSESP","GÁS BRASILIANO","Residencial","Mensal",12.01,40,{"$f":"Cálculo!$G$103","v":8.9498159191564675},{"$f":"Cálculo!$H$103","v":35.317463823377523}]
["SP","São Paulo","Porto Ferreira","ARSESP","GÁS BRASILIANO","Residencial","Mensal",40.01,null,{"$f":"Cálculo!$G$104","v":9.0543130240593293},{"$f":"Cálculo!$H$104","v":35.317463823377523}]
["SP","São Paulo","Porto Ferreira","ARSESP","GÁS BRASILIANO","Comercial","Mensal",0,50,{"$f":"Cálculo!$G$107","v":7.1316241758993373},{"$f":"Cálculo!$H$107","v":59.376162530508445}]
["SP","São Paulo","Porto Ferreira","ARSESP","GÁS BRASILIANO","Comercial","Mensal",50.01,150,{"$f":"Cálculo!$G$108","v":6.9355251933077424},{"$f":"Cálculo!$H$108","v":96.458323080570381}]
["SP","São Paulo","Porto Ferreira","ARSESP","GÁS BRASILIANO","Comercial","Mensal",150.01,500,{"$f":"Cálculo!$G$109","v":6.7430273685030668},{"$f":"Cálculo!$H$109","v":151.55215488765796}]
["SP","São Paulo","Porto Ferreira","ARSESP","GÁS BRASILIANO","Comercial","Mensal",500.01,2000,{"$f":"Cálculo!$G$110","v":6.4025738407397181},{"$f":"Cálculo!$H$110","v":351.37464757255714}]
["SP","São Paulo","Porto Ferreira","ARSESP","GÁS BRASILIANO","Comercial","Mensal",2000.01,5000,{"$f":"Cálculo!$G$111","v":5.7815217687887008},{"$f":"Cálculo!$H$111","v":1795.9200941018896}]
["SP","São Paulo","Porto Ferreira","ARSESP","GÁS BRASILIANO","Comercial","Mensal",5000.01,null,{"$f":"Cálculo!$G$112","v":5.0011175824180816},{"$f":"Cálculo!$H$112","v":6161.4974444428753}]
["SP","São Paulo","Porto Ferreira","ARSESP","GÁS BRASILIANO","Industrial","Mensal",0,3000,{"$f":"Cálculo!$G$115","v":5.5322183563520557},{"$f":"Cálculo!$H$115","v":403.53908281334856}]
["SP","São Paulo","Porto Ferreira","ARSESP","GÁS BRASILIANO","Industrial","Mensal",3000.01,7000,{"$f":"Cálculo!$G$116","v":5.2029577116938235},{"$f":"Cálculo!$H$116","v":403.53908281334856}]
["SP","São Paulo","Porto Ferreira","ARSESP","GÁS BRASILIANO","Industrial","Mensal",7000.01,15000,{"$f":"Cálculo!$G$117","v":4.9005039867784115},{"$f":"Cálculo!$H$117","v":403.53908281334856}]
["SP","São Paulo","Porto Ferreira","ARSESP","GÁS BRASILIANO","Industrial","Mensal",15000.01,45000,{"$f":"Cálculo!$G$118","v":4.7805763736974223},{"$f":"Cálculo!$H$118","v":403.53908281334856}]
["SP","São Paulo","Porto Ferreira","ARSESP","GÁS BRASILIANO","Industrial","Mensal",45000.01,250000,{"$f":"Cálculo!$G$119","v":4.1274644680804879},{"$f":"Cálculo!$H$119","v":2322.3408923166967}]
["SP","São Paulo","Porto Ferreira","ARSESP","GÁS BRASILIANO","Industrial","Mensal",250000.01,500000,{"$f":"Cálculo!$G$120","v":3.9329807712260512},{"$f":"Cálculo!$H$120","v":10556.086408970552}]
["SP","São Paulo","Porto Ferreira","ARSESP","GÁS BRASILIANO","Industrial","Mensal",500000.01,1000000,{"$f":"Cálculo!$G$121","v":3.7125277973417266},{"$f":"Cálculo!$H$121","v":14778.511560842897}]
["SP","São Paulo","Porto Ferreira","ARSESP","GÁS BRASILIANO","Industrial","Mensal",1000000.01,null,{"$f":"Cálculo!$G$122","v":3.6790856179065723},{"$f":"Cálculo!$H$122","v":19284.876416038765}]
["SP","São Paulo","Porto Ferreira","ARSESP","GÁS BRASILIANO","GNV","Faixa Única",null,null,{"$f":"Cálculo!$G$125","v":3.5752873329074797}]
["SP","São Paulo","São Carlos","ARSESP","GÁS BRASILIANO","Residencial","Mensal",0,1,{"$f":"Cálculo!$G$100","v":2.9154684032646592},{"$f":"Cálculo!$H$100","v":35.317463823377523}]
["SP","São Paulo","São Carlos","ARSESP","GÁS BRASILIANO","Residencial","Mensal",1.01,6,{"$f":"Cálculo!$G$101","v":3.2626760136332722},{"$f":"Cálculo!$H$101","v":35.317463823377523}]
["SP","São Paulo","São Carlos","ARSESP","GÁS BRASILIANO","Residencial","Mensal",6.01,12,{"$f":"Cálculo!$G$102","v":8.8728622007636986},{"$f":"Cálculo!$H$102","v":35.317463823377523}]
["SP","São Paulo","São Carlos","ARSESP","GÁS BRASILIANO","Residencial","Mensal",12.01,40,{"$f":"Cálculo!$G$103","v":8.9498159191564675},{"$f":"Cálculo!$H$103","v":35.317463823377523}]
["SP","São Paulo","São Carlos","ARSESP","GÁS BRASILIANO","Residencial","Mensal",40.01,null,{"$f":"Cálculo!$G$104","v":9.0543130240593293},{"$f":"Cálculo!$H$104","v":35.317463823377523}]
["SP","São Paulo","São Carlos","ARSESP","GÁS BRASILIANO","Comercial","Mensal",0,50,{"$f":"Cálculo!$G$107","v":7.1316241758993373},{"$f":"Cálculo!$H$107","v":59.376162530508445}]
["SP","São Paulo","São Carlos","ARSESP","GÁS BRASILIANO","Comercial","Mensal",50.01,150,{"$f":"Cálculo!$G$108","v":6.9355251933077424},{"$f":"Cálculo!$H$108","v":96.458323080570381}]
["SP","São Paulo","São Carlos","ARSESP","GÁS BRASILIANO","Comercial","Mensal",150.01,500,{"$f":"Cálculo!$G$109","v":6.7430273685030668},{"$f":"Cálculo!$H$109","v":151.55215488765796}]
["SP","São Paulo","São Carlos","ARSESP","GÁS BRASILIANO","Comercial","Mensal",500.01,2000,{"$f":"Cálculo!$G$110","v":6.4025738407397181},{"$f":"Cálculo!$H$110","v":351.37464757255714}]
["SP","São Paulo","São Carlos","ARSESP","GÁS BRASILIANO","Comercial","Mensal",2000.01,5000,{"$f":"Cálculo!$G$111","v":5.7815217687887008},{"$f":"Cálculo!$H$111","v":1795.9200941018896}]
["SP","São Paulo","São Carlos","ARSESP","GÁS BRASILIANO","Comercial","Mensal",5000.01,null,{"$f":"Cálculo!$G$112","v":5.0011175824180816},{"$f":"Cálculo!$H$112","v":6161.4974444428753}]
["SP","São Paulo","São Carlos","ARSESP","GÁS BRASILIANO","Industrial","Mensal",0,3000,{"$f":"Cálculo!$G$115","v":5.5322183563520557},{"$f":"Cálculo!$H$115","v":403.53908281334856}]
["SP","São Paulo","São Carlos","ARSESP","GÁS BRASILIANO","Industrial","Mensal",3000.01,7000,{"$f":"Cálculo!$G$116","v":5.2029577116938235},{"$f":"Cálculo!$H$116","v":403.53908281334856}]
["SP","São Paulo","São Carlos","ARSESP","GÁS BRASILIANO","Industrial","Mensal",7000.01,15000,{"$f":"Cálculo!$G$117","v":4.9005039867784115},{"$f":"Cálculo!$H$117","v":403.53908281334856}]
["SP","São Paulo","São Carlos","ARSESP","GÁS BRASILIANO","Industrial","Mensal",15000.01,45000,{"$f":"Cálculo!$G$118","v":4.7805763736974223},{"$f":"Cálculo!$H$118","v":403.53908281334856}]
["SP","São Paulo","São Carlos","ARSESP","GÁS BRASILIANO","Industrial","Mensal",45000.01,250000,{"$f":"Cálculo!$G$119","v":4.1274644680804879},{"$f":"Cálculo!$H$119","v":2322.3408923166967}]
["SP","São Paulo","São Carlos","ARSESP","GÁS BRASILIANO","Industrial","Mensal",250000.01,500000,{"$f":"Cálculo!$G$120","v":3.9329807712260512},{"$f":"Cálculo!$H$120","v":10556.086408970552}]
["SP","São Paulo","São Carlos","ARSESP","GÁS BRASILIANO","Industrial","Mensal",500000.01,1000000,{"$f":"Cálculo!$G$121","v":3.7125277973417266},{"$f":"Cálculo!$H$121","v":14778.511560842897}]
["SP","São Paulo","São Carlos","ARSESP","GÁS BRASILIANO","Industrial","Mensal",1000000.01,null,{"$f":"Cálculo!$G$122","v":3.6790856179065723},{"$f":"Cálculo!$H$122","v":19284.876416038765}]
["SP","São Paulo","São Carlos","ARSESP","GÁS BRASILIANO","GNV","Faixa Única",null,null,{"$f":"Cálculo!$G$125","v":3.5752873329074797}]

{"sheet":"Planilha2","index":6,"n_rows":17,"n_cols":1,"rows_kept":17,"cut":false,"hidden":true,"merged":[]}
["CEG"]
["ESGÁS"]
["GASMIG"]
["SCGÁS"]
["SULGÁS"]
["BAHIAGÁS"]
["SERGÁS"]
["ALGÁS"]
["COPERGÁS"]
["PBGÁS"]
["POTIGÁS"]
["CEGÁS"]
["MSGÁS"]
["CEG RIO"]
["COMGÁS"]
["Naturgy SPS"]
["GÁS BRASILIANO"]

{"sheet":"Inputs","index":7,"n_rows":294,"n_cols":11,"rows_kept":294,"cut":false,"hidden":true,"merged":[]}
["UF","Estado","Município","Distribuidora","Agência Reguladora","UF","Estado","Segmento","RJ","SP","Distribuidoras"]
["AC","Acre",null,"-",null,"AC","Acre","Residencial","Rio de Janeiro","São Paulo","CEG"]
["AL","Alagoas",null,"Algás","ARSAL","AL","Alagoas","Comercial","Angra dos Reis","Aguaí","ESGÁS"]
["AP","Amapá",null,"Gasap","ARSAP","AM","Amapá","Industrial","Araruama","Águas da Prata","GASMIG"]
["AM","Amazonas",null,"Cigás","ARSEPAM","BA","Amazonas","GNV","Arraial do Cabo","Águas de Lindóia","SCGÁS"]
["BA","Bahia",null,"Bahiagás","AGERBA","CE","Bahia",null,"Barra do Piraí","Águas de São Pedro","SULGÁS"]
["CE","Ceará",null,"Cegás","ARCE","ES","Ceará",null,"Barra Mansa","Agudos","BAHIAGÁS"]
["DF","Distrito Federal",null,"Cebgás","ADASA","MS","Distrito Federal",null,"Belford Roxo","Alumínio","SERGÁS"]
["ES","Espírito Santo",null,"ESGás","ARSP","MG","Espírito Santo",null,"Cabo Frio","Americana","ALGÁS"]
["GO","Goiás",null,"Goiasgás","AGR","PB","Goiás",null,"Cachoeira de Macacu","Amparo","COPERGÁS"]
["MA","Maranhão",null,"Gasmar","MOB","PR","Maranhão",null,"Campos dos Goytacazes","Analândia","PBGÁS"]
["MT","Mato Grosso",null,"MTGás","AGER","PE","Mato Grosso",null,"Carapebus","Aparecida","POTIGÁS"]
["MS","Mato Grosso do Sul",null,"MSGás","AGEMS","RJ","Mato Grosso do Sul",null,"Casimiro de Abreu","Araçariguama","CEGÁS"]
["MG","Minas Gerais",null,"Gasmig","SECRETARIA DE ESTADO DE DESENVOLVIMENTO ECONÔMICO","RN","Minas Gerais",null,"Duque de Caxias","Araçatuba","MSGÁS"]
["PA","Pará",null,"Gás do Pará","ARCON","RS","Pará",null,"Engenheiro Paulo de Frontin","Arapeí","CEG RIO"]
["PB","Paraíba",null,"PBGás","ARPB","RR","Paraíba",null,"Guapimirim","Araraquara","COMGÁS"]
["PR","Paraná",null,"Compagas","AGEPAR","SC","Paraná",null,"Iguaba Grande","Araras","Naturgy SPS"]
["PE","Pernambuco",null,"Copergás","ARPE","SE","Pernambuco",null,"Itaboraí","Areias","GÁS BRASILIANO"]
["PI","Piauí",null,"Gaspisa",null,"SP","Piauí",null,"Itaguaí","Artur Nogueira","CIGÁS"]
["RN","Rio Grande do Norte",null,"Potigás","ARSEP","TO","Rio de Janeiro",null,"Itaipava","Arujá","COMPAGAS"]
["RS","Rio Grande do Sul",null,"Sulgás","AGERGS",null,"Rio Grande do Norte",null,"Itaperuna","Atibaia"]
["RO","Rondônia",null,"Rongás",null,null,"Rio Grande do Sul",null,"Itatiaia","Bananal"]
["RR","Roraima",null,"-",null,null,"Rondônia",null,"Japeri","Barueri"]
["SC","Santa Catarina",null,"SCGás","ARESC",null,"Roraima",null,"Macaé","Bauru"]
["SE","Sergipe",null,"Sergas","AGRESE",null,"Santa Catarina",null,"Magé","Bertioga"]
["TO","Tocantins",null,"-",null,null,"São Paulo",null,"Mangaratiba","Biritiba Mirim"]
["RJ","Rio de Janeiro","Rio de Janeiro","Naturgy - CEG","AGENERSA",null,"Sergipe",null,"Maricá","Boituva"]
["RJ","Rio de Janeiro","Angra dos Reis","Naturgy - CEG Rio","AGENERSA",null,"Tocantins",null,"Mesquita","Bom Jesus dos Perdões"]
["RJ","Rio de Janeiro","Araruama","Naturgy - CEG Rio","AGENERSA",null,null,null,"Nilópolis","Botucatu"]
["RJ","Rio de Janeiro","Arraial do Cabo","Naturgy - CEG Rio","AGENERSA",null,null,null,"Niterói","Bragança Paulista"]
["RJ","Rio de Janeiro","Barra do Piraí","Naturgy - CEG Rio","AGENERSA",null,null,null,"Nova Friburgo","Brotas"]
["RJ","Rio de Janeiro","Barra Mansa","Naturgy - CEG Rio","AGENERSA",null,null,null,"Nova Iguaçu","Cabreúva"]
["RJ","Rio de Janeiro","Belford Roxo","Naturgy - CEG","AGENERSA",null,null,null,"Paracambi","Caçapava"]
["RJ","Rio de Janeiro","Cabo Frio","Naturgy - CEG Rio","AGENERSA",null,null,null,"Paraíba do Sul","Cachoeira Paulista"]
["RJ","Rio de Janeiro","Cachoeira de Macacu","Naturgy - CEG Rio","AGENERSA",null,null,null,"Paty do Alferes","Caconde"]
["RJ","Rio de Janeiro","Campos dos Goytacazes","Naturgy - CEG Rio","AGENERSA",null,null,null,"Petrópolis","Caieiras"]
["RJ","Rio de Janeiro","Carapebus","Naturgy - CEG Rio","AGENERSA",null,null,null,"Piraí","Cajamar"]
["RJ","Rio de Janeiro","Casimiro de Abreu","Naturgy - CEG Rio","AGENERSA",null,null,null,"Porto Real","Campinas"]
["RJ","Rio de Janeiro","Duque de Caxias","Naturgy - CEG","AGENERSA",null,null,null,"Queimados","Campo Limpo Paulista"]
["RJ","Rio de Janeiro","Engenheiro Paulo de Frontin","Naturgy - CEG Rio","AGENERSA",null,null,null,"Quissamã","Campos do Jordão"]
["RJ","Rio de Janeiro","Guapimirim","Naturgy - CEG","AGENERSA",null,null,null,"Resende","Canas"]
["RJ","Rio de Janeiro","Iguaba Grande","Naturgy - CEG Rio","AGENERSA",null,null,null,"Rio Bonito","Capivarí"]
["RJ","Rio de Janeiro","Itaboraí","Naturgy - CEG","AGENERSA",null,null,null,"Rio das Flores","Caraguatatuba"]
["RJ","Rio de Janeiro","Itaguaí","Naturgy - CEG","AGENERSA",null,null,null,"Rio das Ostras","Carapicuíba"]
["RJ","Rio de Janeiro","Itaipava","Naturgy - CEG Rio","AGENERSA",null,null,null,"Santo Antônio de Pádua","Casa Branca"]
["RJ","Rio de Janeiro","Itaperuna","Naturgy - CEG Rio","AGENERSA",null,null,null,"Saquarema","Catanduva"]
["RJ","Rio de Janeiro","Itatiaia","Naturgy - CEG Rio","AGENERSA",null,null,null,"Seropédica","Cerquilho"]
["RJ","Rio de Janeiro","Japeri","Naturgy - CEG","AGENERSA",null,null,null,"São Gonçalo","Cesário Lange"]
["RJ","Rio de Janeiro","Macaé","Naturgy - CEG Rio","AGENERSA",null,null,null,"São João de Meriti","Charqueada"]
["RJ","Rio de Janeiro","Magé","Naturgy - CEG","AGENERSA",null,null,null,"São Pedro d'Aldeia","Conchal"]
["RJ","Rio de Janeiro","Mangaratiba","Naturgy - CEG","AGENERSA",null,null,null,"Teresópolis","Cordeirópolis"]
["RJ","Rio de Janeiro","Maricá","Naturgy - CEG","AGENERSA",null,null,null,"Três Rios","Corumbataí"]
["RJ","Rio de Janeiro","Mesquita","Naturgy - CEG","AGENERSA",null,null,null,"Valença","Cosmópolis"]
["RJ","Rio de Janeiro","Nilópolis","Naturgy - CEG","AGENERSA",null,null,null,"Vassouras","Cotia"]
["RJ","Rio de Janeiro","Niterói","Naturgy - CEG","AGENERSA",null,null,null,"Volta Redonda","Cravinhos"]
["RJ","Rio de Janeiro","Nova Friburgo","Naturgy - CEG Rio","AGENERSA",null,null,null,null,"Cruzeiro"]
["RJ","Rio de Janeiro","Nova Iguaçu","Naturgy - CEG","AGENERSA",null,null,null,null,"Cubatão"]
["RJ","Rio de Janeiro","Paracambi","Naturgy - CEG","AGENERSA",null,null,null,null,"Cunha"]
["RJ","Rio de Janeiro","Paraíba do Sul","Naturgy - CEG Rio","AGENERSA",null,null,null,null,"Descalvado"]
["RJ","Rio de Janeiro","Paty do Alferes","Naturgy - CEG Rio","AGENERSA",null,null,null,null,"Diadema"]
["RJ","Rio de Janeiro","Petrópolis","Naturgy - CEG Rio","AGENERSA",null,null,null,null,"Divinolândia"]
["RJ","Rio de Janeiro","Piraí","Naturgy - CEG Rio","AGENERSA",null,null,null,null,"Elias Fausto"]
["RJ","Rio de Janeiro","Porto Real","Naturgy - CEG Rio","AGENERSA",null,null,null,null,"Embú"]
["RJ","Rio de Janeiro","Queimados","Naturgy - CEG","AGENERSA",null,null,null,null,"Embú-Guaçú"]
["RJ","Rio de Janeiro","Quissamã","Naturgy - CEG Rio","AGENERSA",null,null,null,null,"Engenheiro Coelho"]
["RJ","Rio de Janeiro","Resende","Naturgy - CEG Rio","AGENERSA",null,null,null,null,"Espírito Santo do Pinhal"]
["RJ","Rio de Janeiro","Rio Bonito","Naturgy - CEG Rio","AGENERSA",null,null,null,null,"Estiva Gerbi"]
["RJ","Rio de Janeiro","Rio das Flores","Naturgy - CEG Rio","AGENERSA",null,null,null,null,"Ferraz de Vasconcelos"]
["RJ","Rio de Janeiro","Rio das Ostras","Naturgy - CEG Rio","AGENERSA",null,null,null,null,"Francisco Morato"]
["RJ","Rio de Janeiro","Santo Antônio de Pádua","Naturgy - CEG Rio","AGENERSA",null,null,null,null,"Franco da Rocha"]
["RJ","Rio de Janeiro","Saquarema","Naturgy - CEG Rio","AGENERSA",null,null,null,null,"Guararema"]
["RJ","Rio de Janeiro","Seropédica","Naturgy - CEG","AGENERSA",null,null,null,null,"Guaratinguetá"]
["RJ","Rio de Janeiro","São Gonçalo","Naturgy - CEG","AGENERSA",null,null,null,null,"Guarujá"]
["RJ","Rio de Janeiro","São João de Meriti","Naturgy - CEG","AGENERSA",null,null,null,null,"Guarulhos"]
["RJ","Rio de Janeiro","São Pedro d'Aldeia","Naturgy - CEG Rio","AGENERSA",null,null,null,null,"Holambra"]
["RJ","Rio de Janeiro","Teresópolis","Naturgy - CEG Rio","AGENERSA",null,null,null,null,"Hortolândia"]
["RJ","Rio de Janeiro","Três Rios","Naturgy - CEG Rio","AGENERSA",null,null,null,null,"Ibitinga"]
["RJ","Rio de Janeiro","Valença","Naturgy - CEG Rio","AGENERSA",null,null,null,null,"Igaraçu do Tietê"]
["RJ","Rio de Janeiro","Vassouras","Naturgy - CEG Rio","AGENERSA",null,null,null,null,"Igaratá"]
["RJ","Rio de Janeiro","Volta Redonda","Naturgy - CEG Rio","AGENERSA",null,null,null,null,"Ilha Bela"]
["SP","São Paulo","São Paulo","Comgás","ARSESP",null,null,null,null,"Indaiatuba"]
["SP","São Paulo","Alumínio","Naturgy SPS","ARSESP",null,null,null,null,"Iperó"]
["SP","São Paulo","Araçariguama","Naturgy SPS","ARSESP",null,null,null,null,"Ipeúna"]
["SP","São Paulo","Boituva","Naturgy SPS","ARSESP",null,null,null,null,"Iracemápolis"]
["SP","São Paulo","Botucatu","Naturgy SPS","ARSESP",null,null,null,null,"Itanhaém"]
["SP","São Paulo","Cerquilho","Naturgy SPS","ARSESP",null,null,null,null,"Itapecerica da Serra"]
["SP","São Paulo","Cesário Lange","Naturgy SPS","ARSESP",null,null,null,null,"Itapetininga"]
["SP","São Paulo","Iperó","Naturgy SPS","ARSESP",null,null,null,null,"Itapevi"]
["SP","São Paulo","Itapetininga","Naturgy SPS","ARSESP",null,null,null,null,"Itapira"]
["SP","São Paulo","Itu","Naturgy SPS","ARSESP",null,null,null,null,"Itápolis"]
["SP","São Paulo","Laranjal Paulista","Naturgy SPS","ARSESP",null,null,null,null,"Itaquaquecetuba"]
["SP","São Paulo","Mairinque","Naturgy SPS","ARSESP",null,null,null,null,"Itatiba"]
["SP","São Paulo","Porto Feliz","Naturgy SPS","ARSESP",null,null,null,null,"Itirapina"]
["SP","São Paulo","Salto","Naturgy SPS","ARSESP",null,null,null,null,"Itobi"]
["SP","São Paulo","São Roque","Naturgy SPS","ARSESP",null,null,null,null,"Itu"]
["SP","São Paulo","Sorocaba","Naturgy SPS","ARSESP",null,null,null,null,"Itupeva"]
["SP","São Paulo","Tatuí","Naturgy SPS","ARSESP",null,null,null,null,"Jacareí"]
["SP","São Paulo","Tietê","Naturgy SPS","ARSESP",null,null,null,null,"Jaguariúna"]
["SP","São Paulo","Votorantim","Naturgy SPS","ARSESP",null,null,null,null,"Jambeiro"]
["SP","São Paulo","Agudos","Gás Brasiliano","ARSESP",null,null,null,null,"Jandira"]
["SP","São Paulo","Araraquara","Gás Brasiliano","ARSESP",null,null,null,null,"Jarinu"]
["SP","São Paulo","Catanduva","Gás Brasiliano","ARSESP",null,null,null,null,"Joanópolis"]
["SP","São Paulo","Descalvado","Gás Brasiliano","ARSESP",null,null,null,null,"Jundiaí"]
["SP","São Paulo","Igaraçu do Tietê","Gás Brasiliano","ARSESP",null,null,null,null,"Juquitiba"]
["SP","São Paulo","Lençóis Paulista","Gás Brasiliano","ARSESP",null,null,null,null,"Lagoinha"]
["SP","São Paulo","Marília","Gás Brasiliano","ARSESP",null,null,null,null,"Laranjal Paulista"]
["SP","São Paulo","Pederneiras","Gás Brasiliano","ARSESP",null,null,null,null,"Lavrinhas"]
["SP","São Paulo","Ribeirão Preto","Gás Brasiliano","ARSESP",null,null,null,null,"Leme"]
["SP","São Paulo","Valparaíso","Gás Brasiliano","ARSESP",null,null,null,null,"Lençóis Paulista"]
["SP","São Paulo","Araçatuba","Gás Brasiliano","ARSESP",null,null,null,null,"Limeira"]
["SP","São Paulo","Bauru","Gás Brasiliano","ARSESP",null,null,null,null,"Lindóia"]
["SP","São Paulo","Cravinhos","Gás Brasiliano","ARSESP",null,null,null,null,"Lins"]
["SP","São Paulo","Ibitinga","Gás Brasiliano","ARSESP",null,null,null,null,"Lorena"]
["SP","São Paulo","Itápolis","Gás Brasiliano","ARSESP",null,null,null,null,"Louveira"]
["SP","São Paulo","Lins","Gás Brasiliano","ARSESP",null,null,null,null,"Mairinque"]
["SP","São Paulo","Matão","Gás Brasiliano","ARSESP",null,null,null,null,"Mairiporã"]
["SP","São Paulo","Porto Ferreira","Gás Brasiliano","ARSESP",null,null,null,null,"Marília"]
["SP","São Paulo","São Carlos","Gás Brasiliano","ARSESP",null,null,null,null,"Matão"]
["SP","São Paulo","Aguaí","Comgás","ARSESP",null,null,null,null,"Mauá"]
["SP","São Paulo","Águas da Prata","Comgás","ARSESP",null,null,null,null,"Mococa"]
["SP","São Paulo","Águas de Lindóia","Comgás","ARSESP",null,null,null,null,"Mogi das Cruzes"]
["SP","São Paulo","Águas de São Pedro","Comgás","ARSESP",null,null,null,null,"Mogi-Guaçu"]
["SP","São Paulo","Americana","Comgás","ARSESP",null,null,null,null,"Mogi-Mirim"]
["SP","São Paulo","Amparo","Comgás","ARSESP",null,null,null,null,"Mombuca"]
["SP","São Paulo","Analândia","Comgás","ARSESP",null,null,null,null,"Mongaguá"]
["SP","São Paulo","Aparecida","Comgás","ARSESP",null,null,null,null,"Monte Alegre do Sul"]
["SP","São Paulo","Arapeí","Comgás","ARSESP",null,null,null,null,"Monte Mor"]
["SP","São Paulo","Araras","Comgás","ARSESP",null,null,null,null,"Monteiro Lobato"]
["SP","São Paulo","Areias","Comgás","ARSESP",null,null,null,null,"Morungaba"]
["SP","São Paulo","Artur Nogueira","Comgás","ARSESP",null,null,null,null,"Natividade da Serra"]
["SP","São Paulo","Arujá","Comgás","ARSESP",null,null,null,null,"Nazaré Paulista"]
["SP","São Paulo","Atibaia","Comgás","ARSESP",null,null,null,null,"Nova Odessa"]
["SP","São Paulo","Bananal","Comgás","ARSESP",null,null,null,null,"Osasco"]
["SP","São Paulo","Barueri","Comgás","ARSESP",null,null,null,null,"Paraibuna"]
["SP","São Paulo","Bertioga","Comgás","ARSESP",null,null,null,null,"Paulínia"]
["SP","São Paulo","Biritiba Mirim","Comgás","ARSESP",null,null,null,null,"Pederneiras"]
["SP","São Paulo","Bom Jesus dos Perdões","Comgás","ARSESP",null,null,null,null,"Pedra Bela"]
["SP","São Paulo","Bragança Paulista","Comgás","ARSESP",null,null,null,null,"Pedreira"]
["SP","São Paulo","Brotas","Comgás","ARSESP",null,null,null,null,"Peruíbe"]
["SP","São Paulo","Cabreúva","Comgás","ARSESP",null,null,null,null,"Pindamonhangaba"]
["SP","São Paulo","Caçapava","Comgás","ARSESP",null,null,null,null,"Pinhalzinho"]
["SP","São Paulo","Cachoeira Paulista","Comgás","ARSESP",null,null,null,null,"Piquete"]
["SP","São Paulo","Caconde","Comgás","ARSESP",null,null,null,null,"Piracaia"]
["SP","São Paulo","Caieiras","Comgás","ARSESP",null,null,null,null,"Piracicaba"]
["SP","São Paulo","Cajamar","Comgás","ARSESP",null,null,null,null,"Pirapora do Bom Jesus"]
["SP","São Paulo","Campinas","Comgás","ARSESP",null,null,null,null,"Pirassununga"]
["SP","São Paulo","Campo Limpo Paulista","Comgás","ARSESP",null,null,null,null,"Poá"]
["SP","São Paulo","Campos do Jordão","Comgás","ARSESP",null,null,null,null,"Porto Feliz"]
["SP","São Paulo","Canas","Comgás","ARSESP",null,null,null,null,"Porto Ferreira"]
["SP","São Paulo","Capivarí","Comgás","ARSESP",null,null,null,null,"Potim"]
["SP","São Paulo","Caraguatatuba","Comgás","ARSESP",null,null,null,null,"Praia Grande"]
["SP","São Paulo","Carapicuíba","Comgás","ARSESP",null,null,null,null,"Queluz"]
["SP","São Paulo","Casa Branca","Comgás","ARSESP",null,null,null,null,"Rafard"]
["SP","São Paulo","Charqueada","Comgás","ARSESP",null,null,null,null,"Redenção da Serra"]
["SP","São Paulo","Conchal","Comgás","ARSESP",null,null,null,null,"Ribeirão Pires"]
["SP","São Paulo","Cordeirópolis","Comgás","ARSESP",null,null,null,null,"Ribeirão Preto"]
["SP","São Paulo","Corumbataí","Comgás","ARSESP",null,null,null,null,"Rio Claro"]
["SP","São Paulo","Cosmópolis","Comgás","ARSESP",null,null,null,null,"Rio das Pedras"]
["SP","São Paulo","Cotia","Comgás","ARSESP",null,null,null,null,"Rio Grande da Serra"]
["SP","São Paulo","Cruzeiro","Comgás","ARSESP",null,null,null,null,"Roseira"]
["SP","São Paulo","Cubatão","Comgás","ARSESP",null,null,null,null,"Salesópolis"]
["SP","São Paulo","Cunha","Comgás","ARSESP",null,null,null,null,"Saltinho"]
["SP","São Paulo","Diadema","Comgás","ARSESP",null,null,null,null,"Salto"]
["SP","São Paulo","Divinolândia","Comgás","ARSESP",null,null,null,null,"Santa Bárbara D'oeste"]
["SP","São Paulo","Elias Fausto","Comgás","ARSESP",null,null,null,null,"Santa Branca"]
["SP","São Paulo","Embú","Comgás","ARSESP",null,null,null,null,"Santa Cruz da Conceição"]
["SP","São Paulo","Embú-Guaçú","Comgás","ARSESP",null,null,null,null,"Santa Cruz das Palmeiras"]
["SP","São Paulo","Engenheiro Coelho","Comgás","ARSESP",null,null,null,null,"Santa Gertrudes"]
["SP","São Paulo","Espírito Santo do Pinhal","Comgás","ARSESP",null,null,null,null,"Santa Izabel"]
["SP","São Paulo","Estiva Gerbi","Comgás","ARSESP",null,null,null,null,"Santa Maria da Serra"]
["SP","São Paulo","Ferraz de Vasconcelos","Comgás","ARSESP",null,null,null,null,"Santana do Parnaíba"]
["SP","São Paulo","Francisco Morato","Comgás","ARSESP",null,null,null,null,"Santo André"]
["SP","São Paulo","Franco da Rocha","Comgás","ARSESP",null,null,null,null,"Santo Antonio da Posse"]
["SP","São Paulo","Guararema","Comgás","ARSESP",null,null,null,null,"Santo Antonio do Jardim"]
["SP","São Paulo","Guaratinguetá","Comgás","ARSESP",null,null,null,null,"Santo Antonio do Pinhal"]
["SP","São Paulo","Guarujá","Comgás","ARSESP",null,null,null,null,"Santos"]
["SP","São Paulo","Guarulhos","Comgás","ARSESP",null,null,null,null,"São Bento do Sapucaí"]
["SP","São Paulo","Holambra","Comgás","ARSESP",null,null,null,null,"São Bernardo do Campo"]
["SP","São Paulo","Hortolândia","Comgás","ARSESP",null,null,null,null,"São Caetano do Sul"]
["SP","São Paulo","Igaratá","Comgás","ARSESP",null,null,null,null,"São Carlos"]
["SP","São Paulo","Ilha Bela","Comgás","ARSESP",null,null,null,null,"São João da Boa Vista"]
["SP","São Paulo","Indaiatuba","Comgás","ARSESP",null,null,null,null,"São José do Barreiro"]
["SP","São Paulo","Ipeúna","Comgás","ARSESP",null,null,null,null,"São José do Rio Pardo"]
["SP","São Paulo","Iracemápolis","Comgás","ARSESP",null,null,null,null,"São José dos Campos"]
["SP","São Paulo","Itanhaém","Comgás","ARSESP",null,null,null,null,"São Lourenço da Serra"]
["SP","São Paulo","Itapecerica da Serra","Comgás","ARSESP",null,null,null,null,"São Luis do Paraitinga"]
["SP","São Paulo","Itapevi","Comgás","ARSESP",null,null,null,null,"São Pedro"]
["SP","São Paulo","Itapira","Comgás","ARSESP",null,null,null,null,"São Roque"]
["SP","São Paulo","Itaquaquecetuba","Comgás","ARSESP",null,null,null,null,"São Sebastião"]
["SP","São Paulo","Itatiba","Comgás","ARSESP",null,null,null,null,"São Sebastião da Grama"]
["SP","São Paulo","Itirapina","Comgás","ARSESP",null,null,null,null,"São Vicente"]
["SP","São Paulo","Itobi","Comgás","ARSESP",null,null,null,null,"Serra Negra"]
["SP","São Paulo","Itupeva","Comgás","ARSESP",null,null,null,null,"Silveiras"]
["SP","São Paulo","Jacareí","Comgás","ARSESP",null,null,null,null,"Socorro"]
["SP","São Paulo","Jaguariúna","Comgás","ARSESP",null,null,null,null,"Sorocaba"]
["SP","São Paulo","Jambeiro","Comgás","ARSESP",null,null,null,null,"Sumaré"]
["SP","São Paulo","Jandira","Comgás","ARSESP",null,null,null,null,"Suzano"]
["SP","São Paulo","Jarinu","Comgás","ARSESP",null,null,null,null,"Taboão da Serra"]
["SP","São Paulo","Joanópolis","Comgás","ARSESP",null,null,null,null,"Tambaú"]
["SP","São Paulo","Jundiaí","Comgás","ARSESP",null,null,null,null,"Tapiratiba"]
["SP","São Paulo","Juquitiba","Comgás","ARSESP",null,null,null,null,"Tatuí"]
["SP","São Paulo","Lagoinha","Comgás","ARSESP",null,null,null,null,"Taubaté"]
["SP","São Paulo","Lavrinhas","Comgás","ARSESP",null,null,null,null,"Tietê"]
["SP","São Paulo","Leme","Comgás","ARSESP",null,null,null,null,"Torrinha"]
["SP","São Paulo","Limeira","Comgás","ARSESP",null,null,null,null,"Tremembé"]
["SP","São Paulo","Lindóia","Comgás","ARSESP",null,null,null,null,"Tuiuti"]
["SP","São Paulo","Lorena","Comgás","ARSESP",null,null,null,null,"Ubatuba"]
["SP","São Paulo","Louveira","Comgás","ARSESP",null,null,null,null,"Valinhos"]
["SP","São Paulo","Mairiporã","Comgás","ARSESP",null,null,null,null,"Valparaíso"]
["SP","São Paulo","Mauá","Comgás","ARSESP",null,null,null,null,"Vargem"]
["SP","São Paulo","Mococa","Comgás","ARSESP",null,null,null,null,"Vargem Grande do Sul"]
["SP","São Paulo","Mogi das Cruzes","Comgás","ARSESP",null,null,null,null,"Vargem Grande Paulista"]
["SP","São Paulo","Mogi-Guaçu","Comgás","ARSESP",null,null,null,null,"Várzea Paulista"]
["SP","São Paulo","Mogi-Mirim","Comgás","ARSESP",null,null,null,null,"Vinhedo"]
["SP","São Paulo","Mombuca","Comgás","ARSESP",null,null,null,null,"Votorantim"]
["SP","São Paulo","Mongaguá","Comgás","ARSESP"]
["SP","São Paulo","Monte Alegre do Sul","Comgás","ARSESP"]
["SP","São Paulo","Monte Mor","Comgás","ARSESP"]
["SP","São Paulo","Monteiro Lobato","Comgás","ARSESP"]
["SP","São Paulo","Morungaba","Comgás","ARSESP"]
["SP","São Paulo","Natividade da Serra","Comgás","ARSESP"]
["SP","São Paulo","Nazaré Paulista","Comgás","ARSESP"]
["SP","São Paulo","Nova Odessa","Comgás","ARSESP"]
["SP","São Paulo","Osasco","Comgás","ARSESP"]
["SP","São Paulo","Paraibuna","Comgás","ARSESP"]
["SP","São Paulo","Paulínia","Comgás","ARSESP"]
["SP","São Paulo","Pedra Bela","Comgás","ARSESP"]
["SP","São Paulo","Pedreira","Comgás","ARSESP"]
["SP","São Paulo","Peruíbe","Comgás","ARSESP"]
["SP","São Paulo","Pindamonhangaba","Comgás","ARSESP"]
["SP","São Paulo","Pinhalzinho","Comgás","ARSESP"]
["SP","São Paulo","Piquete","Comgás","ARSESP"]
["SP","São Paulo","Piracaia","Comgás","ARSESP"]
["SP","São Paulo","Piracicaba","Comgás","ARSESP"]
["SP","São Paulo","Pirapora do Bom Jesus","Comgás","ARSESP"]
["SP","São Paulo","Pirassununga","Comgás","ARSESP"]
["SP","São Paulo","Poá","Comgás","ARSESP"]
["SP","São Paulo","Potim","Comgás","ARSESP"]
["SP","São Paulo","Praia Grande","Comgás","ARSESP"]
["SP","São Paulo","Queluz","Comgás","ARSESP"]
["SP","São Paulo","Rafard","Comgás","ARSESP"]
["SP","São Paulo","Redenção da Serra","Comgás","ARSESP"]
["SP","São Paulo","Ribeirão Pires","Comgás","ARSESP"]
["SP","São Paulo","Rio Claro","Comgás","ARSESP"]
["SP","São Paulo","Rio das Pedras","Comgás","ARSESP"]
["SP","São Paulo","Rio Grande da Serra","Comgás","ARSESP"]
["SP","São Paulo","Roseira","Comgás","ARSESP"]
["SP","São Paulo","Salesópolis","Comgás","ARSESP"]
["SP","São Paulo","Saltinho","Comgás","ARSESP"]
["SP","São Paulo","Santa Bárbara D'oeste","Comgás","ARSESP"]
["SP","São Paulo","Santa Branca","Comgás","ARSESP"]
["SP","São Paulo","Santa Cruz da Conceição","Comgás","ARSESP"]
["SP","São Paulo","Santa Cruz das Palmeiras","Comgás","ARSESP"]
["SP","São Paulo","Santa Gertrudes","Comgás","ARSESP"]
["SP","São Paulo","Santa Izabel","Comgás","ARSESP"]
["SP","São Paulo","Santa Maria da Serra","Comgás","ARSESP"]
["SP","São Paulo","Santana do Parnaíba","Comgás","ARSESP"]
["SP","São Paulo","Santo André","Comgás","ARSESP"]
["SP","São Paulo","Santo Antonio da Posse","Comgás","ARSESP"]
["SP","São Paulo","Santo Antonio do Jardim","Comgás","ARSESP"]
["SP","São Paulo","Santo Antonio do Pinhal","Comgás","ARSESP"]
["SP","São Paulo","Santos","Comgás","ARSESP"]
["SP","São Paulo","São Bento do Sapucaí","Comgás","ARSESP"]
["SP","São Paulo","São Bernardo do Campo","Comgás","ARSESP"]
["SP","São Paulo","São Caetano do Sul","Comgás","ARSESP"]
["SP","São Paulo","São João da Boa Vista","Comgás","ARSESP"]
["SP","São Paulo","São José do Barreiro","Comgás","ARSESP"]
["SP","São Paulo","São José do Rio Pardo","Comgás","ARSESP"]
["SP","São Paulo","São José dos Campos","Comgás","ARSESP"]
["SP","São Paulo","São Lourenço da Serra","Comgás","ARSESP"]
["SP","São Paulo","São Luis do Paraitinga","Comgás","ARSESP"]
["SP","São Paulo","São Pedro","Comgás","ARSESP"]
["SP","São Paulo","São Sebastião","Comgás","ARSESP"]
["SP","São Paulo","São Sebastião da Grama","Comgás","ARSESP"]
["SP","São Paulo","São Vicente","Comgás","ARSESP"]
["SP","São Paulo","Serra Negra","Comgás","ARSESP"]
["SP","São Paulo","Silveiras","Comgás","ARSESP"]
["SP","São Paulo","Socorro","Comgás","ARSESP"]
["SP","São Paulo","Sumaré","Comgás","ARSESP"]
["SP","São Paulo","Suzano","Comgás","ARSESP"]
["SP","São Paulo","Taboão da Serra","Comgás","ARSESP"]
["SP","São Paulo","Tambaú","Comgás","ARSESP"]
["SP","São Paulo","Tapiratiba","Comgás","ARSESP"]
["SP","São Paulo","Taubaté","Comgás","ARSESP"]
["SP","São Paulo","Torrinha","Comgás","ARSESP"]
["SP","São Paulo","Tremembé","Comgás","ARSESP"]
["SP","São Paulo","Tuiuti","Comgás","ARSESP"]
["SP","São Paulo","Ubatuba","Comgás","ARSESP"]
["SP","São Paulo","Valinhos","Comgás","ARSESP"]
["SP","São Paulo","Vargem","Comgás","ARSESP"]
["SP","São Paulo","Vargem Grande do Sul","Comgás","ARSESP"]
["SP","São Paulo","Vargem Grande Paulista","Comgás","ARSESP"]
["SP","São Paulo","Várzea Paulista","Comgás","ARSESP"]
["SP","São Paulo","Vinhedo","Comgás","ARSESP"]